{"text_format":"1","workbook":"xlsx","n_sheets":4,"sheets":["ACCUEIL","INTERFACE","POINTEQUIVALENCE","IMPRESSION"],"not_rendered":{"charts":21,"images":9,"macros":1,"external_links":0,"defined_names":1,"comments":0,"pivot_tables":0},"unopened":[],"bounds":{"document_bytes":16777216,"sheet_cells":100000,"rows_first":2000,"rows_last":500,"rows_between":2000,"halvings":0,"cell_chars":16384,"cell_head_chars":4096},"cells_cut":0,"cells_raw":0,"read":"whole","date_system":"1900"}

{"sheet":"ACCUEIL","index":0,"n_rows":7,"n_cols":15,"rows_kept":7,"cut":false,"hidden":false,"merged":[]}
[]
[]
[]
[]
[]
[]
[null,null,null,null,null,null,null,null,null,null,null,null,null,null,"innovsciences"]

{"sheet":"INTERFACE","index":1,"n_rows":243,"n_cols":37,"rows_kept":243,"cut":false,"hidden":false,"merged":[[16,1,16,2],[41,16,41,17],[54,29,54,30],[53,29,53,30],[45,29,45,30],[62,29,62,30],[61,29,61,30],[56,31,56,32],[56,33,56,34],[61,31,61,36],[56,35,56,36],[57,31,57,32],[57,33,57,34],[57,35,57,36],[11,5,11,7],[37,31,37,36],[15,26,15,28],[14,31,14,32],[14,33,14,34],[14,35,14,36],[17,26,17,27],[20,31,20,36],[28,31,28,36],[25,11,25,13],[18,4,18,7],[13,4,13,7],[10,33,10,34],[10,35,10,36],[11,33,11,34],[11,35,11,36],[11,31,11,32],[2,26,2,30],[11,26,11,27],[9,28,9,30],[10,28,10,30],[11,28,11,30],[7,7,7,11],[53,31,53,36],[45,16,45,17],[50,16,50,17],[45,31,45,36],[46,29,46,30],[48,31,48,32],[48,33,48,34],[48,35,48,36],[49,31,49,32],[49,33,49,34],[49,35,49,36],[9,31,9,36],[12,28,12,30],[13,28,13,30],[10,31,10,32]]}
[]
[]
[null,null,"Couple acide - base",null,null,null,null,null,null,null,null,null,null,null,null,null,null,null,null,null,null,null,null,null,null,null,"Les couples acide /base faibles",null,null,null,null,"pKa"]
[null,null,0,null,null,null,null,"Réinitialisation",null,"Simulation",null,null,null,null,null,null,null,null,null,null,null,null,null,null,null,null,null,null,"acide iodhydrique / ion iodure HI/I-",null,null,-10.01,null,"pH1/2éq"]
[null,null,"Solution acide titrée",null,null,"Solution basique titrante",null,null,null,null,null,null,null,"innovsciences",null,null,null,null,null,null,null,null,null,null,null,null,null,null,"acide bromhydrique / ion bromure HBr/Br-",null,null,-9.5,null,{"$f":"-LOG(AF$44)","v":{"$error":"#NUM!"}}]
[null,"Ajuster Vacide",null,"Ajuster Cacide",null,"Ajuster Cbase",null,null,"Vbase(en mL)",null,null,null,null,null,null,null,null,null,null,null,null,null,null,null,null,null,null,null,"acide chlorhydrique / ion chlorure HCl/Cl-",null,null,-7.4]
[null,0,null,0,null,0,null,null,{"$f":"IF(AA$11=0,\"\",IF(AA$11<>0,MIN(AB$11,AB$17)))","v":""},null,null,null,null,null,null,null,null,null,null,null,null,null,null,null,null,null,null,null,"acide nitrique / ion nitrate HNO3/NO3-",null,null,-3]
[null,"Vacide (en mL)",null,"Cacide (mol.L-1)",null,"Cbase (mol.L-1)",null,{"$f":"IF(I$7=\"\",\"\",IF(I$7=0,\"Solution d'un monoacide fort\",IF(AND(I$7>0,I$7<AA$11),\"La monobase est le réactif limitant\",IF(I$7=AA$11,\"Mélange stoechiométrique\",IF(AND(I$7>AA$11,I$7<AB$11),\"Le monoacide est le réactif limitant \",IF(I$7=AB$11,\"Fin de la simulation;  explorer le point d'équivalence\"))))))","v":""}]
[null,{"$f":"B$7","v":0},null,{"$f":"D$7*10^-4","v":0},null,{"$f":"F$7*D$9/20","v":0}]
[null,null,null,null,null,null,null,null,null,null,null,null,null,null,null,null,null,null,null,null,null,null,null,null,null,null,"VbE","2VBE","Niveaude a solution titrante",null,null,"calcul de pH"]
[null,"pKa","Ka","pKe","Vbase équivalence",null,null,null,null,null,null,null,null,null,null,null,null,null,null,null,null,null,null,null,null,null,{"$f":"IF(F$9=0,0,IF(F$7<>0,B$9*D$9/F$9))","v":0},{"$f":"2*AA$11","v":0},{"$f":"-I$7+50","v":{"$error":"#VALUE!"}},null,null,"CaVa-CbVb",null,"(CaVa-CbVb)²+4Ke(Va+Vb)²",null,"Va+Vb"]
[null,{"$f":"IF(C$4=0,\"\",IF(C4=1,AF$4,IF(C$4=2,AF$5,IF(C$4=3,AF$6,IF(C$4=4,AF$7)))))","v":""},{"$f":"IF(C$4=0,\"\",IF(C$4<>0,10^(-B$12)))","v":""},{"$f":"IF(C$4=0,\"\",IF(C$4<>0,14))","v":""},{"$f":"IF(I$7=\"\",\"\",IF(I$7<AA$11,\"?\",IF(I$7>=AA$11,AA$11)))","v":""},{"$f":"IF(I$7=\"\",\"\",IF(I$7<AA$11,\"\",IF(AND(I$7>=AA$11,I$7<AB$11),\"◄  Mélange stoechiométrique\",IF(I$7=AB$11,\"\"))))","v":""},null,null,null,null,null,null,null,null,null,null,null,null,null,null,null,null,null,null,null,null,"graduation burette",null,"pat de progression de Vb",null,null,{"$f":"(D$9*B$9-F$9*I$7)","v":{"$error":"#VALUE!"}},null,{"$f":"(D$9*B$9-F$9*I$7)^2+4*10^(-14)*(B$9+I$7)^2","v":{"$error":"#VALUE!"}},null,{"$f":"B$9+I$7","v":{"$error":"#VALUE!"}}]
[null,null,null,null,null,null,null,null,null,null,null,null,null,null,null,null,null,null,null,null,null,null,null,null,null,null,"x","h",{"$f":"IF(AND(G$22>=AG$27,G$22<=AA$19-1.5),0.25,IF(AND(G$22>AA$19-1.5,G$22<AG$35),0.005,IF(AND(G$22>=AG$35,G$22<AG$35+2),0.25,IF(G$22>=AG$35+2,0.5))))","v":{"$error":"#VALUE!"}}]
[null,"[H3O+]","pHinitial","pHéquivalence",{"$f":"IF(I$7=\"\",\"\",IF(AND(I$7>=0,I$7<AA$11),\"Solution aqueuse d'une monobase forte titrante ►\",IF(I$7>=AA$11,\"\")))","v":""},null,null,null,null,null,null,null,null,null,null,null,null,null,null,null,null,null,null,null,null,null,{"$f":"0","v":0},{"$f":"I$7","v":""},"critère clignotement"]
[null,{"$f":"IF(I$7=\"\",\"\",IF(I$7=0,AF$27,IF(I$7<>0,AF$19)))","v":""},{"$f":"IF(I$7=\"\",\"\",IF(I$7=0,AG$27,IF(I$7<>0,AG$27)))","v":""},{"$f":"IF(I$7=\"\",\"\",IF(AND(I$7>=0,I$7<AA$11),\"?\",IF(I$7>=AA$11,AG$35)))","v":""},null,null,null,null,null,null,null,null,null,null,null,null,null,null,null,null,null,null,null,null,null,null,{"$f":"MIN(AA$14,AB$17)","v":0},{"$f":"MIN(AB$14,AB$17)","v":0},null,2]
[null,null,null,null,null,null,null,null,null,null,null,null,null,null,null,null,null,null,null,null,null,null,null,null,null,null,"Play1"]
[null,"Taux d'avancement final tf",null,{"$f":"IF(I$7=\"\",\"\",IF(I$7>=0,AF$27/D$9*100))","v":""},null,null,null,null,null,null,null,null,null,null,null,null,null,null,null,null,null,null,null,null,null,null,0,{"$f":"MIN(AA$17,2*AA$11)","v":0},{"$f":"MAX(AA$17,2*AA$11)","v":0}]
[null,null,null,null,null,null,null,null,null,null,null,null,null,null,null,null,null,null,null,null,null,null,null,null,null,null,"zone de virage",null,null,null,null,"[H3O+]","pH"]
[null,null,null,null,{"$f":"IF(I$7=\"\",\"\",IF(AND(I$7<AA$11,C$4=1),\"Solution aqueuse d'acide iodhydrique titrée + BBT  ↓\",IF(AND(I$7<AA$11,C$4=2),\"Solution aqueuse d'acide bromhydrique titrée + BBT  ↓\",IF(AND(I$7<AA$11,C$4=3),\"Solution aqueuse d'acide chlorhydrique titrée + BBT  ↓\",IF(AND(I$7<AA$11,C$4=4),\"Solution aqueuse d'acide nitrique titrée + BBT  ↓\",IF(I$7>=AA$11,\"\"))))))","v":""},null,null,null,null,null,null,null,null,null,null,null,null,null,null,null,null,null,null,null,null,null,6,7.6,null,null,null,{"$f":"(AF12+SQRT(AH12))/(2*AJ12)","v":{"$error":"#VALUE!"}},{"$f":"-LOG(AF$19)","v":{"$error":"#VALUE!"}}]
[null,null,null,null,{"$f":"IF(I$7=\"\",\"\",IF(I$7=0,\"\",IF(AND(C$4=1,G$22<AA$19),\" La teinte jaune de la forme acide\",IF(AND(C$4=2,G$22<AA$19),\"La teinte jaune de la forme acide\",IF(AND(C$4=3,G$22<AA$19),\" La teinte jaune de la forme acide\",IF(AND(C$4=4,G$22<AA$19),\" La teinte jaune de la forme acide\",IF(AND(C$4=1,G$22>=AA$19,G$22<AG$35),\"La teinte sensible verte\",IF(AND(C$4=2,G$22>=AA$19,G$22<AG$35),\" La teinte sensible verte \",IF(AND(C$4=3,G$22>=AA$19,G$22<AG$35),\" La teinte sensible verte \",IF(AND(C$4=4,G$22>=AA$19,G$22<AG$35),\"La teinte  sensible verte \",IF(AND(C$4=1,G$22>=AG$35),\" La teinte  bleue de la forme basique\",IF(AND(C$4=2,G$22>=AG$35),\" La teinte  bleue de la forme basique\",IF(AND(C$4=3,G$22>=AG$35),\" La teinte  bleue de la forme basique\",IF(AND(C$4=4,G$22>=AG$35),\"La teinte  bleue de la forme basique\"))))))))))))))","v":""}]
[null,null,null,null,null,null,null,null,null,null,null,null,null,null,null,null,null,null,null,null,null,null,null,null,null,null,null,null,null,null,null,"Calcul du pH initial"]
[null,null,null,null,null,null,{"$f":"IF(I$7=\"\",\"\",IF(I$7=0,AG$27,IF(I7<>0,AG$19)))","v":""}]
[]
[]
[]
[null,null,null,null,null,null,null,null,null,null,null,{"$f":"IF(I$7=\"\",\"\",IF(I$7<AA$11,\"\",IF(I$7=AA$11,\"Equivalence\",IF(AND(I$7>AA$11,I$7<AB$11),\"\",IF(I$7=AB$11,\"Explorer le point d'équivalence\")))))","v":""},null,null,null,null,null,null,null,null,null,null,null,null,null,null,null,null,null,null,null,"[H3O+]i","pHi"]
[null,null,null,null,null,null,null,null,null,null,null,null,null,null,null,null,null,null,null,null,null,null,null,null,null,null,null,null,null,null,null,{"$f":"(D$9+SQRT(D$9^2+4*10^-D$12))/2","v":{"$error":"#VALUE!"}},{"$f":"-LOG(AF$27)","v":{"$error":"#VALUE!"}}]
[]
[null,null,null,null,null,null,null,null,null,null,null,null,null,null,null,null,null,null,null,null,null,null,null,null,null,null,null,null,null,null,null,"Calcul du pH à l'équivalence"]
[]
[]
[]
[]
[null,null,null,null,null,null,null,null,null,null,null,null,null,null,null,null,null,null,null,null,null,null,null,null,null,null,null,null,null,null,null,"[H3O+]eq","pHeq"]
[null,null,null,null,null,null,null,null,null,null,null,null,null,null,null,null,null,null,null,null,null,null,null,null,null,null,null,null,null,null,null,{"$f":"SQRT(10^-D$12)","v":{"$error":"#VALUE!"}},{"$f":"-LOG(AF$35)","v":{"$error":"#VALUE!"}}]
[]
[]
[]
[]
[]
[]
["Vb(mL)","pH","valeur pH","Vb (en mL)","pH","CaVa-CbVb","(CaVa-CbVb)²","4*Ke(Va+Vb)²","2*(Va+Vb)","[H3O+]",null,null,null,null,null,null,"Point de titrage"]
[{"$f":"MIN(D43,AB$17)","v":0},{"$f":"-LOG(J43)","v":{"$error":"#VALUE!"}},{"$f":"IF(AB$17<=E43,E43,IF(AB$17>E43,MIN(E43,AB$17)))","v":{"$error":"#VALUE!"}},{"$f":"0","v":0},{"$f":"-LOG(J43)","v":{"$error":"#VALUE!"}},{"$f":"D$9*B$9-F$9*A43","v":0},{"$f":"F43^2","v":0},{"$f":"4*(10^-(D$12))*(B$9+A43)^2","v":{"$error":"#VALUE!"}},{"$f":"2*(B$9+A43)","v":0},{"$f":"((F43)+(SQRT(G43+H43)))/I43","v":{"$error":"#VALUE!"}},{"$f":"12","v":12},null,null,null,null,null,{"$f":"I$7","v":""},{"$f":"0","v":0}]
[0,{"$f":"-LOG(J44)","v":{"$error":"#VALUE!"}},{"$error":"#VALUE!"},{"$f":"AA$11/100","v":0},{"$f":"-LOG(J44)","v":{"$error":"#VALUE!"}},{"$f":"D$9*B$9-F$9*A44","v":0},{"$f":"F44^2","v":0},{"$f":"4*(10^-(D$12))*(B$9+A44)^2","v":{"$error":"#VALUE!"}},{"$f":"2*(B$9+A44)","v":0},{"$f":"((F44)+(SQRT(G44+H44)))/I44","v":{"$error":"#VALUE!"}},{"$f":"12","v":12},null,null,null,null,null,{"$f":"I$7","v":""},{"$f":"G$22","v":""}]
[0,{"$error":"#VALUE!"},{"$error":"#VALUE!"},{"$f":"D44+D$44","v":0},{"$error":"#VALUE!"},0,0,{"$error":"#VALUE!"},0,{"$error":"#VALUE!"},{"$f":"12","v":12}]
[0,{"$error":"#VALUE!"},{"$error":"#VALUE!"},0,{"$error":"#VALUE!"},0,0,{"$error":"#VALUE!"},0,{"$error":"#VALUE!"},{"$f":"12","v":12},null,null,null,null,null,"point d'équivalence",null,null,null,null,null,null,null,null,null,null,null,null,"point d'iflexion pour T1",null,"Calcul pH point d'inflexion T1"]
[0,{"$error":"#VALUE!"},{"$error":"#VALUE!"},0,{"$error":"#VALUE!"},0,0,{"$error":"#VALUE!"},0,{"$error":"#VALUE!"},{"$f":"12","v":12},null,null,null,null,null,{"$f":"IF(I$7<AA$11,\"\",IF(I$7>=AA$11,AA$11))","v":0},{"$f":"0","v":0},null,null,null,null,null,null,null,null,null,null,null,{"$f":"AA$11+AA$11/6","v":0}]
[0,{"$error":"#VALUE!"},{"$error":"#VALUE!"},0,{"$error":"#VALUE!"},0,0,{"$error":"#VALUE!"},0,{"$error":"#VALUE!"},{"$f":"12","v":12},null,null,null,null,null,{"$f":"IF(I$7<AA$11,\"\",IF(I$7>=AA$11,AA$11))","v":0},{"$f":"IF(I$7<AA$11,\"\",IF(I$7>=AA$11,AG$35))","v":{"$error":"#VALUE!"}}]
[0,{"$error":"#VALUE!"},{"$error":"#VALUE!"},0,{"$error":"#VALUE!"},0,0,{"$error":"#VALUE!"},0,{"$error":"#VALUE!"},{"$f":"12","v":12},null,null,null,null,null,{"$f":"0","v":0},{"$f":"IF(I$7<AA$11,\"\",IF(I$7>=AA$11,AG$35))","v":{"$error":"#VALUE!"}},null,null,null,null,null,null,null,null,null,null,null,null,null,"(CaVa-CbVb)T1",null,"(CaVa-CbVb)²+4Ke(Va+Vb)²",null,"(Va+Vb)T1"]
[0,{"$error":"#VALUE!"},{"$error":"#VALUE!"},0,{"$error":"#VALUE!"},0,0,{"$error":"#VALUE!"},0,{"$error":"#VALUE!"},{"$f":"12","v":12},null,null,null,null,null,null,null,null,null,null,null,null,null,null,null,null,null,null,null,null,{"$f":"D$9*B$9-F$9*AD$47","v":0},null,{"$f":"AF$50^2+4*10^(-14)*(B$9+AD$47)^2","v":0},null,{"$f":"B$9+AD$47","v":0}]
[0,{"$error":"#VALUE!"},{"$error":"#VALUE!"},0,{"$error":"#VALUE!"},0,0,{"$error":"#VALUE!"},0,{"$error":"#VALUE!"},{"$f":"12","v":12},null,null,null,null,null,"point de demi équivalence",null,null,null,null,null,null,null,null,null,null,null,null,null,null,"[H3O+]T1","pHT1"]
[0,{"$error":"#VALUE!"},{"$error":"#VALUE!"},0,{"$error":"#VALUE!"},0,0,{"$error":"#VALUE!"},0,{"$error":"#VALUE!"},{"$f":"12","v":12},null,null,null,null,null,{"$f":"IF(I$7<AA$11/2,\"\",IF(I$7>=AA$11/2,AA$11/2))","v":0},{"$f":"0","v":0},null,null,null,null,null,null,null,null,null,null,null,null,null,{"$f":"(AF50+SQRT(AH50))/(2*AJ50)","v":{"$error":"#DIV/0!"}},{"$f":"-LOG(AF$52)","v":{"$error":"#DIV/0!"}}]
[0,{"$error":"#VALUE!"},{"$error":"#VALUE!"},0,{"$error":"#VALUE!"},0,0,{"$error":"#VALUE!"},0,{"$error":"#VALUE!"},{"$f":"12","v":12},null,null,null,null,null,{"$f":"IF(I$7<AA$11/2,\"\",IF(I$7>=AA$11/2,AA$11/2))","v":0},{"$f":"IF(I$7<AA$11/2,\"\",IF(I$7>=AA$11/2,AG$44))","v":0}]
[0,{"$error":"#VALUE!"},{"$error":"#VALUE!"},0,{"$error":"#VALUE!"},0,0,{"$error":"#VALUE!"},0,{"$error":"#VALUE!"},{"$f":"12","v":12},null,null,null,null,null,{"$f":"0","v":0},{"$f":"IF(I$7<AA$11/2,\"\",IF(I$7>=AA$11/2,AG$44))","v":0},null,null,null,null,null,null,null,null,null,null,null,"point d'iflexion pour T2",null,"Calcul pH point d'inflexion T2"]
[0,{"$error":"#VALUE!"},{"$error":"#VALUE!"},0,{"$error":"#VALUE!"},0,0,{"$error":"#VALUE!"},0,{"$error":"#VALUE!"},{"$f":"12","v":12},null,null,null,null,null,null,null,null,null,null,null,null,null,null,null,null,null,null,{"$f":"AA$11-AA$11/6","v":0}]
[0,{"$error":"#VALUE!"},{"$error":"#VALUE!"},0,{"$error":"#VALUE!"},0,0,{"$error":"#VALUE!"},0,{"$error":"#VALUE!"},{"$f":"12","v":12}]
[0,{"$error":"#VALUE!"},{"$error":"#VALUE!"},0,{"$error":"#VALUE!"},0,0,{"$error":"#VALUE!"},0,{"$error":"#VALUE!"},{"$f":"12","v":12},null,null,null,null,null,null,null,null,null,null,null,null,null,null,null,null,null,null,null,null,"(CaVa-CbVb)T2",null,"(CaVa-CbVb)²+4Ke(Va+Vb)²",null,"(Va+Vb)T2"]
[0,{"$error":"#VALUE!"},{"$error":"#VALUE!"},0,{"$error":"#VALUE!"},0,0,{"$error":"#VALUE!"},0,{"$error":"#VALUE!"},{"$f":"12","v":12},null,null,null,null,null,null,null,null,null,null,null,null,null,null,null,null,null,null,null,null,{"$f":"D$9*B$9-F$9*AD$55","v":0},null,{"$f":"AF$58^2+4*10^(-14)*(B$9+AD$55)^2","v":0},null,{"$f":"B$9+AD$55","v":0}]
[0,{"$error":"#VALUE!"},{"$error":"#VALUE!"},0,{"$error":"#VALUE!"},0,0,{"$error":"#VALUE!"},0,{"$error":"#VALUE!"},{"$f":"12","v":12},null,null,null,null,null,null,null,null,null,null,null,null,null,null,null,null,null,null,null,null,"[H3O+]T2","pHT2"]
[0,{"$error":"#VALUE!"},{"$error":"#VALUE!"},0,{"$error":"#VALUE!"},0,0,{"$error":"#VALUE!"},0,{"$error":"#VALUE!"},{"$f":"12","v":12},null,null,null,null,null,null,null,null,null,null,null,null,null,null,null,null,null,null,null,null,{"$f":"(AF58+SQRT(AH58))/(2*AJ58)","v":{"$error":"#DIV/0!"}},{"$f":"-LOG(AF$60)","v":{"$error":"#DIV/0!"}}]
[0,{"$error":"#VALUE!"},{"$error":"#VALUE!"},0,{"$error":"#VALUE!"},0,0,{"$error":"#VALUE!"},0,{"$error":"#VALUE!"},{"$f":"12","v":12}]
[0,{"$error":"#VALUE!"},{"$error":"#VALUE!"},0,{"$error":"#VALUE!"},0,0,{"$error":"#VALUE!"},0,{"$error":"#VALUE!"},{"$f":"12","v":12},null,null,null,null,null,null,null,null,null,null,null,null,null,null,null,null,null,null,"intersection",null,"Calcul pH pointd'intersection avec  T1"]
[0,{"$error":"#VALUE!"},{"$error":"#VALUE!"},0,{"$error":"#VALUE!"},0,0,{"$error":"#VALUE!"},0,{"$error":"#VALUE!"},{"$f":"12","v":12},null,null,null,null,null,null,null,null,null,null,null,null,null,null,null,null,null,null,{"$f":"POINTEQUIVALENCE!#REF!","v":{"$error":"#REF!"}},null,"aint","bint","cint"]
[0,{"$error":"#VALUE!"},{"$error":"#VALUE!"},0,{"$error":"#VALUE!"},0,0,{"$error":"#VALUE!"},0,{"$error":"#VALUE!"},{"$f":"12","v":12},null,null,null,null,null,null,null,null,null,null,null,null,null,null,null,null,null,null,null,null,{"$f":"(C$12)+((F$9*AD$63)/(B$9+AD$63))","v":{"$error":"#VALUE!"}},{"$f":"(C$12*(F$9*AD$63-D$9*B$9)/(B$9+AD$63))-(10^-D$12)","v":{"$error":"#VALUE!"}},{"$f":"-C$12*10^-D$12","v":{"$error":"#VALUE!"}}]
[0,{"$error":"#VALUE!"},{"$error":"#VALUE!"},0,{"$error":"#VALUE!"},0,0,{"$error":"#VALUE!"},0,{"$error":"#VALUE!"},{"$f":"12","v":12},null,null,null,null,null,null,null,null,null,null,null,null,null,null,null,null,null,null,null,null,"LT2","MT2","ST2","PT2","RT2","jT2"]
[0,{"$error":"#VALUE!"},{"$error":"#VALUE!"},0,{"$error":"#VALUE!"},0,0,{"$error":"#VALUE!"},0,{"$error":"#VALUE!"},{"$f":"12","v":12},null,null,null,null,null,null,null,null,null,null,null,null,null,null,null,null,null,null,null,null,{"$f":"AG$64-AF$64^2/3","v":{"$error":"#VALUE!"}},{"$f":"(2*AF$64^3/27)-(AF$64*AG$64/3)+(AH$64)","v":{"$error":"#VALUE!"}},{"$f":"-AG$66","v":{"$error":"#VALUE!"}},{"$f":"-AF$66^3/27","v":{"$error":"#VALUE!"}},{"$f":"SQRT(AI$66)","v":{"$error":"#VALUE!"}},{"$f":"ACOS((AH$66)/(2*AJ$66))","v":{"$error":"#VALUE!"}}]
[0,{"$error":"#VALUE!"},{"$error":"#VALUE!"},0,{"$error":"#VALUE!"},0,0,{"$error":"#VALUE!"},0,{"$error":"#VALUE!"},{"$f":"12","v":12},null,null,null,null,null,null,null,null,null,null,null,null,null,null,null,null,null,null,null,null,"[H3O+]T2","pHT2"]
[0,{"$error":"#VALUE!"},{"$error":"#VALUE!"},0,{"$error":"#VALUE!"},0,0,{"$error":"#VALUE!"},0,{"$error":"#VALUE!"},{"$f":"12","v":12},null,null,null,null,null,null,null,null,null,null,null,null,null,null,null,null,null,null,null,null,{"$f":"2*(-AF$66/3)^0.5*COS(AK$66/3)-(AF$64/3)","v":{"$error":"#VALUE!"}},{"$f":"-LOG(AF$68)","v":{"$error":"#VALUE!"}}]
[0,{"$error":"#VALUE!"},{"$error":"#VALUE!"},0,{"$error":"#VALUE!"},0,0,{"$error":"#VALUE!"},0,{"$error":"#VALUE!"},{"$f":"12","v":12}]
[0,{"$error":"#VALUE!"},{"$error":"#VALUE!"},0,{"$error":"#VALUE!"},0,0,{"$error":"#VALUE!"},0,{"$error":"#VALUE!"},{"$f":"12","v":12}]
[0,{"$error":"#VALUE!"},{"$error":"#VALUE!"},0,{"$error":"#VALUE!"},0,0,{"$error":"#VALUE!"},0,{"$error":"#VALUE!"},{"$f":"12","v":12}]
[0,{"$error":"#VALUE!"},{"$error":"#VALUE!"},0,{"$error":"#VALUE!"},0,0,{"$error":"#VALUE!"},0,{"$error":"#VALUE!"},{"$f":"12","v":12}]
[0,{"$error":"#VALUE!"},{"$error":"#VALUE!"},0,{"$error":"#VALUE!"},0,0,{"$error":"#VALUE!"},0,{"$error":"#VALUE!"},{"$f":"12","v":12}]
[0,{"$error":"#VALUE!"},{"$error":"#VALUE!"},0,{"$error":"#VALUE!"},0,0,{"$error":"#VALUE!"},0,{"$error":"#VALUE!"},{"$f":"12","v":12}]
[0,{"$error":"#VALUE!"},{"$error":"#VALUE!"},0,{"$error":"#VALUE!"},0,0,{"$error":"#VALUE!"},0,{"$error":"#VALUE!"},{"$f":"12","v":12}]
[0,{"$error":"#VALUE!"},{"$error":"#VALUE!"},0,{"$error":"#VALUE!"},0,0,{"$error":"#VALUE!"},0,{"$error":"#VALUE!"},{"$f":"12","v":12}]
[0,{"$error":"#VALUE!"},{"$error":"#VALUE!"},{"$f":"D76+D$44","v":0},{"$error":"#VALUE!"},0,0,{"$error":"#VALUE!"},0,{"$error":"#VALUE!"},{"$f":"12","v":12}]
[0,{"$error":"#VALUE!"},{"$error":"#VALUE!"},0,{"$error":"#VALUE!"},0,0,{"$error":"#VALUE!"},0,{"$error":"#VALUE!"},{"$f":"12","v":12}]
[0,{"$error":"#VALUE!"},{"$error":"#VALUE!"},0,{"$error":"#VALUE!"},0,0,{"$error":"#VALUE!"},0,{"$error":"#VALUE!"},{"$f":"12","v":12}]
[0,{"$error":"#VALUE!"},{"$error":"#VALUE!"},0,{"$error":"#VALUE!"},0,0,{"$error":"#VALUE!"},0,{"$error":"#VALUE!"},{"$f":"12","v":12}]
[0,{"$error":"#VALUE!"},{"$error":"#VALUE!"},0,{"$error":"#VALUE!"},0,0,{"$error":"#VALUE!"},0,{"$error":"#VALUE!"},{"$f":"12","v":12}]
[0,{"$error":"#VALUE!"},{"$error":"#VALUE!"},0,{"$error":"#VALUE!"},0,0,{"$error":"#VALUE!"},0,{"$error":"#VALUE!"},{"$f":"12","v":12}]
[0,{"$error":"#VALUE!"},{"$error":"#VALUE!"},0,{"$error":"#VALUE!"},0,0,{"$error":"#VALUE!"},0,{"$error":"#VALUE!"},{"$f":"12","v":12}]
[0,{"$error":"#VALUE!"},{"$error":"#VALUE!"},0,{"$error":"#VALUE!"},0,0,{"$error":"#VALUE!"},0,{"$error":"#VALUE!"},{"$f":"12","v":12}]
[0,{"$error":"#VALUE!"},{"$error":"#VALUE!"},0,{"$error":"#VALUE!"},0,0,{"$error":"#VALUE!"},0,{"$error":"#VALUE!"},{"$f":"12","v":12}]
[0,{"$error":"#VALUE!"},{"$error":"#VALUE!"},0,{"$error":"#VALUE!"},0,0,{"$error":"#VALUE!"},0,{"$error":"#VALUE!"},{"$f":"12","v":12}]
[0,{"$error":"#VALUE!"},{"$error":"#VALUE!"},0,{"$error":"#VALUE!"},0,0,{"$error":"#VALUE!"},0,{"$error":"#VALUE!"},{"$f":"12","v":12}]
[0,{"$error":"#VALUE!"},{"$error":"#VALUE!"},0,{"$error":"#VALUE!"},0,0,{"$error":"#VALUE!"},0,{"$error":"#VALUE!"},{"$f":"12","v":12}]
[0,{"$error":"#VALUE!"},{"$error":"#VALUE!"},0,{"$error":"#VALUE!"},0,0,{"$error":"#VALUE!"},0,{"$error":"#VALUE!"},{"$f":"12","v":12}]
[0,{"$error":"#VALUE!"},{"$error":"#VALUE!"},0,{"$error":"#VALUE!"},0,0,{"$error":"#VALUE!"},0,{"$error":"#VALUE!"},{"$f":"12","v":12}]
[0,{"$error":"#VALUE!"},{"$error":"#VALUE!"},0,{"$error":"#VALUE!"},0,0,{"$error":"#VALUE!"},0,{"$error":"#VALUE!"},{"$f":"12","v":12}]
[0,{"$error":"#VALUE!"},{"$error":"#VALUE!"},0,{"$error":"#VALUE!"},0,0,{"$error":"#VALUE!"},0,{"$error":"#VALUE!"},{"$f":"12","v":12}]
[0,{"$error":"#VALUE!"},{"$error":"#VALUE!"},0,{"$error":"#VALUE!"},0,0,{"$error":"#VALUE!"},0,{"$error":"#VALUE!"},{"$f":"12","v":12}]
[0,{"$error":"#VALUE!"},{"$error":"#VALUE!"},0,{"$error":"#VALUE!"},0,0,{"$error":"#VALUE!"},0,{"$error":"#VALUE!"},{"$f":"12","v":12}]
[0,{"$error":"#VALUE!"},{"$error":"#VALUE!"},0,{"$error":"#VALUE!"},0,0,{"$error":"#VALUE!"},0,{"$error":"#VALUE!"},{"$f":"12","v":12}]
[0,{"$error":"#VALUE!"},{"$error":"#VALUE!"},0,{"$error":"#VALUE!"},0,0,{"$error":"#VALUE!"},0,{"$error":"#VALUE!"},{"$f":"12","v":12}]
[0,{"$error":"#VALUE!"},{"$error":"#VALUE!"},0,{"$error":"#VALUE!"},0,0,{"$error":"#VALUE!"},0,{"$error":"#VALUE!"},{"$f":"12","v":12}]
[0,{"$error":"#VALUE!"},{"$error":"#VALUE!"},0,{"$error":"#VALUE!"},0,0,{"$error":"#VALUE!"},0,{"$error":"#VALUE!"},{"$f":"12","v":12}]
[0,{"$error":"#VALUE!"},{"$error":"#VALUE!"},0,{"$error":"#VALUE!"},0,0,{"$error":"#VALUE!"},0,{"$error":"#VALUE!"},{"$f":"12","v":12}]
[0,{"$error":"#VALUE!"},{"$error":"#VALUE!"},0,{"$error":"#VALUE!"},0,0,{"$error":"#VALUE!"},0,{"$error":"#VALUE!"},{"$f":"12","v":12}]
[0,{"$error":"#VALUE!"},{"$error":"#VALUE!"},0,{"$error":"#VALUE!"},0,0,{"$error":"#VALUE!"},0,{"$error":"#VALUE!"},{"$f":"12","v":12}]
[0,{"$error":"#VALUE!"},{"$error":"#VALUE!"},0,{"$error":"#VALUE!"},0,0,{"$error":"#VALUE!"},0,{"$error":"#VALUE!"},{"$f":"12","v":12}]
[0,{"$error":"#VALUE!"},{"$error":"#VALUE!"},0,{"$error":"#VALUE!"},0,0,{"$error":"#VALUE!"},0,{"$error":"#VALUE!"},{"$f":"12","v":12}]
[0,{"$error":"#VALUE!"},{"$error":"#VALUE!"},0,{"$error":"#VALUE!"},0,0,{"$error":"#VALUE!"},0,{"$error":"#VALUE!"},{"$f":"12","v":12}]
[0,{"$error":"#VALUE!"},{"$error":"#VALUE!"},0,{"$error":"#VALUE!"},0,0,{"$error":"#VALUE!"},0,{"$error":"#VALUE!"},{"$f":"12","v":12}]
[0,{"$error":"#VALUE!"},{"$error":"#VALUE!"},0,{"$error":"#VALUE!"},0,0,{"$error":"#VALUE!"},0,{"$error":"#VALUE!"},{"$f":"12","v":12}]
[{"$f":"MIN(D107,AB$17)","v":0},{"$error":"#VALUE!"},{"$f":"IF(AB$17<=E107,E107,IF(AB$17>E107,MIN(E107,AB$17)))","v":{"$error":"#VALUE!"}},0,{"$error":"#VALUE!"},0,0,{"$error":"#VALUE!"},0,{"$error":"#VALUE!"},{"$f":"12","v":12}]
[0,{"$f":"-LOG(J108)","v":{"$error":"#VALUE!"}},{"$error":"#VALUE!"},0,{"$f":"-LOG(J108)","v":{"$error":"#VALUE!"}},{"$f":"D$9*B$9-F$9*A108","v":0},{"$f":"F108^2","v":0},{"$f":"4*(10^-(D$12))*(B$9+A108)^2","v":{"$error":"#VALUE!"}},{"$f":"2*(B$9+A108)","v":0},{"$f":"((F108)+(SQRT(G108+H108)))/I108","v":{"$error":"#VALUE!"}},{"$f":"12","v":12}]
[0,{"$error":"#VALUE!"},{"$error":"#VALUE!"},{"$f":"D108+D$44","v":0},{"$error":"#VALUE!"},0,0,{"$error":"#VALUE!"},0,{"$error":"#VALUE!"},{"$f":"12","v":12}]
[0,{"$error":"#VALUE!"},{"$error":"#VALUE!"},0,{"$error":"#VALUE!"},0,0,{"$error":"#VALUE!"},0,{"$error":"#VALUE!"},{"$f":"12","v":12}]
[0,{"$error":"#VALUE!"},{"$error":"#VALUE!"},0,{"$error":"#VALUE!"},0,0,{"$error":"#VALUE!"},0,{"$error":"#VALUE!"},{"$f":"12","v":12}]
[0,{"$error":"#VALUE!"},{"$error":"#VALUE!"},0,{"$error":"#VALUE!"},0,0,{"$error":"#VALUE!"},0,{"$error":"#VALUE!"},{"$f":"12","v":12}]
[0,{"$error":"#VALUE!"},{"$error":"#VALUE!"},0,{"$error":"#VALUE!"},0,0,{"$error":"#VALUE!"},0,{"$error":"#VALUE!"},{"$f":"12","v":12}]
[0,{"$error":"#VALUE!"},{"$error":"#VALUE!"},0,{"$error":"#VALUE!"},0,0,{"$error":"#VALUE!"},0,{"$error":"#VALUE!"},{"$f":"12","v":12}]
[0,{"$error":"#VALUE!"},{"$error":"#VALUE!"},0,{"$error":"#VALUE!"},0,0,{"$error":"#VALUE!"},0,{"$error":"#VALUE!"},{"$f":"12","v":12}]
[0,{"$error":"#VALUE!"},{"$error":"#VALUE!"},0,{"$error":"#VALUE!"},0,0,{"$error":"#VALUE!"},0,{"$error":"#VALUE!"},{"$f":"12","v":12}]
[0,{"$error":"#VALUE!"},{"$error":"#VALUE!"},0,{"$error":"#VALUE!"},0,0,{"$error":"#VALUE!"},0,{"$error":"#VALUE!"},{"$f":"12","v":12}]
[0,{"$error":"#VALUE!"},{"$error":"#VALUE!"},0,{"$error":"#VALUE!"},0,0,{"$error":"#VALUE!"},0,{"$error":"#VALUE!"},{"$f":"12","v":12}]
[0,{"$error":"#VALUE!"},{"$error":"#VALUE!"},0,{"$error":"#VALUE!"},0,0,{"$error":"#VALUE!"},0,{"$error":"#VALUE!"},{"$f":"12","v":12}]
[0,{"$error":"#VALUE!"},{"$error":"#VALUE!"},0,{"$error":"#VALUE!"},0,0,{"$error":"#VALUE!"},0,{"$error":"#VALUE!"},{"$f":"12","v":12}]
[0,{"$error":"#VALUE!"},{"$error":"#VALUE!"},0,{"$error":"#VALUE!"},0,0,{"$error":"#VALUE!"},0,{"$error":"#VALUE!"},{"$f":"12","v":12}]
[0,{"$error":"#VALUE!"},{"$error":"#VALUE!"},0,{"$error":"#VALUE!"},0,0,{"$error":"#VALUE!"},0,{"$error":"#VALUE!"},{"$f":"12","v":12}]
[0,{"$error":"#VALUE!"},{"$error":"#VALUE!"},0,{"$error":"#VALUE!"},0,0,{"$error":"#VALUE!"},0,{"$error":"#VALUE!"},{"$f":"12","v":12}]
[0,{"$error":"#VALUE!"},{"$error":"#VALUE!"},0,{"$error":"#VALUE!"},0,0,{"$error":"#VALUE!"},0,{"$error":"#VALUE!"},{"$f":"12","v":12}]
[0,{"$error":"#VALUE!"},{"$error":"#VALUE!"},0,{"$error":"#VALUE!"},0,0,{"$error":"#VALUE!"},0,{"$error":"#VALUE!"},{"$f":"12","v":12}]
[0,{"$error":"#VALUE!"},{"$error":"#VALUE!"},0,{"$error":"#VALUE!"},0,0,{"$error":"#VALUE!"},0,{"$error":"#VALUE!"},{"$f":"12","v":12}]
[0,{"$error":"#VALUE!"},{"$error":"#VALUE!"},0,{"$error":"#VALUE!"},0,0,{"$error":"#VALUE!"},0,{"$error":"#VALUE!"},{"$f":"12","v":12}]
[0,{"$error":"#VALUE!"},{"$error":"#VALUE!"},0,{"$error":"#VALUE!"},0,0,{"$error":"#VALUE!"},0,{"$error":"#VALUE!"},{"$f":"12","v":12}]
[0,{"$error":"#VALUE!"},{"$error":"#VALUE!"},0,{"$error":"#VALUE!"},0,0,{"$error":"#VALUE!"},0,{"$error":"#VALUE!"},{"$f":"12","v":12}]
[0,{"$error":"#VALUE!"},{"$error":"#VALUE!"},0,{"$error":"#VALUE!"},0,0,{"$error":"#VALUE!"},0,{"$error":"#VALUE!"},{"$f":"12","v":12}]
[0,{"$error":"#VALUE!"},{"$error":"#VALUE!"},0,{"$error":"#VALUE!"},0,0,{"$error":"#VALUE!"},0,{"$error":"#VALUE!"},{"$f":"12","v":12}]
[0,{"$error":"#VALUE!"},{"$error":"#VALUE!"},0,{"$error":"#VALUE!"},0,0,{"$error":"#VALUE!"},0,{"$error":"#VALUE!"},{"$f":"12","v":12}]
[0,{"$error":"#VALUE!"},{"$error":"#VALUE!"},0,{"$error":"#VALUE!"},0,0,{"$error":"#VALUE!"},0,{"$error":"#VALUE!"},{"$f":"12","v":12}]
[0,{"$error":"#VALUE!"},{"$error":"#VALUE!"},0,{"$error":"#VALUE!"},0,0,{"$error":"#VALUE!"},0,{"$error":"#VALUE!"},{"$f":"12","v":12}]
[0,{"$error":"#VALUE!"},{"$error":"#VALUE!"},0,{"$error":"#VALUE!"},0,0,{"$error":"#VALUE!"},0,{"$error":"#VALUE!"},{"$f":"12","v":12}]
[0,{"$error":"#VALUE!"},{"$error":"#VALUE!"},0,{"$error":"#VALUE!"},0,0,{"$error":"#VALUE!"},0,{"$error":"#VALUE!"},{"$f":"12","v":12}]
[0,{"$error":"#VALUE!"},{"$error":"#VALUE!"},0,{"$error":"#VALUE!"},0,0,{"$error":"#VALUE!"},0,{"$error":"#VALUE!"},{"$f":"12","v":12}]
[0,{"$error":"#VALUE!"},{"$error":"#VALUE!"},0,{"$error":"#VALUE!"},0,0,{"$error":"#VALUE!"},0,{"$error":"#VALUE!"},{"$f":"12","v":12}]
[0,{"$error":"#VALUE!"},{"$error":"#VALUE!"},0,{"$error":"#VALUE!"},0,0,{"$error":"#VALUE!"},0,{"$error":"#VALUE!"},{"$f":"12","v":12}]
[0,{"$error":"#VALUE!"},{"$error":"#VALUE!"},0,{"$error":"#VALUE!"},0,0,{"$error":"#VALUE!"},0,{"$error":"#VALUE!"},{"$f":"12","v":12}]
[0,{"$error":"#VALUE!"},{"$error":"#VALUE!"},{"$f":"D140+D$44","v":0},{"$error":"#VALUE!"},0,0,{"$error":"#VALUE!"},0,{"$error":"#VALUE!"},{"$f":"12","v":12}]
[0,{"$error":"#VALUE!"},{"$error":"#VALUE!"},0,{"$error":"#VALUE!"},0,0,{"$error":"#VALUE!"},0,{"$error":"#VALUE!"},{"$f":"12","v":12}]
[0,{"$error":"#VALUE!"},{"$error":"#VALUE!"},0,{"$error":"#VALUE!"},0,0,{"$error":"#VALUE!"},0,{"$error":"#VALUE!"},{"$f":"12","v":12}]
[0,{"$error":"#VALUE!"},{"$error":"#VALUE!"},0,{"$error":"#VALUE!"},0,0,{"$error":"#VALUE!"},0,{"$error":"#VALUE!"},{"$f":"12","v":12}]
[0,{"$error":"#VALUE!"},{"$error":"#VALUE!"},0,{"$error":"#VALUE!"},0,0,{"$error":"#VALUE!"},0,{"$error":"#VALUE!"},{"$f":"12","v":12}]
[0,{"$error":"#VALUE!"},{"$error":"#VALUE!"},0,{"$error":"#VALUE!"},0,0,{"$error":"#VALUE!"},0,{"$error":"#VALUE!"},{"$f":"12","v":12}]
[0,{"$error":"#VALUE!"},{"$error":"#VALUE!"},0,{"$error":"#VALUE!"},0,0,{"$error":"#VALUE!"},0,{"$error":"#VALUE!"},{"$f":"12","v":12}]
[0,{"$error":"#VALUE!"},{"$error":"#VALUE!"},0,{"$error":"#VALUE!"},0,0,{"$error":"#VALUE!"},0,{"$error":"#VALUE!"},{"$f":"12","v":12}]
[0,{"$error":"#VALUE!"},{"$error":"#VALUE!"},0,{"$error":"#VALUE!"},0,0,{"$error":"#VALUE!"},0,{"$error":"#VALUE!"},{"$f":"12","v":12}]
[0,{"$error":"#VALUE!"},{"$error":"#VALUE!"},0,{"$error":"#VALUE!"},0,0,{"$error":"#VALUE!"},0,{"$error":"#VALUE!"},{"$f":"12","v":12}]
[0,{"$error":"#VALUE!"},{"$error":"#VALUE!"},0,{"$error":"#VALUE!"},0,0,{"$error":"#VALUE!"},0,{"$error":"#VALUE!"},{"$f":"12","v":12}]
[0,{"$error":"#VALUE!"},{"$error":"#VALUE!"},0,{"$error":"#VALUE!"},0,0,{"$error":"#VALUE!"},0,{"$error":"#VALUE!"},{"$f":"12","v":12}]
[0,{"$error":"#VALUE!"},{"$error":"#VALUE!"},0,{"$error":"#VALUE!"},0,0,{"$error":"#VALUE!"},0,{"$error":"#VALUE!"},{"$f":"12","v":12}]
[0,{"$error":"#VALUE!"},{"$error":"#VALUE!"},0,{"$error":"#VALUE!"},0,0,{"$error":"#VALUE!"},0,{"$error":"#VALUE!"},{"$f":"12","v":12}]
[0,{"$error":"#VALUE!"},{"$error":"#VALUE!"},0,{"$error":"#VALUE!"},0,0,{"$error":"#VALUE!"},0,{"$error":"#VALUE!"},{"$f":"12","v":12}]
[0,{"$error":"#VALUE!"},{"$error":"#VALUE!"},0,{"$error":"#VALUE!"},0,0,{"$error":"#VALUE!"},0,{"$error":"#VALUE!"},{"$f":"12","v":12}]
[0,{"$error":"#VALUE!"},{"$error":"#VALUE!"},0,{"$error":"#VALUE!"},0,0,{"$error":"#VALUE!"},0,{"$error":"#VALUE!"},{"$f":"12","v":12}]
[0,{"$error":"#VALUE!"},{"$error":"#VALUE!"},0,{"$error":"#VALUE!"},0,0,{"$error":"#VALUE!"},0,{"$error":"#VALUE!"},{"$f":"12","v":12}]
[0,{"$error":"#VALUE!"},{"$error":"#VALUE!"},0,{"$error":"#VALUE!"},0,0,{"$error":"#VALUE!"},0,{"$error":"#VALUE!"},{"$f":"12","v":12}]
[0,{"$error":"#VALUE!"},{"$error":"#VALUE!"},0,{"$error":"#VALUE!"},0,0,{"$error":"#VALUE!"},0,{"$error":"#VALUE!"},{"$f":"12","v":12}]
[0,{"$error":"#VALUE!"},{"$error":"#VALUE!"},0,{"$error":"#VALUE!"},0,0,{"$error":"#VALUE!"},0,{"$error":"#VALUE!"},{"$f":"12","v":12}]
[0,{"$error":"#VALUE!"},{"$error":"#VALUE!"},0,{"$error":"#VALUE!"},0,0,{"$error":"#VALUE!"},0,{"$error":"#VALUE!"},{"$f":"12","v":12}]
[0,{"$error":"#VALUE!"},{"$error":"#VALUE!"},0,{"$error":"#VALUE!"},0,0,{"$error":"#VALUE!"},0,{"$error":"#VALUE!"},{"$f":"12","v":12}]
[0,{"$error":"#VALUE!"},{"$error":"#VALUE!"},0,{"$error":"#VALUE!"},0,0,{"$error":"#VALUE!"},0,{"$error":"#VALUE!"},{"$f":"12","v":12}]
[0,{"$error":"#VALUE!"},{"$error":"#VALUE!"},0,{"$error":"#VALUE!"},0,0,{"$error":"#VALUE!"},0,{"$error":"#VALUE!"},{"$f":"12","v":12}]
[0,{"$error":"#VALUE!"},{"$error":"#VALUE!"},0,{"$error":"#VALUE!"},0,0,{"$error":"#VALUE!"},0,{"$error":"#VALUE!"},{"$f":"12","v":12}]
[0,{"$error":"#VALUE!"},{"$error":"#VALUE!"},0,{"$error":"#VALUE!"},0,0,{"$error":"#VALUE!"},0,{"$error":"#VALUE!"},{"$f":"12","v":12}]
[0,{"$error":"#VALUE!"},{"$error":"#VALUE!"},0,{"$error":"#VALUE!"},0,0,{"$error":"#VALUE!"},0,{"$error":"#VALUE!"},{"$f":"12","v":12}]
[0,{"$error":"#VALUE!"},{"$error":"#VALUE!"},0,{"$error":"#VALUE!"},0,0,{"$error":"#VALUE!"},0,{"$error":"#VALUE!"},{"$f":"12","v":12}]
[0,{"$error":"#VALUE!"},{"$error":"#VALUE!"},0,{"$error":"#VALUE!"},0,0,{"$error":"#VALUE!"},0,{"$error":"#VALUE!"},{"$f":"12","v":12}]
[{"$f":"MIN(D171,AB$17)","v":0},{"$error":"#VALUE!"},{"$f":"IF(AB$17<=E171,E171,IF(AB$17>E171,MIN(E171,AB$17)))","v":{"$error":"#VALUE!"}},0,{"$error":"#VALUE!"},0,0,{"$error":"#VALUE!"},0,{"$error":"#VALUE!"},{"$f":"12","v":12}]
[0,{"$f":"-LOG(J172)","v":{"$error":"#VALUE!"}},{"$error":"#VALUE!"},0,{"$f":"-LOG(J172)","v":{"$error":"#VALUE!"}},{"$f":"D$9*B$9-F$9*A172","v":0},{"$f":"F172^2","v":0},{"$f":"4*(10^-(D$12))*(B$9+A172)^2","v":{"$error":"#VALUE!"}},{"$f":"2*(B$9+A172)","v":0},{"$f":"((F172)+(SQRT(G172+H172)))/I172","v":{"$error":"#VALUE!"}},{"$f":"12","v":12}]
[0,{"$error":"#VALUE!"},{"$error":"#VALUE!"},{"$f":"D172+D$44","v":0},{"$error":"#VALUE!"},0,0,{"$error":"#VALUE!"},0,{"$error":"#VALUE!"},{"$f":"12","v":12}]
[0,{"$error":"#VALUE!"},{"$error":"#VALUE!"},0,{"$error":"#VALUE!"},0,0,{"$error":"#VALUE!"},0,{"$error":"#VALUE!"},{"$f":"12","v":12}]
[0,{"$error":"#VALUE!"},{"$error":"#VALUE!"},0,{"$error":"#VALUE!"},0,0,{"$error":"#VALUE!"},0,{"$error":"#VALUE!"},{"$f":"12","v":12}]
[0,{"$error":"#VALUE!"},{"$error":"#VALUE!"},0,{"$error":"#VALUE!"},0,0,{"$error":"#VALUE!"},0,{"$error":"#VALUE!"},{"$f":"12","v":12}]
[0,{"$error":"#VALUE!"},{"$error":"#VALUE!"},0,{"$error":"#VALUE!"},0,0,{"$error":"#VALUE!"},0,{"$error":"#VALUE!"},{"$f":"12","v":12}]
[0,{"$error":"#VALUE!"},{"$error":"#VALUE!"},0,{"$error":"#VALUE!"},0,0,{"$error":"#VALUE!"},0,{"$error":"#VALUE!"},{"$f":"12","v":12}]
[0,{"$error":"#VALUE!"},{"$error":"#VALUE!"},0,{"$error":"#VALUE!"},0,0,{"$error":"#VALUE!"},0,{"$error":"#VALUE!"},{"$f":"12","v":12}]
[0,{"$error":"#VALUE!"},{"$error":"#VALUE!"},0,{"$error":"#VALUE!"},0,0,{"$error":"#VALUE!"},0,{"$error":"#VALUE!"},{"$f":"12","v":12}]
[0,{"$error":"#VALUE!"},{"$error":"#VALUE!"},0,{"$error":"#VALUE!"},0,0,{"$error":"#VALUE!"},0,{"$error":"#VALUE!"},{"$f":"12","v":12}]
[0,{"$error":"#VALUE!"},{"$error":"#VALUE!"},0,{"$error":"#VALUE!"},0,0,{"$error":"#VALUE!"},0,{"$error":"#VALUE!"},{"$f":"12","v":12}]
[0,{"$error":"#VALUE!"},{"$error":"#VALUE!"},0,{"$error":"#VALUE!"},0,0,{"$error":"#VALUE!"},0,{"$error":"#VALUE!"},{"$f":"12","v":12}]
[0,{"$error":"#VALUE!"},{"$error":"#VALUE!"},0,{"$error":"#VALUE!"},0,0,{"$error":"#VALUE!"},0,{"$error":"#VALUE!"},{"$f":"12","v":12}]
[0,{"$error":"#VALUE!"},{"$error":"#VALUE!"},0,{"$error":"#VALUE!"},0,0,{"$error":"#VALUE!"},0,{"$error":"#VALUE!"},{"$f":"12","v":12}]
[0,{"$error":"#VALUE!"},{"$error":"#VALUE!"},0,{"$error":"#VALUE!"},0,0,{"$error":"#VALUE!"},0,{"$error":"#VALUE!"},{"$f":"12","v":12}]
[0,{"$error":"#VALUE!"},{"$error":"#VALUE!"},0,{"$error":"#VALUE!"},0,0,{"$error":"#VALUE!"},0,{"$error":"#VALUE!"},{"$f":"12","v":12}]
[0,{"$error":"#VALUE!"},{"$error":"#VALUE!"},0,{"$error":"#VALUE!"},0,0,{"$error":"#VALUE!"},0,{"$error":"#VALUE!"},{"$f":"12","v":12}]
[0,{"$error":"#VALUE!"},{"$error":"#VALUE!"},0,{"$error":"#VALUE!"},0,0,{"$error":"#VALUE!"},0,{"$error":"#VALUE!"},{"$f":"12","v":12}]
[0,{"$error":"#VALUE!"},{"$error":"#VALUE!"},0,{"$error":"#VALUE!"},0,0,{"$error":"#VALUE!"},0,{"$error":"#VALUE!"},{"$f":"12","v":12}]
[0,{"$error":"#VALUE!"},{"$error":"#VALUE!"},0,{"$error":"#VALUE!"},0,0,{"$error":"#VALUE!"},0,{"$error":"#VALUE!"},{"$f":"12","v":12}]
[0,{"$error":"#VALUE!"},{"$error":"#VALUE!"},0,{"$error":"#VALUE!"},0,0,{"$error":"#VALUE!"},0,{"$error":"#VALUE!"},{"$f":"12","v":12}]
[0,{"$error":"#VALUE!"},{"$error":"#VALUE!"},0,{"$error":"#VALUE!"},0,0,{"$error":"#VALUE!"},0,{"$error":"#VALUE!"},{"$f":"12","v":12}]
[0,{"$error":"#VALUE!"},{"$error":"#VALUE!"},0,{"$error":"#VALUE!"},0,0,{"$error":"#VALUE!"},0,{"$error":"#VALUE!"},{"$f":"12","v":12}]
[0,{"$error":"#VALUE!"},{"$error":"#VALUE!"},0,{"$error":"#VALUE!"},0,0,{"$error":"#VALUE!"},0,{"$error":"#VALUE!"},{"$f":"12","v":12}]
[0,{"$error":"#VALUE!"},{"$error":"#VALUE!"},0,{"$error":"#VALUE!"},0,0,{"$error":"#VALUE!"},0,{"$error":"#VALUE!"},{"$f":"12","v":12}]
[0,{"$error":"#VALUE!"},{"$error":"#VALUE!"},0,{"$error":"#VALUE!"},0,0,{"$error":"#VALUE!"},0,{"$error":"#VALUE!"},{"$f":"12","v":12}]
[0,{"$error":"#VALUE!"},{"$error":"#VALUE!"},0,{"$error":"#VALUE!"},0,0,{"$error":"#VALUE!"},0,{"$error":"#VALUE!"},{"$f":"12","v":12}]
[0,{"$error":"#VALUE!"},{"$error":"#VALUE!"},0,{"$error":"#VALUE!"},0,0,{"$error":"#VALUE!"},0,{"$error":"#VALUE!"},{"$f":"12","v":12}]
[0,{"$error":"#VALUE!"},{"$error":"#VALUE!"},0,{"$error":"#VALUE!"},0,0,{"$error":"#VALUE!"},0,{"$error":"#VALUE!"},{"$f":"12","v":12}]
[0,{"$error":"#VALUE!"},{"$error":"#VALUE!"},0,{"$error":"#VALUE!"},0,0,{"$error":"#VALUE!"},0,{"$error":"#VALUE!"},{"$f":"12","v":12}]
[0,{"$error":"#VALUE!"},{"$error":"#VALUE!"},0,{"$error":"#VALUE!"},0,0,{"$error":"#VALUE!"},0,{"$error":"#VALUE!"},{"$f":"12","v":12}]
[0,{"$error":"#VALUE!"},{"$error":"#VALUE!"},0,{"$error":"#VALUE!"},0,0,{"$error":"#VALUE!"},0,{"$error":"#VALUE!"},{"$f":"12","v":12}]
[0,{"$error":"#VALUE!"},{"$error":"#VALUE!"},0,{"$error":"#VALUE!"},0,0,{"$error":"#VALUE!"},0,{"$error":"#VALUE!"},{"$f":"12","v":12}]
[0,{"$error":"#VALUE!"},{"$error":"#VALUE!"},{"$f":"D204+D$44","v":0},{"$error":"#VALUE!"},0,0,{"$error":"#VALUE!"},0,{"$error":"#VALUE!"},{"$f":"12","v":12}]
[0,{"$error":"#VALUE!"},{"$error":"#VALUE!"},0,{"$error":"#VALUE!"},0,0,{"$error":"#VALUE!"},0,{"$error":"#VALUE!"},{"$f":"12","v":12}]
[0,{"$error":"#VALUE!"},{"$error":"#VALUE!"},0,{"$error":"#VALUE!"},0,0,{"$error":"#VALUE!"},0,{"$error":"#VALUE!"},{"$f":"12","v":12}]
[0,{"$error":"#VALUE!"},{"$error":"#VALUE!"},0,{"$error":"#VALUE!"},0,0,{"$error":"#VALUE!"},0,{"$error":"#VALUE!"},{"$f":"12","v":12}]
[0,{"$error":"#VALUE!"},{"$error":"#VALUE!"},0,{"$error":"#VALUE!"},0,0,{"$error":"#VALUE!"},0,{"$error":"#VALUE!"},{"$f":"12","v":12}]
[0,{"$error":"#VALUE!"},{"$error":"#VALUE!"},0,{"$error":"#VALUE!"},0,0,{"$error":"#VALUE!"},0,{"$error":"#VALUE!"},{"$f":"12","v":12}]
[0,{"$error":"#VALUE!"},{"$error":"#VALUE!"},0,{"$error":"#VALUE!"},0,0,{"$error":"#VALUE!"},0,{"$error":"#VALUE!"},{"$f":"12","v":12}]
[0,{"$error":"#VALUE!"},{"$error":"#VALUE!"},0,{"$error":"#VALUE!"},0,0,{"$error":"#VALUE!"},0,{"$error":"#VALUE!"},{"$f":"12","v":12}]
[0,{"$error":"#VALUE!"},{"$error":"#VALUE!"},0,{"$error":"#VALUE!"},0,0,{"$error":"#VALUE!"},0,{"$error":"#VALUE!"},{"$f":"12","v":12}]
[0,{"$error":"#VALUE!"},{"$error":"#VALUE!"},0,{"$error":"#VALUE!"},0,0,{"$error":"#VALUE!"},0,{"$error":"#VALUE!"},{"$f":"12","v":12}]
[0,{"$error":"#VALUE!"},{"$error":"#VALUE!"},0,{"$error":"#VALUE!"},0,0,{"$error":"#VALUE!"},0,{"$error":"#VALUE!"},{"$f":"12","v":12}]
[0,{"$error":"#VALUE!"},{"$error":"#VALUE!"},0,{"$error":"#VALUE!"},0,0,{"$error":"#VALUE!"},0,{"$error":"#VALUE!"},{"$f":"12","v":12}]
[0,{"$error":"#VALUE!"},{"$error":"#VALUE!"},0,{"$error":"#VALUE!"},0,0,{"$error":"#VALUE!"},0,{"$error":"#VALUE!"},{"$f":"12","v":12}]
[0,{"$error":"#VALUE!"},{"$error":"#VALUE!"},0,{"$error":"#VALUE!"},0,0,{"$error":"#VALUE!"},0,{"$error":"#VALUE!"},{"$f":"12","v":12}]
[0,{"$error":"#VALUE!"},{"$error":"#VALUE!"},0,{"$error":"#VALUE!"},0,0,{"$error":"#VALUE!"},0,{"$error":"#VALUE!"},{"$f":"12","v":12}]
[0,{"$error":"#VALUE!"},{"$error":"#VALUE!"},0,{"$error":"#VALUE!"},0,0,{"$error":"#VALUE!"},0,{"$error":"#VALUE!"},{"$f":"12","v":12}]
[0,{"$error":"#VALUE!"},{"$error":"#VALUE!"},0,{"$error":"#VALUE!"},0,0,{"$error":"#VALUE!"},0,{"$error":"#VALUE!"},{"$f":"12","v":12}]
[0,{"$error":"#VALUE!"},{"$error":"#VALUE!"},0,{"$error":"#VALUE!"},0,0,{"$error":"#VALUE!"},0,{"$error":"#VALUE!"},{"$f":"12","v":12}]
[0,{"$error":"#VALUE!"},{"$error":"#VALUE!"},0,{"$error":"#VALUE!"},0,0,{"$error":"#VALUE!"},0,{"$error":"#VALUE!"},{"$f":"12","v":12}]
[0,{"$error":"#VALUE!"},{"$error":"#VALUE!"},0,{"$error":"#VALUE!"},0,0,{"$error":"#VALUE!"},0,{"$error":"#VALUE!"},{"$f":"12","v":12}]
[0,{"$error":"#VALUE!"},{"$error":"#VALUE!"},0,{"$error":"#VALUE!"},0,0,{"$error":"#VALUE!"},0,{"$error":"#VALUE!"},{"$f":"12","v":12}]
[0,{"$error":"#VALUE!"},{"$error":"#VALUE!"},0,{"$error":"#VALUE!"},0,0,{"$error":"#VALUE!"},0,{"$error":"#VALUE!"},{"$f":"12","v":12}]
[0,{"$error":"#VALUE!"},{"$error":"#VALUE!"},0,{"$error":"#VALUE!"},0,0,{"$error":"#VALUE!"},0,{"$error":"#VALUE!"},{"$f":"12","v":12}]
[0,{"$error":"#VALUE!"},{"$error":"#VALUE!"},0,{"$error":"#VALUE!"},0,0,{"$error":"#VALUE!"},0,{"$error":"#VALUE!"},{"$f":"12","v":12}]
[0,{"$error":"#VALUE!"},{"$error":"#VALUE!"},0,{"$error":"#VALUE!"},0,0,{"$error":"#VALUE!"},0,{"$error":"#VALUE!"},{"$f":"12","v":12}]
[0,{"$error":"#VALUE!"},{"$error":"#VALUE!"},0,{"$error":"#VALUE!"},0,0,{"$error":"#VALUE!"},0,{"$error":"#VALUE!"},{"$f":"12","v":12}]
[0,{"$error":"#VALUE!"},{"$error":"#VALUE!"},0,{"$error":"#VALUE!"},0,0,{"$error":"#VALUE!"},0,{"$error":"#VALUE!"},{"$f":"12","v":12}]
[0,{"$error":"#VALUE!"},{"$error":"#VALUE!"},0,{"$error":"#VALUE!"},0,0,{"$error":"#VALUE!"},0,{"$error":"#VALUE!"},{"$f":"12","v":12}]
[0,{"$error":"#VALUE!"},{"$error":"#VALUE!"},0,{"$error":"#VALUE!"},0,0,{"$error":"#VALUE!"},0,{"$error":"#VALUE!"},{"$f":"12","v":12}]
[0,{"$error":"#VALUE!"},{"$error":"#VALUE!"},0,{"$error":"#VALUE!"},0,0,{"$error":"#VALUE!"},0,{"$error":"#VALUE!"},{"$f":"12","v":12}]
[{"$f":"MIN(D235,AB$17)","v":0},{"$error":"#VALUE!"},{"$f":"IF(AB$17<=E235,E235,IF(AB$17>E235,MIN(E235,AB$17)))","v":{"$error":"#VALUE!"}},0,{"$error":"#VALUE!"},0,0,{"$error":"#VALUE!"},0,{"$error":"#VALUE!"},{"$f":"12","v":12}]
[0,{"$f":"-LOG(J236)","v":{"$error":"#VALUE!"}},{"$error":"#VALUE!"},0,{"$f":"-LOG(J236)","v":{"$error":"#VALUE!"}},{"$f":"D$9*B$9-F$9*A236","v":0},{"$f":"F236^2","v":0},{"$f":"4*(10^-(D$12))*(B$9+A236)^2","v":{"$error":"#VALUE!"}},{"$f":"2*(B$9+A236)","v":0},{"$f":"((F236)+(SQRT(G236+H236)))/I236","v":{"$error":"#VALUE!"}},{"$f":"12","v":12}]
[0,{"$error":"#VALUE!"},{"$error":"#VALUE!"},{"$f":"D236+D$44","v":0},{"$error":"#VALUE!"},0,0,{"$error":"#VALUE!"},0,{"$error":"#VALUE!"},{"$f":"12","v":12}]
[0,{"$error":"#VALUE!"},{"$error":"#VALUE!"},0,{"$error":"#VALUE!"},0,0,{"$error":"#VALUE!"},0,{"$error":"#VALUE!"},{"$f":"12","v":12}]
[0,{"$error":"#VALUE!"},{"$error":"#VALUE!"},0,{"$error":"#VALUE!"},0,0,{"$error":"#VALUE!"},0,{"$error":"#VALUE!"},{"$f":"12","v":12}]
[0,{"$error":"#VALUE!"},{"$error":"#VALUE!"},0,{"$error":"#VALUE!"},0,0,{"$error":"#VALUE!"},0,{"$error":"#VALUE!"},{"$f":"12","v":12}]
[0,{"$error":"#VALUE!"},{"$error":"#VALUE!"},0,{"$error":"#VALUE!"},0,0,{"$error":"#VALUE!"},0,{"$error":"#VALUE!"},{"$f":"12","v":12}]
[0,{"$error":"#VALUE!"},{"$error":"#VALUE!"},0,{"$error":"#VALUE!"},0,0,{"$error":"#VALUE!"},0,{"$error":"#VALUE!"},{"$f":"12","v":12}]
[0,{"$error":"#VALUE!"},{"$error":"#VALUE!"},0,{"$error":"#VALUE!"},0,0,{"$error":"#VALUE!"},0,{"$error":"#VALUE!"},{"$f":"12","v":12}]

{"sheet":"POINTEQUIVALENCE","index":2,"n_rows":243,"n_cols":14,"rows_kept":243,"cut":false,"hidden":false,"merged":[[49,12,49,13],[24,5,24,9],[7,1,7,3],[41,12,41,13],[44,12,44,13],[19,1,19,3],[36,9,36,10],[36,11,36,12],[20,1,20,3],[15,1,15,3],[18,1,18,3]]}
[]
[]
[]
[]
[]
[null,null,1,null,null,null,null,null,null,null,null,null,null,"innovsciences"]
[]
[null,"Méthodes de titrage"]
[]
[]
[null,null,{"$f":"IF(AND(C$6=1,N$8=0),\"\",IF(AND(C$6=1,N$8=1),\"\",IF(AND(C$6=1,N$8=2),\"\",IF(AND(C$6=1,N$8=3),\"\",IF(AND(C$6=1,N$8=4),\"La concentration molaire de la solution acide titrée\",IF(C$6=2,\"\",IF(C$6=3,\"\",IF(C$6=0,\"\"))))))))","v":""}]
[null,{"$f":"IF(AND(C$6=1,N$8=0),\"\",IF(AND(C$6=1,N$8=1),\"\",IF(AND(C$6=1,N$8=2),\"\",IF(AND(C$6=1,N$8=3),\"\",IF(AND(C$6=1,N$8=4),\"Cacide   = \",IF(C$6=2,\"\",IF(C$6=3,\"\",IF(C$6=0,\"\"))))))))","v":""},{"$f":"IF(AND(C$6=1,N$8=0),\"\",IF(AND(C$6=1,N$8=1),\"\",IF(AND(C$6=1,N$8=2),\"\",IF(AND(C$6=1,N$8=3),\"\",IF(AND(C$6=1,N$8=4),INTERFACE!D$9,IF(C$6=2,\"\",IF(C$6=3,\"\",IF(C$6=0,\"\"))))))))","v":""},{"$f":"IF(AND(C$6=1,N$8=0),\"\",IF(AND(C$6=1,N$8=1),\"\",IF(AND(C$6=1,N$8=2),\"\",IF(AND(C$6=1,N$8=3),\"\",IF(AND(C$6=1,N$8=4),\"mol/L \",IF(C$6=2,\"\",IF(C$6=3,\"\",IF(C$6=0,\"\"))))))))","v":""}]
[]
[]
[null,null,0]
[null,"Choisir l'indicateur coloré"]
[]
[]
[null,{"$f":"IF(C$6=1,\"\",IF(C$6=2,\"\",IF(C$15=0,\"\",IF(C$15=1,\" Bleu de bromothymol BBT\",IF(C$15=2,\"Phénolphtaleine\",IF(C$15=3,\"Rouge de crésol\"))))))","v":""}]
[null,{"$f":"IF(C$6=1,\"\",IF(C$6=2,\"\",IF(C$15=0,\"\",IF(C$15=1,\"Zone de virage  6,0   → 7,6     pKa = 7,1\",IF(C$15=2,\"Zone de virage  8,2   →  10,0     pKa = 9,4\",IF(C$15=3,\"Zone de virage  7,2   →  8,8     pKa = 8,5\"))))))","v":""}]
[null,{"$f":"IF(C$15=0,\"\",IF(C$6=1,\"\",IF(C$6=2,\"\",IF(C$15=1,\"L'indicateur coloré approprié\",IF(C$15=2,\"Indicateur coloré non approprié\",IF(C$15=3,\"Indicateur coloré non approprié\"))))))","v":""}]
[]
[]
[]
[null,null,null,null,null,{"$f":"IF(INTERFACE!C$4=1,INTERFACE!AC4,IF(INTERFACE!C$4=2,INTERFACE!AC5,IF(INTERFACE!C$4=3,INTERFACE!AC6,IF(INTERFACE!C$4=4,INTERFACE!AC7))))","v":false},null,null,null,null,"pKa =",{"$f":"IF(INTERFACE!C$4=1,INTERFACE!AF$4,IF(INTERFACE!C$4=2,INTERFACE!AF$5,IF(INTERFACE!C$4=3,INTERFACE!AF$6,IF(INTERFACE!C$4=4,INTERFACE!AF$7))))","v":false}]
[]
[]
[]
[]
[]
[]
[]
[]
[]
[]
[]
["point T1",null,null,"point T2",null,null,"Vbe","pHeq",null,null,null,"point d'équivalence (indica)"]
[{"$f":"INTERFACE!AD$47","v":0},null,null,{"$f":"INTERFACE!AD$55","v":0},null,null,{"$f":"INTERFACE!AA$11","v":0},{"$f":"+INTERFACE!AG$35","v":{"$error":"#VALUE!"}},null,null,null,{"$f":"IF(AND(C$6=1,N$8=1),\"\",IF(AND(C$6=1,N$8=2),\"\",IF(AND(C$6=1,N$8=3),\"\",IF(AND(C$6=1,N$8=4),G$38,IF(C$6=2,G$38,IF(C$6=3,G$38))))))","v":false},{"$f":"IF(AND(C$6=1,N$8=1),\"\",IF(AND(C$6=1,N$8=2),\"\",IF(AND(C$6=1,N$8=3),\"\",IF(AND(C$6=1,N$8=4),0,IF(C$6=2,0,IF(C$6=3,0))))))","v":false}]
["pHT1","dpHT1/dVb",null,"pHT2","dpHT2/dVb",null,null,null,null,null,null,{"$f":"IF(AND(C$6=1,N$8=1),\"\",IF(AND(C$6=1,N$8=2),\"\",IF(AND(C$6=1,N$8=3),\"\",IF(AND(C$6=1,N$8=4),G$38,IF(C$6=2,G$38,IF(C$6=3,G$38))))))","v":false},{"$f":"IF(AND(C$6=1,N$8=1),\"\",IF(AND(C$6=1,N$8=2),\"\",IF(AND(C$6=1,N$8=3),\"\",IF(AND(C$6=1,N$8=4),H$38,IF(C$6=2,H$38,IF(C$6=3,H$38))))))","v":false}]
[{"$f":"INTERFACE!AG$52","v":{"$error":"#DIV/0!"}},{"$f":"(B159-B161)/(A159-A161)","v":{"$error":"#VALUE!"}},null,{"$f":"INTERFACE!AG$60","v":{"$error":"#DIV/0!"}},{"$f":"(B127-B125)/(A127-A125)","v":{"$error":"#VALUE!"}},null,null,null,null,null,null,{"$f":"IF(AND(C$6=1,N$8=1),\"\",IF(AND(C$6=1,N$8=2),\"\",IF(AND(C$6=1,N$8=3),\"\",IF(AND(C$6=1,N$8=4),0,IF(C$6=2,0,IF(C$6=3,0))))))","v":false},{"$f":"IF(AND(C$6=1,N$8=1),\"\",IF(AND(C$6=1,N$8=2),\"\",IF(AND(C$6=1,N$8=3),\"\",IF(AND(C$6=1,N$8=4),H$38,IF(C$6=2,H$38,IF(C$6=3,H$38))))))","v":false}]
[]
["Vb(mL)","pH","dpH/dVb",null,"Vb(tangT1)","T1","Vb(tangT2)","T2",null,"Vb(médi)","médiatrice",null,"perpendiculaire"]
[{"$f":"INTERFACE!A43","v":0},{"$f":"INTERFACE!B43","v":{"$error":"#VALUE!"}},null,{"$f":"IF(A43<>11*INTERFACE!AA$11/10,\"\",IF(A43=11*INTERFACE!AA$11/10,11*INTERFACE!AA$11/10))","v":0},{"$f":"INTERFACE!AA$11/2","v":0},{"$f":"IF(AND(N$8=1,C$6=1),A$40+E$40*(E43-A$38),IF(AND(N$8=2,C$6=1),A$40+E$40*(E43-A$38),IF(AND(N$8=3,C$6=1),A$40+E$40*(E43-A$38),IF(AND(N$8=4,C$6=1),A$40+E$40*(E43-A$38)))))","v":false},{"$f":"INTERFACE!AA$11/2","v":0},{"$f":"IF(AND(N$8=1,C$6=1),\"\",IF(AND(N$8=2,C$6=1),D$40+B$40*(G43-D$38),IF(AND(N$8=3,C$6=1),D$40+B$40*(G43-D$38),IF(AND(N$8=4,C$6=1),D$40+B$40*(G43-D$38)))))","v":false},null,{"$f":"INTERFACE!AA$11/2","v":0},{"$f":"IF(AND(N$8=1,C$6=1),\"\",IF(AND(N$8=2,C$6=1),\"\",IF(AND(N$8=3,C$6=1),\"\",IF(AND(N$8=4,C$6=1),E$40*(E43-G$38)+H$38))))","v":false},null,{"$f":"D$38","v":0},{"$f":"IF(AND(N$8=1,C$6=1),\"\",IF(AND(N$8=2,C$6=1),\"\",IF(AND(N$8=3,C$6=1),D$40+E$40*(M$43-D$38),IF(AND(N$8=4,C$6=1),D$40+E$40*(M$43-D$38)))))","v":false}]
[{"$f":"INTERFACE!A44","v":0},{"$f":"INTERFACE!B44","v":{"$error":"#VALUE!"}},{"$f":"IF(C$6=1,\"\",IF(C$6=2,(B45-B43)/(A45-A43),IF(C$6=3,\"\")))","v":""},{"$f":"IF(A44<>11*INTERFACE!AA$11/10,\"\",IF(A44=11*INTERFACE!AA$11/10,11*INTERFACE!AA$11/10))","v":0},{"$f":"0.01*E$43+E43","v":0},{"$f":"IF(AND(N$8=1,C$6=1),A$40+E$40*(E44-A$38),IF(AND(N$8=2,C$6=1),A$40+E$40*(E44-A$38),IF(AND(N$8=3,C$6=1),A$40+E$40*(E44-A$38),IF(AND(N$8=4,C$6=1),A$40+E$40*(E44-A$38)))))","v":false},{"$f":"0.01*G$43+G43","v":0},{"$f":"IF(AND(N$8=1,C$6=1),\"\",IF(AND(N$8=2,C$6=1),D$40+B$40*(G44-D$38),IF(AND(N$8=3,C$6=1),D$40+B$40*(G44-D$38),IF(AND(N$8=4,C$6=1),D$40+B$40*(G44-D$38)))))","v":false},null,{"$f":"0.01*J$43+J43","v":0},{"$f":"IF(AND(N$8=1,C$6=1),\"\",IF(AND(N$8=2,C$6=1),\"\",IF(AND(N$8=3,C$6=1),\"\",IF(AND(N$8=4,C$6=1),E$40*(E44-G$38)+H$38))))","v":false},null,{"$f":"(7.275/10)*INTERFACE!AA$11","v":0},{"$f":"IF(AND(N$8=1,C$6=1),\"\",IF(AND(N$8=2,C$6=1),\"\",IF(AND(N$8=3,C$6=1),A$40+E$40*(M$44-A$38),IF(AND(N$8=4,C$6=1),A$40+E$40*(M$44-A$38)))))","v":false}]
[{"$f":"INTERFACE!A45","v":0},{"$f":"INTERFACE!B45","v":{"$error":"#VALUE!"}},{"$f":"IF(C$6=1,\"\",IF(C$6=2,(B46-B44)/(A46-A44),IF(C$6=3,\"\")))","v":""},{"$f":"IF(A45<>11*INTERFACE!AA$11/10,\"\",IF(A45=11*INTERFACE!AA$11/10,11*INTERFACE!AA$11/10))","v":0},{"$f":"0.01*E$43+E44","v":0},false,{"$f":"0.01*G$43+G44","v":0},false,null,{"$f":"0.01*J$43+J44","v":0},false]
[{"$f":"INTERFACE!A46","v":0},{"$f":"INTERFACE!B46","v":{"$error":"#VALUE!"}},"",{"$f":"IF(A46<>11*INTERFACE!AA$11/10,\"\",IF(A46=11*INTERFACE!AA$11/10,11*INTERFACE!AA$11/10))","v":0},0,false,0,false,null,0,false]
[{"$f":"INTERFACE!A47","v":0},{"$f":"INTERFACE!B47","v":{"$error":"#VALUE!"}},"",{"$f":"IF(A47<>11*INTERFACE!AA$11/10,\"\",IF(A47=11*INTERFACE!AA$11/10,11*INTERFACE!AA$11/10))","v":0},0,false,0,false,null,0,false,null,"méthode des tangentes"]
[{"$f":"INTERFACE!A48","v":0},{"$f":"INTERFACE!B48","v":{"$error":"#VALUE!"}},"",{"$f":"IF(A48<>11*INTERFACE!AA$11/10,\"\",IF(A48=11*INTERFACE!AA$11/10,11*INTERFACE!AA$11/10))","v":0},0,false,0,false,null,0,false,null,"méthode de la dérivée"]
[{"$f":"INTERFACE!A49","v":0},{"$f":"INTERFACE!B49","v":{"$error":"#VALUE!"}},"",{"$f":"IF(A49<>11*INTERFACE!AA$11/10,\"\",IF(A49=11*INTERFACE!AA$11/10,11*INTERFACE!AA$11/10))","v":0},0,false,0,false,null,0,false,null,"titrage colorimétrique"]
[{"$f":"INTERFACE!A50","v":0},{"$f":"INTERFACE!B50","v":{"$error":"#VALUE!"}},"",{"$f":"IF(A50<>11*INTERFACE!AA$11/10,\"\",IF(A50=11*INTERFACE!AA$11/10,11*INTERFACE!AA$11/10))","v":0},0,false,0,false,null,0,false]
[{"$f":"INTERFACE!A51","v":0},{"$f":"INTERFACE!B51","v":{"$error":"#VALUE!"}},"",{"$f":"IF(A51<>11*INTERFACE!AA$11/10,\"\",IF(A51=11*INTERFACE!AA$11/10,11*INTERFACE!AA$11/10))","v":0},0,false,0,false,null,0,false]
[{"$f":"INTERFACE!A52","v":0},{"$f":"INTERFACE!B52","v":{"$error":"#VALUE!"}},"",{"$f":"IF(A52<>11*INTERFACE!AA$11/10,\"\",IF(A52=11*INTERFACE!AA$11/10,11*INTERFACE!AA$11/10))","v":0},0,false,0,false,null,0,false]
[{"$f":"INTERFACE!A53","v":0},{"$f":"INTERFACE!B53","v":{"$error":"#VALUE!"}},"",{"$f":"IF(A53<>11*INTERFACE!AA$11/10,\"\",IF(A53=11*INTERFACE!AA$11/10,11*INTERFACE!AA$11/10))","v":0},0,false,0,false,null,0,false]
[{"$f":"INTERFACE!A54","v":0},{"$f":"INTERFACE!B54","v":{"$error":"#VALUE!"}},"",{"$f":"IF(A54<>11*INTERFACE!AA$11/10,\"\",IF(A54=11*INTERFACE!AA$11/10,11*INTERFACE!AA$11/10))","v":0},0,false,0,false,null,0,false]
[{"$f":"INTERFACE!A55","v":0},{"$f":"INTERFACE!B55","v":{"$error":"#VALUE!"}},"",{"$f":"IF(A55<>11*INTERFACE!AA$11/10,\"\",IF(A55=11*INTERFACE!AA$11/10,11*INTERFACE!AA$11/10))","v":0},0,false,0,false,null,0,false]
[{"$f":"INTERFACE!A56","v":0},{"$f":"INTERFACE!B56","v":{"$error":"#VALUE!"}},"",{"$f":"IF(A56<>11*INTERFACE!AA$11/10,\"\",IF(A56=11*INTERFACE!AA$11/10,11*INTERFACE!AA$11/10))","v":0},0,false,0,false,null,0,false]
[{"$f":"INTERFACE!A57","v":0},{"$f":"INTERFACE!B57","v":{"$error":"#VALUE!"}},"",{"$f":"IF(A57<>11*INTERFACE!AA$11/10,\"\",IF(A57=11*INTERFACE!AA$11/10,11*INTERFACE!AA$11/10))","v":0},0,false,0,false,null,0,false]
[{"$f":"INTERFACE!A58","v":0},{"$f":"INTERFACE!B58","v":{"$error":"#VALUE!"}},"",{"$f":"IF(A58<>11*INTERFACE!AA$11/10,\"\",IF(A58=11*INTERFACE!AA$11/10,11*INTERFACE!AA$11/10))","v":0},0,false,0,false,null,0,false]
[{"$f":"INTERFACE!A59","v":0},{"$f":"INTERFACE!B59","v":{"$error":"#VALUE!"}},"",{"$f":"IF(A59<>11*INTERFACE!AA$11/10,\"\",IF(A59=11*INTERFACE!AA$11/10,11*INTERFACE!AA$11/10))","v":0},0,false,0,false,null,0,false]
[{"$f":"INTERFACE!A60","v":0},{"$f":"INTERFACE!B60","v":{"$error":"#VALUE!"}},"",{"$f":"IF(A60<>11*INTERFACE!AA$11/10,\"\",IF(A60=11*INTERFACE!AA$11/10,11*INTERFACE!AA$11/10))","v":0},0,false,0,false,null,0,false]
[{"$f":"INTERFACE!A61","v":0},{"$f":"INTERFACE!B61","v":{"$error":"#VALUE!"}},"",{"$f":"IF(A61<>11*INTERFACE!AA$11/10,\"\",IF(A61=11*INTERFACE!AA$11/10,11*INTERFACE!AA$11/10))","v":0},0,false,0,false,null,0,false]
[{"$f":"INTERFACE!A62","v":0},{"$f":"INTERFACE!B62","v":{"$error":"#VALUE!"}},"",{"$f":"IF(A62<>11*INTERFACE!AA$11/10,\"\",IF(A62=11*INTERFACE!AA$11/10,11*INTERFACE!AA$11/10))","v":0},0,false,0,false,null,0,false]
[{"$f":"INTERFACE!A63","v":0},{"$f":"INTERFACE!B63","v":{"$error":"#VALUE!"}},"",{"$f":"IF(A63<>11*INTERFACE!AA$11/10,\"\",IF(A63=11*INTERFACE!AA$11/10,11*INTERFACE!AA$11/10))","v":0},0,false,0,false,null,0,false]
[{"$f":"INTERFACE!A64","v":0},{"$f":"INTERFACE!B64","v":{"$error":"#VALUE!"}},"",{"$f":"IF(A64<>11*INTERFACE!AA$11/10,\"\",IF(A64=11*INTERFACE!AA$11/10,11*INTERFACE!AA$11/10))","v":0},0,false,0,false,null,0,false]
[{"$f":"INTERFACE!A65","v":0},{"$f":"INTERFACE!B65","v":{"$error":"#VALUE!"}},"",{"$f":"IF(A65<>11*INTERFACE!AA$11/10,\"\",IF(A65=11*INTERFACE!AA$11/10,11*INTERFACE!AA$11/10))","v":0},0,false,0,false,null,0,false]
[{"$f":"INTERFACE!A66","v":0},{"$f":"INTERFACE!B66","v":{"$error":"#VALUE!"}},"",{"$f":"IF(A66<>11*INTERFACE!AA$11/10,\"\",IF(A66=11*INTERFACE!AA$11/10,11*INTERFACE!AA$11/10))","v":0},0,false,0,false,null,0,false]
[{"$f":"INTERFACE!A67","v":0},{"$f":"INTERFACE!B67","v":{"$error":"#VALUE!"}},"",{"$f":"IF(A67<>11*INTERFACE!AA$11/10,\"\",IF(A67=11*INTERFACE!AA$11/10,11*INTERFACE!AA$11/10))","v":0},0,false,0,false,null,0,false]
[{"$f":"INTERFACE!A68","v":0},{"$f":"INTERFACE!B68","v":{"$error":"#VALUE!"}},"",{"$f":"IF(A68<>11*INTERFACE!AA$11/10,\"\",IF(A68=11*INTERFACE!AA$11/10,11*INTERFACE!AA$11/10))","v":0},0,false,0,false,null,0,false]
[{"$f":"INTERFACE!A69","v":0},{"$f":"INTERFACE!B69","v":{"$error":"#VALUE!"}},"",{"$f":"IF(A69<>11*INTERFACE!AA$11/10,\"\",IF(A69=11*INTERFACE!AA$11/10,11*INTERFACE!AA$11/10))","v":0},0,false,0,false,null,0,false]
[{"$f":"INTERFACE!A70","v":0},{"$f":"INTERFACE!B70","v":{"$error":"#VALUE!"}},"",{"$f":"IF(A70<>11*INTERFACE!AA$11/10,\"\",IF(A70=11*INTERFACE!AA$11/10,11*INTERFACE!AA$11/10))","v":0},0,false,0,false,null,0,false]
[{"$f":"INTERFACE!A71","v":0},{"$f":"INTERFACE!B71","v":{"$error":"#VALUE!"}},"",{"$f":"IF(A71<>11*INTERFACE!AA$11/10,\"\",IF(A71=11*INTERFACE!AA$11/10,11*INTERFACE!AA$11/10))","v":0},0,false,0,false,null,0,false]
[{"$f":"INTERFACE!A72","v":0},{"$f":"INTERFACE!B72","v":{"$error":"#VALUE!"}},"",{"$f":"IF(A72<>11*INTERFACE!AA$11/10,\"\",IF(A72=11*INTERFACE!AA$11/10,11*INTERFACE!AA$11/10))","v":0},0,false,0,false,null,0,false]
[{"$f":"INTERFACE!A73","v":0},{"$f":"INTERFACE!B73","v":{"$error":"#VALUE!"}},"",{"$f":"IF(A73<>11*INTERFACE!AA$11/10,\"\",IF(A73=11*INTERFACE!AA$11/10,11*INTERFACE!AA$11/10))","v":0},0,false,0,false,null,0,false]
[{"$f":"INTERFACE!A74","v":0},{"$f":"INTERFACE!B74","v":{"$error":"#VALUE!"}},"",{"$f":"IF(A74<>11*INTERFACE!AA$11/10,\"\",IF(A74=11*INTERFACE!AA$11/10,11*INTERFACE!AA$11/10))","v":0},0,false,0,false,null,0,false]
[{"$f":"INTERFACE!A75","v":0},{"$f":"INTERFACE!B75","v":{"$error":"#VALUE!"}},"",{"$f":"IF(A75<>11*INTERFACE!AA$11/10,\"\",IF(A75=11*INTERFACE!AA$11/10,11*INTERFACE!AA$11/10))","v":0},0,false,0,false,null,0,false]
[{"$f":"INTERFACE!A76","v":0},{"$f":"INTERFACE!B76","v":{"$error":"#VALUE!"}},"",{"$f":"IF(A76<>11*INTERFACE!AA$11/10,\"\",IF(A76=11*INTERFACE!AA$11/10,11*INTERFACE!AA$11/10))","v":0},0,false,0,false,null,0,false]
[{"$f":"INTERFACE!A77","v":0},{"$f":"INTERFACE!B77","v":{"$error":"#VALUE!"}},"",{"$f":"IF(A77<>11*INTERFACE!AA$11/10,\"\",IF(A77=11*INTERFACE!AA$11/10,11*INTERFACE!AA$11/10))","v":0},0,false,0,false,null,0,false]
[{"$f":"INTERFACE!A78","v":0},{"$f":"INTERFACE!B78","v":{"$error":"#VALUE!"}},"",{"$f":"IF(A78<>11*INTERFACE!AA$11/10,\"\",IF(A78=11*INTERFACE!AA$11/10,11*INTERFACE!AA$11/10))","v":0},0,false,0,false,null,0,false]
[{"$f":"INTERFACE!A79","v":0},{"$f":"INTERFACE!B79","v":{"$error":"#VALUE!"}},"",{"$f":"IF(A79<>11*INTERFACE!AA$11/10,\"\",IF(A79=11*INTERFACE!AA$11/10,11*INTERFACE!AA$11/10))","v":0},0,false,0,false,null,0,false]
[{"$f":"INTERFACE!A80","v":0},{"$f":"INTERFACE!B80","v":{"$error":"#VALUE!"}},"",{"$f":"IF(A80<>11*INTERFACE!AA$11/10,\"\",IF(A80=11*INTERFACE!AA$11/10,11*INTERFACE!AA$11/10))","v":0},0,false,0,false,null,0,false]
[{"$f":"INTERFACE!A81","v":0},{"$f":"INTERFACE!B81","v":{"$error":"#VALUE!"}},"",{"$f":"IF(A81<>11*INTERFACE!AA$11/10,\"\",IF(A81=11*INTERFACE!AA$11/10,11*INTERFACE!AA$11/10))","v":0},0,false,0,false,null,0,false]
[{"$f":"INTERFACE!A82","v":0},{"$f":"INTERFACE!B82","v":{"$error":"#VALUE!"}},"",{"$f":"IF(A82<>11*INTERFACE!AA$11/10,\"\",IF(A82=11*INTERFACE!AA$11/10,11*INTERFACE!AA$11/10))","v":0},0,false,0,false,null,0,false]
[{"$f":"INTERFACE!A83","v":0},{"$f":"INTERFACE!B83","v":{"$error":"#VALUE!"}},"",{"$f":"IF(A83<>11*INTERFACE!AA$11/10,\"\",IF(A83=11*INTERFACE!AA$11/10,11*INTERFACE!AA$11/10))","v":0},0,false,0,false,null,0,false]
[{"$f":"INTERFACE!A84","v":0},{"$f":"INTERFACE!B84","v":{"$error":"#VALUE!"}},"",{"$f":"IF(A84<>11*INTERFACE!AA$11/10,\"\",IF(A84=11*INTERFACE!AA$11/10,11*INTERFACE!AA$11/10))","v":0},0,false,0,false,null,0,false]
[{"$f":"INTERFACE!A85","v":0},{"$f":"INTERFACE!B85","v":{"$error":"#VALUE!"}},"",{"$f":"IF(A85<>11*INTERFACE!AA$11/10,\"\",IF(A85=11*INTERFACE!AA$11/10,11*INTERFACE!AA$11/10))","v":0},0,false,0,false,null,0,false]
[{"$f":"INTERFACE!A86","v":0},{"$f":"INTERFACE!B86","v":{"$error":"#VALUE!"}},"",{"$f":"IF(A86<>11*INTERFACE!AA$11/10,\"\",IF(A86=11*INTERFACE!AA$11/10,11*INTERFACE!AA$11/10))","v":0},0,false,0,false,null,0,false]
[{"$f":"INTERFACE!A87","v":0},{"$f":"INTERFACE!B87","v":{"$error":"#VALUE!"}},"",{"$f":"IF(A87<>11*INTERFACE!AA$11/10,\"\",IF(A87=11*INTERFACE!AA$11/10,11*INTERFACE!AA$11/10))","v":0},0,false,0,false,null,0,false]
[{"$f":"INTERFACE!A88","v":0},{"$f":"INTERFACE!B88","v":{"$error":"#VALUE!"}},"",{"$f":"IF(A88<>11*INTERFACE!AA$11/10,\"\",IF(A88=11*INTERFACE!AA$11/10,11*INTERFACE!AA$11/10))","v":0},0,false,0,false,null,0,false]
[{"$f":"INTERFACE!A89","v":0},{"$f":"INTERFACE!B89","v":{"$error":"#VALUE!"}},"",{"$f":"IF(A89<>11*INTERFACE!AA$11/10,\"\",IF(A89=11*INTERFACE!AA$11/10,11*INTERFACE!AA$11/10))","v":0},0,false,0,false,null,0,false]
[{"$f":"INTERFACE!A90","v":0},{"$f":"INTERFACE!B90","v":{"$error":"#VALUE!"}},"",{"$f":"IF(A90<>11*INTERFACE!AA$11/10,\"\",IF(A90=11*INTERFACE!AA$11/10,11*INTERFACE!AA$11/10))","v":0},0,false,0,false,null,0,false]
[{"$f":"INTERFACE!A91","v":0},{"$f":"INTERFACE!B91","v":{"$error":"#VALUE!"}},"",{"$f":"IF(A91<>11*INTERFACE!AA$11/10,\"\",IF(A91=11*INTERFACE!AA$11/10,11*INTERFACE!AA$11/10))","v":0},0,false,0,false,null,0,false]
[{"$f":"INTERFACE!A92","v":0},{"$f":"INTERFACE!B92","v":{"$error":"#VALUE!"}},"",{"$f":"IF(A92<>11*INTERFACE!AA$11/10,\"\",IF(A92=11*INTERFACE!AA$11/10,11*INTERFACE!AA$11/10))","v":0},0,false,0,false,null,0,false]
[{"$f":"INTERFACE!A93","v":0},{"$f":"INTERFACE!B93","v":{"$error":"#VALUE!"}},"",{"$f":"IF(A93<>11*INTERFACE!AA$11/10,\"\",IF(A93=11*INTERFACE!AA$11/10,11*INTERFACE!AA$11/10))","v":0},0,false,0,false,null,0,false]
[{"$f":"INTERFACE!A94","v":0},{"$f":"INTERFACE!B94","v":{"$error":"#VALUE!"}},"",{"$f":"IF(A94<>11*INTERFACE!AA$11/10,\"\",IF(A94=11*INTERFACE!AA$11/10,11*INTERFACE!AA$11/10))","v":0},0,false,0,false,null,0,false]
[{"$f":"INTERFACE!A95","v":0},{"$f":"INTERFACE!B95","v":{"$error":"#VALUE!"}},"",{"$f":"IF(A95<>11*INTERFACE!AA$11/10,\"\",IF(A95=11*INTERFACE!AA$11/10,11*INTERFACE!AA$11/10))","v":0},0,false,0,false,null,0,false]
[{"$f":"INTERFACE!A96","v":0},{"$f":"INTERFACE!B96","v":{"$error":"#VALUE!"}},"",{"$f":"IF(A96<>11*INTERFACE!AA$11/10,\"\",IF(A96=11*INTERFACE!AA$11/10,11*INTERFACE!AA$11/10))","v":0},0,false,0,false,null,0,false]
[{"$f":"INTERFACE!A97","v":0},{"$f":"INTERFACE!B97","v":{"$error":"#VALUE!"}},"",{"$f":"IF(A97<>11*INTERFACE!AA$11/10,\"\",IF(A97=11*INTERFACE!AA$11/10,11*INTERFACE!AA$11/10))","v":0},0,false,0,false,null,0,false]
[{"$f":"INTERFACE!A98","v":0},{"$f":"INTERFACE!B98","v":{"$error":"#VALUE!"}},"",{"$f":"IF(A98<>11*INTERFACE!AA$11/10,\"\",IF(A98=11*INTERFACE!AA$11/10,11*INTERFACE!AA$11/10))","v":0},0,false,0,false,null,0,false]
[{"$f":"INTERFACE!A99","v":0},{"$f":"INTERFACE!B99","v":{"$error":"#VALUE!"}},"",{"$f":"IF(A99<>11*INTERFACE!AA$11/10,\"\",IF(A99=11*INTERFACE!AA$11/10,11*INTERFACE!AA$11/10))","v":0},0,false,0,false,null,0,false]
[{"$f":"INTERFACE!A100","v":0},{"$f":"INTERFACE!B100","v":{"$error":"#VALUE!"}},"",{"$f":"IF(A100<>11*INTERFACE!AA$11/10,\"\",IF(A100=11*INTERFACE!AA$11/10,11*INTERFACE!AA$11/10))","v":0},0,false,0,false,null,0,false]
[{"$f":"INTERFACE!A101","v":0},{"$f":"INTERFACE!B101","v":{"$error":"#VALUE!"}},"",{"$f":"IF(A101<>11*INTERFACE!AA$11/10,\"\",IF(A101=11*INTERFACE!AA$11/10,11*INTERFACE!AA$11/10))","v":0},0,false,0,false,null,0,false]
[{"$f":"INTERFACE!A102","v":0},{"$f":"INTERFACE!B102","v":{"$error":"#VALUE!"}},"",{"$f":"IF(A102<>11*INTERFACE!AA$11/10,\"\",IF(A102=11*INTERFACE!AA$11/10,11*INTERFACE!AA$11/10))","v":0},0,false,0,false,null,0,false]
[{"$f":"INTERFACE!A103","v":0},{"$f":"INTERFACE!B103","v":{"$error":"#VALUE!"}},"",{"$f":"IF(A103<>11*INTERFACE!AA$11/10,\"\",IF(A103=11*INTERFACE!AA$11/10,11*INTERFACE!AA$11/10))","v":0},0,false,0,false,null,0,false]
[{"$f":"INTERFACE!A104","v":0},{"$f":"INTERFACE!B104","v":{"$error":"#VALUE!"}},"",{"$f":"IF(A104<>11*INTERFACE!AA$11/10,\"\",IF(A104=11*INTERFACE!AA$11/10,11*INTERFACE!AA$11/10))","v":0},0,false,0,false,null,0,false]
[{"$f":"INTERFACE!A105","v":0},{"$f":"INTERFACE!B105","v":{"$error":"#VALUE!"}},"",{"$f":"IF(A105<>11*INTERFACE!AA$11/10,\"\",IF(A105=11*INTERFACE!AA$11/10,11*INTERFACE!AA$11/10))","v":0},0,false,0,false,null,0,false]
[{"$f":"INTERFACE!A106","v":0},{"$f":"INTERFACE!B106","v":{"$error":"#VALUE!"}},"",{"$f":"IF(A106<>11*INTERFACE!AA$11/10,\"\",IF(A106=11*INTERFACE!AA$11/10,11*INTERFACE!AA$11/10))","v":0},0,false,0,false,null,0,false]
[{"$f":"INTERFACE!A107","v":0},{"$f":"INTERFACE!B107","v":{"$error":"#VALUE!"}},"",{"$f":"IF(A107<>11*INTERFACE!AA$11/10,\"\",IF(A107=11*INTERFACE!AA$11/10,11*INTERFACE!AA$11/10))","v":0},0,false,0,false,null,0,false]
[{"$f":"INTERFACE!A108","v":0},{"$f":"INTERFACE!B108","v":{"$error":"#VALUE!"}},"",{"$f":"IF(A108<>11*INTERFACE!AA$11/10,\"\",IF(A108=11*INTERFACE!AA$11/10,11*INTERFACE!AA$11/10))","v":0},0,{"$f":"IF(AND(N$8=1,C$6=1),A$40+E$40*(E108-A$38),IF(AND(N$8=2,C$6=1),A$40+E$40*(E108-A$38),IF(AND(N$8=3,C$6=1),A$40+E$40*(E108-A$38),IF(AND(N$8=4,C$6=1),A$40+E$40*(E108-A$38)))))","v":false},0,{"$f":"IF(AND(N$8=1,C$6=1),\"\",IF(AND(N$8=2,C$6=1),D$40+B$40*(G108-D$38),IF(AND(N$8=3,C$6=1),D$40+B$40*(G108-D$38),IF(AND(N$8=4,C$6=1),D$40+B$40*(G108-D$38)))))","v":false},null,0,{"$f":"IF(AND(N$8=1,C$6=1),\"\",IF(AND(N$8=2,C$6=1),\"\",IF(AND(N$8=3,C$6=1),\"\",IF(AND(N$8=4,C$6=1),E$40*(E108-G$38)+H$38))))","v":false}]
[{"$f":"INTERFACE!A109","v":0},{"$f":"INTERFACE!B109","v":{"$error":"#VALUE!"}},{"$f":"IF(C$6=1,\"\",IF(C$6=2,(B110-B108)/(A110-A108),IF(C$6=3,\"\")))","v":""},{"$f":"IF(A109<>11*INTERFACE!AA$11/10,\"\",IF(A109=11*INTERFACE!AA$11/10,11*INTERFACE!AA$11/10))","v":0},{"$f":"0.01*E$43+E108","v":0},false,{"$f":"0.01*G$43+G108","v":0},false,null,{"$f":"0.01*J$43+J108","v":0},false]
[{"$f":"INTERFACE!A110","v":0},{"$f":"INTERFACE!B110","v":{"$error":"#VALUE!"}},"",{"$f":"IF(A110<>11*INTERFACE!AA$11/10,\"\",IF(A110=11*INTERFACE!AA$11/10,11*INTERFACE!AA$11/10))","v":0},0,false,0,false,null,0,false]
[{"$f":"INTERFACE!A111","v":0},{"$f":"INTERFACE!B111","v":{"$error":"#VALUE!"}},"",{"$f":"IF(A111<>11*INTERFACE!AA$11/10,\"\",IF(A111=11*INTERFACE!AA$11/10,11*INTERFACE!AA$11/10))","v":0},0,false,0,false,null,0,false]
[{"$f":"INTERFACE!A112","v":0},{"$f":"INTERFACE!B112","v":{"$error":"#VALUE!"}},"",{"$f":"IF(A112<>11*INTERFACE!AA$11/10,\"\",IF(A112=11*INTERFACE!AA$11/10,11*INTERFACE!AA$11/10))","v":0},0,false,0,false,null,0,false]
[{"$f":"INTERFACE!A113","v":0},{"$f":"INTERFACE!B113","v":{"$error":"#VALUE!"}},"",{"$f":"IF(A113<>11*INTERFACE!AA$11/10,\"\",IF(A113=11*INTERFACE!AA$11/10,11*INTERFACE!AA$11/10))","v":0},0,false,0,false,null,0,false]
[{"$f":"INTERFACE!A114","v":0},{"$f":"INTERFACE!B114","v":{"$error":"#VALUE!"}},"",{"$f":"IF(A114<>11*INTERFACE!AA$11/10,\"\",IF(A114=11*INTERFACE!AA$11/10,11*INTERFACE!AA$11/10))","v":0},0,false,0,false,null,0,false]
[{"$f":"INTERFACE!A115","v":0},{"$f":"INTERFACE!B115","v":{"$error":"#VALUE!"}},"",{"$f":"IF(A115<>11*INTERFACE!AA$11/10,\"\",IF(A115=11*INTERFACE!AA$11/10,11*INTERFACE!AA$11/10))","v":0},0,false,0,false,null,0,false]
[{"$f":"INTERFACE!A116","v":0},{"$f":"INTERFACE!B116","v":{"$error":"#VALUE!"}},"",{"$f":"IF(A116<>11*INTERFACE!AA$11/10,\"\",IF(A116=11*INTERFACE!AA$11/10,11*INTERFACE!AA$11/10))","v":0},0,false,0,false,null,0,false]
[{"$f":"INTERFACE!A117","v":0},{"$f":"INTERFACE!B117","v":{"$error":"#VALUE!"}},"",{"$f":"IF(A117<>11*INTERFACE!AA$11/10,\"\",IF(A117=11*INTERFACE!AA$11/10,11*INTERFACE!AA$11/10))","v":0},0,false,0,false,null,0,false]
[{"$f":"INTERFACE!A118","v":0},{"$f":"INTERFACE!B118","v":{"$error":"#VALUE!"}},"",{"$f":"IF(A118<>11*INTERFACE!AA$11/10,\"\",IF(A118=11*INTERFACE!AA$11/10,11*INTERFACE!AA$11/10))","v":0},0,false,0,false,null,0,false]
[{"$f":"INTERFACE!A119","v":0},{"$f":"INTERFACE!B119","v":{"$error":"#VALUE!"}},"",{"$f":"IF(A119<>11*INTERFACE!AA$11/10,\"\",IF(A119=11*INTERFACE!AA$11/10,11*INTERFACE!AA$11/10))","v":0},0,false,0,false,null,0,false]
[{"$f":"INTERFACE!A120","v":0},{"$f":"INTERFACE!B120","v":{"$error":"#VALUE!"}},"",{"$f":"IF(A120<>11*INTERFACE!AA$11/10,\"\",IF(A120=11*INTERFACE!AA$11/10,11*INTERFACE!AA$11/10))","v":0},0,false,0,false,null,0,false]
[{"$f":"INTERFACE!A121","v":0},{"$f":"INTERFACE!B121","v":{"$error":"#VALUE!"}},"",{"$f":"IF(A121<>11*INTERFACE!AA$11/10,\"\",IF(A121=11*INTERFACE!AA$11/10,11*INTERFACE!AA$11/10))","v":0},0,false,0,false,null,0,false]
[{"$f":"INTERFACE!A122","v":0},{"$f":"INTERFACE!B122","v":{"$error":"#VALUE!"}},"",{"$f":"IF(A122<>11*INTERFACE!AA$11/10,\"\",IF(A122=11*INTERFACE!AA$11/10,11*INTERFACE!AA$11/10))","v":0},0,false,0,false,null,0,false]
[{"$f":"INTERFACE!A123","v":0},{"$f":"INTERFACE!B123","v":{"$error":"#VALUE!"}},"",{"$f":"IF(A123<>11*INTERFACE!AA$11/10,\"\",IF(A123=11*INTERFACE!AA$11/10,11*INTERFACE!AA$11/10))","v":0},0,false,0,false,null,0,false]
[{"$f":"INTERFACE!A124","v":0},{"$f":"INTERFACE!B124","v":{"$error":"#VALUE!"}},"",{"$f":"IF(A124<>11*INTERFACE!AA$11/10,\"\",IF(A124=11*INTERFACE!AA$11/10,11*INTERFACE!AA$11/10))","v":0},0,false,0,false,null,0,false]
[{"$f":"INTERFACE!A125","v":0},{"$f":"INTERFACE!B125","v":{"$error":"#VALUE!"}},"",{"$f":"IF(A125<>11*INTERFACE!AA$11/10,\"\",IF(A125=11*INTERFACE!AA$11/10,11*INTERFACE!AA$11/10))","v":0},0,false,0,false,null,0,false]
[{"$f":"INTERFACE!A126","v":0},{"$f":"INTERFACE!B126","v":{"$error":"#VALUE!"}},"",{"$f":"IF(A126<>11*INTERFACE!AA$11/10,\"\",IF(A126=11*INTERFACE!AA$11/10,11*INTERFACE!AA$11/10))","v":0},0,false,0,false,null,0,false]
[{"$f":"INTERFACE!A127","v":0},{"$f":"INTERFACE!B127","v":{"$error":"#VALUE!"}},"",{"$f":"IF(A127<>11*INTERFACE!AA$11/10,\"\",IF(A127=11*INTERFACE!AA$11/10,11*INTERFACE!AA$11/10))","v":0},0,false,0,false,null,0,false]
[{"$f":"INTERFACE!A128","v":0},{"$f":"INTERFACE!B128","v":{"$error":"#VALUE!"}},"",{"$f":"IF(A128<>11*INTERFACE!AA$11/10,\"\",IF(A128=11*INTERFACE!AA$11/10,11*INTERFACE!AA$11/10))","v":0},0,false,0,false,null,0,false]
[{"$f":"INTERFACE!A129","v":0},{"$f":"INTERFACE!B129","v":{"$error":"#VALUE!"}},"",{"$f":"IF(A129<>11*INTERFACE!AA$11/10,\"\",IF(A129=11*INTERFACE!AA$11/10,11*INTERFACE!AA$11/10))","v":0},0,false,0,false,null,0,false]
[{"$f":"INTERFACE!A130","v":0},{"$f":"INTERFACE!B130","v":{"$error":"#VALUE!"}},"",{"$f":"IF(A130<>11*INTERFACE!AA$11/10,\"\",IF(A130=11*INTERFACE!AA$11/10,11*INTERFACE!AA$11/10))","v":0},0,false,0,false,null,0,false]
[{"$f":"INTERFACE!A131","v":0},{"$f":"INTERFACE!B131","v":{"$error":"#VALUE!"}},"",{"$f":"IF(A131<>11*INTERFACE!AA$11/10,\"\",IF(A131=11*INTERFACE!AA$11/10,11*INTERFACE!AA$11/10))","v":0},0,false,0,false,null,0,false]
[{"$f":"INTERFACE!A132","v":0},{"$f":"INTERFACE!B132","v":{"$error":"#VALUE!"}},"",{"$f":"IF(A132<>11*INTERFACE!AA$11/10,\"\",IF(A132=11*INTERFACE!AA$11/10,11*INTERFACE!AA$11/10))","v":0},0,false,0,false,null,0,false]
[{"$f":"INTERFACE!A133","v":0},{"$f":"INTERFACE!B133","v":{"$error":"#VALUE!"}},"",{"$f":"IF(A133<>11*INTERFACE!AA$11/10,\"\",IF(A133=11*INTERFACE!AA$11/10,11*INTERFACE!AA$11/10))","v":0},0,false,0,false,null,0,false]
[{"$f":"INTERFACE!A134","v":0},{"$f":"INTERFACE!B134","v":{"$error":"#VALUE!"}},"",{"$f":"IF(A134<>11*INTERFACE!AA$11/10,\"\",IF(A134=11*INTERFACE!AA$11/10,11*INTERFACE!AA$11/10))","v":0},0,false,0,false,null,0,false]
[{"$f":"INTERFACE!A135","v":0},{"$f":"INTERFACE!B135","v":{"$error":"#VALUE!"}},"",{"$f":"IF(A135<>11*INTERFACE!AA$11/10,\"\",IF(A135=11*INTERFACE!AA$11/10,11*INTERFACE!AA$11/10))","v":0},0,false,0,false,null,0,false]
[{"$f":"INTERFACE!A136","v":0},{"$f":"INTERFACE!B136","v":{"$error":"#VALUE!"}},"",{"$f":"IF(A136<>11*INTERFACE!AA$11/10,\"\",IF(A136=11*INTERFACE!AA$11/10,11*INTERFACE!AA$11/10))","v":0},0,false,0,false,null,0,false]
[{"$f":"INTERFACE!A137","v":0},{"$f":"INTERFACE!B137","v":{"$error":"#VALUE!"}},"",{"$f":"IF(A137<>11*INTERFACE!AA$11/10,\"\",IF(A137=11*INTERFACE!AA$11/10,11*INTERFACE!AA$11/10))","v":0},0,false,0,false,null,0,false]
[{"$f":"INTERFACE!A138","v":0},{"$f":"INTERFACE!B138","v":{"$error":"#VALUE!"}},"",{"$f":"IF(A138<>11*INTERFACE!AA$11/10,\"\",IF(A138=11*INTERFACE!AA$11/10,11*INTERFACE!AA$11/10))","v":0},0,false,0,false,null,0,false]
[{"$f":"INTERFACE!A139","v":0},{"$f":"INTERFACE!B139","v":{"$error":"#VALUE!"}},"",{"$f":"IF(A139<>11*INTERFACE!AA$11/10,\"\",IF(A139=11*INTERFACE!AA$11/10,11*INTERFACE!AA$11/10))","v":0},0,false,0,false,null,0,false]
[{"$f":"INTERFACE!A140","v":0},{"$f":"INTERFACE!B140","v":{"$error":"#VALUE!"}},"",{"$f":"IF(A140<>11*INTERFACE!AA$11/10,\"\",IF(A140=11*INTERFACE!AA$11/10,11*INTERFACE!AA$11/10))","v":0},0,false,0,false,null,0,false]
[{"$f":"INTERFACE!A141","v":0},{"$f":"INTERFACE!B141","v":{"$error":"#VALUE!"}},"",{"$f":"IF(A141<>11*INTERFACE!AA$11/10,\"\",IF(A141=11*INTERFACE!AA$11/10,11*INTERFACE!AA$11/10))","v":0},0,false,0,false,null,0,false]
[{"$f":"INTERFACE!A142","v":0},{"$f":"INTERFACE!B142","v":{"$error":"#VALUE!"}},"",{"$f":"IF(A142<>11*INTERFACE!AA$11/10,\"\",IF(A142=11*INTERFACE!AA$11/10,11*INTERFACE!AA$11/10))","v":0},0,false,0,false,null,0,false]
[{"$f":"INTERFACE!A143","v":0},{"$f":"INTERFACE!B143","v":{"$error":"#VALUE!"}},"",{"$f":"IF(A143<>11*INTERFACE!AA$11/10,\"\",IF(A143=11*INTERFACE!AA$11/10,11*INTERFACE!AA$11/10))","v":0},0,false,0,false,null,0,false]
[{"$f":"INTERFACE!A144","v":0},{"$f":"INTERFACE!B144","v":{"$error":"#VALUE!"}},"",{"$f":"IF(A144<>11*INTERFACE!AA$11/10,\"\",IF(A144=11*INTERFACE!AA$11/10,11*INTERFACE!AA$11/10))","v":0},0,false,0,false,null,0,false]
[{"$f":"INTERFACE!A145","v":0},{"$f":"INTERFACE!B145","v":{"$error":"#VALUE!"}},"",{"$f":"IF(A145<>11*INTERFACE!AA$11/10,\"\",IF(A145=11*INTERFACE!AA$11/10,11*INTERFACE!AA$11/10))","v":0},0,false,0,false,null,0,false]
[{"$f":"INTERFACE!A146","v":0},{"$f":"INTERFACE!B146","v":{"$error":"#VALUE!"}},"",{"$f":"IF(A146<>11*INTERFACE!AA$11/10,\"\",IF(A146=11*INTERFACE!AA$11/10,11*INTERFACE!AA$11/10))","v":0},0,false,0,false,null,0,false]
[{"$f":"INTERFACE!A147","v":0},{"$f":"INTERFACE!B147","v":{"$error":"#VALUE!"}},"",{"$f":"IF(A147<>11*INTERFACE!AA$11/10,\"\",IF(A147=11*INTERFACE!AA$11/10,11*INTERFACE!AA$11/10))","v":0},0,false,0,false,null,0,false]
[{"$f":"INTERFACE!A148","v":0},{"$f":"INTERFACE!B148","v":{"$error":"#VALUE!"}},"",{"$f":"IF(A148<>11*INTERFACE!AA$11/10,\"\",IF(A148=11*INTERFACE!AA$11/10,11*INTERFACE!AA$11/10))","v":0},0,false,0,false,null,0,false]
[{"$f":"INTERFACE!A149","v":0},{"$f":"INTERFACE!B149","v":{"$error":"#VALUE!"}},"",{"$f":"IF(A149<>11*INTERFACE!AA$11/10,\"\",IF(A149=11*INTERFACE!AA$11/10,11*INTERFACE!AA$11/10))","v":0},0,false,0,false,null,0,false]
[{"$f":"INTERFACE!A150","v":0},{"$f":"INTERFACE!B150","v":{"$error":"#VALUE!"}},"",{"$f":"IF(A150<>11*INTERFACE!AA$11/10,\"\",IF(A150=11*INTERFACE!AA$11/10,11*INTERFACE!AA$11/10))","v":0},0,false,0,false,null,0,false]
[{"$f":"INTERFACE!A151","v":0},{"$f":"INTERFACE!B151","v":{"$error":"#VALUE!"}},"",{"$f":"IF(A151<>11*INTERFACE!AA$11/10,\"\",IF(A151=11*INTERFACE!AA$11/10,11*INTERFACE!AA$11/10))","v":0},0,false,0,false,null,0,false]
[{"$f":"INTERFACE!A152","v":0},{"$f":"INTERFACE!B152","v":{"$error":"#VALUE!"}},"",{"$f":"IF(A152<>11*INTERFACE!AA$11/10,\"\",IF(A152=11*INTERFACE!AA$11/10,11*INTERFACE!AA$11/10))","v":0},0,false,0,false,null,0,false]
[{"$f":"INTERFACE!A153","v":0},{"$f":"INTERFACE!B153","v":{"$error":"#VALUE!"}},"",null,0,false,0,false,null,0,false]
[{"$f":"INTERFACE!A154","v":0},{"$f":"INTERFACE!B154","v":{"$error":"#VALUE!"}},"",{"$f":"IF(A154<>11*INTERFACE!AA$11/10,\"\",IF(A154=11*INTERFACE!AA$11/10,11*INTERFACE!AA$11/10))","v":0},0,false,0,false,null,0,false]
[{"$f":"INTERFACE!A155","v":0},{"$f":"INTERFACE!B155","v":{"$error":"#VALUE!"}},"",{"$f":"IF(A155<>11*INTERFACE!AA$11/10,\"\",IF(A155=11*INTERFACE!AA$11/10,11*INTERFACE!AA$11/10))","v":0},0,false,0,false,null,0,false]
[{"$f":"INTERFACE!A156","v":0},{"$f":"INTERFACE!B156","v":{"$error":"#VALUE!"}},"",{"$f":"IF(A156<>11*INTERFACE!AA$11/10,\"\",IF(A156=11*INTERFACE!AA$11/10,11*INTERFACE!AA$11/10))","v":0},0,false,0,false,null,0,false]
[{"$f":"INTERFACE!A157","v":0},{"$f":"INTERFACE!B157","v":{"$error":"#VALUE!"}},"",{"$f":"IF(A157<>11*INTERFACE!AA$11/10,\"\",IF(A157=11*INTERFACE!AA$11/10,11*INTERFACE!AA$11/10))","v":0},0,false,0,false,null,0,false]
[{"$f":"INTERFACE!A158","v":0},{"$f":"INTERFACE!B158","v":{"$error":"#VALUE!"}},"",{"$f":"IF(A158<>11*INTERFACE!AA$11/10,\"\",IF(A158=11*INTERFACE!AA$11/10,11*INTERFACE!AA$11/10))","v":0},0,false,0,false,null,0,false]
[{"$f":"INTERFACE!A159","v":0},{"$f":"INTERFACE!B159","v":{"$error":"#VALUE!"}},"",{"$f":"IF(A159<>11*INTERFACE!AA$11/10,\"\",IF(A159=11*INTERFACE!AA$11/10,11*INTERFACE!AA$11/10))","v":0},0,false,0,false,null,0,false]
[{"$f":"INTERFACE!A160","v":0},{"$f":"INTERFACE!B160","v":{"$error":"#VALUE!"}},"",{"$f":"IF(A160<>11*INTERFACE!AA$11/10,\"\",IF(A160=11*INTERFACE!AA$11/10,11*INTERFACE!AA$11/10))","v":0},0,false,0,false,null,0,false]
[{"$f":"INTERFACE!A161","v":0},{"$f":"INTERFACE!B161","v":{"$error":"#VALUE!"}},"",{"$f":"IF(A161<>11*INTERFACE!AA$11/10,\"\",IF(A161=11*INTERFACE!AA$11/10,11*INTERFACE!AA$11/10))","v":0},0,false,0,false,null,0,false]
[{"$f":"INTERFACE!A162","v":0},{"$f":"INTERFACE!B162","v":{"$error":"#VALUE!"}},"",{"$f":"IF(A162<>11*INTERFACE!AA$11/10,\"\",IF(A162=11*INTERFACE!AA$11/10,11*INTERFACE!AA$11/10))","v":0},0,false,0,false,null,0,false]
[{"$f":"INTERFACE!A163","v":0},{"$f":"INTERFACE!B163","v":{"$error":"#VALUE!"}},"",{"$f":"IF(A163<>11*INTERFACE!AA$11/10,\"\",IF(A163=11*INTERFACE!AA$11/10,11*INTERFACE!AA$11/10))","v":0},0,false,0,false,null,0,false]
[{"$f":"INTERFACE!A164","v":0},{"$f":"INTERFACE!B164","v":{"$error":"#VALUE!"}},"",{"$f":"IF(A164<>11*INTERFACE!AA$11/10,\"\",IF(A164=11*INTERFACE!AA$11/10,11*INTERFACE!AA$11/10))","v":0},0,false,0,false,null,0,false]
[{"$f":"INTERFACE!A165","v":0},{"$f":"INTERFACE!B165","v":{"$error":"#VALUE!"}},"",{"$f":"IF(A165<>11*INTERFACE!AA$11/10,\"\",IF(A165=11*INTERFACE!AA$11/10,11*INTERFACE!AA$11/10))","v":0},0,false,0,false,null,0,false]
[{"$f":"INTERFACE!A166","v":0},{"$f":"INTERFACE!B166","v":{"$error":"#VALUE!"}},"",{"$f":"IF(A166<>11*INTERFACE!AA$11/10,\"\",IF(A166=11*INTERFACE!AA$11/10,11*INTERFACE!AA$11/10))","v":0},0,false,0,false,null,0,false]
[{"$f":"INTERFACE!A167","v":0},{"$f":"INTERFACE!B167","v":{"$error":"#VALUE!"}},"",{"$f":"IF(A167<>11*INTERFACE!AA$11/10,\"\",IF(A167=11*INTERFACE!AA$11/10,11*INTERFACE!AA$11/10))","v":0},0,false,0,false,null,0,false]
[{"$f":"INTERFACE!A168","v":0},{"$f":"INTERFACE!B168","v":{"$error":"#VALUE!"}},"",{"$f":"IF(A168<>11*INTERFACE!AA$11/10,\"\",IF(A168=11*INTERFACE!AA$11/10,11*INTERFACE!AA$11/10))","v":0},0,false,0,false,null,0,false]
[{"$f":"INTERFACE!A169","v":0},{"$f":"INTERFACE!B169","v":{"$error":"#VALUE!"}},"",{"$f":"IF(A169<>11*INTERFACE!AA$11/10,\"\",IF(A169=11*INTERFACE!AA$11/10,11*INTERFACE!AA$11/10))","v":0},0,false,0,false,null,0,false]
[{"$f":"INTERFACE!A170","v":0},{"$f":"INTERFACE!B170","v":{"$error":"#VALUE!"}},"",{"$f":"IF(A170<>11*INTERFACE!AA$11/10,\"\",IF(A170=11*INTERFACE!AA$11/10,11*INTERFACE!AA$11/10))","v":0},0,false,0,false,null,0,false]
[{"$f":"INTERFACE!A171","v":0},{"$f":"INTERFACE!B171","v":{"$error":"#VALUE!"}},"",{"$f":"IF(A171<>11*INTERFACE!AA$11/10,\"\",IF(A171=11*INTERFACE!AA$11/10,11*INTERFACE!AA$11/10))","v":0},0,false,0,false,null,0,false]
[{"$f":"INTERFACE!A172","v":0},{"$f":"INTERFACE!B172","v":{"$error":"#VALUE!"}},"",{"$f":"IF(A172<>11*INTERFACE!AA$11/10,\"\",IF(A172=11*INTERFACE!AA$11/10,11*INTERFACE!AA$11/10))","v":0},0,{"$f":"IF(AND(N$8=1,C$6=1),A$40+E$40*(E172-A$38),IF(AND(N$8=2,C$6=1),A$40+E$40*(E172-A$38),IF(AND(N$8=3,C$6=1),A$40+E$40*(E172-A$38),IF(AND(N$8=4,C$6=1),A$40+E$40*(E172-A$38)))))","v":false},0,{"$f":"IF(AND(N$8=1,C$6=1),\"\",IF(AND(N$8=2,C$6=1),D$40+B$40*(G172-D$38),IF(AND(N$8=3,C$6=1),D$40+B$40*(G172-D$38),IF(AND(N$8=4,C$6=1),D$40+B$40*(G172-D$38)))))","v":false},null,0,{"$f":"IF(AND(N$8=1,C$6=1),\"\",IF(AND(N$8=2,C$6=1),\"\",IF(AND(N$8=3,C$6=1),\"\",IF(AND(N$8=4,C$6=1),E$40*(E172-G$38)+H$38))))","v":false}]
[{"$f":"INTERFACE!A173","v":0},{"$f":"INTERFACE!B173","v":{"$error":"#VALUE!"}},{"$f":"IF(C$6=1,\"\",IF(C$6=2,(B174-B172)/(A174-A172),IF(C$6=3,\"\")))","v":""},{"$f":"IF(A173<>11*INTERFACE!AA$11/10,\"\",IF(A173=11*INTERFACE!AA$11/10,11*INTERFACE!AA$11/10))","v":0},{"$f":"0.01*E$43+E172","v":0},false,{"$f":"0.01*G$43+G172","v":0},false,null,{"$f":"0.01*J$43+J172","v":0},false]
[{"$f":"INTERFACE!A174","v":0},{"$f":"INTERFACE!B174","v":{"$error":"#VALUE!"}},"",{"$f":"IF(A174<>11*INTERFACE!AA$11/10,\"\",IF(A174=11*INTERFACE!AA$11/10,11*INTERFACE!AA$11/10))","v":0},0,false,0,false,null,0,false]
[{"$f":"INTERFACE!A175","v":0},{"$f":"INTERFACE!B175","v":{"$error":"#VALUE!"}},"",{"$f":"IF(A175<>11*INTERFACE!AA$11/10,\"\",IF(A175=11*INTERFACE!AA$11/10,11*INTERFACE!AA$11/10))","v":0},0,false,0,false,null,0,false]
[{"$f":"INTERFACE!A176","v":0},{"$f":"INTERFACE!B176","v":{"$error":"#VALUE!"}},"",{"$f":"IF(A176<>11*INTERFACE!AA$11/10,\"\",IF(A176=11*INTERFACE!AA$11/10,11*INTERFACE!AA$11/10))","v":0},0,false,0,false,null,0,false]
[{"$f":"INTERFACE!A177","v":0},{"$f":"INTERFACE!B177","v":{"$error":"#VALUE!"}},"",{"$f":"IF(A177<>11*INTERFACE!AA$11/10,\"\",IF(A177=11*INTERFACE!AA$11/10,11*INTERFACE!AA$11/10))","v":0},0,false,0,false,null,0,false]
[{"$f":"INTERFACE!A178","v":0},{"$f":"INTERFACE!B178","v":{"$error":"#VALUE!"}},"",{"$f":"IF(A178<>11*INTERFACE!AA$11/10,\"\",IF(A178=11*INTERFACE!AA$11/10,11*INTERFACE!AA$11/10))","v":0},0,false,0,false,null,0,false]
[{"$f":"INTERFACE!A179","v":0},{"$f":"INTERFACE!B179","v":{"$error":"#VALUE!"}},"",{"$f":"IF(A179<>11*INTERFACE!AA$11/10,\"\",IF(A179=11*INTERFACE!AA$11/10,11*INTERFACE!AA$11/10))","v":0},0,false,0,false,null,0,false]
[{"$f":"INTERFACE!A180","v":0},{"$f":"INTERFACE!B180","v":{"$error":"#VALUE!"}},"",{"$f":"IF(A180<>11*INTERFACE!AA$11/10,\"\",IF(A180=11*INTERFACE!AA$11/10,11*INTERFACE!AA$11/10))","v":0},0,false,0,false,null,0,false]
[{"$f":"INTERFACE!A181","v":0},{"$f":"INTERFACE!B181","v":{"$error":"#VALUE!"}},"",{"$f":"IF(A181<>11*INTERFACE!AA$11/10,\"\",IF(A181=11*INTERFACE!AA$11/10,11*INTERFACE!AA$11/10))","v":0},0,false,0,false,null,0,false]
[{"$f":"INTERFACE!A182","v":0},{"$f":"INTERFACE!B182","v":{"$error":"#VALUE!"}},"",{"$f":"IF(A182<>11*INTERFACE!AA$11/10,\"\",IF(A182=11*INTERFACE!AA$11/10,11*INTERFACE!AA$11/10))","v":0},0,false,0,false,null,0,false]
[{"$f":"INTERFACE!A183","v":0},{"$f":"INTERFACE!B183","v":{"$error":"#VALUE!"}},"",{"$f":"IF(A183<>11*INTERFACE!AA$11/10,\"\",IF(A183=11*INTERFACE!AA$11/10,11*INTERFACE!AA$11/10))","v":0},0,false,0,false,null,0,false]
[{"$f":"INTERFACE!A184","v":0},{"$f":"INTERFACE!B184","v":{"$error":"#VALUE!"}},"",{"$f":"IF(A184<>11*INTERFACE!AA$11/10,\"\",IF(A184=11*INTERFACE!AA$11/10,11*INTERFACE!AA$11/10))","v":0},0,false,0,false,null,0,false]
[{"$f":"INTERFACE!A185","v":0},{"$f":"INTERFACE!B185","v":{"$error":"#VALUE!"}},"",{"$f":"IF(A185<>11*INTERFACE!AA$11/10,\"\",IF(A185=11*INTERFACE!AA$11/10,11*INTERFACE!AA$11/10))","v":0},0,false,0,false,null,0,false]
[{"$f":"INTERFACE!A186","v":0},{"$f":"INTERFACE!B186","v":{"$error":"#VALUE!"}},"",{"$f":"IF(A186<>11*INTERFACE!AA$11/10,\"\",IF(A186=11*INTERFACE!AA$11/10,11*INTERFACE!AA$11/10))","v":0},0,false,0,false,null,0,false]
[{"$f":"INTERFACE!A187","v":0},{"$f":"INTERFACE!B187","v":{"$error":"#VALUE!"}},"",{"$f":"IF(A187<>11*INTERFACE!AA$11/10,\"\",IF(A187=11*INTERFACE!AA$11/10,11*INTERFACE!AA$11/10))","v":0},0,false,0,false,null,0,false]
[{"$f":"INTERFACE!A188","v":0},{"$f":"INTERFACE!B188","v":{"$error":"#VALUE!"}},"",{"$f":"IF(A188<>11*INTERFACE!AA$11/10,\"\",IF(A188=11*INTERFACE!AA$11/10,11*INTERFACE!AA$11/10))","v":0},0,false,0,false,null,0,false]
[{"$f":"INTERFACE!A189","v":0},{"$f":"INTERFACE!B189","v":{"$error":"#VALUE!"}},"",{"$f":"IF(A189<>11*INTERFACE!AA$11/10,\"\",IF(A189=11*INTERFACE!AA$11/10,11*INTERFACE!AA$11/10))","v":0},0,false,0,false,null,0,false]
[{"$f":"INTERFACE!A190","v":0},{"$f":"INTERFACE!B190","v":{"$error":"#VALUE!"}},"",{"$f":"IF(A190<>11*INTERFACE!AA$11/10,\"\",IF(A190=11*INTERFACE!AA$11/10,11*INTERFACE!AA$11/10))","v":0},0,false,0,false,null,0,false]
[{"$f":"INTERFACE!A191","v":0},{"$f":"INTERFACE!B191","v":{"$error":"#VALUE!"}},"",{"$f":"IF(A191<>11*INTERFACE!AA$11/10,\"\",IF(A191=11*INTERFACE!AA$11/10,11*INTERFACE!AA$11/10))","v":0},0,false,0,false,null,0,false]
[{"$f":"INTERFACE!A192","v":0},{"$f":"INTERFACE!B192","v":{"$error":"#VALUE!"}},"",{"$f":"IF(A192<>11*INTERFACE!AA$11/10,\"\",IF(A192=11*INTERFACE!AA$11/10,11*INTERFACE!AA$11/10))","v":0},0,false,0,false,null,0,false]
[{"$f":"INTERFACE!A193","v":0},{"$f":"INTERFACE!B193","v":{"$error":"#VALUE!"}},"",{"$f":"IF(A193<>11*INTERFACE!AA$11/10,\"\",IF(A193=11*INTERFACE!AA$11/10,11*INTERFACE!AA$11/10))","v":0},0,false,0,false,null,0,false]
[{"$f":"INTERFACE!A194","v":0},{"$f":"INTERFACE!B194","v":{"$error":"#VALUE!"}},"",{"$f":"IF(A194<>11*INTERFACE!AA$11/10,\"\",IF(A194=11*INTERFACE!AA$11/10,11*INTERFACE!AA$11/10))","v":0},0,false,0,false,null,0,false]
[{"$f":"INTERFACE!A195","v":0},{"$f":"INTERFACE!B195","v":{"$error":"#VALUE!"}},"",{"$f":"IF(A195<>11*INTERFACE!AA$11/10,\"\",IF(A195=11*INTERFACE!AA$11/10,11*INTERFACE!AA$11/10))","v":0},0,false,0,false,null,0,false]
[{"$f":"INTERFACE!A196","v":0},{"$f":"INTERFACE!B196","v":{"$error":"#VALUE!"}},"",{"$f":"IF(A196<>11*INTERFACE!AA$11/10,\"\",IF(A196=11*INTERFACE!AA$11/10,11*INTERFACE!AA$11/10))","v":0},0,false,0,false,null,0,false]
[{"$f":"INTERFACE!A197","v":0},{"$f":"INTERFACE!B197","v":{"$error":"#VALUE!"}},"",{"$f":"IF(A197<>11*INTERFACE!AA$11/10,\"\",IF(A197=11*INTERFACE!AA$11/10,11*INTERFACE!AA$11/10))","v":0},0,false,0,false,null,0,false]
[{"$f":"INTERFACE!A198","v":0},{"$f":"INTERFACE!B198","v":{"$error":"#VALUE!"}},"",{"$f":"IF(A198<>11*INTERFACE!AA$11/10,\"\",IF(A198=11*INTERFACE!AA$11/10,11*INTERFACE!AA$11/10))","v":0},0,false,0,false,null,0,false]
[{"$f":"INTERFACE!A199","v":0},{"$f":"INTERFACE!B199","v":{"$error":"#VALUE!"}},"",{"$f":"IF(A199<>11*INTERFACE!AA$11/10,\"\",IF(A199=11*INTERFACE!AA$11/10,11*INTERFACE!AA$11/10))","v":0},0,false,0,false,null,0,false]
[{"$f":"INTERFACE!A200","v":0},{"$f":"INTERFACE!B200","v":{"$error":"#VALUE!"}},"",{"$f":"IF(A200<>11*INTERFACE!AA$11/10,\"\",IF(A200=11*INTERFACE!AA$11/10,11*INTERFACE!AA$11/10))","v":0},0,false,0,false,null,0,false]
[{"$f":"INTERFACE!A201","v":0},{"$f":"INTERFACE!B201","v":{"$error":"#VALUE!"}},"",{"$f":"IF(A201<>11*INTERFACE!AA$11/10,\"\",IF(A201=11*INTERFACE!AA$11/10,11*INTERFACE!AA$11/10))","v":0},0,false,0,false,null,0,false]
[{"$f":"INTERFACE!A202","v":0},{"$f":"INTERFACE!B202","v":{"$error":"#VALUE!"}},"",{"$f":"IF(A202<>11*INTERFACE!AA$11/10,\"\",IF(A202=11*INTERFACE!AA$11/10,11*INTERFACE!AA$11/10))","v":0},0,false,0,false,null,0,false]
[{"$f":"INTERFACE!A203","v":0},{"$f":"INTERFACE!B203","v":{"$error":"#VALUE!"}},"",{"$f":"IF(A203<>11*INTERFACE!AA$11/10,\"\",IF(A203=11*INTERFACE!AA$11/10,11*INTERFACE!AA$11/10))","v":0},0,false,0,false,null,0,false]
[{"$f":"INTERFACE!A204","v":0},{"$f":"INTERFACE!B204","v":{"$error":"#VALUE!"}},"",{"$f":"IF(A204<>11*INTERFACE!AA$11/10,\"\",IF(A204=11*INTERFACE!AA$11/10,11*INTERFACE!AA$11/10))","v":0},0,false,0,false,null,0,false]
[{"$f":"INTERFACE!A205","v":0},{"$f":"INTERFACE!B205","v":{"$error":"#VALUE!"}},"",{"$f":"IF(A205<>11*INTERFACE!AA$11/10,\"\",IF(A205=11*INTERFACE!AA$11/10,11*INTERFACE!AA$11/10))","v":0},0,false,0,false,null,0,false]
[{"$f":"INTERFACE!A206","v":0},{"$f":"INTERFACE!B206","v":{"$error":"#VALUE!"}},"",{"$f":"IF(A206<>11*INTERFACE!AA$11/10,\"\",IF(A206=11*INTERFACE!AA$11/10,11*INTERFACE!AA$11/10))","v":0},0,false,0,false,null,0,false]
[{"$f":"INTERFACE!A207","v":0},{"$f":"INTERFACE!B207","v":{"$error":"#VALUE!"}},"",{"$f":"IF(A207<>11*INTERFACE!AA$11/10,\"\",IF(A207=11*INTERFACE!AA$11/10,11*INTERFACE!AA$11/10))","v":0},0,false,0,false,null,0,false]
[{"$f":"INTERFACE!A208","v":0},{"$f":"INTERFACE!B208","v":{"$error":"#VALUE!"}},"",{"$f":"IF(A208<>11*INTERFACE!AA$11/10,\"\",IF(A208=11*INTERFACE!AA$11/10,11*INTERFACE!AA$11/10))","v":0},0,false,0,false,null,0,false]
[{"$f":"INTERFACE!A209","v":0},{"$f":"INTERFACE!B209","v":{"$error":"#VALUE!"}},"",{"$f":"IF(A209<>11*INTERFACE!AA$11/10,\"\",IF(A209=11*INTERFACE!AA$11/10,11*INTERFACE!AA$11/10))","v":0},0,false,0,false,null,0,false]
[{"$f":"INTERFACE!A210","v":0},{"$f":"INTERFACE!B210","v":{"$error":"#VALUE!"}},"",{"$f":"IF(A210<>11*INTERFACE!AA$11/10,\"\",IF(A210=11*INTERFACE!AA$11/10,11*INTERFACE!AA$11/10))","v":0},0,false,0,false,null,0,false]
[{"$f":"INTERFACE!A211","v":0},{"$f":"INTERFACE!B211","v":{"$error":"#VALUE!"}},"",{"$f":"IF(A211<>11*INTERFACE!AA$11/10,\"\",IF(A211=11*INTERFACE!AA$11/10,11*INTERFACE!AA$11/10))","v":0},0,false,0,false,null,0,false]
[{"$f":"INTERFACE!A212","v":0},{"$f":"INTERFACE!B212","v":{"$error":"#VALUE!"}},"",{"$f":"IF(A212<>11*INTERFACE!AA$11/10,\"\",IF(A212=11*INTERFACE!AA$11/10,11*INTERFACE!AA$11/10))","v":0},0,false,0,false,null,0,false]
[{"$f":"INTERFACE!A213","v":0},{"$f":"INTERFACE!B213","v":{"$error":"#VALUE!"}},"",{"$f":"IF(A213<>11*INTERFACE!AA$11/10,\"\",IF(A213=11*INTERFACE!AA$11/10,11*INTERFACE!AA$11/10))","v":0},0,false,0,false,null,0,false]
[{"$f":"INTERFACE!A214","v":0},{"$f":"INTERFACE!B214","v":{"$error":"#VALUE!"}},"",{"$f":"IF(A214<>11*INTERFACE!AA$11/10,\"\",IF(A214=11*INTERFACE!AA$11/10,11*INTERFACE!AA$11/10))","v":0},0,false,0,false,null,0,false]
[{"$f":"INTERFACE!A215","v":0},{"$f":"INTERFACE!B215","v":{"$error":"#VALUE!"}},"",{"$f":"IF(A215<>11*INTERFACE!AA$11/10,\"\",IF(A215=11*INTERFACE!AA$11/10,11*INTERFACE!AA$11/10))","v":0},0,false,0,false,null,0,false]
[{"$f":"INTERFACE!A216","v":0},{"$f":"INTERFACE!B216","v":{"$error":"#VALUE!"}},"",{"$f":"IF(A216<>11*INTERFACE!AA$11/10,\"\",IF(A216=11*INTERFACE!AA$11/10,11*INTERFACE!AA$11/10))","v":0},0,false,0,false,null,0,false]
[{"$f":"INTERFACE!A217","v":0},{"$f":"INTERFACE!B217","v":{"$error":"#VALUE!"}},"",{"$f":"IF(A217<>11*INTERFACE!AA$11/10,\"\",IF(A217=11*INTERFACE!AA$11/10,11*INTERFACE!AA$11/10))","v":0},0,false,0,false,null,0,false]
[{"$f":"INTERFACE!A218","v":0},{"$f":"INTERFACE!B218","v":{"$error":"#VALUE!"}},"",{"$f":"IF(A218<>11*INTERFACE!AA$11/10,\"\",IF(A218=11*INTERFACE!AA$11/10,11*INTERFACE!AA$11/10))","v":0},0,false,0,false,null,0,false]
[{"$f":"INTERFACE!A219","v":0},{"$f":"INTERFACE!B219","v":{"$error":"#VALUE!"}},"",{"$f":"IF(A219<>11*INTERFACE!AA$11/10,\"\",IF(A219=11*INTERFACE!AA$11/10,11*INTERFACE!AA$11/10))","v":0},0,false,0,false,null,0,false]
[{"$f":"INTERFACE!A220","v":0},{"$f":"INTERFACE!B220","v":{"$error":"#VALUE!"}},"",{"$f":"IF(A220<>11*INTERFACE!AA$11/10,\"\",IF(A220=11*INTERFACE!AA$11/10,11*INTERFACE!AA$11/10))","v":0},0,false,0,false,null,0,false]
[{"$f":"INTERFACE!A221","v":0},{"$f":"INTERFACE!B221","v":{"$error":"#VALUE!"}},"",{"$f":"IF(A221<>11*INTERFACE!AA$11/10,\"\",IF(A221=11*INTERFACE!AA$11/10,11*INTERFACE!AA$11/10))","v":0},0,false,0,false,null,0,false]
[{"$f":"INTERFACE!A222","v":0},{"$f":"INTERFACE!B222","v":{"$error":"#VALUE!"}},"",{"$f":"IF(A222<>11*INTERFACE!AA$11/10,\"\",IF(A222=11*INTERFACE!AA$11/10,11*INTERFACE!AA$11/10))","v":0},0,false,0,false,null,0,false]
[{"$f":"INTERFACE!A223","v":0},{"$f":"INTERFACE!B223","v":{"$error":"#VALUE!"}},"",{"$f":"IF(A223<>11*INTERFACE!AA$11/10,\"\",IF(A223=11*INTERFACE!AA$11/10,11*INTERFACE!AA$11/10))","v":0},0,false,0,false,null,0,false]
[{"$f":"INTERFACE!A224","v":0},{"$f":"INTERFACE!B224","v":{"$error":"#VALUE!"}},"",{"$f":"IF(A224<>11*INTERFACE!AA$11/10,\"\",IF(A224=11*INTERFACE!AA$11/10,11*INTERFACE!AA$11/10))","v":0},0,false,0,false,null,0,false]
[{"$f":"INTERFACE!A225","v":0},{"$f":"INTERFACE!B225","v":{"$error":"#VALUE!"}},"",{"$f":"IF(A225<>11*INTERFACE!AA$11/10,\"\",IF(A225=11*INTERFACE!AA$11/10,11*INTERFACE!AA$11/10))","v":0},0,false,0,false,null,0,false]
[{"$f":"INTERFACE!A226","v":0},{"$f":"INTERFACE!B226","v":{"$error":"#VALUE!"}},"",{"$f":"IF(A226<>11*INTERFACE!AA$11/10,\"\",IF(A226=11*INTERFACE!AA$11/10,11*INTERFACE!AA$11/10))","v":0},0,false,0,false,null,0,false]
[{"$f":"INTERFACE!A227","v":0},{"$f":"INTERFACE!B227","v":{"$error":"#VALUE!"}},"",{"$f":"IF(A227<>11*INTERFACE!AA$11/10,\"\",IF(A227=11*INTERFACE!AA$11/10,11*INTERFACE!AA$11/10))","v":0},0,false,0,false,null,0,false]
[{"$f":"INTERFACE!A228","v":0},{"$f":"INTERFACE!B228","v":{"$error":"#VALUE!"}},"",{"$f":"IF(A228<>11*INTERFACE!AA$11/10,\"\",IF(A228=11*INTERFACE!AA$11/10,11*INTERFACE!AA$11/10))","v":0},0,false,0,false,null,0,false]
[{"$f":"INTERFACE!A229","v":0},{"$f":"INTERFACE!B229","v":{"$error":"#VALUE!"}},"",{"$f":"IF(A229<>11*INTERFACE!AA$11/10,\"\",IF(A229=11*INTERFACE!AA$11/10,11*INTERFACE!AA$11/10))","v":0},0,false,0,false,null,0,false]
[{"$f":"INTERFACE!A230","v":0},{"$f":"INTERFACE!B230","v":{"$error":"#VALUE!"}},"",{"$f":"IF(A230<>11*INTERFACE!AA$11/10,\"\",IF(A230=11*INTERFACE!AA$11/10,11*INTERFACE!AA$11/10))","v":0},0,false,0,false,null,0,false]
[{"$f":"INTERFACE!A231","v":0},{"$f":"INTERFACE!B231","v":{"$error":"#VALUE!"}},"",{"$f":"IF(A231<>11*INTERFACE!AA$11/10,\"\",IF(A231=11*INTERFACE!AA$11/10,11*INTERFACE!AA$11/10))","v":0},0,false,0,false,null,0,false]
[{"$f":"INTERFACE!A232","v":0},{"$f":"INTERFACE!B232","v":{"$error":"#VALUE!"}},"",{"$f":"IF(A232<>11*INTERFACE!AA$11/10,\"\",IF(A232=11*INTERFACE!AA$11/10,11*INTERFACE!AA$11/10))","v":0},0,false,0,false,null,0,false]
[{"$f":"INTERFACE!A233","v":0},{"$f":"INTERFACE!B233","v":{"$error":"#VALUE!"}},"",{"$f":"IF(A233<>11*INTERFACE!AA$11/10,\"\",IF(A233=11*INTERFACE!AA$11/10,11*INTERFACE!AA$11/10))","v":0},0,false,0,false,null,0,false]
[{"$f":"INTERFACE!A234","v":0},{"$f":"INTERFACE!B234","v":{"$error":"#VALUE!"}},"",{"$f":"IF(A234<>11*INTERFACE!AA$11/10,\"\",IF(A234=11*INTERFACE!AA$11/10,11*INTERFACE!AA$11/10))","v":0},0,false,0,false,null,0,false]
[{"$f":"INTERFACE!A235","v":0},{"$f":"INTERFACE!B235","v":{"$error":"#VALUE!"}},"",{"$f":"IF(A235<>11*INTERFACE!AA$11/10,\"\",IF(A235=11*INTERFACE!AA$11/10,11*INTERFACE!AA$11/10))","v":0},0,false,0,false,null,0,false]
[{"$f":"INTERFACE!A236","v":0},{"$f":"INTERFACE!B236","v":{"$error":"#VALUE!"}},"",{"$f":"IF(A236<>11*INTERFACE!AA$11/10,\"\",IF(A236=11*INTERFACE!AA$11/10,11*INTERFACE!AA$11/10))","v":0},0,{"$f":"IF(AND(N$8=1,C$6=1),A$40+E$40*(E236-A$38),IF(AND(N$8=2,C$6=1),A$40+E$40*(E236-A$38),IF(AND(N$8=3,C$6=1),A$40+E$40*(E236-A$38),IF(AND(N$8=4,C$6=1),A$40+E$40*(E236-A$38)))))","v":false},0,{"$f":"IF(AND(N$8=1,C$6=1),\"\",IF(AND(N$8=2,C$6=1),D$40+B$40*(G236-D$38),IF(AND(N$8=3,C$6=1),D$40+B$40*(G236-D$38),IF(AND(N$8=4,C$6=1),D$40+B$40*(G236-D$38)))))","v":false},null,0,{"$f":"IF(AND(N$8=1,C$6=1),\"\",IF(AND(N$8=2,C$6=1),\"\",IF(AND(N$8=3,C$6=1),\"\",IF(AND(N$8=4,C$6=1),E$40*(E236-G$38)+H$38))))","v":false}]
[{"$f":"INTERFACE!A237","v":0},{"$f":"INTERFACE!B237","v":{"$error":"#VALUE!"}},{"$f":"IF(C$6=1,\"\",IF(C$6=2,(B238-B236)/(A238-A236),IF(C$6=3,\"\")))","v":""},{"$f":"IF(A237<>11*INTERFACE!AA$11/10,\"\",IF(A237=11*INTERFACE!AA$11/10,11*INTERFACE!AA$11/10))","v":0},{"$f":"0.01*E$43+E236","v":0},false,{"$f":"0.01*G$43+G236","v":0},false,null,{"$f":"0.01*J$43+J236","v":0},false]
[{"$f":"INTERFACE!A238","v":0},{"$f":"INTERFACE!B238","v":{"$error":"#VALUE!"}},"",{"$f":"IF(A238<>11*INTERFACE!AA$11/10,\"\",IF(A238=11*INTERFACE!AA$11/10,11*INTERFACE!AA$11/10))","v":0},0,false,0,false,null,0,false]
[{"$f":"INTERFACE!A239","v":0},{"$f":"INTERFACE!B239","v":{"$error":"#VALUE!"}},"",{"$f":"IF(A239<>11*INTERFACE!AA$11/10,\"\",IF(A239=11*INTERFACE!AA$11/10,11*INTERFACE!AA$11/10))","v":0},0,false,0,false,null,0,false]
[{"$f":"INTERFACE!A240","v":0},{"$f":"INTERFACE!B240","v":{"$error":"#VALUE!"}},"",{"$f":"IF(A240<>11*INTERFACE!AA$11/10,\"\",IF(A240=11*INTERFACE!AA$11/10,11*INTERFACE!AA$11/10))","v":0},0,false,0,false,null,0,false]
[{"$f":"INTERFACE!A241","v":0},{"$f":"INTERFACE!B241","v":{"$error":"#VALUE!"}},"",{"$f":"IF(A241<>11*INTERFACE!AA$11/10,\"\",IF(A241=11*INTERFACE!AA$11/10,11*INTERFACE!AA$11/10))","v":0},0,false,0,false,null,0,false]
[{"$f":"INTERFACE!A242","v":0},{"$f":"INTERFACE!B242","v":{"$error":"#VALUE!"}},"",{"$f":"IF(A242<>11*INTERFACE!AA$11/10,\"\",IF(A242=11*INTERFACE!AA$11/10,11*INTERFACE!AA$11/10))","v":0},0,false,0,false,null,0,false]
[{"$f":"INTERFACE!A243","v":0},{"$f":"INTERFACE!B243","v":{"$error":"#VALUE!"}},"",{"$f":"IF(A243<>11*INTERFACE!AA$11/10,\"\",IF(A243=11*INTERFACE!AA$11/10,11*INTERFACE!AA$11/10))","v":0},0,false,0,false,null,0,false]

{"sheet":"IMPRESSION","index":3,"n_rows":243,"n_cols":15,"rows_kept":243,"cut":false,"hidden":false,"merged":[[44,4,44,5],[23,5,23,8],[42,11,42,12],[41,3,41,5],[42,4,42,5],[43,4,43,5]]}
[]
[]
[]
[]
[]
[null,null,null,null,null,null,null,null,null,null,null,null,null,null,"innovsciences"]
[null,null,null,null,null,null,null,null,null,null,null,"Vacide =",{"$f":"INTERFACE!B$9","v":0}]
[null,null,null,null,null,null,null,null,null,null,null,"Cacide =",{"$f":"INTERFACE!D$9","v":0}]
[null,null,null,null,null,null,null,null,null,null,null,"Cbase =",{"$f":"INTERFACE!F$9","v":0}]
[]
[]
[]
[]
[]
[]
[]
[]
[]
[]
[]
[]
[]
[]
[null,null,null,null,null,{"$f":"IF(INTERFACE!C$4=1,INTERFACE!AC4,IF(INTERFACE!C$4=2,INTERFACE!AC5,IF(INTERFACE!C$4=3,INTERFACE!AC6,IF(INTERFACE!C$4=4,INTERFACE!AC7))))","v":false},null,null,null,"pKa = ",{"$f":"IF(INTERFACE!C$4=1,INTERFACE!AF$4,IF(INTERFACE!C$4=2,INTERFACE!AF$5,IF(INTERFACE!C$4=3,INTERFACE!AF$6,IF(INTERFACE!C$4=4,INTERFACE!AF$7))))","v":false}]
[]
[]
[]
[]
[]
[]
[]
[]
[]
[]
[]
[]
[]
[]
[]
[]
[]
["Vb(mL)","pH"]
[{"$f":"MIN(INTERFACE!D43,INTERFACE!AB$17)","v":0},{"$f":"MIN(INTERFACE!G$22,INTERFACE!E43)","v":{"$error":"#VALUE!"}},null,null,null,null,null,null,null,null,null,"point d'équivalence (indica)"]
[{"$f":"MIN(INTERFACE!D44,INTERFACE!AB$17)","v":0},{"$f":"MIN(INTERFACE!G$22,INTERFACE!E44)","v":{"$error":"#VALUE!"}},null,null,null,null,null,null,null,null,null,{"$f":"INTERFACE!Q$47","v":0},{"$f":"0","v":0}]
[{"$f":"MIN(INTERFACE!D45,INTERFACE!AB$17)","v":0},{"$f":"MIN(INTERFACE!G$22,INTERFACE!E45)","v":{"$error":"#VALUE!"}},null,null,null,null,null,null,null,null,null,{"$f":"INTERFACE!Q$48","v":0},{"$f":"INTERFACE!R$48","v":{"$error":"#VALUE!"}}]
[{"$f":"MIN(INTERFACE!D46,INTERFACE!AB$17)","v":0},{"$f":"MIN(INTERFACE!G$22,INTERFACE!E46)","v":{"$error":"#VALUE!"}},null,null,null,null,null,null,null,null,null,{"$f":"0","v":0},{"$f":"INTERFACE!R$49","v":{"$error":"#VALUE!"}}]
[{"$f":"MIN(INTERFACE!D47,INTERFACE!AB$17)","v":0},{"$f":"MIN(INTERFACE!G$22,INTERFACE!E47)","v":{"$error":"#VALUE!"}}]
[{"$f":"MIN(INTERFACE!D48,INTERFACE!AB$17)","v":0},{"$f":"MIN(INTERFACE!G$22,INTERFACE!E48)","v":{"$error":"#VALUE!"}}]
[{"$f":"MIN(INTERFACE!D49,INTERFACE!AB$17)","v":0},{"$f":"MIN(INTERFACE!G$22,INTERFACE!E49)","v":{"$error":"#VALUE!"}}]
[{"$f":"MIN(INTERFACE!D50,INTERFACE!AB$17)","v":0},{"$f":"MIN(INTERFACE!G$22,INTERFACE!E50)","v":{"$error":"#VALUE!"}}]
[{"$f":"MIN(INTERFACE!D51,INTERFACE!AB$17)","v":0},{"$f":"MIN(INTERFACE!G$22,INTERFACE!E51)","v":{"$error":"#VALUE!"}}]
[{"$f":"MIN(INTERFACE!D52,INTERFACE!AB$17)","v":0},{"$f":"MIN(INTERFACE!G$22,INTERFACE!E52)","v":{"$error":"#VALUE!"}}]
[{"$f":"MIN(INTERFACE!D53,INTERFACE!AB$17)","v":0},{"$f":"MIN(INTERFACE!G$22,INTERFACE!E53)","v":{"$error":"#VALUE!"}}]
[{"$f":"MIN(INTERFACE!D54,INTERFACE!AB$17)","v":0},{"$f":"MIN(INTERFACE!G$22,INTERFACE!E54)","v":{"$error":"#VALUE!"}}]
[{"$f":"MIN(INTERFACE!D55,INTERFACE!AB$17)","v":0},{"$f":"MIN(INTERFACE!G$22,INTERFACE!E55)","v":{"$error":"#VALUE!"}}]
[{"$f":"MIN(INTERFACE!D56,INTERFACE!AB$17)","v":0},{"$f":"MIN(INTERFACE!G$22,INTERFACE!E56)","v":{"$error":"#VALUE!"}}]
[{"$f":"MIN(INTERFACE!D57,INTERFACE!AB$17)","v":0},{"$f":"MIN(INTERFACE!G$22,INTERFACE!E57)","v":{"$error":"#VALUE!"}}]
[{"$f":"MIN(INTERFACE!D58,INTERFACE!AB$17)","v":0},{"$f":"MIN(INTERFACE!G$22,INTERFACE!E58)","v":{"$error":"#VALUE!"}}]
[{"$f":"MIN(INTERFACE!D59,INTERFACE!AB$17)","v":0},{"$f":"MIN(INTERFACE!G$22,INTERFACE!E59)","v":{"$error":"#VALUE!"}}]
[{"$f":"MIN(INTERFACE!D60,INTERFACE!AB$17)","v":0},{"$f":"MIN(INTERFACE!G$22,INTERFACE!E60)","v":{"$error":"#VALUE!"}}]
[{"$f":"MIN(INTERFACE!D61,INTERFACE!AB$17)","v":0},{"$f":"MIN(INTERFACE!G$22,INTERFACE!E61)","v":{"$error":"#VALUE!"}}]
[{"$f":"MIN(INTERFACE!D62,INTERFACE!AB$17)","v":0},{"$f":"MIN(INTERFACE!G$22,INTERFACE!E62)","v":{"$error":"#VALUE!"}}]
[{"$f":"MIN(INTERFACE!D63,INTERFACE!AB$17)","v":0},{"$f":"MIN(INTERFACE!G$22,INTERFACE!E63)","v":{"$error":"#VALUE!"}}]
[{"$f":"MIN(INTERFACE!D64,INTERFACE!AB$17)","v":0},{"$f":"MIN(INTERFACE!G$22,INTERFACE!E64)","v":{"$error":"#VALUE!"}}]
[{"$f":"MIN(INTERFACE!D65,INTERFACE!AB$17)","v":0},{"$f":"MIN(INTERFACE!G$22,INTERFACE!E65)","v":{"$error":"#VALUE!"}}]
[{"$f":"MIN(INTERFACE!D66,INTERFACE!AB$17)","v":0},{"$f":"MIN(INTERFACE!G$22,INTERFACE!E66)","v":{"$error":"#VALUE!"}}]
[{"$f":"MIN(INTERFACE!D67,INTERFACE!AB$17)","v":0},{"$f":"MIN(INTERFACE!G$22,INTERFACE!E67)","v":{"$error":"#VALUE!"}}]
[{"$f":"MIN(INTERFACE!D68,INTERFACE!AB$17)","v":0},{"$f":"MIN(INTERFACE!G$22,INTERFACE!E68)","v":{"$error":"#VALUE!"}}]
[{"$f":"MIN(INTERFACE!D69,INTERFACE!AB$17)","v":0},{"$f":"MIN(INTERFACE!G$22,INTERFACE!E69)","v":{"$error":"#VALUE!"}}]
[{"$f":"MIN(INTERFACE!D70,INTERFACE!AB$17)","v":0},{"$f":"MIN(INTERFACE!G$22,INTERFACE!E70)","v":{"$error":"#VALUE!"}}]
[{"$f":"MIN(INTERFACE!D71,INTERFACE!AB$17)","v":0},{"$f":"MIN(INTERFACE!G$22,INTERFACE!E71)","v":{"$error":"#VALUE!"}}]
[{"$f":"MIN(INTERFACE!D72,INTERFACE!AB$17)","v":0},{"$f":"MIN(INTERFACE!G$22,INTERFACE!E72)","v":{"$error":"#VALUE!"}}]
[{"$f":"MIN(INTERFACE!D73,INTERFACE!AB$17)","v":0},{"$f":"MIN(INTERFACE!G$22,INTERFACE!E73)","v":{"$error":"#VALUE!"}}]
[{"$f":"MIN(INTERFACE!D74,INTERFACE!AB$17)","v":0},{"$f":"MIN(INTERFACE!G$22,INTERFACE!E74)","v":{"$error":"#VALUE!"}}]
[{"$f":"MIN(INTERFACE!D75,INTERFACE!AB$17)","v":0},{"$f":"MIN(INTERFACE!G$22,INTERFACE!E75)","v":{"$error":"#VALUE!"}}]
[{"$f":"MIN(INTERFACE!D76,INTERFACE!AB$17)","v":0},{"$f":"MIN(INTERFACE!G$22,INTERFACE!E76)","v":{"$error":"#VALUE!"}}]
[{"$f":"MIN(INTERFACE!D77,INTERFACE!AB$17)","v":0},{"$f":"MIN(INTERFACE!G$22,INTERFACE!E77)","v":{"$error":"#VALUE!"}}]
[{"$f":"MIN(INTERFACE!D78,INTERFACE!AB$17)","v":0},{"$f":"MIN(INTERFACE!G$22,INTERFACE!E78)","v":{"$error":"#VALUE!"}}]
[{"$f":"MIN(INTERFACE!D79,INTERFACE!AB$17)","v":0},{"$f":"MIN(INTERFACE!G$22,INTERFACE!E79)","v":{"$error":"#VALUE!"}}]
[{"$f":"MIN(INTERFACE!D80,INTERFACE!AB$17)","v":0},{"$f":"MIN(INTERFACE!G$22,INTERFACE!E80)","v":{"$error":"#VALUE!"}}]
[{"$f":"MIN(INTERFACE!D81,INTERFACE!AB$17)","v":0},{"$f":"MIN(INTERFACE!G$22,INTERFACE!E81)","v":{"$error":"#VALUE!"}}]
[{"$f":"MIN(INTERFACE!D82,INTERFACE!AB$17)","v":0},{"$f":"MIN(INTERFACE!G$22,INTERFACE!E82)","v":{"$error":"#VALUE!"}}]
[{"$f":"MIN(INTERFACE!D83,INTERFACE!AB$17)","v":0},{"$f":"MIN(INTERFACE!G$22,INTERFACE!E83)","v":{"$error":"#VALUE!"}}]
[{"$f":"MIN(INTERFACE!D84,INTERFACE!AB$17)","v":0},{"$f":"MIN(INTERFACE!G$22,INTERFACE!E84)","v":{"$error":"#VALUE!"}}]
[{"$f":"MIN(INTERFACE!D85,INTERFACE!AB$17)","v":0},{"$f":"MIN(INTERFACE!G$22,INTERFACE!E85)","v":{"$error":"#VALUE!"}}]
[{"$f":"MIN(INTERFACE!D86,INTERFACE!AB$17)","v":0},{"$f":"MIN(INTERFACE!G$22,INTERFACE!E86)","v":{"$error":"#VALUE!"}}]
[{"$f":"MIN(INTERFACE!D87,INTERFACE!AB$17)","v":0},{"$f":"MIN(INTERFACE!G$22,INTERFACE!E87)","v":{"$error":"#VALUE!"}}]
[{"$f":"MIN(INTERFACE!D88,INTERFACE!AB$17)","v":0},{"$f":"MIN(INTERFACE!G$22,INTERFACE!E88)","v":{"$error":"#VALUE!"}}]
[{"$f":"MIN(INTERFACE!D89,INTERFACE!AB$17)","v":0},{"$f":"MIN(INTERFACE!G$22,INTERFACE!E89)","v":{"$error":"#VALUE!"}}]
[{"$f":"MIN(INTERFACE!D90,INTERFACE!AB$17)","v":0},{"$f":"MIN(INTERFACE!G$22,INTERFACE!E90)","v":{"$error":"#VALUE!"}}]
[{"$f":"MIN(INTERFACE!D91,INTERFACE!AB$17)","v":0},{"$f":"MIN(INTERFACE!G$22,INTERFACE!E91)","v":{"$error":"#VALUE!"}}]
[{"$f":"MIN(INTERFACE!D92,INTERFACE!AB$17)","v":0},{"$f":"MIN(INTERFACE!G$22,INTERFACE!E92)","v":{"$error":"#VALUE!"}}]
[{"$f":"MIN(INTERFACE!D93,INTERFACE!AB$17)","v":0},{"$f":"MIN(INTERFACE!G$22,INTERFACE!E93)","v":{"$error":"#VALUE!"}}]
[{"$f":"MIN(INTERFACE!D94,INTERFACE!AB$17)","v":0},{"$f":"MIN(INTERFACE!G$22,INTERFACE!E94)","v":{"$error":"#VALUE!"}}]
[{"$f":"MIN(INTERFACE!D95,INTERFACE!AB$17)","v":0},{"$f":"MIN(INTERFACE!G$22,INTERFACE!E95)","v":{"$error":"#VALUE!"}}]
[{"$f":"MIN(INTERFACE!D96,INTERFACE!AB$17)","v":0},{"$f":"MIN(INTERFACE!G$22,INTERFACE!E96)","v":{"$error":"#VALUE!"}}]
[{"$f":"MIN(INTERFACE!D97,INTERFACE!AB$17)","v":0},{"$f":"MIN(INTERFACE!G$22,INTERFACE!E97)","v":{"$error":"#VALUE!"}}]
[{"$f":"MIN(INTERFACE!D98,INTERFACE!AB$17)","v":0},{"$f":"MIN(INTERFACE!G$22,INTERFACE!E98)","v":{"$error":"#VALUE!"}}]
[{"$f":"MIN(INTERFACE!D99,INTERFACE!AB$17)","v":0},{"$f":"MIN(INTERFACE!G$22,INTERFACE!E99)","v":{"$error":"#VALUE!"}}]
[{"$f":"MIN(INTERFACE!D100,INTERFACE!AB$17)","v":0},{"$f":"MIN(INTERFACE!G$22,INTERFACE!E100)","v":{"$error":"#VALUE!"}}]
[{"$f":"MIN(INTERFACE!D101,INTERFACE!AB$17)","v":0},{"$f":"MIN(INTERFACE!G$22,INTERFACE!E101)","v":{"$error":"#VALUE!"}}]
[{"$f":"MIN(INTERFACE!D102,INTERFACE!AB$17)","v":0},{"$f":"MIN(INTERFACE!G$22,INTERFACE!E102)","v":{"$error":"#VALUE!"}}]
[{"$f":"MIN(INTERFACE!D103,INTERFACE!AB$17)","v":0},{"$f":"MIN(INTERFACE!G$22,INTERFACE!E103)","v":{"$error":"#VALUE!"}}]
[{"$f":"MIN(INTERFACE!D104,INTERFACE!AB$17)","v":0},{"$f":"MIN(INTERFACE!G$22,INTERFACE!E104)","v":{"$error":"#VALUE!"}}]
[{"$f":"MIN(INTERFACE!D105,INTERFACE!AB$17)","v":0},{"$f":"MIN(INTERFACE!G$22,INTERFACE!E105)","v":{"$error":"#VALUE!"}}]
[{"$f":"MIN(INTERFACE!D106,INTERFACE!AB$17)","v":0},{"$f":"MIN(INTERFACE!G$22,INTERFACE!E106)","v":{"$error":"#VALUE!"}}]
[{"$f":"MIN(INTERFACE!D107,INTERFACE!AB$17)","v":0},{"$f":"MIN(INTERFACE!G$22,INTERFACE!E107)","v":{"$error":"#VALUE!"}}]
[{"$f":"MIN(INTERFACE!D108,INTERFACE!AB$17)","v":0},{"$f":"MIN(INTERFACE!G$22,INTERFACE!E108)","v":{"$error":"#VALUE!"}}]
[{"$f":"MIN(INTERFACE!D109,INTERFACE!AB$17)","v":0},{"$f":"MIN(INTERFACE!G$22,INTERFACE!E109)","v":{"$error":"#VALUE!"}}]
[{"$f":"MIN(INTERFACE!D110,INTERFACE!AB$17)","v":0},{"$f":"MIN(INTERFACE!G$22,INTERFACE!E110)","v":{"$error":"#VALUE!"}}]
[{"$f":"MIN(INTERFACE!D111,INTERFACE!AB$17)","v":0},{"$f":"MIN(INTERFACE!G$22,INTERFACE!E111)","v":{"$error":"#VALUE!"}}]
[{"$f":"MIN(INTERFACE!D112,INTERFACE!AB$17)","v":0},{"$f":"MIN(INTERFACE!G$22,INTERFACE!E112)","v":{"$error":"#VALUE!"}}]
[{"$f":"MIN(INTERFACE!D113,INTERFACE!AB$17)","v":0},{"$f":"MIN(INTERFACE!G$22,INTERFACE!E113)","v":{"$error":"#VALUE!"}}]
[{"$f":"MIN(INTERFACE!D114,INTERFACE!AB$17)","v":0},{"$f":"MIN(INTERFACE!G$22,INTERFACE!E114)","v":{"$error":"#VALUE!"}}]
[{"$f":"MIN(INTERFACE!D115,INTERFACE!AB$17)","v":0},{"$f":"MIN(INTERFACE!G$22,INTERFACE!E115)","v":{"$error":"#VALUE!"}}]
[{"$f":"MIN(INTERFACE!D116,INTERFACE!AB$17)","v":0},{"$f":"MIN(INTERFACE!G$22,INTERFACE!E116)","v":{"$error":"#VALUE!"}}]
[{"$f":"MIN(INTERFACE!D117,INTERFACE!AB$17)","v":0},{"$f":"MIN(INTERFACE!G$22,INTERFACE!E117)","v":{"$error":"#VALUE!"}}]
[{"$f":"MIN(INTERFACE!D118,INTERFACE!AB$17)","v":0},{"$f":"MIN(INTERFACE!G$22,INTERFACE!E118)","v":{"$error":"#VALUE!"}}]
[{"$f":"MIN(INTERFACE!D119,INTERFACE!AB$17)","v":0},{"$f":"MIN(INTERFACE!G$22,INTERFACE!E119)","v":{"$error":"#VALUE!"}}]
[{"$f":"MIN(INTERFACE!D120,INTERFACE!AB$17)","v":0},{"$f":"MIN(INTERFACE!G$22,INTERFACE!E120)","v":{"$error":"#VALUE!"}}]
[{"$f":"MIN(INTERFACE!D121,INTERFACE!AB$17)","v":0},{"$f":"MIN(INTERFACE!G$22,INTERFACE!E121)","v":{"$error":"#VALUE!"}}]
[{"$f":"MIN(INTERFACE!D122,INTERFACE!AB$17)","v":0},{"$f":"MIN(INTERFACE!G$22,INTERFACE!E122)","v":{"$error":"#VALUE!"}}]
[{"$f":"MIN(INTERFACE!D123,INTERFACE!AB$17)","v":0},{"$f":"MIN(INTERFACE!G$22,INTERFACE!E123)","v":{"$error":"#VALUE!"}}]
[{"$f":"MIN(INTERFACE!D124,INTERFACE!AB$17)","v":0},{"$f":"MIN(INTERFACE!G$22,INTERFACE!E124)","v":{"$error":"#VALUE!"}}]
[{"$f":"MIN(INTERFACE!D125,INTERFACE!AB$17)","v":0},{"$f":"MIN(INTERFACE!G$22,INTERFACE!E125)","v":{"$error":"#VALUE!"}}]
[{"$f":"MIN(INTERFACE!D126,INTERFACE!AB$17)","v":0},{"$f":"MIN(INTERFACE!G$22,INTERFACE!E126)","v":{"$error":"#VALUE!"}}]
[{"$f":"MIN(INTERFACE!D127,INTERFACE!AB$17)","v":0},{"$f":"MIN(INTERFACE!G$22,INTERFACE!E127)","v":{"$error":"#VALUE!"}}]
[{"$f":"MIN(INTERFACE!D128,INTERFACE!AB$17)","v":0},{"$f":"MIN(INTERFACE!G$22,INTERFACE!E128)","v":{"$error":"#VALUE!"}}]
[{"$f":"MIN(INTERFACE!D129,INTERFACE!AB$17)","v":0},{"$f":"MIN(INTERFACE!G$22,INTERFACE!E129)","v":{"$error":"#VALUE!"}}]
[{"$f":"MIN(INTERFACE!D130,INTERFACE!AB$17)","v":0},{"$f":"MIN(INTERFACE!G$22,INTERFACE!E130)","v":{"$error":"#VALUE!"}}]
[{"$f":"MIN(INTERFACE!D131,INTERFACE!AB$17)","v":0},{"$f":"MIN(INTERFACE!G$22,INTERFACE!E131)","v":{"$error":"#VALUE!"}}]
[{"$f":"MIN(INTERFACE!D132,INTERFACE!AB$17)","v":0},{"$f":"MIN(INTERFACE!G$22,INTERFACE!E132)","v":{"$error":"#VALUE!"}}]
[{"$f":"MIN(INTERFACE!D133,INTERFACE!AB$17)","v":0},{"$f":"MIN(INTERFACE!G$22,INTERFACE!E133)","v":{"$error":"#VALUE!"}}]
[{"$f":"MIN(INTERFACE!D134,INTERFACE!AB$17)","v":0},{"$f":"MIN(INTERFACE!G$22,INTERFACE!E134)","v":{"$error":"#VALUE!"}}]
[{"$f":"MIN(INTERFACE!D135,INTERFACE!AB$17)","v":0},{"$f":"MIN(INTERFACE!G$22,INTERFACE!E135)","v":{"$error":"#VALUE!"}}]
[{"$f":"MIN(INTERFACE!D136,INTERFACE!AB$17)","v":0},{"$f":"MIN(INTERFACE!G$22,INTERFACE!E136)","v":{"$error":"#VALUE!"}}]
[{"$f":"MIN(INTERFACE!D137,INTERFACE!AB$17)","v":0},{"$f":"MIN(INTERFACE!G$22,INTERFACE!E137)","v":{"$error":"#VALUE!"}}]
[{"$f":"MIN(INTERFACE!D138,INTERFACE!AB$17)","v":0},{"$f":"MIN(INTERFACE!G$22,INTERFACE!E138)","v":{"$error":"#VALUE!"}}]
[{"$f":"MIN(INTERFACE!D139,INTERFACE!AB$17)","v":0},{"$f":"MIN(INTERFACE!G$22,INTERFACE!E139)","v":{"$error":"#VALUE!"}}]
[{"$f":"MIN(INTERFACE!D140,INTERFACE!AB$17)","v":0},{"$f":"MIN(INTERFACE!G$22,INTERFACE!E140)","v":{"$error":"#VALUE!"}}]
[{"$f":"MIN(INTERFACE!D141,INTERFACE!AB$17)","v":0},{"$f":"MIN(INTERFACE!G$22,INTERFACE!E141)","v":{"$error":"#VALUE!"}}]
[{"$f":"MIN(INTERFACE!D142,INTERFACE!AB$17)","v":0},{"$f":"MIN(INTERFACE!G$22,INTERFACE!E142)","v":{"$error":"#VALUE!"}}]
[{"$f":"MIN(INTERFACE!D143,INTERFACE!AB$17)","v":0},{"$f":"MIN(INTERFACE!G$22,INTERFACE!E143)","v":{"$error":"#VALUE!"}}]
[{"$f":"MIN(INTERFACE!D144,INTERFACE!AB$17)","v":0},{"$f":"MIN(INTERFACE!G$22,INTERFACE!E144)","v":{"$error":"#VALUE!"}}]
[{"$f":"MIN(INTERFACE!D145,INTERFACE!AB$17)","v":0},{"$f":"MIN(INTERFACE!G$22,INTERFACE!E145)","v":{"$error":"#VALUE!"}}]
[{"$f":"MIN(INTERFACE!D146,INTERFACE!AB$17)","v":0},{"$f":"MIN(INTERFACE!G$22,INTERFACE!E146)","v":{"$error":"#VALUE!"}}]
[{"$f":"MIN(INTERFACE!D147,INTERFACE!AB$17)","v":0},{"$f":"MIN(INTERFACE!G$22,INTERFACE!E147)","v":{"$error":"#VALUE!"}}]
[{"$f":"MIN(INTERFACE!D148,INTERFACE!AB$17)","v":0},{"$f":"MIN(INTERFACE!G$22,INTERFACE!E148)","v":{"$error":"#VALUE!"}}]
[{"$f":"MIN(INTERFACE!D149,INTERFACE!AB$17)","v":0},{"$f":"MIN(INTERFACE!G$22,INTERFACE!E149)","v":{"$error":"#VALUE!"}}]
[{"$f":"MIN(INTERFACE!D150,INTERFACE!AB$17)","v":0},{"$f":"MIN(INTERFACE!G$22,INTERFACE!E150)","v":{"$error":"#VALUE!"}}]
[{"$f":"MIN(INTERFACE!D151,INTERFACE!AB$17)","v":0},{"$f":"MIN(INTERFACE!G$22,INTERFACE!E151)","v":{"$error":"#VALUE!"}}]
[{"$f":"MIN(INTERFACE!D152,INTERFACE!AB$17)","v":0},{"$f":"MIN(INTERFACE!G$22,INTERFACE!E152)","v":{"$error":"#VALUE!"}}]
[{"$f":"MIN(INTERFACE!D153,INTERFACE!AB$17)","v":0},{"$f":"MIN(INTERFACE!G$22,INTERFACE!E153)","v":{"$error":"#VALUE!"}}]
[{"$f":"MIN(INTERFACE!D154,INTERFACE!AB$17)","v":0},{"$f":"MIN(INTERFACE!G$22,INTERFACE!E154)","v":{"$error":"#VALUE!"}}]
[{"$f":"MIN(INTERFACE!D155,INTERFACE!AB$17)","v":0},{"$f":"MIN(INTERFACE!G$22,INTERFACE!E155)","v":{"$error":"#VALUE!"}}]
[{"$f":"MIN(INTERFACE!D156,INTERFACE!AB$17)","v":0},{"$f":"MIN(INTERFACE!G$22,INTERFACE!E156)","v":{"$error":"#VALUE!"}}]
[{"$f":"MIN(INTERFACE!D157,INTERFACE!AB$17)","v":0},{"$f":"MIN(INTERFACE!G$22,INTERFACE!E157)","v":{"$error":"#VALUE!"}}]
[{"$f":"MIN(INTERFACE!D158,INTERFACE!AB$17)","v":0},{"$f":"MIN(INTERFACE!G$22,INTERFACE!E158)","v":{"$error":"#VALUE!"}}]
[{"$f":"MIN(INTERFACE!D159,INTERFACE!AB$17)","v":0},{"$f":"MIN(INTERFACE!G$22,INTERFACE!E159)","v":{"$error":"#VALUE!"}}]
[{"$f":"MIN(INTERFACE!D160,INTERFACE!AB$17)","v":0},{"$f":"MIN(INTERFACE!G$22,INTERFACE!E160)","v":{"$error":"#VALUE!"}}]
[{"$f":"MIN(INTERFACE!D161,INTERFACE!AB$17)","v":0},{"$f":"MIN(INTERFACE!G$22,INTERFACE!E161)","v":{"$error":"#VALUE!"}}]
[{"$f":"MIN(INTERFACE!D162,INTERFACE!AB$17)","v":0},{"$f":"MIN(INTERFACE!G$22,INTERFACE!E162)","v":{"$error":"#VALUE!"}}]
[{"$f":"MIN(INTERFACE!D163,INTERFACE!AB$17)","v":0},{"$f":"MIN(INTERFACE!G$22,INTERFACE!E163)","v":{"$error":"#VALUE!"}}]
[{"$f":"MIN(INTERFACE!D164,INTERFACE!AB$17)","v":0},{"$f":"MIN(INTERFACE!G$22,INTERFACE!E164)","v":{"$error":"#VALUE!"}}]
[{"$f":"MIN(INTERFACE!D165,INTERFACE!AB$17)","v":0},{"$f":"MIN(INTERFACE!G$22,INTERFACE!E165)","v":{"$error":"#VALUE!"}}]
[{"$f":"MIN(INTERFACE!D166,INTERFACE!AB$17)","v":0},{"$f":"MIN(INTERFACE!G$22,INTERFACE!E166)","v":{"$error":"#VALUE!"}}]
[{"$f":"MIN(INTERFACE!D167,INTERFACE!AB$17)","v":0},{"$f":"MIN(INTERFACE!G$22,INTERFACE!E167)","v":{"$error":"#VALUE!"}}]
[{"$f":"MIN(INTERFACE!D168,INTERFACE!AB$17)","v":0},{"$f":"MIN(INTERFACE!G$22,INTERFACE!E168)","v":{"$error":"#VALUE!"}}]
[{"$f":"MIN(INTERFACE!D169,INTERFACE!AB$17)","v":0},{"$f":"MIN(INTERFACE!G$22,INTERFACE!E169)","v":{"$error":"#VALUE!"}}]
[{"$f":"MIN(INTERFACE!D170,INTERFACE!AB$17)","v":0},{"$f":"MIN(INTERFACE!G$22,INTERFACE!E170)","v":{"$error":"#VALUE!"}}]
[{"$f":"MIN(INTERFACE!D171,INTERFACE!AB$17)","v":0},{"$f":"MIN(INTERFACE!G$22,INTERFACE!E171)","v":{"$error":"#VALUE!"}}]
[{"$f":"MIN(INTERFACE!D172,INTERFACE!AB$17)","v":0},{"$f":"MIN(INTERFACE!G$22,INTERFACE!E172)","v":{"$error":"#VALUE!"}}]
[{"$f":"MIN(INTERFACE!D173,INTERFACE!AB$17)","v":0},{"$f":"MIN(INTERFACE!G$22,INTERFACE!E173)","v":{"$error":"#VALUE!"}}]
[{"$f":"MIN(INTERFACE!D174,INTERFACE!AB$17)","v":0},{"$f":"MIN(INTERFACE!G$22,INTERFACE!E174)","v":{"$error":"#VALUE!"}}]
[{"$f":"MIN(INTERFACE!D175,INTERFACE!AB$17)","v":0},{"$f":"MIN(INTERFACE!G$22,INTERFACE!E175)","v":{"$error":"#VALUE!"}}]
[{"$f":"MIN(INTERFACE!D176,INTERFACE!AB$17)","v":0},{"$f":"MIN(INTERFACE!G$22,INTERFACE!E176)","v":{"$error":"#VALUE!"}}]
[{"$f":"MIN(INTERFACE!D177,INTERFACE!AB$17)","v":0},{"$f":"MIN(INTERFACE!G$22,INTERFACE!E177)","v":{"$error":"#VALUE!"}}]
[{"$f":"MIN(INTERFACE!D178,INTERFACE!AB$17)","v":0},{"$f":"MIN(INTERFACE!G$22,INTERFACE!E178)","v":{"$error":"#VALUE!"}}]
[{"$f":"MIN(INTERFACE!D179,INTERFACE!AB$17)","v":0},{"$f":"MIN(INTERFACE!G$22,INTERFACE!E179)","v":{"$error":"#VALUE!"}}]
[{"$f":"MIN(INTERFACE!D180,INTERFACE!AB$17)","v":0},{"$f":"MIN(INTERFACE!G$22,INTERFACE!E180)","v":{"$error":"#VALUE!"}}]
[{"$f":"MIN(INTERFACE!D181,INTERFACE!AB$17)","v":0},{"$f":"MIN(INTERFACE!G$22,INTERFACE!E181)","v":{"$error":"#VALUE!"}}]
[{"$f":"MIN(INTERFACE!D182,INTERFACE!AB$17)","v":0},{"$f":"MIN(INTERFACE!G$22,INTERFACE!E182)","v":{"$error":"#VALUE!"}}]
[{"$f":"MIN(INTERFACE!D183,INTERFACE!AB$17)","v":0},{"$f":"MIN(INTERFACE!G$22,INTERFACE!E183)","v":{"$error":"#VALUE!"}}]
[{"$f":"MIN(INTERFACE!D184,INTERFACE!AB$17)","v":0},{"$f":"MIN(INTERFACE!G$22,INTERFACE!E184)","v":{"$error":"#VALUE!"}}]
[{"$f":"MIN(INTERFACE!D185,INTERFACE!AB$17)","v":0},{"$f":"MIN(INTERFACE!G$22,INTERFACE!E185)","v":{"$error":"#VALUE!"}}]
[{"$f":"MIN(INTERFACE!D186,INTERFACE!AB$17)","v":0},{"$f":"MIN(INTERFACE!G$22,INTERFACE!E186)","v":{"$error":"#VALUE!"}}]
[{"$f":"MIN(INTERFACE!D187,INTERFACE!AB$17)","v":0},{"$f":"MIN(INTERFACE!G$22,INTERFACE!E187)","v":{"$error":"#VALUE!"}}]
[{"$f":"MIN(INTERFACE!D188,INTERFACE!AB$17)","v":0},{"$f":"MIN(INTERFACE!G$22,INTERFACE!E188)","v":{"$error":"#VALUE!"}}]
[{"$f":"MIN(INTERFACE!D189,INTERFACE!AB$17)","v":0},{"$f":"MIN(INTERFACE!G$22,INTERFACE!E189)","v":{"$error":"#VALUE!"}}]
[{"$f":"MIN(INTERFACE!D190,INTERFACE!AB$17)","v":0},{"$f":"MIN(INTERFACE!G$22,INTERFACE!E190)","v":{"$error":"#VALUE!"}}]
[{"$f":"MIN(INTERFACE!D191,INTERFACE!AB$17)","v":0},{"$f":"MIN(INTERFACE!G$22,INTERFACE!E191)","v":{"$error":"#VALUE!"}}]
[{"$f":"MIN(INTERFACE!D192,INTERFACE!AB$17)","v":0},{"$f":"MIN(INTERFACE!G$22,INTERFACE!E192)","v":{"$error":"#VALUE!"}}]
[{"$f":"MIN(INTERFACE!D193,INTERFACE!AB$17)","v":0},{"$f":"MIN(INTERFACE!G$22,INTERFACE!E193)","v":{"$error":"#VALUE!"}}]
[{"$f":"MIN(INTERFACE!D194,INTERFACE!AB$17)","v":0},{"$f":"MIN(INTERFACE!G$22,INTERFACE!E194)","v":{"$error":"#VALUE!"}}]
[{"$f":"MIN(INTERFACE!D195,INTERFACE!AB$17)","v":0},{"$f":"MIN(INTERFACE!G$22,INTERFACE!E195)","v":{"$error":"#VALUE!"}}]
[{"$f":"MIN(INTERFACE!D196,INTERFACE!AB$17)","v":0},{"$f":"MIN(INTERFACE!G$22,INTERFACE!E196)","v":{"$error":"#VALUE!"}}]
[{"$f":"MIN(INTERFACE!D197,INTERFACE!AB$17)","v":0},{"$f":"MIN(INTERFACE!G$22,INTERFACE!E197)","v":{"$error":"#VALUE!"}}]
[{"$f":"MIN(INTERFACE!D198,INTERFACE!AB$17)","v":0},{"$f":"MIN(INTERFACE!G$22,INTERFACE!E198)","v":{"$error":"#VALUE!"}}]
[{"$f":"MIN(INTERFACE!D199,INTERFACE!AB$17)","v":0},{"$f":"MIN(INTERFACE!G$22,INTERFACE!E199)","v":{"$error":"#VALUE!"}}]
[{"$f":"MIN(INTERFACE!D200,INTERFACE!AB$17)","v":0},{"$f":"MIN(INTERFACE!G$22,INTERFACE!E200)","v":{"$error":"#VALUE!"}}]
[{"$f":"MIN(INTERFACE!D201,INTERFACE!AB$17)","v":0},{"$f":"MIN(INTERFACE!G$22,INTERFACE!E201)","v":{"$error":"#VALUE!"}}]
[{"$f":"MIN(INTERFACE!D202,INTERFACE!AB$17)","v":0},{"$f":"MIN(INTERFACE!G$22,INTERFACE!E202)","v":{"$error":"#VALUE!"}}]
[{"$f":"MIN(INTERFACE!D203,INTERFACE!AB$17)","v":0},{"$f":"MIN(INTERFACE!G$22,INTERFACE!E203)","v":{"$error":"#VALUE!"}}]
[{"$f":"MIN(INTERFACE!D204,INTERFACE!AB$17)","v":0},{"$f":"MIN(INTERFACE!G$22,INTERFACE!E204)","v":{"$error":"#VALUE!"}}]
[{"$f":"MIN(INTERFACE!D205,INTERFACE!AB$17)","v":0},{"$f":"MIN(INTERFACE!G$22,INTERFACE!E205)","v":{"$error":"#VALUE!"}}]
[{"$f":"MIN(INTERFACE!D206,INTERFACE!AB$17)","v":0},{"$f":"MIN(INTERFACE!G$22,INTERFACE!E206)","v":{"$error":"#VALUE!"}}]
[{"$f":"MIN(INTERFACE!D207,INTERFACE!AB$17)","v":0},{"$f":"MIN(INTERFACE!G$22,INTERFACE!E207)","v":{"$error":"#VALUE!"}}]
[{"$f":"MIN(INTERFACE!D208,INTERFACE!AB$17)","v":0},{"$f":"MIN(INTERFACE!G$22,INTERFACE!E208)","v":{"$error":"#VALUE!"}}]
[{"$f":"MIN(INTERFACE!D209,INTERFACE!AB$17)","v":0},{"$f":"MIN(INTERFACE!G$22,INTERFACE!E209)","v":{"$error":"#VALUE!"}}]
[{"$f":"MIN(INTERFACE!D210,INTERFACE!AB$17)","v":0},{"$f":"MIN(INTERFACE!G$22,INTERFACE!E210)","v":{"$error":"#VALUE!"}}]
[{"$f":"MIN(INTERFACE!D211,INTERFACE!AB$17)","v":0},{"$f":"MIN(INTERFACE!G$22,INTERFACE!E211)","v":{"$error":"#VALUE!"}}]
[{"$f":"MIN(INTERFACE!D212,INTERFACE!AB$17)","v":0},{"$f":"MIN(INTERFACE!G$22,INTERFACE!E212)","v":{"$error":"#VALUE!"}}]
[{"$f":"MIN(INTERFACE!D213,INTERFACE!AB$17)","v":0},{"$f":"MIN(INTERFACE!G$22,INTERFACE!E213)","v":{"$error":"#VALUE!"}}]
[{"$f":"MIN(INTERFACE!D214,INTERFACE!AB$17)","v":0},{"$f":"MIN(INTERFACE!G$22,INTERFACE!E214)","v":{"$error":"#VALUE!"}}]
[{"$f":"MIN(INTERFACE!D215,INTERFACE!AB$17)","v":0},{"$f":"MIN(INTERFACE!G$22,INTERFACE!E215)","v":{"$error":"#VALUE!"}}]
[{"$f":"MIN(INTERFACE!D216,INTERFACE!AB$17)","v":0},{"$f":"MIN(INTERFACE!G$22,INTERFACE!E216)","v":{"$error":"#VALUE!"}}]
[{"$f":"MIN(INTERFACE!D217,INTERFACE!AB$17)","v":0},{"$f":"MIN(INTERFACE!G$22,INTERFACE!E217)","v":{"$error":"#VALUE!"}}]
[{"$f":"MIN(INTERFACE!D218,INTERFACE!AB$17)","v":0},{"$f":"MIN(INTERFACE!G$22,INTERFACE!E218)","v":{"$error":"#VALUE!"}}]
[{"$f":"MIN(INTERFACE!D219,INTERFACE!AB$17)","v":0},{"$f":"MIN(INTERFACE!G$22,INTERFACE!E219)","v":{"$error":"#VALUE!"}}]
[{"$f":"MIN(INTERFACE!D220,INTERFACE!AB$17)","v":0},{"$f":"MIN(INTERFACE!G$22,INTERFACE!E220)","v":{"$error":"#VALUE!"}}]
[{"$f":"MIN(INTERFACE!D221,INTERFACE!AB$17)","v":0},{"$f":"MIN(INTERFACE!G$22,INTERFACE!E221)","v":{"$error":"#VALUE!"}}]
[{"$f":"MIN(INTERFACE!D222,INTERFACE!AB$17)","v":0},{"$f":"MIN(INTERFACE!G$22,INTERFACE!E222)","v":{"$error":"#VALUE!"}}]
[{"$f":"MIN(INTERFACE!D223,INTERFACE!AB$17)","v":0},{"$f":"MIN(INTERFACE!G$22,INTERFACE!E223)","v":{"$error":"#VALUE!"}}]
[{"$f":"MIN(INTERFACE!D224,INTERFACE!AB$17)","v":0},{"$f":"MIN(INTERFACE!G$22,INTERFACE!E224)","v":{"$error":"#VALUE!"}}]
[{"$f":"MIN(INTERFACE!D225,INTERFACE!AB$17)","v":0},{"$f":"MIN(INTERFACE!G$22,INTERFACE!E225)","v":{"$error":"#VALUE!"}}]
[{"$f":"MIN(INTERFACE!D226,INTERFACE!AB$17)","v":0},{"$f":"MIN(INTERFACE!G$22,INTERFACE!E226)","v":{"$error":"#VALUE!"}}]
[{"$f":"MIN(INTERFACE!D227,INTERFACE!AB$17)","v":0},{"$f":"MIN(INTERFACE!G$22,INTERFACE!E227)","v":{"$error":"#VALUE!"}}]
[{"$f":"MIN(INTERFACE!D228,INTERFACE!AB$17)","v":0},{"$f":"MIN(INTERFACE!G$22,INTERFACE!E228)","v":{"$error":"#VALUE!"}}]
[{"$f":"MIN(INTERFACE!D229,INTERFACE!AB$17)","v":0},{"$f":"MIN(INTERFACE!G$22,INTERFACE!E229)","v":{"$error":"#VALUE!"}}]
[{"$f":"MIN(INTERFACE!D230,INTERFACE!AB$17)","v":0},{"$f":"MIN(INTERFACE!G$22,INTERFACE!E230)","v":{"$error":"#VALUE!"}}]
[{"$f":"MIN(INTERFACE!D231,INTERFACE!AB$17)","v":0},{"$f":"MIN(INTERFACE!G$22,INTERFACE!E231)","v":{"$error":"#VALUE!"}}]
[{"$f":"MIN(INTERFACE!D232,INTERFACE!AB$17)","v":0},{"$f":"MIN(INTERFACE!G$22,INTERFACE!E232)","v":{"$error":"#VALUE!"}}]
[{"$f":"MIN(INTERFACE!D233,INTERFACE!AB$17)","v":0},{"$f":"MIN(INTERFACE!G$22,INTERFACE!E233)","v":{"$error":"#VALUE!"}}]
[{"$f":"MIN(INTERFACE!D234,INTERFACE!AB$17)","v":0},{"$f":"MIN(INTERFACE!G$22,INTERFACE!E234)","v":{"$error":"#VALUE!"}}]
[{"$f":"MIN(INTERFACE!D235,INTERFACE!AB$17)","v":0},{"$f":"MIN(INTERFACE!G$22,INTERFACE!E235)","v":{"$error":"#VALUE!"}}]
[{"$f":"MIN(INTERFACE!D236,INTERFACE!AB$17)","v":0},{"$f":"MIN(INTERFACE!G$22,INTERFACE!E236)","v":{"$error":"#VALUE!"}}]
[{"$f":"MIN(INTERFACE!D237,INTERFACE!AB$17)","v":0},{"$f":"MIN(INTERFACE!G$22,INTERFACE!E237)","v":{"$error":"#VALUE!"}}]
[{"$f":"MIN(INTERFACE!D238,INTERFACE!AB$17)","v":0},{"$f":"MIN(INTERFACE!G$22,INTERFACE!E238)","v":{"$error":"#VALUE!"}}]
[{"$f":"MIN(INTERFACE!D239,INTERFACE!AB$17)","v":0},{"$f":"MIN(INTERFACE!G$22,INTERFACE!E239)","v":{"$error":"#VALUE!"}}]
[{"$f":"MIN(INTERFACE!D240,INTERFACE!AB$17)","v":0},{"$f":"MIN(INTERFACE!G$22,INTERFACE!E240)","v":{"$error":"#VALUE!"}}]
[{"$f":"MIN(INTERFACE!D241,INTERFACE!AB$17)","v":0},{"$f":"MIN(INTERFACE!G$22,INTERFACE!E241)","v":{"$error":"#VALUE!"}}]
[{"$f":"MIN(INTERFACE!D242,INTERFACE!AB$17)","v":0},{"$f":"MIN(INTERFACE!G$22,INTERFACE!E242)","v":{"$error":"#VALUE!"}}]
[{"$f":"MIN(INTERFACE!D243,INTERFACE!AB$17)","v":0},{"$f":"MIN(INTERFACE!G$22,INTERFACE!E243)","v":{"$error":"#VALUE!"}}]