{"text_format":"1","workbook":"xlsx","n_sheets":3,"sheets":["ACCUEIL","INTERFACE","IMPRESSION"],"not_rendered":{"charts":5,"images":14,"macros":1,"external_links":0,"defined_names":2,"comments":0,"pivot_tables":0},"unopened":[],"bounds":{"document_bytes":16777216,"sheet_cells":100000,"rows_first":2000,"rows_last":500,"rows_between":2000,"halvings":0,"cell_chars":16384,"cell_head_chars":4096},"cells_cut":0,"cells_raw":0,"read":"whole","date_system":"1900"}

{"sheet":"ACCUEIL","index":0,"n_rows":15,"n_cols":35,"rows_kept":15,"cut":false,"hidden":false,"merged":[[5,0,5,2],[5,4,5,7],[8,6,8,7],[13,4,13,5],[1,3,2,4],[1,5,2,7]]}
[]
[]
[]
[]
[]
[]
[null,null,null,null,null,null,null,null,null,null,null,null,null,null,null,null,null,null,null,null,null,null,null,null,null,null,null,null,null,null,null,"acide éthanoïque / ion éthanoate CH3COOH / CH3COO- ",null,null,4.75]
[null,null,null,null,null,null,null,null,null,null,null,null,null,null,"innovsciences",null,null,null,null,null,null,null,null,null,null,null,null,null,null,null,null,"acide propénoïque / ion propanoate CH3CH2COOH / CH3CH2COO-",null,null,4.87]
[null,null,null,null,null,null,null,null,null,null,null,null,null,null,null,null,null,null,null,null,null,null,null,null,null,null,null,null,null,null,null,"pyridium / 7pyridine C5H5NH+ / C5H5N ",null,null,5.18]
[null,null,null,null,null,null,null,null,null,null,null,null,null,null,null,null,null,null,null,null,null,null,null,null,null,null,null,null,null,null,null,"hydroxylammonium / hydroxylamine NH3OH+ / NH2OH ",null,null,6]
[null,null,null,null,null,null,null,null,null,null,null,null,null,null,null,null,null,null,null,null,null,null,null,null,null,null,null,null,null,null,null,"dioxyde de carbone / hydrogénocarbonate CO2,H2O / HCO3-",null,null,6.35]
[null,null,null,null,null,null,null,null,null,null,null,null,null,null,null,null,null,null,null,null,null,null,null,null,null,null,null,null,null,null,null,"hydrogénosulfite / sulfite HSO3- / SO32-",null,null,7.19]
[null,null,null,null,null,null,null,null,null,null,null,null,null,null,null,null,null,null,null,null,null,null,null,null,null,null,null,null,null,null,null,"hypochloreux / hypochlorite HClO / ClO-",null,null,7.3]
[null,null,null,null,null,null,null,null,null,null,null,null,null,null,null,null,null,null,null,null,null,null,null,null,null,null,null,null,null,null,null,"hydrazineammonium / hydrazine H2N-NH3+ / H2N-NH2",null,null,8.48]
[null,null,null,null,null,null,null,null,null,null,null,null,null,null,null,null,null,null,null,null,null,null,null,null,null,null,null,null,null,null,null,"ammonium / ammoniac NH4+ / NH3",null,null,9.25]

{"sheet":"INTERFACE","index":1,"n_rows":1251,"n_cols":39,"rows_kept":1251,"cut":false,"hidden":false,"merged":[[12,3,12,4],[7,29,7,33],[9,29,9,33],[18,29,18,30],[18,31,18,32],[18,33,18,34],[11,29,11,31],[17,31,17,32],[17,33,17,34],[13,3,13,4],[15,4,15,6],[43,5,43,6],[43,7,43,8],[43,9,43,10],[30,29,30,30],[30,31,30,32],[19,29,19,30],[19,31,19,32],[19,33,19,34],[16,29,16,34],[17,29,17,30],[30,33,30,34],[29,29,29,30],[29,31,29,32],[29,33,29,34],[27,29,27,34],[28,29,28,30],[28,31,28,32],[28,33,28,34],[1,3,2,4],[1,5,2,6],[1,7,2,8],[6,29,6,33],[8,29,8,33]]}
[]
[]
[]
[null,"Choix de la solution"]
[null,null,0,{"$f":"IF(G$12=\"\",\"\",IF(G$12>=0,\"Couple acide/base\"))","v":""},null,"Réinitialisation","Pause","Simulation",null,null,null,"innovsciences",null,null,null,null,null,null,null,null,null,null,null,null,null,null,null,null,null,null,null,{"$f":"IF(C$5=0,\"\",IF(C$5=1,AJ$7,IF(C$5=2,AJ$8,IF(C$5=3,AJ$9,IF(C$5=4,AJ$10)))))","v":""}]
[null,null,null,{"$f":"AF5","v":""}]
[null,null,null,null,null,null,null,null,null,null,null,null,null,null,null,null,null,null,null,null,null,null,null,null,null,null,null,null,null,"Solution d'acide fluorhydrique",null,null,null,null,3.25,"HF/F-",null,"[ A- ] %(pKa/2)","[HA ] %(pKa/2)"]
[null,null,null,null,null,null,null,null,null,null,null,null,null,null,null,null,null,null,null,null,null,null,null,null,null,null,null,null,null,"Solution d'acide éthanoïque",null,null,null,null,4.75,"CH3COOH/CH3COO-",null,{"$f":"((C$11)/((10^-(B$11/2))+(C$11)))*100","v":{"$error":"#VALUE!"}},{"$f":"100-AL$8","v":{"$error":"#VALUE!"}}]
[null,null,null,null,null,null,null,null,null,null,null,null,null,null,null,null,null,null,null,null,null,null,null,null,null,null,null,null,null,"Solution d'hypochlorite de sodium ",null,null,null,null,7.5,"HClO/ClO-",null,"[ A- ] %(3pKa/2)","[HA ] %(3pKa/2)"]
[null,"pKa","Ka","Ke","pKe",null,"Concentration initiale",null,null,null,null,null,null,null,null,null,null,null,null,null,null,null,null,null,null,null,null,null,null,"Solution d'ammoniac",null,null,null,null,9.25,"NH4+/NH3",null,{"$f":"((C$11)/((10^-(3*B$11/2))+(C$11)))*100","v":{"$error":"#VALUE!"}},{"$f":"100-AL$10","v":{"$error":"#VALUE!"}}]
[null,{"$f":"IF(C$5=0,\"\",IF(C$5=1,AI7,IF(C$5=2,AI8,IF(C$5=3,AI9,IF(C$5=4,AI$10)))))","v":""},{"$f":"IF(C$5=0,\"\",IF(C$5<>0,10^-B11))","v":""},{"$f":"IF(C$5=0,\"\",IF(C$5<>0,10^-14))","v":""},{"$f":"IF(C$5=0,\"\",IF(C$5<>0,-LOG(D$11)))","v":""},null,"C ( en mol.L- 1 )",null,null,null,null,null,null,null,null,null,null,null,null,null,null,null,null,null,null,null,null,null,null,null,null,null,null,null,null,null,null,"pKa/2","3*pKa/2"]
[null,null,null,null,null,null,{"$f":"IF(AND(AD$13=\"\",C$5=1),AF$13/5,IF(AND(AD$13=\"\",C$5=2),AF$13/200,IF(AND(AD$13=\"\",C$5=3),AF$13/10000,IF(AND(AD$13=\"\",C$5=4),AF$13/500,IF(C$5=0,\"\",IF(C$5=1,MIN(Y$13,AF$13),IF(C$5=2,MIN(Z$13,AF$13),IF(C$5=3,MIN(AA$13,AF$13),IF(C$5=4,MIN(AB$13,AF$13,AF$13))))))))))","v":""},null,null,null,null,null,null,null,null,null,null,null,null,null,null,null,null,null,null,null,null,null,null,"Play",null,null,null,"Pas",null,null,null,{"$f":"B$11/2","v":{"$error":"#VALUE!"}},{"$f":"3*B$11/2","v":{"$error":"#VALUE!"}}]
[null,"[H3O+] (en mol.L-1)","pH","Taux d'avancement final tf",null,null,null,null,null,null,null,null,null,null,null,null,null,null,null,null,null,null,null,null,{"$f":"AD$13/5","v":0},{"$f":"AD$13/200","v":0},{"$f":"AD$13/10000","v":0},{"$f":"AD$13/500","v":0},null,0,{"$f":"MIN(0.01*AD$13,0.001)","v":0},{"$f":"MAX(AD$13,0.05)","v":0.05},null,{"$f":"0.001","v":1E-3}]
[null,{"$f":"IF(C$5=0,\"\",IF(C$5=1,AD$25,IF(C$5=2,AD$25,IF(C$5=3,AD$36,IF(C$5=4,AD$36)))))","v":""},{"$f":"IF(C$5=0,\"\",IF(C$5<>0,-LOG(B$14)))","v":""},{"$f":"IF(AND(G$12=0,C$5=1),\"\",IF(AND(G$12=0,C$5=2),\"\",IF(AND(G$12=0,C$5=3),\"\",IF(AND(G$12=0,C$5=4),\"\",IF(C$5=0,\"\",IF(AND(G$12<>0,C$5=1),B$14/G$12,IF(AND(G$12<>0,C$5=2),B$14/G$12,IF(AND(G$12<>0,C$5=3),(D11)/(B14*G$12),IF(AND(G$12<>0,C$5=4),(D11)/(B14*G$12))))))))))","v":""}]
[null,null,null,null,null,null,null,null,null,null,null,null,null,null,null,null,null,null,null,null,null,null,null,null,null,null,null,null,null,0,{"$f":"MIN(AD$15,AF$15)","v":0},12,null,{"$f":"0.25","v":0.25}]
[null,null,null,null,{"$f":"IF(AD$15<12.5,\"\",IF(AD$15=12.5,\"Fin de la simulation; explorer le graphe\"))","v":""}]
[null,{"$f":"IF(C$5=0,\"\",IF(C$5=1,\"[F-] %\",IF(C$5=2,\"[CH3COO-] %\",IF(C$5=3,\"[ClO-] %\",IF(C$5=4,\"[NH3] %\")))))","v":""},{"$f":"IF(C$5=0,\"\",IF(C$5=1,\"[HF] %\",IF(C$5=2,\"[CH3COOH] %\",IF(C$5=3,\"[HClO] %\",IF(C$5=4,\"[NH4+] %\")))))","v":""},null,null,null,null,null,null,null,null,null,null,null,null,null,null,null,null,null,null,null,null,null,null,null,null,null,null,"calcul de pH solution acide",null,null,null,null,null,null,"crit clig"]
[null,{"$f":"IF(G$12=0,0,IF(C$5=0,\"\",IF(C$5<>0,(C$11/(10^-C$14+C$11))*100)))","v":""},{"$f":"IF(G$12=0,0,IF(C$5=0,\"\",IF(C$5<>0,100-B$18)))","v":""},null,null,null,null,null,null,null,null,null,null,null,null,null,null,null,null,null,null,null,null,null,null,null,null,null,null,"a",null,"b",null,"c",null,null,5]
[null,null,null,null,null,null,null,null,null,null,null,null,null,null,null,null,null,null,null,null,null,null,null,null,null,null,null,null,null,null,null,null,null,null,null,null,"Ka"]
[null,null,null,null,null,null,null,null,null,null,null,null,null,null,null,null,null,null,null,null,null,null,null,null,null,null,null,null,null,{"$f":"AK$20","v":""},null,{"$f":"-(AK$20*G$12+D$11)","v":{"$error":"#VALUE!"}},null,{"$f":"-AK$20*D$11","v":{"$error":"#VALUE!"}},null,null,{"$f":"IF(C$5=0,\"\",IF(C$5=1,C$11,IF(C$5=2,C$11,IF(C$5=3,\"\",IF(C$5=4,\"\")))))","v":""}]
[null,null,null,{"$f":"IF(G$12=0,\"\",IF(G$12=\"\",\"\",IF(AND(C$14<B$11,C$5=1),\"[HA] = [HF] l'acide prédomine\",IF(AND(C$14>B$11,C$5=1),\"[A-] = [F-] la base prédomine\",IF(AND(C$1=B$11,C$5=1),\"[ HF ] = [F-] aucune prédominance\",IF(AND(C$14<B$11,C$5=2),\"[HA] = [CH3COOH] l'acide prédomine\",IF(AND(C$14>B$11,C$5=2),\"[A-] = [CH3COO-] la base prédomine\",IF(AND(C$1=B$11,C$5=2),\"[ CH3COOH ] = [CH3COO-] aucune prédominance\",IF(AND(C$14<B$11,C$5=3),\"[HA] = [HClO] l'acide prédomine\",IF(AND(C$14>B$11,C$5=3),\"[A-] = [ClO-] la base prédomine\",IF(AND(C$1=B$11,C$5=3),\"[ HClO ] = [HClO-] aucune prédominance\",IF(G$12=0,\"\",IF(AND(C$14<B$11,C$5=4),\"[HA] = [NH4+] l'acide prédomine\",IF(AND(C$14>B$11,C$5=4),\"[A-] = [NH3] la base prédomine\",IF(AND(C$1=B$11,C$5=4),\"[ NH4+ ] = [NH3] aucune prédominance\")))))))))))))))","v":""},null,null,null,null,null,null,null,null,null,null,null,null,null,null,null,null,null,null,null,null,null,null,null,null,null,"L","M","S","P","r","j"]
[null,null,null,null,null,null,null,null,null,null,null,null,null,null,null,null,null,null,null,null,null,null,null,null,null,null,null,null,null,{"$f":"AF$20-AD$20^2/3","v":{"$error":"#VALUE!"}},{"$f":"(2*AD$20^3/27)-(AD$20*AF$20/3)+(AH$20)","v":{"$error":"#VALUE!"}},{"$f":"-AE$22","v":{"$error":"#VALUE!"}},{"$f":"-AD$22^3/27","v":{"$error":"#VALUE!"}},{"$f":"SQRT(AG$22)","v":{"$error":"#VALUE!"}},{"$f":"ACOS(0.5*AF$22/AH$22)","v":{"$error":"#VALUE!"}}]
[]
[null,null,null,null,null,null,null,null,null,null,null,null,null,null,null,null,null,null,null,null,null,null,null,null,null,null,null,null,null,"[H3O+]","pH","D"]
[null,null,null,null,null,null,null,null,null,null,null,null,null,null,null,null,null,null,null,null,null,null,null,null,null,null,null,null,null,{"$f":"2*SQRT(-AD$22/3)*COS(AI$22/3)-C$11/3","v":{"$error":"#VALUE!"}},{"$f":"-LOG(AD$25)","v":{"$error":"#VALUE!"}},{"$f":"AF$22^2-(4*AG$22)","v":{"$error":"#VALUE!"}}]
[null,null,null,null,null,null,null,null,null,{"$f":"IF(C$5=0,\"\",IF(C$5<>0,\"pH\"))","v":""},{"$f":"IF(C$5=0,\"\",IF(C$5=1,\"[F-]%\",IF(C$5=2,\"[CH3COO-] %\",IF(C$5=3,\"[ClO-] %\",IF(C$5=4,\"[NH3] %\")))))","v":""},{"$f":"IF(C$5=0,\"\",IF(C$5=1,\"[HF] %\",IF(C$5=2,\"[CH3COOH] %\",IF(C$5=3,\"[HClO]%\",IF(C$5=4,\"[NH4+] %\")))))","v":""}]
[null,null,null,null,null,null,null,null,null,{"$f":"IF(C$5=0,\"\",IF(C$5<>0,MAX(AE$15,E51)))","v":""},{"$f":"IF(C$5=0,\"\",IF(G$12=0,0,IF(C$5<>0,((C$11)/((10^(-B47))+(C$11)))*100)))","v":""},{"$f":"IF(C$5=0,\"\",IF(G$12=0,0,IF(C$5<>0,100-C47)))","v":""}]
[null,null,null,null,null,null,null,null,null,null,{"$f":"IF(C$5=0,\"\",IF(G$12=0,\"\",IF(J$27<B$11,\"La forme acide prédomine\",IF(J$27>B$11,\"La forme basique prédomine\",IF(J$27=B$11,\"Aucune prédominance\")))))","v":""},null,null,null,null,null,null,null,null,null,null,null,null,null,null,null,null,null,null,"calcul de pH solution basique"]
[null,null,null,null,null,null,null,null,null,null,null,null,null,null,null,null,null,null,null,null,null,null,null,null,null,null,null,null,null,"a",null,"b",null,"c",null,null,"Kb"]
[null,null,null,null,null,null,null,null,null,null,null,null,null,null,null,null,null,null,null,null,null,null,null,null,null,null,null,null,null,null,null,null,null,null,null,null,{"$f":"IF(C$5=0,\"\",IF(C$5=1,\"\",IF(C$5=2,\"\",IF(C$5=3,D$11/C$11,IF(C$5=4,D$11/C$11)))))","v":""}]
[null,null,null,null,null,null,null,null,null,null,null,null,null,null,null,null,null,null,null,null,null,null,null,null,null,null,null,null,null,{"$f":"AK$30","v":""},null,{"$f":"-(AK$30*G$12+D$11)","v":{"$error":"#VALUE!"}},null,{"$f":"-AK$30*D$11","v":{"$error":"#VALUE!"}}]
[null,null,null,null,null,null,null,null,null,null,null,null,null,null,null,null,null,null,null,null,null,null,null,null,null,null,null,null,null,"L","M","S","P","r","j"]
[null,null,null,null,null,null,null,null,null,null,null,null,null,null,null,null,null,null,null,null,null,null,null,null,null,null,null,null,null,{"$f":"AF$31-AD$31^2/3","v":{"$error":"#VALUE!"}},{"$f":"(2*AD$31^3/27)-(AD$31*AF$31/3)+(AH$31)","v":{"$error":"#VALUE!"}},{"$f":"-AE$33","v":{"$error":"#VALUE!"}},{"$f":"-AD$33^3/27","v":{"$error":"#VALUE!"}},{"$f":"SQRT(AG$33)","v":{"$error":"#VALUE!"}},{"$f":"ACOS(0.5*AF$33/AH$33)","v":{"$error":"#VALUE!"}}]
[]
[null,null,null,null,null,null,null,null,null,null,null,null,null,null,null,null,null,null,null,null,null,null,null,null,null,null,null,null,null,"[H3O+]","pH","D"]
[null,null,null,null,null,null,null,null,null,null,null,null,null,null,null,null,null,null,null,null,null,null,null,null,null,null,null,null,null,{"$f":"((2*SQRT(-AD$33/3)*COS(AI$33/3)-AK$30/3)^-1)*D$11","v":{"$error":"#VALUE!"}},{"$f":"-LOG(AD$36)","v":{"$error":"#VALUE!"}},{"$f":"AF$33^2-(4*AG$33)","v":{"$error":"#VALUE!"}}]
[]
[]
[]
[]
[]
[]
[]
[null,null,null,null,null,"intersection",null,"[ A- ] %",null,"[HA ] %"]
[null,null,null,null,null,{"$f":"IF(B$47<B$11,\"\",IF(B$47>=B$11,B$11))","v":""},0,{"$f":"B$47","v":0},{"$f":"C$47","v":{"$error":"#VALUE!"}},{"$f":"B$47","v":0},{"$f":"D$47","v":{"$error":"#VALUE!"}}]
[null,"pH vari","[ A- ] %","[HA ] %",null,{"$f":"IF(B$47<B$11,\"\",IF(B$47>=B$11,B$11))","v":""},{"$f":"IF(B$47<B$11,\"\",IF(B$47>=B$11,50))","v":""},{"$f":"B$47","v":0},0,{"$f":"B$47","v":0},0]
[null,{"$f":"MAX(AE$15,E51)","v":0},{"$f":"((C$11)/((10^(-B47))+(C$11)))*100","v":{"$error":"#VALUE!"}},{"$f":"100-C47","v":{"$error":"#VALUE!"}},null,{"$f":"IF(B$47<B$11,\"\",IF(B$47>=B$11,0))","v":""},{"$f":"IF(B$47<B$11,\"\",IF(B$47>=B$11,50))","v":""}]
[]
[]
["pH","[ A- ] %","[HA ] %",null,"pH inter","[ A- ] %","[HA ] %"]
[{"$f":"MIN(AD$15,E51)","v":0},{"$f":"MIN(C$47,F51)","v":{"$error":"#VALUE!"}},{"$f":"100-B51","v":{"$error":"#VALUE!"}},null,0,{"$f":"((C$11)/((10^(-E51))+(C$11)))*100","v":{"$error":"#VALUE!"}},{"$f":"100-F51","v":{"$error":"#VALUE!"}}]
[0,{"$error":"#VALUE!"},{"$f":"100-B52","v":{"$error":"#VALUE!"}},null,{"$f":"E51+12/1200","v":0.01},{"$error":"#VALUE!"},{"$f":"100-F52","v":{"$error":"#VALUE!"}}]
[0,{"$error":"#VALUE!"},{"$error":"#VALUE!"},null,{"$f":"E52+12/1200","v":0.02},{"$error":"#VALUE!"},{"$error":"#VALUE!"}]
[0,{"$error":"#VALUE!"},{"$error":"#VALUE!"},null,0.03,{"$error":"#VALUE!"},{"$error":"#VALUE!"}]
[0,{"$error":"#VALUE!"},{"$error":"#VALUE!"},null,0.04,{"$error":"#VALUE!"},{"$error":"#VALUE!"}]
[0,{"$error":"#VALUE!"},{"$error":"#VALUE!"},null,0.05,{"$error":"#VALUE!"},{"$error":"#VALUE!"}]
[0,{"$error":"#VALUE!"},{"$error":"#VALUE!"},null,6.0000000000000005E-2,{"$error":"#VALUE!"},{"$error":"#VALUE!"}]
[0,{"$error":"#VALUE!"},{"$error":"#VALUE!"},null,7.0000000000000007E-2,{"$error":"#VALUE!"},{"$error":"#VALUE!"}]
[0,{"$error":"#VALUE!"},{"$error":"#VALUE!"},null,0.08,{"$error":"#VALUE!"},{"$error":"#VALUE!"}]
[0,{"$error":"#VALUE!"},{"$error":"#VALUE!"},null,0.09,{"$error":"#VALUE!"},{"$error":"#VALUE!"}]
[0,{"$error":"#VALUE!"},{"$error":"#VALUE!"},null,9.9999999999999992E-2,{"$error":"#VALUE!"},{"$error":"#VALUE!"}]
[0,{"$error":"#VALUE!"},{"$error":"#VALUE!"},null,0.10999999999999999,{"$error":"#VALUE!"},{"$error":"#VALUE!"}]
[0,{"$error":"#VALUE!"},{"$error":"#VALUE!"},null,0.11999999999999998,{"$error":"#VALUE!"},{"$error":"#VALUE!"}]
[0,{"$error":"#VALUE!"},{"$error":"#VALUE!"},null,0.12999999999999998,{"$error":"#VALUE!"},{"$error":"#VALUE!"}]
[0,{"$error":"#VALUE!"},{"$error":"#VALUE!"},null,0.13999999999999999,{"$error":"#VALUE!"},{"$error":"#VALUE!"}]
[0,{"$error":"#VALUE!"},{"$error":"#VALUE!"},null,0.15,{"$error":"#VALUE!"},{"$error":"#VALUE!"}]
[0,{"$error":"#VALUE!"},{"$error":"#VALUE!"},null,0.16,{"$error":"#VALUE!"},{"$error":"#VALUE!"}]
[0,{"$error":"#VALUE!"},{"$error":"#VALUE!"},null,0.17,{"$error":"#VALUE!"},{"$error":"#VALUE!"}]
[0,{"$error":"#VALUE!"},{"$error":"#VALUE!"},null,0.18000000000000002,{"$error":"#VALUE!"},{"$error":"#VALUE!"}]
[0,{"$error":"#VALUE!"},{"$error":"#VALUE!"},null,0.19000000000000003,{"$error":"#VALUE!"},{"$error":"#VALUE!"}]
[0,{"$error":"#VALUE!"},{"$error":"#VALUE!"},null,0.20000000000000004,{"$error":"#VALUE!"},{"$error":"#VALUE!"}]
[0,{"$error":"#VALUE!"},{"$error":"#VALUE!"},null,0.21000000000000005,{"$error":"#VALUE!"},{"$error":"#VALUE!"}]
[0,{"$error":"#VALUE!"},{"$error":"#VALUE!"},null,0.22000000000000006,{"$error":"#VALUE!"},{"$error":"#VALUE!"}]
[0,{"$error":"#VALUE!"},{"$error":"#VALUE!"},null,0.23000000000000007,{"$error":"#VALUE!"},{"$error":"#VALUE!"}]
[0,{"$error":"#VALUE!"},{"$error":"#VALUE!"},null,0.24000000000000007,{"$error":"#VALUE!"},{"$error":"#VALUE!"}]
[0,{"$error":"#VALUE!"},{"$error":"#VALUE!"},null,0.25000000000000006,{"$error":"#VALUE!"},{"$error":"#VALUE!"}]
[0,{"$error":"#VALUE!"},{"$error":"#VALUE!"},null,0.26000000000000006,{"$error":"#VALUE!"},{"$error":"#VALUE!"}]
[0,{"$error":"#VALUE!"},{"$error":"#VALUE!"},null,0.27000000000000007,{"$error":"#VALUE!"},{"$error":"#VALUE!"}]
[0,{"$error":"#VALUE!"},{"$error":"#VALUE!"},null,0.28000000000000008,{"$error":"#VALUE!"},{"$error":"#VALUE!"}]
[0,{"$error":"#VALUE!"},{"$error":"#VALUE!"},null,0.29000000000000009,{"$error":"#VALUE!"},{"$error":"#VALUE!"}]
[0,{"$error":"#VALUE!"},{"$error":"#VALUE!"},null,0.3000000000000001,{"$error":"#VALUE!"},{"$error":"#VALUE!"}]
[0,{"$error":"#VALUE!"},{"$error":"#VALUE!"},null,0.31000000000000011,{"$error":"#VALUE!"},{"$error":"#VALUE!"}]
[0,{"$error":"#VALUE!"},{"$error":"#VALUE!"},null,0.32000000000000012,{"$error":"#VALUE!"},{"$error":"#VALUE!"}]
[0,{"$error":"#VALUE!"},{"$error":"#VALUE!"},null,0.33000000000000013,{"$error":"#VALUE!"},{"$error":"#VALUE!"}]
[0,{"$error":"#VALUE!"},{"$error":"#VALUE!"},null,0.34000000000000014,{"$error":"#VALUE!"},{"$error":"#VALUE!"}]
[0,{"$error":"#VALUE!"},{"$error":"#VALUE!"},null,0.35000000000000014,{"$error":"#VALUE!"},{"$error":"#VALUE!"}]
[0,{"$error":"#VALUE!"},{"$error":"#VALUE!"},null,0.36000000000000015,{"$error":"#VALUE!"},{"$error":"#VALUE!"}]
[0,{"$error":"#VALUE!"},{"$error":"#VALUE!"},null,0.37000000000000016,{"$error":"#VALUE!"},{"$error":"#VALUE!"}]
[0,{"$error":"#VALUE!"},{"$error":"#VALUE!"},null,0.38000000000000017,{"$error":"#VALUE!"},{"$error":"#VALUE!"}]
[0,{"$error":"#VALUE!"},{"$error":"#VALUE!"},null,0.39000000000000018,{"$error":"#VALUE!"},{"$error":"#VALUE!"}]
[0,{"$error":"#VALUE!"},{"$error":"#VALUE!"},null,0.40000000000000019,{"$error":"#VALUE!"},{"$error":"#VALUE!"}]
[0,{"$error":"#VALUE!"},{"$error":"#VALUE!"},null,0.4100000000000002,{"$error":"#VALUE!"},{"$error":"#VALUE!"}]
[0,{"$error":"#VALUE!"},{"$error":"#VALUE!"},null,0.42000000000000021,{"$error":"#VALUE!"},{"$error":"#VALUE!"}]
[0,{"$error":"#VALUE!"},{"$error":"#VALUE!"},null,0.43000000000000022,{"$error":"#VALUE!"},{"$error":"#VALUE!"}]
[0,{"$error":"#VALUE!"},{"$error":"#VALUE!"},null,0.44000000000000022,{"$error":"#VALUE!"},{"$error":"#VALUE!"}]
[0,{"$error":"#VALUE!"},{"$error":"#VALUE!"},null,0.45000000000000023,{"$error":"#VALUE!"},{"$error":"#VALUE!"}]
[0,{"$error":"#VALUE!"},{"$error":"#VALUE!"},null,0.46000000000000024,{"$error":"#VALUE!"},{"$error":"#VALUE!"}]
[0,{"$error":"#VALUE!"},{"$error":"#VALUE!"},null,0.47000000000000025,{"$error":"#VALUE!"},{"$error":"#VALUE!"}]
[0,{"$error":"#VALUE!"},{"$error":"#VALUE!"},null,0.48000000000000026,{"$error":"#VALUE!"},{"$error":"#VALUE!"}]
[0,{"$error":"#VALUE!"},{"$error":"#VALUE!"},null,0.49000000000000027,{"$error":"#VALUE!"},{"$error":"#VALUE!"}]
[0,{"$error":"#VALUE!"},{"$error":"#VALUE!"},null,0.50000000000000022,{"$error":"#VALUE!"},{"$error":"#VALUE!"}]
[0,{"$error":"#VALUE!"},{"$error":"#VALUE!"},null,0.51000000000000023,{"$error":"#VALUE!"},{"$error":"#VALUE!"}]
[0,{"$error":"#VALUE!"},{"$error":"#VALUE!"},null,0.52000000000000024,{"$error":"#VALUE!"},{"$error":"#VALUE!"}]
[0,{"$error":"#VALUE!"},{"$error":"#VALUE!"},null,0.53000000000000025,{"$error":"#VALUE!"},{"$error":"#VALUE!"}]
[0,{"$error":"#VALUE!"},{"$error":"#VALUE!"},null,0.54000000000000026,{"$error":"#VALUE!"},{"$error":"#VALUE!"}]
[0,{"$error":"#VALUE!"},{"$error":"#VALUE!"},null,0.55000000000000027,{"$error":"#VALUE!"},{"$error":"#VALUE!"}]
[0,{"$error":"#VALUE!"},{"$error":"#VALUE!"},null,0.56000000000000028,{"$error":"#VALUE!"},{"$error":"#VALUE!"}]
[0,{"$error":"#VALUE!"},{"$error":"#VALUE!"},null,0.57000000000000028,{"$error":"#VALUE!"},{"$error":"#VALUE!"}]
[0,{"$error":"#VALUE!"},{"$error":"#VALUE!"},null,0.58000000000000029,{"$error":"#VALUE!"},{"$error":"#VALUE!"}]
[0,{"$error":"#VALUE!"},{"$error":"#VALUE!"},null,0.5900000000000003,{"$error":"#VALUE!"},{"$error":"#VALUE!"}]
[0,{"$error":"#VALUE!"},{"$error":"#VALUE!"},null,0.60000000000000031,{"$error":"#VALUE!"},{"$error":"#VALUE!"}]
[0,{"$error":"#VALUE!"},{"$error":"#VALUE!"},null,0.61000000000000032,{"$error":"#VALUE!"},{"$error":"#VALUE!"}]
[0,{"$error":"#VALUE!"},{"$error":"#VALUE!"},null,0.62000000000000033,{"$error":"#VALUE!"},{"$error":"#VALUE!"}]
[0,{"$error":"#VALUE!"},{"$error":"#VALUE!"},null,0.63000000000000034,{"$error":"#VALUE!"},{"$error":"#VALUE!"}]
[{"$f":"MIN(AD$15,E115)","v":0},{"$f":"MIN(C$47,F115)","v":{"$error":"#VALUE!"}},{"$error":"#VALUE!"},null,0.64000000000000035,{"$f":"((C$11)/((10^(-E115))+(C$11)))*100","v":{"$error":"#VALUE!"}},{"$error":"#VALUE!"}]
[0,{"$error":"#VALUE!"},{"$f":"100-B116","v":{"$error":"#VALUE!"}},null,0.65000000000000036,{"$error":"#VALUE!"},{"$f":"100-F116","v":{"$error":"#VALUE!"}}]
[0,{"$error":"#VALUE!"},{"$error":"#VALUE!"},null,{"$f":"E116+12/1200","v":0.66000000000000036},{"$error":"#VALUE!"},{"$error":"#VALUE!"}]
[0,{"$error":"#VALUE!"},{"$error":"#VALUE!"},null,0.67000000000000037,{"$error":"#VALUE!"},{"$error":"#VALUE!"}]
[0,{"$error":"#VALUE!"},{"$error":"#VALUE!"},null,0.68000000000000038,{"$error":"#VALUE!"},{"$error":"#VALUE!"}]
[0,{"$error":"#VALUE!"},{"$error":"#VALUE!"},null,0.69000000000000039,{"$error":"#VALUE!"},{"$error":"#VALUE!"}]
[0,{"$error":"#VALUE!"},{"$error":"#VALUE!"},null,0.7000000000000004,{"$error":"#VALUE!"},{"$error":"#VALUE!"}]
[0,{"$error":"#VALUE!"},{"$error":"#VALUE!"},null,0.71000000000000041,{"$error":"#VALUE!"},{"$error":"#VALUE!"}]
[0,{"$error":"#VALUE!"},{"$error":"#VALUE!"},null,0.72000000000000042,{"$error":"#VALUE!"},{"$error":"#VALUE!"}]
[0,{"$error":"#VALUE!"},{"$error":"#VALUE!"},null,0.73000000000000043,{"$error":"#VALUE!"},{"$error":"#VALUE!"}]
[0,{"$error":"#VALUE!"},{"$error":"#VALUE!"},null,0.74000000000000044,{"$error":"#VALUE!"},{"$error":"#VALUE!"}]
[0,{"$error":"#VALUE!"},{"$error":"#VALUE!"},null,0.75000000000000044,{"$error":"#VALUE!"},{"$error":"#VALUE!"}]
[0,{"$error":"#VALUE!"},{"$error":"#VALUE!"},null,0.76000000000000045,{"$error":"#VALUE!"},{"$error":"#VALUE!"}]
[0,{"$error":"#VALUE!"},{"$error":"#VALUE!"},null,0.77000000000000046,{"$error":"#VALUE!"},{"$error":"#VALUE!"}]
[0,{"$error":"#VALUE!"},{"$error":"#VALUE!"},null,0.78000000000000047,{"$error":"#VALUE!"},{"$error":"#VALUE!"}]
[0,{"$error":"#VALUE!"},{"$error":"#VALUE!"},null,0.79000000000000048,{"$error":"#VALUE!"},{"$error":"#VALUE!"}]
[0,{"$error":"#VALUE!"},{"$error":"#VALUE!"},null,0.80000000000000049,{"$error":"#VALUE!"},{"$error":"#VALUE!"}]
[0,{"$error":"#VALUE!"},{"$error":"#VALUE!"},null,0.8100000000000005,{"$error":"#VALUE!"},{"$error":"#VALUE!"}]
[0,{"$error":"#VALUE!"},{"$error":"#VALUE!"},null,0.82000000000000051,{"$error":"#VALUE!"},{"$error":"#VALUE!"}]
[0,{"$error":"#VALUE!"},{"$error":"#VALUE!"},null,0.83000000000000052,{"$error":"#VALUE!"},{"$error":"#VALUE!"}]
[0,{"$error":"#VALUE!"},{"$error":"#VALUE!"},null,0.84000000000000052,{"$error":"#VALUE!"},{"$error":"#VALUE!"}]
[0,{"$error":"#VALUE!"},{"$error":"#VALUE!"},null,0.85000000000000053,{"$error":"#VALUE!"},{"$error":"#VALUE!"}]
[0,{"$error":"#VALUE!"},{"$error":"#VALUE!"},null,0.86000000000000054,{"$error":"#VALUE!"},{"$error":"#VALUE!"}]
[0,{"$error":"#VALUE!"},{"$error":"#VALUE!"},null,0.87000000000000055,{"$error":"#VALUE!"},{"$error":"#VALUE!"}]
[0,{"$error":"#VALUE!"},{"$error":"#VALUE!"},null,0.88000000000000056,{"$error":"#VALUE!"},{"$error":"#VALUE!"}]
[0,{"$error":"#VALUE!"},{"$error":"#VALUE!"},null,0.89000000000000057,{"$error":"#VALUE!"},{"$error":"#VALUE!"}]
[0,{"$error":"#VALUE!"},{"$error":"#VALUE!"},null,0.90000000000000058,{"$error":"#VALUE!"},{"$error":"#VALUE!"}]
[0,{"$error":"#VALUE!"},{"$error":"#VALUE!"},null,0.91000000000000059,{"$error":"#VALUE!"},{"$error":"#VALUE!"}]
[0,{"$error":"#VALUE!"},{"$error":"#VALUE!"},null,0.9200000000000006,{"$error":"#VALUE!"},{"$error":"#VALUE!"}]
[0,{"$error":"#VALUE!"},{"$error":"#VALUE!"},null,0.9300000000000006,{"$error":"#VALUE!"},{"$error":"#VALUE!"}]
[0,{"$error":"#VALUE!"},{"$error":"#VALUE!"},null,0.94000000000000061,{"$error":"#VALUE!"},{"$error":"#VALUE!"}]
[0,{"$error":"#VALUE!"},{"$error":"#VALUE!"},null,0.95000000000000062,{"$error":"#VALUE!"},{"$error":"#VALUE!"}]
[0,{"$error":"#VALUE!"},{"$error":"#VALUE!"},null,0.96000000000000063,{"$error":"#VALUE!"},{"$error":"#VALUE!"}]
[0,{"$error":"#VALUE!"},{"$error":"#VALUE!"},null,0.97000000000000064,{"$error":"#VALUE!"},{"$error":"#VALUE!"}]
[0,{"$error":"#VALUE!"},{"$error":"#VALUE!"},null,0.98000000000000065,{"$error":"#VALUE!"},{"$error":"#VALUE!"}]
[0,{"$error":"#VALUE!"},{"$error":"#VALUE!"},null,0.99000000000000066,{"$error":"#VALUE!"},{"$error":"#VALUE!"}]
[0,{"$error":"#VALUE!"},{"$error":"#VALUE!"},null,1.0000000000000007,{"$error":"#VALUE!"},{"$error":"#VALUE!"}]
[0,{"$error":"#VALUE!"},{"$error":"#VALUE!"},null,1.0100000000000007,{"$error":"#VALUE!"},{"$error":"#VALUE!"}]
[0,{"$error":"#VALUE!"},{"$error":"#VALUE!"},null,1.0200000000000007,{"$error":"#VALUE!"},{"$error":"#VALUE!"}]
[0,{"$error":"#VALUE!"},{"$error":"#VALUE!"},null,1.0300000000000007,{"$error":"#VALUE!"},{"$error":"#VALUE!"}]
[0,{"$error":"#VALUE!"},{"$error":"#VALUE!"},null,1.0400000000000007,{"$error":"#VALUE!"},{"$error":"#VALUE!"}]
[0,{"$error":"#VALUE!"},{"$error":"#VALUE!"},null,1.0500000000000007,{"$error":"#VALUE!"},{"$error":"#VALUE!"}]
[0,{"$error":"#VALUE!"},{"$error":"#VALUE!"},null,1.0600000000000007,{"$error":"#VALUE!"},{"$error":"#VALUE!"}]
[0,{"$error":"#VALUE!"},{"$error":"#VALUE!"},null,1.0700000000000007,{"$error":"#VALUE!"},{"$error":"#VALUE!"}]
[0,{"$error":"#VALUE!"},{"$error":"#VALUE!"},null,1.0800000000000007,{"$error":"#VALUE!"},{"$error":"#VALUE!"}]
[0,{"$error":"#VALUE!"},{"$error":"#VALUE!"},null,1.0900000000000007,{"$error":"#VALUE!"},{"$error":"#VALUE!"}]
[0,{"$error":"#VALUE!"},{"$error":"#VALUE!"},null,1.1000000000000008,{"$error":"#VALUE!"},{"$error":"#VALUE!"}]
[0,{"$error":"#VALUE!"},{"$error":"#VALUE!"},null,1.1100000000000008,{"$error":"#VALUE!"},{"$error":"#VALUE!"}]
[0,{"$error":"#VALUE!"},{"$error":"#VALUE!"},null,1.1200000000000008,{"$error":"#VALUE!"},{"$error":"#VALUE!"}]
[0,{"$error":"#VALUE!"},{"$error":"#VALUE!"},null,1.1300000000000008,{"$error":"#VALUE!"},{"$error":"#VALUE!"}]
[0,{"$error":"#VALUE!"},{"$error":"#VALUE!"},null,1.1400000000000008,{"$error":"#VALUE!"},{"$error":"#VALUE!"}]
[0,{"$error":"#VALUE!"},{"$error":"#VALUE!"},null,1.1500000000000008,{"$error":"#VALUE!"},{"$error":"#VALUE!"}]
[0,{"$error":"#VALUE!"},{"$error":"#VALUE!"},null,1.1600000000000008,{"$error":"#VALUE!"},{"$error":"#VALUE!"}]
[0,{"$error":"#VALUE!"},{"$error":"#VALUE!"},null,1.1700000000000008,{"$error":"#VALUE!"},{"$error":"#VALUE!"}]
[0,{"$error":"#VALUE!"},{"$error":"#VALUE!"},null,1.1800000000000008,{"$error":"#VALUE!"},{"$error":"#VALUE!"}]
[0,{"$error":"#VALUE!"},{"$error":"#VALUE!"},null,1.1900000000000008,{"$error":"#VALUE!"},{"$error":"#VALUE!"}]
[0,{"$error":"#VALUE!"},{"$error":"#VALUE!"},null,1.2000000000000008,{"$error":"#VALUE!"},{"$error":"#VALUE!"}]
[0,{"$error":"#VALUE!"},{"$error":"#VALUE!"},null,1.2100000000000009,{"$error":"#VALUE!"},{"$error":"#VALUE!"}]
[0,{"$error":"#VALUE!"},{"$error":"#VALUE!"},null,1.2200000000000009,{"$error":"#VALUE!"},{"$error":"#VALUE!"}]
[0,{"$error":"#VALUE!"},{"$error":"#VALUE!"},null,1.2300000000000009,{"$error":"#VALUE!"},{"$error":"#VALUE!"}]
[0,{"$error":"#VALUE!"},{"$error":"#VALUE!"},null,1.2400000000000009,{"$error":"#VALUE!"},{"$error":"#VALUE!"}]
[0,{"$error":"#VALUE!"},{"$error":"#VALUE!"},null,1.2500000000000009,{"$error":"#VALUE!"},{"$error":"#VALUE!"}]
[0,{"$error":"#VALUE!"},{"$error":"#VALUE!"},null,1.2600000000000009,{"$error":"#VALUE!"},{"$error":"#VALUE!"}]
[0,{"$error":"#VALUE!"},{"$error":"#VALUE!"},null,1.2700000000000009,{"$error":"#VALUE!"},{"$error":"#VALUE!"}]
[{"$f":"MIN(AD$15,E179)","v":0},{"$f":"MIN(C$47,F179)","v":{"$error":"#VALUE!"}},{"$error":"#VALUE!"},null,1.2800000000000009,{"$f":"((C$11)/((10^(-E179))+(C$11)))*100","v":{"$error":"#VALUE!"}},{"$error":"#VALUE!"}]
[0,{"$error":"#VALUE!"},{"$f":"100-B180","v":{"$error":"#VALUE!"}},null,1.2900000000000009,{"$error":"#VALUE!"},{"$f":"100-F180","v":{"$error":"#VALUE!"}}]
[0,{"$error":"#VALUE!"},{"$error":"#VALUE!"},null,{"$f":"E180+12/1200","v":1.3000000000000009},{"$error":"#VALUE!"},{"$error":"#VALUE!"}]
[0,{"$error":"#VALUE!"},{"$error":"#VALUE!"},null,1.3100000000000009,{"$error":"#VALUE!"},{"$error":"#VALUE!"}]
[0,{"$error":"#VALUE!"},{"$error":"#VALUE!"},null,1.320000000000001,{"$error":"#VALUE!"},{"$error":"#VALUE!"}]
[0,{"$error":"#VALUE!"},{"$error":"#VALUE!"},null,1.330000000000001,{"$error":"#VALUE!"},{"$error":"#VALUE!"}]
[0,{"$error":"#VALUE!"},{"$error":"#VALUE!"},null,1.340000000000001,{"$error":"#VALUE!"},{"$error":"#VALUE!"}]
[0,{"$error":"#VALUE!"},{"$error":"#VALUE!"},null,1.350000000000001,{"$error":"#VALUE!"},{"$error":"#VALUE!"}]
[0,{"$error":"#VALUE!"},{"$error":"#VALUE!"},null,1.360000000000001,{"$error":"#VALUE!"},{"$error":"#VALUE!"}]
[0,{"$error":"#VALUE!"},{"$error":"#VALUE!"},null,1.370000000000001,{"$error":"#VALUE!"},{"$error":"#VALUE!"}]
[0,{"$error":"#VALUE!"},{"$error":"#VALUE!"},null,1.380000000000001,{"$error":"#VALUE!"},{"$error":"#VALUE!"}]
[0,{"$error":"#VALUE!"},{"$error":"#VALUE!"},null,1.390000000000001,{"$error":"#VALUE!"},{"$error":"#VALUE!"}]
[0,{"$error":"#VALUE!"},{"$error":"#VALUE!"},null,1.400000000000001,{"$error":"#VALUE!"},{"$error":"#VALUE!"}]
[0,{"$error":"#VALUE!"},{"$error":"#VALUE!"},null,1.410000000000001,{"$error":"#VALUE!"},{"$error":"#VALUE!"}]
[0,{"$error":"#VALUE!"},{"$error":"#VALUE!"},null,1.420000000000001,{"$error":"#VALUE!"},{"$error":"#VALUE!"}]
[0,{"$error":"#VALUE!"},{"$error":"#VALUE!"},null,1.430000000000001,{"$error":"#VALUE!"},{"$error":"#VALUE!"}]
[0,{"$error":"#VALUE!"},{"$error":"#VALUE!"},null,1.4400000000000011,{"$error":"#VALUE!"},{"$error":"#VALUE!"}]
[0,{"$error":"#VALUE!"},{"$error":"#VALUE!"},null,1.4500000000000011,{"$error":"#VALUE!"},{"$error":"#VALUE!"}]
[0,{"$error":"#VALUE!"},{"$error":"#VALUE!"},null,1.4600000000000011,{"$error":"#VALUE!"},{"$error":"#VALUE!"}]
[0,{"$error":"#VALUE!"},{"$error":"#VALUE!"},null,1.4700000000000011,{"$error":"#VALUE!"},{"$error":"#VALUE!"}]
[0,{"$error":"#VALUE!"},{"$error":"#VALUE!"},null,1.4800000000000011,{"$error":"#VALUE!"},{"$error":"#VALUE!"}]
[0,{"$error":"#VALUE!"},{"$error":"#VALUE!"},null,1.4900000000000011,{"$error":"#VALUE!"},{"$error":"#VALUE!"}]
[0,{"$error":"#VALUE!"},{"$error":"#VALUE!"},null,1.5000000000000011,{"$error":"#VALUE!"},{"$error":"#VALUE!"}]
[0,{"$error":"#VALUE!"},{"$error":"#VALUE!"},null,1.5100000000000011,{"$error":"#VALUE!"},{"$error":"#VALUE!"}]
[0,{"$error":"#VALUE!"},{"$error":"#VALUE!"},null,1.5200000000000011,{"$error":"#VALUE!"},{"$error":"#VALUE!"}]
[0,{"$error":"#VALUE!"},{"$error":"#VALUE!"},null,1.5300000000000011,{"$error":"#VALUE!"},{"$error":"#VALUE!"}]
[0,{"$error":"#VALUE!"},{"$error":"#VALUE!"},null,1.5400000000000011,{"$error":"#VALUE!"},{"$error":"#VALUE!"}]
[0,{"$error":"#VALUE!"},{"$error":"#VALUE!"},null,1.5500000000000012,{"$error":"#VALUE!"},{"$error":"#VALUE!"}]
[0,{"$error":"#VALUE!"},{"$error":"#VALUE!"},null,1.5600000000000012,{"$error":"#VALUE!"},{"$error":"#VALUE!"}]
[0,{"$error":"#VALUE!"},{"$error":"#VALUE!"},null,1.5700000000000012,{"$error":"#VALUE!"},{"$error":"#VALUE!"}]
[0,{"$error":"#VALUE!"},{"$error":"#VALUE!"},null,1.5800000000000012,{"$error":"#VALUE!"},{"$error":"#VALUE!"}]
[0,{"$error":"#VALUE!"},{"$error":"#VALUE!"},null,1.5900000000000012,{"$error":"#VALUE!"},{"$error":"#VALUE!"}]
[0,{"$error":"#VALUE!"},{"$error":"#VALUE!"},null,1.6000000000000012,{"$error":"#VALUE!"},{"$error":"#VALUE!"}]
[0,{"$error":"#VALUE!"},{"$error":"#VALUE!"},null,1.6100000000000012,{"$error":"#VALUE!"},{"$error":"#VALUE!"}]
[0,{"$error":"#VALUE!"},{"$error":"#VALUE!"},null,1.6200000000000012,{"$error":"#VALUE!"},{"$error":"#VALUE!"}]
[0,{"$error":"#VALUE!"},{"$error":"#VALUE!"},null,1.6300000000000012,{"$error":"#VALUE!"},{"$error":"#VALUE!"}]
[0,{"$error":"#VALUE!"},{"$error":"#VALUE!"},null,1.6400000000000012,{"$error":"#VALUE!"},{"$error":"#VALUE!"}]
[0,{"$error":"#VALUE!"},{"$error":"#VALUE!"},null,1.6500000000000012,{"$error":"#VALUE!"},{"$error":"#VALUE!"}]
[0,{"$error":"#VALUE!"},{"$error":"#VALUE!"},null,1.6600000000000013,{"$error":"#VALUE!"},{"$error":"#VALUE!"}]
[0,{"$error":"#VALUE!"},{"$error":"#VALUE!"},null,1.6700000000000013,{"$error":"#VALUE!"},{"$error":"#VALUE!"}]
[0,{"$error":"#VALUE!"},{"$error":"#VALUE!"},null,1.6800000000000013,{"$error":"#VALUE!"},{"$error":"#VALUE!"}]
[0,{"$error":"#VALUE!"},{"$error":"#VALUE!"},null,1.6900000000000013,{"$error":"#VALUE!"},{"$error":"#VALUE!"}]
[0,{"$error":"#VALUE!"},{"$error":"#VALUE!"},null,1.7000000000000013,{"$error":"#VALUE!"},{"$error":"#VALUE!"}]
[0,{"$error":"#VALUE!"},{"$error":"#VALUE!"},null,1.7100000000000013,{"$error":"#VALUE!"},{"$error":"#VALUE!"}]
[0,{"$error":"#VALUE!"},{"$error":"#VALUE!"},null,1.7200000000000013,{"$error":"#VALUE!"},{"$error":"#VALUE!"}]
[0,{"$error":"#VALUE!"},{"$error":"#VALUE!"},null,1.7300000000000013,{"$error":"#VALUE!"},{"$error":"#VALUE!"}]
[0,{"$error":"#VALUE!"},{"$error":"#VALUE!"},null,1.7400000000000013,{"$error":"#VALUE!"},{"$error":"#VALUE!"}]
[0,{"$error":"#VALUE!"},{"$error":"#VALUE!"},null,1.7500000000000013,{"$error":"#VALUE!"},{"$error":"#VALUE!"}]
[0,{"$error":"#VALUE!"},{"$error":"#VALUE!"},null,1.7600000000000013,{"$error":"#VALUE!"},{"$error":"#VALUE!"}]
[0,{"$error":"#VALUE!"},{"$error":"#VALUE!"},null,1.7700000000000014,{"$error":"#VALUE!"},{"$error":"#VALUE!"}]
[0,{"$error":"#VALUE!"},{"$error":"#VALUE!"},null,1.7800000000000014,{"$error":"#VALUE!"},{"$error":"#VALUE!"}]
[0,{"$error":"#VALUE!"},{"$error":"#VALUE!"},null,1.7900000000000014,{"$error":"#VALUE!"},{"$error":"#VALUE!"}]
[0,{"$error":"#VALUE!"},{"$error":"#VALUE!"},null,1.8000000000000014,{"$error":"#VALUE!"},{"$error":"#VALUE!"}]
[0,{"$error":"#VALUE!"},{"$error":"#VALUE!"},null,1.8100000000000014,{"$error":"#VALUE!"},{"$error":"#VALUE!"}]
[0,{"$error":"#VALUE!"},{"$error":"#VALUE!"},null,1.8200000000000014,{"$error":"#VALUE!"},{"$error":"#VALUE!"}]
[0,{"$error":"#VALUE!"},{"$error":"#VALUE!"},null,1.8300000000000014,{"$error":"#VALUE!"},{"$error":"#VALUE!"}]
[0,{"$error":"#VALUE!"},{"$error":"#VALUE!"},null,1.8400000000000014,{"$error":"#VALUE!"},{"$error":"#VALUE!"}]
[0,{"$error":"#VALUE!"},{"$error":"#VALUE!"},null,1.8500000000000014,{"$error":"#VALUE!"},{"$error":"#VALUE!"}]
[0,{"$error":"#VALUE!"},{"$error":"#VALUE!"},null,1.8600000000000014,{"$error":"#VALUE!"},{"$error":"#VALUE!"}]
[0,{"$error":"#VALUE!"},{"$error":"#VALUE!"},null,1.8700000000000014,{"$error":"#VALUE!"},{"$error":"#VALUE!"}]
[0,{"$error":"#VALUE!"},{"$error":"#VALUE!"},null,1.8800000000000014,{"$error":"#VALUE!"},{"$error":"#VALUE!"}]
[0,{"$error":"#VALUE!"},{"$error":"#VALUE!"},null,1.8900000000000015,{"$error":"#VALUE!"},{"$error":"#VALUE!"}]
[0,{"$error":"#VALUE!"},{"$error":"#VALUE!"},null,1.9000000000000015,{"$error":"#VALUE!"},{"$error":"#VALUE!"}]
[0,{"$error":"#VALUE!"},{"$error":"#VALUE!"},null,1.9100000000000015,{"$error":"#VALUE!"},{"$error":"#VALUE!"}]
[{"$f":"MIN(AD$15,E243)","v":0},{"$f":"MIN(C$47,F243)","v":{"$error":"#VALUE!"}},{"$error":"#VALUE!"},null,1.9200000000000015,{"$f":"((C$11)/((10^(-E243))+(C$11)))*100","v":{"$error":"#VALUE!"}},{"$error":"#VALUE!"}]
[0,{"$error":"#VALUE!"},{"$f":"100-B244","v":{"$error":"#VALUE!"}},null,1.9300000000000015,{"$error":"#VALUE!"},{"$f":"100-F244","v":{"$error":"#VALUE!"}}]
[0,{"$error":"#VALUE!"},{"$error":"#VALUE!"},null,{"$f":"E244+12/1200","v":1.9400000000000015},{"$error":"#VALUE!"},{"$error":"#VALUE!"}]
[0,{"$error":"#VALUE!"},{"$error":"#VALUE!"},null,1.9500000000000015,{"$error":"#VALUE!"},{"$error":"#VALUE!"}]
[0,{"$error":"#VALUE!"},{"$error":"#VALUE!"},null,1.9600000000000015,{"$error":"#VALUE!"},{"$error":"#VALUE!"}]
[0,{"$error":"#VALUE!"},{"$error":"#VALUE!"},null,1.9700000000000015,{"$error":"#VALUE!"},{"$error":"#VALUE!"}]
[0,{"$error":"#VALUE!"},{"$error":"#VALUE!"},null,1.9800000000000015,{"$error":"#VALUE!"},{"$error":"#VALUE!"}]
[0,{"$error":"#VALUE!"},{"$error":"#VALUE!"},null,1.9900000000000015,{"$error":"#VALUE!"},{"$error":"#VALUE!"}]
[0,{"$error":"#VALUE!"},{"$error":"#VALUE!"},null,2.0000000000000013,{"$error":"#VALUE!"},{"$error":"#VALUE!"}]
[0,{"$error":"#VALUE!"},{"$error":"#VALUE!"},null,2.0100000000000011,{"$error":"#VALUE!"},{"$error":"#VALUE!"}]
[0,{"$error":"#VALUE!"},{"$error":"#VALUE!"},null,2.0200000000000009,{"$error":"#VALUE!"},{"$error":"#VALUE!"}]
[0,{"$error":"#VALUE!"},{"$error":"#VALUE!"},null,2.0300000000000007,{"$error":"#VALUE!"},{"$error":"#VALUE!"}]
[0,{"$error":"#VALUE!"},{"$error":"#VALUE!"},null,2.0400000000000005,{"$error":"#VALUE!"},{"$error":"#VALUE!"}]
[0,{"$error":"#VALUE!"},{"$error":"#VALUE!"},null,2.0500000000000003,{"$error":"#VALUE!"},{"$error":"#VALUE!"}]
[0,{"$error":"#VALUE!"},{"$error":"#VALUE!"},null,2.06,{"$error":"#VALUE!"},{"$error":"#VALUE!"}]
[0,{"$error":"#VALUE!"},{"$error":"#VALUE!"},null,2.0699999999999998,{"$error":"#VALUE!"},{"$error":"#VALUE!"}]
[0,{"$error":"#VALUE!"},{"$error":"#VALUE!"},null,2.0799999999999996,{"$error":"#VALUE!"},{"$error":"#VALUE!"}]
[0,{"$error":"#VALUE!"},{"$error":"#VALUE!"},null,2.0899999999999994,{"$error":"#VALUE!"},{"$error":"#VALUE!"}]
[0,{"$error":"#VALUE!"},{"$error":"#VALUE!"},null,2.0999999999999992,{"$error":"#VALUE!"},{"$error":"#VALUE!"}]
[0,{"$error":"#VALUE!"},{"$error":"#VALUE!"},null,2.109999999999999,{"$error":"#VALUE!"},{"$error":"#VALUE!"}]
[0,{"$error":"#VALUE!"},{"$error":"#VALUE!"},null,2.1199999999999988,{"$error":"#VALUE!"},{"$error":"#VALUE!"}]
[0,{"$error":"#VALUE!"},{"$error":"#VALUE!"},null,2.1299999999999986,{"$error":"#VALUE!"},{"$error":"#VALUE!"}]
[0,{"$error":"#VALUE!"},{"$error":"#VALUE!"},null,2.1399999999999983,{"$error":"#VALUE!"},{"$error":"#VALUE!"}]
[0,{"$error":"#VALUE!"},{"$error":"#VALUE!"},null,2.1499999999999981,{"$error":"#VALUE!"},{"$error":"#VALUE!"}]
[0,{"$error":"#VALUE!"},{"$error":"#VALUE!"},null,2.1599999999999979,{"$error":"#VALUE!"},{"$error":"#VALUE!"}]
[0,{"$error":"#VALUE!"},{"$error":"#VALUE!"},null,2.1699999999999977,{"$error":"#VALUE!"},{"$error":"#VALUE!"}]
[0,{"$error":"#VALUE!"},{"$error":"#VALUE!"},null,2.1799999999999975,{"$error":"#VALUE!"},{"$error":"#VALUE!"}]
[0,{"$error":"#VALUE!"},{"$error":"#VALUE!"},null,2.1899999999999973,{"$error":"#VALUE!"},{"$error":"#VALUE!"}]
[0,{"$error":"#VALUE!"},{"$error":"#VALUE!"},null,2.1999999999999971,{"$error":"#VALUE!"},{"$error":"#VALUE!"}]
[0,{"$error":"#VALUE!"},{"$error":"#VALUE!"},null,2.2099999999999969,{"$error":"#VALUE!"},{"$error":"#VALUE!"}]
[0,{"$error":"#VALUE!"},{"$error":"#VALUE!"},null,2.2199999999999966,{"$error":"#VALUE!"},{"$error":"#VALUE!"}]
[0,{"$error":"#VALUE!"},{"$error":"#VALUE!"},null,2.2299999999999964,{"$error":"#VALUE!"},{"$error":"#VALUE!"}]
[0,{"$error":"#VALUE!"},{"$error":"#VALUE!"},null,2.2399999999999962,{"$error":"#VALUE!"},{"$error":"#VALUE!"}]
[0,{"$error":"#VALUE!"},{"$error":"#VALUE!"},null,2.249999999999996,{"$error":"#VALUE!"},{"$error":"#VALUE!"}]
[0,{"$error":"#VALUE!"},{"$error":"#VALUE!"},null,2.2599999999999958,{"$error":"#VALUE!"},{"$error":"#VALUE!"}]
[0,{"$error":"#VALUE!"},{"$error":"#VALUE!"},null,2.2699999999999956,{"$error":"#VALUE!"},{"$error":"#VALUE!"}]
[0,{"$error":"#VALUE!"},{"$error":"#VALUE!"},null,2.2799999999999954,{"$error":"#VALUE!"},{"$error":"#VALUE!"}]
[0,{"$error":"#VALUE!"},{"$error":"#VALUE!"},null,2.2899999999999952,{"$error":"#VALUE!"},{"$error":"#VALUE!"}]
[0,{"$error":"#VALUE!"},{"$error":"#VALUE!"},null,2.2999999999999949,{"$error":"#VALUE!"},{"$error":"#VALUE!"}]
[0,{"$error":"#VALUE!"},{"$error":"#VALUE!"},null,2.3099999999999947,{"$error":"#VALUE!"},{"$error":"#VALUE!"}]
[0,{"$error":"#VALUE!"},{"$error":"#VALUE!"},null,2.3199999999999945,{"$error":"#VALUE!"},{"$error":"#VALUE!"}]
[0,{"$error":"#VALUE!"},{"$error":"#VALUE!"},null,2.3299999999999943,{"$error":"#VALUE!"},{"$error":"#VALUE!"}]
[0,{"$error":"#VALUE!"},{"$error":"#VALUE!"},null,2.3399999999999941,{"$error":"#VALUE!"},{"$error":"#VALUE!"}]
[0,{"$error":"#VALUE!"},{"$error":"#VALUE!"},null,2.3499999999999939,{"$error":"#VALUE!"},{"$error":"#VALUE!"}]
[0,{"$error":"#VALUE!"},{"$error":"#VALUE!"},null,2.3599999999999937,{"$error":"#VALUE!"},{"$error":"#VALUE!"}]
[0,{"$error":"#VALUE!"},{"$error":"#VALUE!"},null,2.3699999999999934,{"$error":"#VALUE!"},{"$error":"#VALUE!"}]
[0,{"$error":"#VALUE!"},{"$error":"#VALUE!"},null,2.3799999999999932,{"$error":"#VALUE!"},{"$error":"#VALUE!"}]
[0,{"$error":"#VALUE!"},{"$error":"#VALUE!"},null,2.389999999999993,{"$error":"#VALUE!"},{"$error":"#VALUE!"}]
[0,{"$error":"#VALUE!"},{"$error":"#VALUE!"},null,2.3999999999999928,{"$error":"#VALUE!"},{"$error":"#VALUE!"}]
[0,{"$error":"#VALUE!"},{"$error":"#VALUE!"},null,2.4099999999999926,{"$error":"#VALUE!"},{"$error":"#VALUE!"}]
[0,{"$error":"#VALUE!"},{"$error":"#VALUE!"},null,2.4199999999999924,{"$error":"#VALUE!"},{"$error":"#VALUE!"}]
[0,{"$error":"#VALUE!"},{"$error":"#VALUE!"},null,2.4299999999999922,{"$error":"#VALUE!"},{"$error":"#VALUE!"}]
[0,{"$error":"#VALUE!"},{"$error":"#VALUE!"},null,2.439999999999992,{"$error":"#VALUE!"},{"$error":"#VALUE!"}]
[0,{"$error":"#VALUE!"},{"$error":"#VALUE!"},null,2.4499999999999917,{"$error":"#VALUE!"},{"$error":"#VALUE!"}]
[0,{"$error":"#VALUE!"},{"$error":"#VALUE!"},null,2.4599999999999915,{"$error":"#VALUE!"},{"$error":"#VALUE!"}]
[0,{"$error":"#VALUE!"},{"$error":"#VALUE!"},null,2.4699999999999913,{"$error":"#VALUE!"},{"$error":"#VALUE!"}]
[0,{"$error":"#VALUE!"},{"$error":"#VALUE!"},null,2.4799999999999911,{"$error":"#VALUE!"},{"$error":"#VALUE!"}]
[0,{"$error":"#VALUE!"},{"$error":"#VALUE!"},null,2.4899999999999909,{"$error":"#VALUE!"},{"$error":"#VALUE!"}]
[0,{"$error":"#VALUE!"},{"$error":"#VALUE!"},null,2.4999999999999907,{"$error":"#VALUE!"},{"$error":"#VALUE!"}]
[0,{"$error":"#VALUE!"},{"$error":"#VALUE!"},null,2.5099999999999905,{"$error":"#VALUE!"},{"$error":"#VALUE!"}]
[0,{"$error":"#VALUE!"},{"$error":"#VALUE!"},null,2.5199999999999902,{"$error":"#VALUE!"},{"$error":"#VALUE!"}]
[0,{"$error":"#VALUE!"},{"$error":"#VALUE!"},null,2.52999999999999,{"$error":"#VALUE!"},{"$error":"#VALUE!"}]
[0,{"$error":"#VALUE!"},{"$error":"#VALUE!"},null,2.5399999999999898,{"$error":"#VALUE!"},{"$error":"#VALUE!"}]
[0,{"$error":"#VALUE!"},{"$error":"#VALUE!"},null,2.5499999999999896,{"$error":"#VALUE!"},{"$error":"#VALUE!"}]
[{"$f":"MIN(AD$15,E307)","v":0},{"$f":"MIN(C$47,F307)","v":{"$error":"#VALUE!"}},{"$error":"#VALUE!"},null,2.5599999999999894,{"$f":"((C$11)/((10^(-E307))+(C$11)))*100","v":{"$error":"#VALUE!"}},{"$error":"#VALUE!"}]
[0,{"$error":"#VALUE!"},{"$f":"100-B308","v":{"$error":"#VALUE!"}},null,2.5699999999999892,{"$error":"#VALUE!"},{"$f":"100-F308","v":{"$error":"#VALUE!"}}]
[0,{"$error":"#VALUE!"},{"$error":"#VALUE!"},null,{"$f":"E308+12/1200","v":2.579999999999989},{"$error":"#VALUE!"},{"$error":"#VALUE!"}]
[0,{"$error":"#VALUE!"},{"$error":"#VALUE!"},null,2.5899999999999888,{"$error":"#VALUE!"},{"$error":"#VALUE!"}]
[0,{"$error":"#VALUE!"},{"$error":"#VALUE!"},null,2.5999999999999885,{"$error":"#VALUE!"},{"$error":"#VALUE!"}]
[0,{"$error":"#VALUE!"},{"$error":"#VALUE!"},null,2.6099999999999883,{"$error":"#VALUE!"},{"$error":"#VALUE!"}]
[0,{"$error":"#VALUE!"},{"$error":"#VALUE!"},null,2.6199999999999881,{"$error":"#VALUE!"},{"$error":"#VALUE!"}]
[0,{"$error":"#VALUE!"},{"$error":"#VALUE!"},null,2.6299999999999879,{"$error":"#VALUE!"},{"$error":"#VALUE!"}]
[0,{"$error":"#VALUE!"},{"$error":"#VALUE!"},null,2.6399999999999877,{"$error":"#VALUE!"},{"$error":"#VALUE!"}]
[0,{"$error":"#VALUE!"},{"$error":"#VALUE!"},null,2.6499999999999875,{"$error":"#VALUE!"},{"$error":"#VALUE!"}]
[0,{"$error":"#VALUE!"},{"$error":"#VALUE!"},null,2.6599999999999873,{"$error":"#VALUE!"},{"$error":"#VALUE!"}]
[0,{"$error":"#VALUE!"},{"$error":"#VALUE!"},null,2.6699999999999871,{"$error":"#VALUE!"},{"$error":"#VALUE!"}]
[0,{"$error":"#VALUE!"},{"$error":"#VALUE!"},null,2.6799999999999868,{"$error":"#VALUE!"},{"$error":"#VALUE!"}]
[0,{"$error":"#VALUE!"},{"$error":"#VALUE!"},null,2.6899999999999866,{"$error":"#VALUE!"},{"$error":"#VALUE!"}]
[0,{"$error":"#VALUE!"},{"$error":"#VALUE!"},null,2.6999999999999864,{"$error":"#VALUE!"},{"$error":"#VALUE!"}]
[0,{"$error":"#VALUE!"},{"$error":"#VALUE!"},null,2.7099999999999862,{"$error":"#VALUE!"},{"$error":"#VALUE!"}]
[0,{"$error":"#VALUE!"},{"$error":"#VALUE!"},null,2.719999999999986,{"$error":"#VALUE!"},{"$error":"#VALUE!"}]
[0,{"$error":"#VALUE!"},{"$error":"#VALUE!"},null,2.7299999999999858,{"$error":"#VALUE!"},{"$error":"#VALUE!"}]
[0,{"$error":"#VALUE!"},{"$error":"#VALUE!"},null,2.7399999999999856,{"$error":"#VALUE!"},{"$error":"#VALUE!"}]
[0,{"$error":"#VALUE!"},{"$error":"#VALUE!"},null,2.7499999999999853,{"$error":"#VALUE!"},{"$error":"#VALUE!"}]
[0,{"$error":"#VALUE!"},{"$error":"#VALUE!"},null,2.7599999999999851,{"$error":"#VALUE!"},{"$error":"#VALUE!"}]
[0,{"$error":"#VALUE!"},{"$error":"#VALUE!"},null,2.7699999999999849,{"$error":"#VALUE!"},{"$error":"#VALUE!"}]
[0,{"$error":"#VALUE!"},{"$error":"#VALUE!"},null,2.7799999999999847,{"$error":"#VALUE!"},{"$error":"#VALUE!"}]
[0,{"$error":"#VALUE!"},{"$error":"#VALUE!"},null,2.7899999999999845,{"$error":"#VALUE!"},{"$error":"#VALUE!"}]
[0,{"$error":"#VALUE!"},{"$error":"#VALUE!"},null,2.7999999999999843,{"$error":"#VALUE!"},{"$error":"#VALUE!"}]
[0,{"$error":"#VALUE!"},{"$error":"#VALUE!"},null,2.8099999999999841,{"$error":"#VALUE!"},{"$error":"#VALUE!"}]
[0,{"$error":"#VALUE!"},{"$error":"#VALUE!"},null,2.8199999999999839,{"$error":"#VALUE!"},{"$error":"#VALUE!"}]
[0,{"$error":"#VALUE!"},{"$error":"#VALUE!"},null,2.8299999999999836,{"$error":"#VALUE!"},{"$error":"#VALUE!"}]
[0,{"$error":"#VALUE!"},{"$error":"#VALUE!"},null,2.8399999999999834,{"$error":"#VALUE!"},{"$error":"#VALUE!"}]
[0,{"$error":"#VALUE!"},{"$error":"#VALUE!"},null,2.8499999999999832,{"$error":"#VALUE!"},{"$error":"#VALUE!"}]
[0,{"$error":"#VALUE!"},{"$error":"#VALUE!"},null,2.859999999999983,{"$error":"#VALUE!"},{"$error":"#VALUE!"}]
[0,{"$error":"#VALUE!"},{"$error":"#VALUE!"},null,2.8699999999999828,{"$error":"#VALUE!"},{"$error":"#VALUE!"}]
[0,{"$error":"#VALUE!"},{"$error":"#VALUE!"},null,2.8799999999999826,{"$error":"#VALUE!"},{"$error":"#VALUE!"}]
[0,{"$error":"#VALUE!"},{"$error":"#VALUE!"},null,2.8899999999999824,{"$error":"#VALUE!"},{"$error":"#VALUE!"}]
[0,{"$error":"#VALUE!"},{"$error":"#VALUE!"},null,2.8999999999999821,{"$error":"#VALUE!"},{"$error":"#VALUE!"}]
[0,{"$error":"#VALUE!"},{"$error":"#VALUE!"},null,2.9099999999999819,{"$error":"#VALUE!"},{"$error":"#VALUE!"}]
[0,{"$error":"#VALUE!"},{"$error":"#VALUE!"},null,2.9199999999999817,{"$error":"#VALUE!"},{"$error":"#VALUE!"}]
[0,{"$error":"#VALUE!"},{"$error":"#VALUE!"},null,2.9299999999999815,{"$error":"#VALUE!"},{"$error":"#VALUE!"}]
[0,{"$error":"#VALUE!"},{"$error":"#VALUE!"},null,2.9399999999999813,{"$error":"#VALUE!"},{"$error":"#VALUE!"}]
[0,{"$error":"#VALUE!"},{"$error":"#VALUE!"},null,2.9499999999999811,{"$error":"#VALUE!"},{"$error":"#VALUE!"}]
[0,{"$error":"#VALUE!"},{"$error":"#VALUE!"},null,2.9599999999999809,{"$error":"#VALUE!"},{"$error":"#VALUE!"}]
[0,{"$error":"#VALUE!"},{"$error":"#VALUE!"},null,2.9699999999999807,{"$error":"#VALUE!"},{"$error":"#VALUE!"}]
[0,{"$error":"#VALUE!"},{"$error":"#VALUE!"},null,2.9799999999999804,{"$error":"#VALUE!"},{"$error":"#VALUE!"}]
[0,{"$error":"#VALUE!"},{"$error":"#VALUE!"},null,2.9899999999999802,{"$error":"#VALUE!"},{"$error":"#VALUE!"}]
[0,{"$error":"#VALUE!"},{"$error":"#VALUE!"},null,2.99999999999998,{"$error":"#VALUE!"},{"$error":"#VALUE!"}]
[0,{"$error":"#VALUE!"},{"$error":"#VALUE!"},null,3.0099999999999798,{"$error":"#VALUE!"},{"$error":"#VALUE!"}]
[0,{"$error":"#VALUE!"},{"$error":"#VALUE!"},null,3.0199999999999796,{"$error":"#VALUE!"},{"$error":"#VALUE!"}]
[0,{"$error":"#VALUE!"},{"$error":"#VALUE!"},null,3.0299999999999794,{"$error":"#VALUE!"},{"$error":"#VALUE!"}]
[0,{"$error":"#VALUE!"},{"$error":"#VALUE!"},null,3.0399999999999792,{"$error":"#VALUE!"},{"$error":"#VALUE!"}]
[0,{"$error":"#VALUE!"},{"$error":"#VALUE!"},null,3.049999999999979,{"$error":"#VALUE!"},{"$error":"#VALUE!"}]
[0,{"$error":"#VALUE!"},{"$error":"#VALUE!"},null,3.0599999999999787,{"$error":"#VALUE!"},{"$error":"#VALUE!"}]
[0,{"$error":"#VALUE!"},{"$error":"#VALUE!"},null,3.0699999999999785,{"$error":"#VALUE!"},{"$error":"#VALUE!"}]
[0,{"$error":"#VALUE!"},{"$error":"#VALUE!"},null,3.0799999999999783,{"$error":"#VALUE!"},{"$error":"#VALUE!"}]
[0,{"$error":"#VALUE!"},{"$error":"#VALUE!"},null,3.0899999999999781,{"$error":"#VALUE!"},{"$error":"#VALUE!"}]
[0,{"$error":"#VALUE!"},{"$error":"#VALUE!"},null,3.0999999999999779,{"$error":"#VALUE!"},{"$error":"#VALUE!"}]
[0,{"$error":"#VALUE!"},{"$error":"#VALUE!"},null,3.1099999999999777,{"$error":"#VALUE!"},{"$error":"#VALUE!"}]
[0,{"$error":"#VALUE!"},{"$error":"#VALUE!"},null,3.1199999999999775,{"$error":"#VALUE!"},{"$error":"#VALUE!"}]
[0,{"$error":"#VALUE!"},{"$error":"#VALUE!"},null,3.1299999999999772,{"$error":"#VALUE!"},{"$error":"#VALUE!"}]
[0,{"$error":"#VALUE!"},{"$error":"#VALUE!"},null,3.139999999999977,{"$error":"#VALUE!"},{"$error":"#VALUE!"}]
[0,{"$error":"#VALUE!"},{"$error":"#VALUE!"},null,3.1499999999999768,{"$error":"#VALUE!"},{"$error":"#VALUE!"}]
[0,{"$error":"#VALUE!"},{"$error":"#VALUE!"},null,3.1599999999999766,{"$error":"#VALUE!"},{"$error":"#VALUE!"}]
[0,{"$error":"#VALUE!"},{"$error":"#VALUE!"},null,3.1699999999999764,{"$error":"#VALUE!"},{"$error":"#VALUE!"}]
[0,{"$error":"#VALUE!"},{"$error":"#VALUE!"},null,3.1799999999999762,{"$error":"#VALUE!"},{"$error":"#VALUE!"}]
[0,{"$error":"#VALUE!"},{"$error":"#VALUE!"},null,3.189999999999976,{"$error":"#VALUE!"},{"$error":"#VALUE!"}]
[{"$f":"MIN(AD$15,E371)","v":0},{"$f":"MIN(C$47,F371)","v":{"$error":"#VALUE!"}},{"$error":"#VALUE!"},null,3.1999999999999758,{"$f":"((C$11)/((10^(-E371))+(C$11)))*100","v":{"$error":"#VALUE!"}},{"$error":"#VALUE!"}]
[0,{"$error":"#VALUE!"},{"$f":"100-B372","v":{"$error":"#VALUE!"}},null,3.2099999999999755,{"$error":"#VALUE!"},{"$f":"100-F372","v":{"$error":"#VALUE!"}}]
[0,{"$error":"#VALUE!"},{"$error":"#VALUE!"},null,{"$f":"E372+12/1200","v":3.2199999999999753},{"$error":"#VALUE!"},{"$error":"#VALUE!"}]
[0,{"$error":"#VALUE!"},{"$error":"#VALUE!"},null,3.2299999999999751,{"$error":"#VALUE!"},{"$error":"#VALUE!"}]
[0,{"$error":"#VALUE!"},{"$error":"#VALUE!"},null,3.2399999999999749,{"$error":"#VALUE!"},{"$error":"#VALUE!"}]
[0,{"$error":"#VALUE!"},{"$error":"#VALUE!"},null,3.2499999999999747,{"$error":"#VALUE!"},{"$error":"#VALUE!"}]
[0,{"$error":"#VALUE!"},{"$error":"#VALUE!"},null,3.2599999999999745,{"$error":"#VALUE!"},{"$error":"#VALUE!"}]
[0,{"$error":"#VALUE!"},{"$error":"#VALUE!"},null,3.2699999999999743,{"$error":"#VALUE!"},{"$error":"#VALUE!"}]
[0,{"$error":"#VALUE!"},{"$error":"#VALUE!"},null,3.279999999999974,{"$error":"#VALUE!"},{"$error":"#VALUE!"}]
[0,{"$error":"#VALUE!"},{"$error":"#VALUE!"},null,3.2899999999999738,{"$error":"#VALUE!"},{"$error":"#VALUE!"}]
[0,{"$error":"#VALUE!"},{"$error":"#VALUE!"},null,3.2999999999999736,{"$error":"#VALUE!"},{"$error":"#VALUE!"}]
[0,{"$error":"#VALUE!"},{"$error":"#VALUE!"},null,3.3099999999999734,{"$error":"#VALUE!"},{"$error":"#VALUE!"}]
[0,{"$error":"#VALUE!"},{"$error":"#VALUE!"},null,3.3199999999999732,{"$error":"#VALUE!"},{"$error":"#VALUE!"}]
[0,{"$error":"#VALUE!"},{"$error":"#VALUE!"},null,3.329999999999973,{"$error":"#VALUE!"},{"$error":"#VALUE!"}]
[0,{"$error":"#VALUE!"},{"$error":"#VALUE!"},null,3.3399999999999728,{"$error":"#VALUE!"},{"$error":"#VALUE!"}]
[0,{"$error":"#VALUE!"},{"$error":"#VALUE!"},null,3.3499999999999726,{"$error":"#VALUE!"},{"$error":"#VALUE!"}]
[0,{"$error":"#VALUE!"},{"$error":"#VALUE!"},null,3.3599999999999723,{"$error":"#VALUE!"},{"$error":"#VALUE!"}]
[0,{"$error":"#VALUE!"},{"$error":"#VALUE!"},null,3.3699999999999721,{"$error":"#VALUE!"},{"$error":"#VALUE!"}]
[0,{"$error":"#VALUE!"},{"$error":"#VALUE!"},null,3.3799999999999719,{"$error":"#VALUE!"},{"$error":"#VALUE!"}]
[0,{"$error":"#VALUE!"},{"$error":"#VALUE!"},null,3.3899999999999717,{"$error":"#VALUE!"},{"$error":"#VALUE!"}]
[0,{"$error":"#VALUE!"},{"$error":"#VALUE!"},null,3.3999999999999715,{"$error":"#VALUE!"},{"$error":"#VALUE!"}]
[0,{"$error":"#VALUE!"},{"$error":"#VALUE!"},null,3.4099999999999713,{"$error":"#VALUE!"},{"$error":"#VALUE!"}]
[0,{"$error":"#VALUE!"},{"$error":"#VALUE!"},null,3.4199999999999711,{"$error":"#VALUE!"},{"$error":"#VALUE!"}]
[0,{"$error":"#VALUE!"},{"$error":"#VALUE!"},null,3.4299999999999708,{"$error":"#VALUE!"},{"$error":"#VALUE!"}]
[0,{"$error":"#VALUE!"},{"$error":"#VALUE!"},null,3.4399999999999706,{"$error":"#VALUE!"},{"$error":"#VALUE!"}]
[0,{"$error":"#VALUE!"},{"$error":"#VALUE!"},null,3.4499999999999704,{"$error":"#VALUE!"},{"$error":"#VALUE!"}]
[0,{"$error":"#VALUE!"},{"$error":"#VALUE!"},null,3.4599999999999702,{"$error":"#VALUE!"},{"$error":"#VALUE!"}]
[0,{"$error":"#VALUE!"},{"$error":"#VALUE!"},null,3.46999999999997,{"$error":"#VALUE!"},{"$error":"#VALUE!"}]
[0,{"$error":"#VALUE!"},{"$error":"#VALUE!"},null,3.4799999999999698,{"$error":"#VALUE!"},{"$error":"#VALUE!"}]
[0,{"$error":"#VALUE!"},{"$error":"#VALUE!"},null,3.4899999999999696,{"$error":"#VALUE!"},{"$error":"#VALUE!"}]
[0,{"$error":"#VALUE!"},{"$error":"#VALUE!"},null,3.4999999999999694,{"$error":"#VALUE!"},{"$error":"#VALUE!"}]
[0,{"$error":"#VALUE!"},{"$error":"#VALUE!"},null,3.5099999999999691,{"$error":"#VALUE!"},{"$error":"#VALUE!"}]
[0,{"$error":"#VALUE!"},{"$error":"#VALUE!"},null,3.5199999999999689,{"$error":"#VALUE!"},{"$error":"#VALUE!"}]
[0,{"$error":"#VALUE!"},{"$error":"#VALUE!"},null,3.5299999999999687,{"$error":"#VALUE!"},{"$error":"#VALUE!"}]
[0,{"$error":"#VALUE!"},{"$error":"#VALUE!"},null,3.5399999999999685,{"$error":"#VALUE!"},{"$error":"#VALUE!"}]
[0,{"$error":"#VALUE!"},{"$error":"#VALUE!"},null,3.5499999999999683,{"$error":"#VALUE!"},{"$error":"#VALUE!"}]
[0,{"$error":"#VALUE!"},{"$error":"#VALUE!"},null,3.5599999999999681,{"$error":"#VALUE!"},{"$error":"#VALUE!"}]
[0,{"$error":"#VALUE!"},{"$error":"#VALUE!"},null,3.5699999999999679,{"$error":"#VALUE!"},{"$error":"#VALUE!"}]
[0,{"$error":"#VALUE!"},{"$error":"#VALUE!"},null,3.5799999999999677,{"$error":"#VALUE!"},{"$error":"#VALUE!"}]
[0,{"$error":"#VALUE!"},{"$error":"#VALUE!"},null,3.5899999999999674,{"$error":"#VALUE!"},{"$error":"#VALUE!"}]
[0,{"$error":"#VALUE!"},{"$error":"#VALUE!"},null,3.5999999999999672,{"$error":"#VALUE!"},{"$error":"#VALUE!"}]
[0,{"$error":"#VALUE!"},{"$error":"#VALUE!"},null,3.609999999999967,{"$error":"#VALUE!"},{"$error":"#VALUE!"}]
[0,{"$error":"#VALUE!"},{"$error":"#VALUE!"},null,3.6199999999999668,{"$error":"#VALUE!"},{"$error":"#VALUE!"}]
[0,{"$error":"#VALUE!"},{"$error":"#VALUE!"},null,3.6299999999999666,{"$error":"#VALUE!"},{"$error":"#VALUE!"}]
[0,{"$error":"#VALUE!"},{"$error":"#VALUE!"},null,3.6399999999999664,{"$error":"#VALUE!"},{"$error":"#VALUE!"}]
[0,{"$error":"#VALUE!"},{"$error":"#VALUE!"},null,3.6499999999999662,{"$error":"#VALUE!"},{"$error":"#VALUE!"}]
[0,{"$error":"#VALUE!"},{"$error":"#VALUE!"},null,3.6599999999999659,{"$error":"#VALUE!"},{"$error":"#VALUE!"}]
[0,{"$error":"#VALUE!"},{"$error":"#VALUE!"},null,3.6699999999999657,{"$error":"#VALUE!"},{"$error":"#VALUE!"}]
[0,{"$error":"#VALUE!"},{"$error":"#VALUE!"},null,3.6799999999999655,{"$error":"#VALUE!"},{"$error":"#VALUE!"}]
[0,{"$error":"#VALUE!"},{"$error":"#VALUE!"},null,3.6899999999999653,{"$error":"#VALUE!"},{"$error":"#VALUE!"}]
[0,{"$error":"#VALUE!"},{"$error":"#VALUE!"},null,3.6999999999999651,{"$error":"#VALUE!"},{"$error":"#VALUE!"}]
[0,{"$error":"#VALUE!"},{"$error":"#VALUE!"},null,3.7099999999999649,{"$error":"#VALUE!"},{"$error":"#VALUE!"}]
[0,{"$error":"#VALUE!"},{"$error":"#VALUE!"},null,3.7199999999999647,{"$error":"#VALUE!"},{"$error":"#VALUE!"}]
[0,{"$error":"#VALUE!"},{"$error":"#VALUE!"},null,3.7299999999999645,{"$error":"#VALUE!"},{"$error":"#VALUE!"}]
[0,{"$error":"#VALUE!"},{"$error":"#VALUE!"},null,3.7399999999999642,{"$error":"#VALUE!"},{"$error":"#VALUE!"}]
[0,{"$error":"#VALUE!"},{"$error":"#VALUE!"},null,3.749999999999964,{"$error":"#VALUE!"},{"$error":"#VALUE!"}]
[0,{"$error":"#VALUE!"},{"$error":"#VALUE!"},null,3.7599999999999638,{"$error":"#VALUE!"},{"$error":"#VALUE!"}]
[0,{"$error":"#VALUE!"},{"$error":"#VALUE!"},null,3.7699999999999636,{"$error":"#VALUE!"},{"$error":"#VALUE!"}]
[0,{"$error":"#VALUE!"},{"$error":"#VALUE!"},null,3.7799999999999634,{"$error":"#VALUE!"},{"$error":"#VALUE!"}]
[0,{"$error":"#VALUE!"},{"$error":"#VALUE!"},null,3.7899999999999632,{"$error":"#VALUE!"},{"$error":"#VALUE!"}]
[0,{"$error":"#VALUE!"},{"$error":"#VALUE!"},null,3.799999999999963,{"$error":"#VALUE!"},{"$error":"#VALUE!"}]
[0,{"$error":"#VALUE!"},{"$error":"#VALUE!"},null,3.8099999999999627,{"$error":"#VALUE!"},{"$error":"#VALUE!"}]
[0,{"$error":"#VALUE!"},{"$error":"#VALUE!"},null,3.8199999999999625,{"$error":"#VALUE!"},{"$error":"#VALUE!"}]
[0,{"$error":"#VALUE!"},{"$error":"#VALUE!"},null,3.8299999999999623,{"$error":"#VALUE!"},{"$error":"#VALUE!"}]
[{"$f":"MIN(AD$15,E435)","v":0},{"$f":"MIN(C$47,F435)","v":{"$error":"#VALUE!"}},{"$error":"#VALUE!"},null,3.8399999999999621,{"$f":"((C$11)/((10^(-E435))+(C$11)))*100","v":{"$error":"#VALUE!"}},{"$error":"#VALUE!"}]
[0,{"$error":"#VALUE!"},{"$f":"100-B436","v":{"$error":"#VALUE!"}},null,3.8499999999999619,{"$error":"#VALUE!"},{"$f":"100-F436","v":{"$error":"#VALUE!"}}]
[0,{"$error":"#VALUE!"},{"$error":"#VALUE!"},null,{"$f":"E436+12/1200","v":3.8599999999999617},{"$error":"#VALUE!"},{"$error":"#VALUE!"}]
[0,{"$error":"#VALUE!"},{"$error":"#VALUE!"},null,3.8699999999999615,{"$error":"#VALUE!"},{"$error":"#VALUE!"}]
[0,{"$error":"#VALUE!"},{"$error":"#VALUE!"},null,3.8799999999999613,{"$error":"#VALUE!"},{"$error":"#VALUE!"}]
[0,{"$error":"#VALUE!"},{"$error":"#VALUE!"},null,3.889999999999961,{"$error":"#VALUE!"},{"$error":"#VALUE!"}]
[0,{"$error":"#VALUE!"},{"$error":"#VALUE!"},null,3.8999999999999608,{"$error":"#VALUE!"},{"$error":"#VALUE!"}]
[0,{"$error":"#VALUE!"},{"$error":"#VALUE!"},null,3.9099999999999606,{"$error":"#VALUE!"},{"$error":"#VALUE!"}]
[0,{"$error":"#VALUE!"},{"$error":"#VALUE!"},null,3.9199999999999604,{"$error":"#VALUE!"},{"$error":"#VALUE!"}]
[0,{"$error":"#VALUE!"},{"$error":"#VALUE!"},null,3.9299999999999602,{"$error":"#VALUE!"},{"$error":"#VALUE!"}]
[0,{"$error":"#VALUE!"},{"$error":"#VALUE!"},null,3.93999999999996,{"$error":"#VALUE!"},{"$error":"#VALUE!"}]
[0,{"$error":"#VALUE!"},{"$error":"#VALUE!"},null,3.9499999999999598,{"$error":"#VALUE!"},{"$error":"#VALUE!"}]
[0,{"$error":"#VALUE!"},{"$error":"#VALUE!"},null,3.9599999999999596,{"$error":"#VALUE!"},{"$error":"#VALUE!"}]
[0,{"$error":"#VALUE!"},{"$error":"#VALUE!"},null,3.9699999999999593,{"$error":"#VALUE!"},{"$error":"#VALUE!"}]
[0,{"$error":"#VALUE!"},{"$error":"#VALUE!"},null,3.9799999999999591,{"$error":"#VALUE!"},{"$error":"#VALUE!"}]
[0,{"$error":"#VALUE!"},{"$error":"#VALUE!"},null,3.9899999999999589,{"$error":"#VALUE!"},{"$error":"#VALUE!"}]
[0,{"$error":"#VALUE!"},{"$error":"#VALUE!"},null,3.9999999999999587,{"$error":"#VALUE!"},{"$error":"#VALUE!"}]
[0,{"$error":"#VALUE!"},{"$error":"#VALUE!"},null,4.0099999999999589,{"$error":"#VALUE!"},{"$error":"#VALUE!"}]
[0,{"$error":"#VALUE!"},{"$error":"#VALUE!"},null,4.0199999999999587,{"$error":"#VALUE!"},{"$error":"#VALUE!"}]
[0,{"$error":"#VALUE!"},{"$error":"#VALUE!"},null,4.0299999999999585,{"$error":"#VALUE!"},{"$error":"#VALUE!"}]
[0,{"$error":"#VALUE!"},{"$error":"#VALUE!"},null,4.0399999999999583,{"$error":"#VALUE!"},{"$error":"#VALUE!"}]
[0,{"$error":"#VALUE!"},{"$error":"#VALUE!"},null,4.0499999999999581,{"$error":"#VALUE!"},{"$error":"#VALUE!"}]
[0,{"$error":"#VALUE!"},{"$error":"#VALUE!"},null,4.0599999999999579,{"$error":"#VALUE!"},{"$error":"#VALUE!"}]
[0,{"$error":"#VALUE!"},{"$error":"#VALUE!"},null,4.0699999999999577,{"$error":"#VALUE!"},{"$error":"#VALUE!"}]
[0,{"$error":"#VALUE!"},{"$error":"#VALUE!"},null,4.0799999999999574,{"$error":"#VALUE!"},{"$error":"#VALUE!"}]
[0,{"$error":"#VALUE!"},{"$error":"#VALUE!"},null,4.0899999999999572,{"$error":"#VALUE!"},{"$error":"#VALUE!"}]
[0,{"$error":"#VALUE!"},{"$error":"#VALUE!"},null,4.099999999999957,{"$error":"#VALUE!"},{"$error":"#VALUE!"}]
[0,{"$error":"#VALUE!"},{"$error":"#VALUE!"},null,4.1099999999999568,{"$error":"#VALUE!"},{"$error":"#VALUE!"}]
[0,{"$error":"#VALUE!"},{"$error":"#VALUE!"},null,4.1199999999999566,{"$error":"#VALUE!"},{"$error":"#VALUE!"}]
[0,{"$error":"#VALUE!"},{"$error":"#VALUE!"},null,4.1299999999999564,{"$error":"#VALUE!"},{"$error":"#VALUE!"}]
[0,{"$error":"#VALUE!"},{"$error":"#VALUE!"},null,4.1399999999999562,{"$error":"#VALUE!"},{"$error":"#VALUE!"}]
[0,{"$error":"#VALUE!"},{"$error":"#VALUE!"},null,4.1499999999999559,{"$error":"#VALUE!"},{"$error":"#VALUE!"}]
[0,{"$error":"#VALUE!"},{"$error":"#VALUE!"},null,4.1599999999999557,{"$error":"#VALUE!"},{"$error":"#VALUE!"}]
[0,{"$error":"#VALUE!"},{"$error":"#VALUE!"},null,4.1699999999999555,{"$error":"#VALUE!"},{"$error":"#VALUE!"}]
[0,{"$error":"#VALUE!"},{"$error":"#VALUE!"},null,4.1799999999999553,{"$error":"#VALUE!"},{"$error":"#VALUE!"}]
[0,{"$error":"#VALUE!"},{"$error":"#VALUE!"},null,4.1899999999999551,{"$error":"#VALUE!"},{"$error":"#VALUE!"}]
[0,{"$error":"#VALUE!"},{"$error":"#VALUE!"},null,4.1999999999999549,{"$error":"#VALUE!"},{"$error":"#VALUE!"}]
[0,{"$error":"#VALUE!"},{"$error":"#VALUE!"},null,4.2099999999999547,{"$error":"#VALUE!"},{"$error":"#VALUE!"}]
[0,{"$error":"#VALUE!"},{"$error":"#VALUE!"},null,4.2199999999999545,{"$error":"#VALUE!"},{"$error":"#VALUE!"}]
[0,{"$error":"#VALUE!"},{"$error":"#VALUE!"},null,4.2299999999999542,{"$error":"#VALUE!"},{"$error":"#VALUE!"}]
[0,{"$error":"#VALUE!"},{"$error":"#VALUE!"},null,4.239999999999954,{"$error":"#VALUE!"},{"$error":"#VALUE!"}]
[0,{"$error":"#VALUE!"},{"$error":"#VALUE!"},null,4.2499999999999538,{"$error":"#VALUE!"},{"$error":"#VALUE!"}]
[0,{"$error":"#VALUE!"},{"$error":"#VALUE!"},null,4.2599999999999536,{"$error":"#VALUE!"},{"$error":"#VALUE!"}]
[0,{"$error":"#VALUE!"},{"$error":"#VALUE!"},null,4.2699999999999534,{"$error":"#VALUE!"},{"$error":"#VALUE!"}]
[0,{"$error":"#VALUE!"},{"$error":"#VALUE!"},null,4.2799999999999532,{"$error":"#VALUE!"},{"$error":"#VALUE!"}]
[0,{"$error":"#VALUE!"},{"$error":"#VALUE!"},null,4.289999999999953,{"$error":"#VALUE!"},{"$error":"#VALUE!"}]
[0,{"$error":"#VALUE!"},{"$error":"#VALUE!"},null,4.2999999999999527,{"$error":"#VALUE!"},{"$error":"#VALUE!"}]
[0,{"$error":"#VALUE!"},{"$error":"#VALUE!"},null,4.3099999999999525,{"$error":"#VALUE!"},{"$error":"#VALUE!"}]
[0,{"$error":"#VALUE!"},{"$error":"#VALUE!"},null,4.3199999999999523,{"$error":"#VALUE!"},{"$error":"#VALUE!"}]
[0,{"$error":"#VALUE!"},{"$error":"#VALUE!"},null,4.3299999999999521,{"$error":"#VALUE!"},{"$error":"#VALUE!"}]
[0,{"$error":"#VALUE!"},{"$error":"#VALUE!"},null,4.3399999999999519,{"$error":"#VALUE!"},{"$error":"#VALUE!"}]
[0,{"$error":"#VALUE!"},{"$error":"#VALUE!"},null,4.3499999999999517,{"$error":"#VALUE!"},{"$error":"#VALUE!"}]
[0,{"$error":"#VALUE!"},{"$error":"#VALUE!"},null,4.3599999999999515,{"$error":"#VALUE!"},{"$error":"#VALUE!"}]
[0,{"$error":"#VALUE!"},{"$error":"#VALUE!"},null,4.3699999999999513,{"$error":"#VALUE!"},{"$error":"#VALUE!"}]
[0,{"$error":"#VALUE!"},{"$error":"#VALUE!"},null,4.379999999999951,{"$error":"#VALUE!"},{"$error":"#VALUE!"}]
[0,{"$error":"#VALUE!"},{"$error":"#VALUE!"},null,4.3899999999999508,{"$error":"#VALUE!"},{"$error":"#VALUE!"}]
[0,{"$error":"#VALUE!"},{"$error":"#VALUE!"},null,4.3999999999999506,{"$error":"#VALUE!"},{"$error":"#VALUE!"}]
[0,{"$error":"#VALUE!"},{"$error":"#VALUE!"},null,4.4099999999999504,{"$error":"#VALUE!"},{"$error":"#VALUE!"}]
[0,{"$error":"#VALUE!"},{"$error":"#VALUE!"},null,4.4199999999999502,{"$error":"#VALUE!"},{"$error":"#VALUE!"}]
[0,{"$error":"#VALUE!"},{"$error":"#VALUE!"},null,4.42999999999995,{"$error":"#VALUE!"},{"$error":"#VALUE!"}]
[0,{"$error":"#VALUE!"},{"$error":"#VALUE!"},null,4.4399999999999498,{"$error":"#VALUE!"},{"$error":"#VALUE!"}]
[0,{"$error":"#VALUE!"},{"$error":"#VALUE!"},null,4.4499999999999496,{"$error":"#VALUE!"},{"$error":"#VALUE!"}]
[0,{"$error":"#VALUE!"},{"$error":"#VALUE!"},null,4.4599999999999493,{"$error":"#VALUE!"},{"$error":"#VALUE!"}]
[0,{"$error":"#VALUE!"},{"$error":"#VALUE!"},null,4.4699999999999491,{"$error":"#VALUE!"},{"$error":"#VALUE!"}]
[{"$f":"MIN(AD$15,E499)","v":0},{"$f":"MIN(C$47,F499)","v":{"$error":"#VALUE!"}},{"$error":"#VALUE!"},null,4.4799999999999489,{"$f":"((C$11)/((10^(-E499))+(C$11)))*100","v":{"$error":"#VALUE!"}},{"$error":"#VALUE!"}]
[0,{"$error":"#VALUE!"},{"$f":"100-B500","v":{"$error":"#VALUE!"}},null,4.4899999999999487,{"$error":"#VALUE!"},{"$f":"100-F500","v":{"$error":"#VALUE!"}}]
[0,{"$error":"#VALUE!"},{"$error":"#VALUE!"},null,{"$f":"E500+12/1200","v":4.4999999999999485},{"$error":"#VALUE!"},{"$error":"#VALUE!"}]
[0,{"$error":"#VALUE!"},{"$error":"#VALUE!"},null,4.5099999999999483,{"$error":"#VALUE!"},{"$error":"#VALUE!"}]
[0,{"$error":"#VALUE!"},{"$error":"#VALUE!"},null,4.5199999999999481,{"$error":"#VALUE!"},{"$error":"#VALUE!"}]
[0,{"$error":"#VALUE!"},{"$error":"#VALUE!"},null,4.5299999999999478,{"$error":"#VALUE!"},{"$error":"#VALUE!"}]
[0,{"$error":"#VALUE!"},{"$error":"#VALUE!"},null,4.5399999999999476,{"$error":"#VALUE!"},{"$error":"#VALUE!"}]
[0,{"$error":"#VALUE!"},{"$error":"#VALUE!"},null,4.5499999999999474,{"$error":"#VALUE!"},{"$error":"#VALUE!"}]
[0,{"$error":"#VALUE!"},{"$error":"#VALUE!"},null,4.5599999999999472,{"$error":"#VALUE!"},{"$error":"#VALUE!"}]
[0,{"$error":"#VALUE!"},{"$error":"#VALUE!"},null,4.569999999999947,{"$error":"#VALUE!"},{"$error":"#VALUE!"}]
[0,{"$error":"#VALUE!"},{"$error":"#VALUE!"},null,4.5799999999999468,{"$error":"#VALUE!"},{"$error":"#VALUE!"}]
[0,{"$error":"#VALUE!"},{"$error":"#VALUE!"},null,4.5899999999999466,{"$error":"#VALUE!"},{"$error":"#VALUE!"}]
[0,{"$error":"#VALUE!"},{"$error":"#VALUE!"},null,4.5999999999999464,{"$error":"#VALUE!"},{"$error":"#VALUE!"}]
[0,{"$error":"#VALUE!"},{"$error":"#VALUE!"},null,4.6099999999999461,{"$error":"#VALUE!"},{"$error":"#VALUE!"}]
[0,{"$error":"#VALUE!"},{"$error":"#VALUE!"},null,4.6199999999999459,{"$error":"#VALUE!"},{"$error":"#VALUE!"}]
[0,{"$error":"#VALUE!"},{"$error":"#VALUE!"},null,4.6299999999999457,{"$error":"#VALUE!"},{"$error":"#VALUE!"}]
[0,{"$error":"#VALUE!"},{"$error":"#VALUE!"},null,4.6399999999999455,{"$error":"#VALUE!"},{"$error":"#VALUE!"}]
[0,{"$error":"#VALUE!"},{"$error":"#VALUE!"},null,4.6499999999999453,{"$error":"#VALUE!"},{"$error":"#VALUE!"}]
[0,{"$error":"#VALUE!"},{"$error":"#VALUE!"},null,4.6599999999999451,{"$error":"#VALUE!"},{"$error":"#VALUE!"}]
[0,{"$error":"#VALUE!"},{"$error":"#VALUE!"},null,4.6699999999999449,{"$error":"#VALUE!"},{"$error":"#VALUE!"}]
[0,{"$error":"#VALUE!"},{"$error":"#VALUE!"},null,4.6799999999999446,{"$error":"#VALUE!"},{"$error":"#VALUE!"}]
[0,{"$error":"#VALUE!"},{"$error":"#VALUE!"},null,4.6899999999999444,{"$error":"#VALUE!"},{"$error":"#VALUE!"}]
[0,{"$error":"#VALUE!"},{"$error":"#VALUE!"},null,4.6999999999999442,{"$error":"#VALUE!"},{"$error":"#VALUE!"}]
[0,{"$error":"#VALUE!"},{"$error":"#VALUE!"},null,4.709999999999944,{"$error":"#VALUE!"},{"$error":"#VALUE!"}]
[0,{"$error":"#VALUE!"},{"$error":"#VALUE!"},null,4.7199999999999438,{"$error":"#VALUE!"},{"$error":"#VALUE!"}]
[0,{"$error":"#VALUE!"},{"$error":"#VALUE!"},null,4.7299999999999436,{"$error":"#VALUE!"},{"$error":"#VALUE!"}]
[0,{"$error":"#VALUE!"},{"$error":"#VALUE!"},null,4.7399999999999434,{"$error":"#VALUE!"},{"$error":"#VALUE!"}]
[0,{"$error":"#VALUE!"},{"$error":"#VALUE!"},null,4.7499999999999432,{"$error":"#VALUE!"},{"$error":"#VALUE!"}]
[0,{"$error":"#VALUE!"},{"$error":"#VALUE!"},null,4.7599999999999429,{"$error":"#VALUE!"},{"$error":"#VALUE!"}]
[0,{"$error":"#VALUE!"},{"$error":"#VALUE!"},null,4.7699999999999427,{"$error":"#VALUE!"},{"$error":"#VALUE!"}]
[0,{"$error":"#VALUE!"},{"$error":"#VALUE!"},null,4.7799999999999425,{"$error":"#VALUE!"},{"$error":"#VALUE!"}]
[0,{"$error":"#VALUE!"},{"$error":"#VALUE!"},null,4.7899999999999423,{"$error":"#VALUE!"},{"$error":"#VALUE!"}]
[0,{"$error":"#VALUE!"},{"$error":"#VALUE!"},null,4.7999999999999421,{"$error":"#VALUE!"},{"$error":"#VALUE!"}]
[0,{"$error":"#VALUE!"},{"$error":"#VALUE!"},null,4.8099999999999419,{"$error":"#VALUE!"},{"$error":"#VALUE!"}]
[0,{"$error":"#VALUE!"},{"$error":"#VALUE!"},null,4.8199999999999417,{"$error":"#VALUE!"},{"$error":"#VALUE!"}]
[0,{"$error":"#VALUE!"},{"$error":"#VALUE!"},null,4.8299999999999415,{"$error":"#VALUE!"},{"$error":"#VALUE!"}]
[0,{"$error":"#VALUE!"},{"$error":"#VALUE!"},null,4.8399999999999412,{"$error":"#VALUE!"},{"$error":"#VALUE!"}]
[0,{"$error":"#VALUE!"},{"$error":"#VALUE!"},null,4.849999999999941,{"$error":"#VALUE!"},{"$error":"#VALUE!"}]
[0,{"$error":"#VALUE!"},{"$error":"#VALUE!"},null,4.8599999999999408,{"$error":"#VALUE!"},{"$error":"#VALUE!"}]
[0,{"$error":"#VALUE!"},{"$error":"#VALUE!"},null,4.8699999999999406,{"$error":"#VALUE!"},{"$error":"#VALUE!"}]
[0,{"$error":"#VALUE!"},{"$error":"#VALUE!"},null,4.8799999999999404,{"$error":"#VALUE!"},{"$error":"#VALUE!"}]
[0,{"$error":"#VALUE!"},{"$error":"#VALUE!"},null,4.8899999999999402,{"$error":"#VALUE!"},{"$error":"#VALUE!"}]
[0,{"$error":"#VALUE!"},{"$error":"#VALUE!"},null,4.89999999999994,{"$error":"#VALUE!"},{"$error":"#VALUE!"}]
[0,{"$error":"#VALUE!"},{"$error":"#VALUE!"},null,4.9099999999999397,{"$error":"#VALUE!"},{"$error":"#VALUE!"}]
[0,{"$error":"#VALUE!"},{"$error":"#VALUE!"},null,4.9199999999999395,{"$error":"#VALUE!"},{"$error":"#VALUE!"}]
[0,{"$error":"#VALUE!"},{"$error":"#VALUE!"},null,4.9299999999999393,{"$error":"#VALUE!"},{"$error":"#VALUE!"}]
[0,{"$error":"#VALUE!"},{"$error":"#VALUE!"},null,4.9399999999999391,{"$error":"#VALUE!"},{"$error":"#VALUE!"}]
[0,{"$error":"#VALUE!"},{"$error":"#VALUE!"},null,4.9499999999999389,{"$error":"#VALUE!"},{"$error":"#VALUE!"}]
[0,{"$error":"#VALUE!"},{"$error":"#VALUE!"},null,4.9599999999999387,{"$error":"#VALUE!"},{"$error":"#VALUE!"}]
[0,{"$error":"#VALUE!"},{"$error":"#VALUE!"},null,4.9699999999999385,{"$error":"#VALUE!"},{"$error":"#VALUE!"}]
[0,{"$error":"#VALUE!"},{"$error":"#VALUE!"},null,4.9799999999999383,{"$error":"#VALUE!"},{"$error":"#VALUE!"}]
[0,{"$error":"#VALUE!"},{"$error":"#VALUE!"},null,4.989999999999938,{"$error":"#VALUE!"},{"$error":"#VALUE!"}]
[0,{"$error":"#VALUE!"},{"$error":"#VALUE!"},null,4.9999999999999378,{"$error":"#VALUE!"},{"$error":"#VALUE!"}]
[0,{"$error":"#VALUE!"},{"$error":"#VALUE!"},null,5.0099999999999376,{"$error":"#VALUE!"},{"$error":"#VALUE!"}]
[0,{"$error":"#VALUE!"},{"$error":"#VALUE!"},null,5.0199999999999374,{"$error":"#VALUE!"},{"$error":"#VALUE!"}]
[0,{"$error":"#VALUE!"},{"$error":"#VALUE!"},null,5.0299999999999372,{"$error":"#VALUE!"},{"$error":"#VALUE!"}]
[0,{"$error":"#VALUE!"},{"$error":"#VALUE!"},null,5.039999999999937,{"$error":"#VALUE!"},{"$error":"#VALUE!"}]
[0,{"$error":"#VALUE!"},{"$error":"#VALUE!"},null,5.0499999999999368,{"$error":"#VALUE!"},{"$error":"#VALUE!"}]
[0,{"$error":"#VALUE!"},{"$error":"#VALUE!"},null,5.0599999999999365,{"$error":"#VALUE!"},{"$error":"#VALUE!"}]
[0,{"$error":"#VALUE!"},{"$error":"#VALUE!"},null,5.0699999999999363,{"$error":"#VALUE!"},{"$error":"#VALUE!"}]
[0,{"$error":"#VALUE!"},{"$error":"#VALUE!"},null,5.0799999999999361,{"$error":"#VALUE!"},{"$error":"#VALUE!"}]
[0,{"$error":"#VALUE!"},{"$error":"#VALUE!"},null,5.0899999999999359,{"$error":"#VALUE!"},{"$error":"#VALUE!"}]
[0,{"$error":"#VALUE!"},{"$error":"#VALUE!"},null,5.0999999999999357,{"$error":"#VALUE!"},{"$error":"#VALUE!"}]
[0,{"$error":"#VALUE!"},{"$error":"#VALUE!"},null,5.1099999999999355,{"$error":"#VALUE!"},{"$error":"#VALUE!"}]
[{"$f":"MIN(AD$15,E563)","v":0},{"$f":"MIN(C$47,F563)","v":{"$error":"#VALUE!"}},{"$error":"#VALUE!"},null,5.1199999999999353,{"$f":"((C$11)/((10^(-E563))+(C$11)))*100","v":{"$error":"#VALUE!"}},{"$error":"#VALUE!"}]
[0,{"$error":"#VALUE!"},{"$f":"100-B564","v":{"$error":"#VALUE!"}},null,5.1299999999999351,{"$error":"#VALUE!"},{"$f":"100-F564","v":{"$error":"#VALUE!"}}]
[0,{"$error":"#VALUE!"},{"$error":"#VALUE!"},null,{"$f":"E564+12/1200","v":5.1399999999999348},{"$error":"#VALUE!"},{"$error":"#VALUE!"}]
[0,{"$error":"#VALUE!"},{"$error":"#VALUE!"},null,5.1499999999999346,{"$error":"#VALUE!"},{"$error":"#VALUE!"}]
[0,{"$error":"#VALUE!"},{"$error":"#VALUE!"},null,5.1599999999999344,{"$error":"#VALUE!"},{"$error":"#VALUE!"}]
[0,{"$error":"#VALUE!"},{"$error":"#VALUE!"},null,5.1699999999999342,{"$error":"#VALUE!"},{"$error":"#VALUE!"}]
[0,{"$error":"#VALUE!"},{"$error":"#VALUE!"},null,5.179999999999934,{"$error":"#VALUE!"},{"$error":"#VALUE!"}]
[0,{"$error":"#VALUE!"},{"$error":"#VALUE!"},null,5.1899999999999338,{"$error":"#VALUE!"},{"$error":"#VALUE!"}]
[0,{"$error":"#VALUE!"},{"$error":"#VALUE!"},null,5.1999999999999336,{"$error":"#VALUE!"},{"$error":"#VALUE!"}]
[0,{"$error":"#VALUE!"},{"$error":"#VALUE!"},null,5.2099999999999334,{"$error":"#VALUE!"},{"$error":"#VALUE!"}]
[0,{"$error":"#VALUE!"},{"$error":"#VALUE!"},null,5.2199999999999331,{"$error":"#VALUE!"},{"$error":"#VALUE!"}]
[0,{"$error":"#VALUE!"},{"$error":"#VALUE!"},null,5.2299999999999329,{"$error":"#VALUE!"},{"$error":"#VALUE!"}]
[0,{"$error":"#VALUE!"},{"$error":"#VALUE!"},null,5.2399999999999327,{"$error":"#VALUE!"},{"$error":"#VALUE!"}]
[0,{"$error":"#VALUE!"},{"$error":"#VALUE!"},null,5.2499999999999325,{"$error":"#VALUE!"},{"$error":"#VALUE!"}]
[0,{"$error":"#VALUE!"},{"$error":"#VALUE!"},null,5.2599999999999323,{"$error":"#VALUE!"},{"$error":"#VALUE!"}]
[0,{"$error":"#VALUE!"},{"$error":"#VALUE!"},null,5.2699999999999321,{"$error":"#VALUE!"},{"$error":"#VALUE!"}]
[0,{"$error":"#VALUE!"},{"$error":"#VALUE!"},null,5.2799999999999319,{"$error":"#VALUE!"},{"$error":"#VALUE!"}]
[0,{"$error":"#VALUE!"},{"$error":"#VALUE!"},null,5.2899999999999316,{"$error":"#VALUE!"},{"$error":"#VALUE!"}]
[0,{"$error":"#VALUE!"},{"$error":"#VALUE!"},null,5.2999999999999314,{"$error":"#VALUE!"},{"$error":"#VALUE!"}]
[0,{"$error":"#VALUE!"},{"$error":"#VALUE!"},null,5.3099999999999312,{"$error":"#VALUE!"},{"$error":"#VALUE!"}]
[0,{"$error":"#VALUE!"},{"$error":"#VALUE!"},null,5.319999999999931,{"$error":"#VALUE!"},{"$error":"#VALUE!"}]
[0,{"$error":"#VALUE!"},{"$error":"#VALUE!"},null,5.3299999999999308,{"$error":"#VALUE!"},{"$error":"#VALUE!"}]
[0,{"$error":"#VALUE!"},{"$error":"#VALUE!"},null,5.3399999999999306,{"$error":"#VALUE!"},{"$error":"#VALUE!"}]
[0,{"$error":"#VALUE!"},{"$error":"#VALUE!"},null,5.3499999999999304,{"$error":"#VALUE!"},{"$error":"#VALUE!"}]
[0,{"$error":"#VALUE!"},{"$error":"#VALUE!"},null,5.3599999999999302,{"$error":"#VALUE!"},{"$error":"#VALUE!"}]
[0,{"$error":"#VALUE!"},{"$error":"#VALUE!"},null,5.3699999999999299,{"$error":"#VALUE!"},{"$error":"#VALUE!"}]
[0,{"$error":"#VALUE!"},{"$error":"#VALUE!"},null,5.3799999999999297,{"$error":"#VALUE!"},{"$error":"#VALUE!"}]
[0,{"$error":"#VALUE!"},{"$error":"#VALUE!"},null,5.3899999999999295,{"$error":"#VALUE!"},{"$error":"#VALUE!"}]
[0,{"$error":"#VALUE!"},{"$error":"#VALUE!"},null,5.3999999999999293,{"$error":"#VALUE!"},{"$error":"#VALUE!"}]
[0,{"$error":"#VALUE!"},{"$error":"#VALUE!"},null,5.4099999999999291,{"$error":"#VALUE!"},{"$error":"#VALUE!"}]
[0,{"$error":"#VALUE!"},{"$error":"#VALUE!"},null,5.4199999999999289,{"$error":"#VALUE!"},{"$error":"#VALUE!"}]
[0,{"$error":"#VALUE!"},{"$error":"#VALUE!"},null,5.4299999999999287,{"$error":"#VALUE!"},{"$error":"#VALUE!"}]
[0,{"$error":"#VALUE!"},{"$error":"#VALUE!"},null,5.4399999999999284,{"$error":"#VALUE!"},{"$error":"#VALUE!"}]
[0,{"$error":"#VALUE!"},{"$error":"#VALUE!"},null,5.4499999999999282,{"$error":"#VALUE!"},{"$error":"#VALUE!"}]
[0,{"$error":"#VALUE!"},{"$error":"#VALUE!"},null,5.459999999999928,{"$error":"#VALUE!"},{"$error":"#VALUE!"}]
[0,{"$error":"#VALUE!"},{"$error":"#VALUE!"},null,5.4699999999999278,{"$error":"#VALUE!"},{"$error":"#VALUE!"}]
[0,{"$error":"#VALUE!"},{"$error":"#VALUE!"},null,5.4799999999999276,{"$error":"#VALUE!"},{"$error":"#VALUE!"}]
[0,{"$error":"#VALUE!"},{"$error":"#VALUE!"},null,5.4899999999999274,{"$error":"#VALUE!"},{"$error":"#VALUE!"}]
[0,{"$error":"#VALUE!"},{"$error":"#VALUE!"},null,5.4999999999999272,{"$error":"#VALUE!"},{"$error":"#VALUE!"}]
[0,{"$error":"#VALUE!"},{"$error":"#VALUE!"},null,5.509999999999927,{"$error":"#VALUE!"},{"$error":"#VALUE!"}]
[0,{"$error":"#VALUE!"},{"$error":"#VALUE!"},null,5.5199999999999267,{"$error":"#VALUE!"},{"$error":"#VALUE!"}]
[0,{"$error":"#VALUE!"},{"$error":"#VALUE!"},null,5.5299999999999265,{"$error":"#VALUE!"},{"$error":"#VALUE!"}]
[0,{"$error":"#VALUE!"},{"$error":"#VALUE!"},null,5.5399999999999263,{"$error":"#VALUE!"},{"$error":"#VALUE!"}]
[0,{"$error":"#VALUE!"},{"$error":"#VALUE!"},null,5.5499999999999261,{"$error":"#VALUE!"},{"$error":"#VALUE!"}]
[0,{"$error":"#VALUE!"},{"$error":"#VALUE!"},null,5.5599999999999259,{"$error":"#VALUE!"},{"$error":"#VALUE!"}]
[0,{"$error":"#VALUE!"},{"$error":"#VALUE!"},null,5.5699999999999257,{"$error":"#VALUE!"},{"$error":"#VALUE!"}]
[0,{"$error":"#VALUE!"},{"$error":"#VALUE!"},null,5.5799999999999255,{"$error":"#VALUE!"},{"$error":"#VALUE!"}]
[0,{"$error":"#VALUE!"},{"$error":"#VALUE!"},null,5.5899999999999253,{"$error":"#VALUE!"},{"$error":"#VALUE!"}]
[0,{"$error":"#VALUE!"},{"$error":"#VALUE!"},null,5.599999999999925,{"$error":"#VALUE!"},{"$error":"#VALUE!"}]
[0,{"$error":"#VALUE!"},{"$error":"#VALUE!"},null,5.6099999999999248,{"$error":"#VALUE!"},{"$error":"#VALUE!"}]
[0,{"$error":"#VALUE!"},{"$error":"#VALUE!"},null,5.6199999999999246,{"$error":"#VALUE!"},{"$error":"#VALUE!"}]
[0,{"$error":"#VALUE!"},{"$error":"#VALUE!"},null,5.6299999999999244,{"$error":"#VALUE!"},{"$error":"#VALUE!"}]
[0,{"$error":"#VALUE!"},{"$error":"#VALUE!"},null,5.6399999999999242,{"$error":"#VALUE!"},{"$error":"#VALUE!"}]
[0,{"$error":"#VALUE!"},{"$error":"#VALUE!"},null,5.649999999999924,{"$error":"#VALUE!"},{"$error":"#VALUE!"}]
[0,{"$error":"#VALUE!"},{"$error":"#VALUE!"},null,5.6599999999999238,{"$error":"#VALUE!"},{"$error":"#VALUE!"}]
[0,{"$error":"#VALUE!"},{"$error":"#VALUE!"},null,5.6699999999999235,{"$error":"#VALUE!"},{"$error":"#VALUE!"}]
[0,{"$error":"#VALUE!"},{"$error":"#VALUE!"},null,5.6799999999999233,{"$error":"#VALUE!"},{"$error":"#VALUE!"}]
[0,{"$error":"#VALUE!"},{"$error":"#VALUE!"},null,5.6899999999999231,{"$error":"#VALUE!"},{"$error":"#VALUE!"}]
[0,{"$error":"#VALUE!"},{"$error":"#VALUE!"},null,5.6999999999999229,{"$error":"#VALUE!"},{"$error":"#VALUE!"}]
[0,{"$error":"#VALUE!"},{"$error":"#VALUE!"},null,5.7099999999999227,{"$error":"#VALUE!"},{"$error":"#VALUE!"}]
[0,{"$error":"#VALUE!"},{"$error":"#VALUE!"},null,5.7199999999999225,{"$error":"#VALUE!"},{"$error":"#VALUE!"}]
[0,{"$error":"#VALUE!"},{"$error":"#VALUE!"},null,5.7299999999999223,{"$error":"#VALUE!"},{"$error":"#VALUE!"}]
[0,{"$error":"#VALUE!"},{"$error":"#VALUE!"},null,5.7399999999999221,{"$error":"#VALUE!"},{"$error":"#VALUE!"}]
[0,{"$error":"#VALUE!"},{"$error":"#VALUE!"},null,5.7499999999999218,{"$error":"#VALUE!"},{"$error":"#VALUE!"}]
[{"$f":"MIN(AD$15,E627)","v":0},{"$f":"MIN(C$47,F627)","v":{"$error":"#VALUE!"}},{"$error":"#VALUE!"},null,5.7599999999999216,{"$f":"((C$11)/((10^(-E627))+(C$11)))*100","v":{"$error":"#VALUE!"}},{"$error":"#VALUE!"}]
[0,{"$error":"#VALUE!"},{"$f":"100-B628","v":{"$error":"#VALUE!"}},null,5.7699999999999214,{"$error":"#VALUE!"},{"$f":"100-F628","v":{"$error":"#VALUE!"}}]
[0,{"$error":"#VALUE!"},{"$error":"#VALUE!"},null,{"$f":"E628+12/1200","v":5.7799999999999212},{"$error":"#VALUE!"},{"$error":"#VALUE!"}]
[0,{"$error":"#VALUE!"},{"$error":"#VALUE!"},null,5.789999999999921,{"$error":"#VALUE!"},{"$error":"#VALUE!"}]
[0,{"$error":"#VALUE!"},{"$error":"#VALUE!"},null,5.7999999999999208,{"$error":"#VALUE!"},{"$error":"#VALUE!"}]
[0,{"$error":"#VALUE!"},{"$error":"#VALUE!"},null,5.8099999999999206,{"$error":"#VALUE!"},{"$error":"#VALUE!"}]
[0,{"$error":"#VALUE!"},{"$error":"#VALUE!"},null,5.8199999999999203,{"$error":"#VALUE!"},{"$error":"#VALUE!"}]
[0,{"$error":"#VALUE!"},{"$error":"#VALUE!"},null,5.8299999999999201,{"$error":"#VALUE!"},{"$error":"#VALUE!"}]
[0,{"$error":"#VALUE!"},{"$error":"#VALUE!"},null,5.8399999999999199,{"$error":"#VALUE!"},{"$error":"#VALUE!"}]
[0,{"$error":"#VALUE!"},{"$error":"#VALUE!"},null,5.8499999999999197,{"$error":"#VALUE!"},{"$error":"#VALUE!"}]
[0,{"$error":"#VALUE!"},{"$error":"#VALUE!"},null,5.8599999999999195,{"$error":"#VALUE!"},{"$error":"#VALUE!"}]
[0,{"$error":"#VALUE!"},{"$error":"#VALUE!"},null,5.8699999999999193,{"$error":"#VALUE!"},{"$error":"#VALUE!"}]
[0,{"$error":"#VALUE!"},{"$error":"#VALUE!"},null,5.8799999999999191,{"$error":"#VALUE!"},{"$error":"#VALUE!"}]
[0,{"$error":"#VALUE!"},{"$error":"#VALUE!"},null,5.8899999999999189,{"$error":"#VALUE!"},{"$error":"#VALUE!"}]
[0,{"$error":"#VALUE!"},{"$error":"#VALUE!"},null,5.8999999999999186,{"$error":"#VALUE!"},{"$error":"#VALUE!"}]
[0,{"$error":"#VALUE!"},{"$error":"#VALUE!"},null,5.9099999999999184,{"$error":"#VALUE!"},{"$error":"#VALUE!"}]
[0,{"$error":"#VALUE!"},{"$error":"#VALUE!"},null,5.9199999999999182,{"$error":"#VALUE!"},{"$error":"#VALUE!"}]
[0,{"$error":"#VALUE!"},{"$error":"#VALUE!"},null,5.929999999999918,{"$error":"#VALUE!"},{"$error":"#VALUE!"}]
[0,{"$error":"#VALUE!"},{"$error":"#VALUE!"},null,5.9399999999999178,{"$error":"#VALUE!"},{"$error":"#VALUE!"}]
[0,{"$error":"#VALUE!"},{"$error":"#VALUE!"},null,5.9499999999999176,{"$error":"#VALUE!"},{"$error":"#VALUE!"}]
[0,{"$error":"#VALUE!"},{"$error":"#VALUE!"},null,5.9599999999999174,{"$error":"#VALUE!"},{"$error":"#VALUE!"}]
[0,{"$error":"#VALUE!"},{"$error":"#VALUE!"},null,5.9699999999999172,{"$error":"#VALUE!"},{"$error":"#VALUE!"}]
[0,{"$error":"#VALUE!"},{"$error":"#VALUE!"},null,5.9799999999999169,{"$error":"#VALUE!"},{"$error":"#VALUE!"}]
[0,{"$error":"#VALUE!"},{"$error":"#VALUE!"},null,5.9899999999999167,{"$error":"#VALUE!"},{"$error":"#VALUE!"}]
[0,{"$error":"#VALUE!"},{"$error":"#VALUE!"},null,5.9999999999999165,{"$error":"#VALUE!"},{"$error":"#VALUE!"}]
[0,{"$error":"#VALUE!"},{"$error":"#VALUE!"},null,6.0099999999999163,{"$error":"#VALUE!"},{"$error":"#VALUE!"}]
[0,{"$error":"#VALUE!"},{"$error":"#VALUE!"},null,6.0199999999999161,{"$error":"#VALUE!"},{"$error":"#VALUE!"}]
[0,{"$error":"#VALUE!"},{"$error":"#VALUE!"},null,6.0299999999999159,{"$error":"#VALUE!"},{"$error":"#VALUE!"}]
[0,{"$error":"#VALUE!"},{"$error":"#VALUE!"},null,6.0399999999999157,{"$error":"#VALUE!"},{"$error":"#VALUE!"}]
[0,{"$error":"#VALUE!"},{"$error":"#VALUE!"},null,6.0499999999999154,{"$error":"#VALUE!"},{"$error":"#VALUE!"}]
[0,{"$error":"#VALUE!"},{"$error":"#VALUE!"},null,6.0599999999999152,{"$error":"#VALUE!"},{"$error":"#VALUE!"}]
[0,{"$error":"#VALUE!"},{"$error":"#VALUE!"},null,6.069999999999915,{"$error":"#VALUE!"},{"$error":"#VALUE!"}]
[0,{"$error":"#VALUE!"},{"$error":"#VALUE!"},null,6.0799999999999148,{"$error":"#VALUE!"},{"$error":"#VALUE!"}]
[0,{"$error":"#VALUE!"},{"$error":"#VALUE!"},null,6.0899999999999146,{"$error":"#VALUE!"},{"$error":"#VALUE!"}]
[0,{"$error":"#VALUE!"},{"$error":"#VALUE!"},null,6.0999999999999144,{"$error":"#VALUE!"},{"$error":"#VALUE!"}]
[0,{"$error":"#VALUE!"},{"$error":"#VALUE!"},null,6.1099999999999142,{"$error":"#VALUE!"},{"$error":"#VALUE!"}]
[0,{"$error":"#VALUE!"},{"$error":"#VALUE!"},null,6.119999999999914,{"$error":"#VALUE!"},{"$error":"#VALUE!"}]
[0,{"$error":"#VALUE!"},{"$error":"#VALUE!"},null,6.1299999999999137,{"$error":"#VALUE!"},{"$error":"#VALUE!"}]
[0,{"$error":"#VALUE!"},{"$error":"#VALUE!"},null,6.1399999999999135,{"$error":"#VALUE!"},{"$error":"#VALUE!"}]
[0,{"$error":"#VALUE!"},{"$error":"#VALUE!"},null,6.1499999999999133,{"$error":"#VALUE!"},{"$error":"#VALUE!"}]
[0,{"$error":"#VALUE!"},{"$error":"#VALUE!"},null,6.1599999999999131,{"$error":"#VALUE!"},{"$error":"#VALUE!"}]
[0,{"$error":"#VALUE!"},{"$error":"#VALUE!"},null,6.1699999999999129,{"$error":"#VALUE!"},{"$error":"#VALUE!"}]
[0,{"$error":"#VALUE!"},{"$error":"#VALUE!"},null,6.1799999999999127,{"$error":"#VALUE!"},{"$error":"#VALUE!"}]
[0,{"$error":"#VALUE!"},{"$error":"#VALUE!"},null,6.1899999999999125,{"$error":"#VALUE!"},{"$error":"#VALUE!"}]
[0,{"$error":"#VALUE!"},{"$error":"#VALUE!"},null,6.1999999999999122,{"$error":"#VALUE!"},{"$error":"#VALUE!"}]
[0,{"$error":"#VALUE!"},{"$error":"#VALUE!"},null,6.209999999999912,{"$error":"#VALUE!"},{"$error":"#VALUE!"}]
[0,{"$error":"#VALUE!"},{"$error":"#VALUE!"},null,6.2199999999999118,{"$error":"#VALUE!"},{"$error":"#VALUE!"}]
[0,{"$error":"#VALUE!"},{"$error":"#VALUE!"},null,6.2299999999999116,{"$error":"#VALUE!"},{"$error":"#VALUE!"}]
[0,{"$error":"#VALUE!"},{"$error":"#VALUE!"},null,6.2399999999999114,{"$error":"#VALUE!"},{"$error":"#VALUE!"}]
[0,{"$error":"#VALUE!"},{"$error":"#VALUE!"},null,6.2499999999999112,{"$error":"#VALUE!"},{"$error":"#VALUE!"}]
[0,{"$error":"#VALUE!"},{"$error":"#VALUE!"},null,6.259999999999911,{"$error":"#VALUE!"},{"$error":"#VALUE!"}]
[0,{"$error":"#VALUE!"},{"$error":"#VALUE!"},null,6.2699999999999108,{"$error":"#VALUE!"},{"$error":"#VALUE!"}]
[0,{"$error":"#VALUE!"},{"$error":"#VALUE!"},null,6.2799999999999105,{"$error":"#VALUE!"},{"$error":"#VALUE!"}]
[0,{"$error":"#VALUE!"},{"$error":"#VALUE!"},null,6.2899999999999103,{"$error":"#VALUE!"},{"$error":"#VALUE!"}]
[0,{"$error":"#VALUE!"},{"$error":"#VALUE!"},null,6.2999999999999101,{"$error":"#VALUE!"},{"$error":"#VALUE!"}]
[0,{"$error":"#VALUE!"},{"$error":"#VALUE!"},null,6.3099999999999099,{"$error":"#VALUE!"},{"$error":"#VALUE!"}]
[0,{"$error":"#VALUE!"},{"$error":"#VALUE!"},null,6.3199999999999097,{"$error":"#VALUE!"},{"$error":"#VALUE!"}]
[0,{"$error":"#VALUE!"},{"$error":"#VALUE!"},null,6.3299999999999095,{"$error":"#VALUE!"},{"$error":"#VALUE!"}]
[0,{"$error":"#VALUE!"},{"$error":"#VALUE!"},null,6.3399999999999093,{"$error":"#VALUE!"},{"$error":"#VALUE!"}]
[0,{"$error":"#VALUE!"},{"$error":"#VALUE!"},null,6.3499999999999091,{"$error":"#VALUE!"},{"$error":"#VALUE!"}]
[0,{"$error":"#VALUE!"},{"$error":"#VALUE!"},null,6.3599999999999088,{"$error":"#VALUE!"},{"$error":"#VALUE!"}]
[0,{"$error":"#VALUE!"},{"$error":"#VALUE!"},null,6.3699999999999086,{"$error":"#VALUE!"},{"$error":"#VALUE!"}]
[0,{"$error":"#VALUE!"},{"$error":"#VALUE!"},null,6.3799999999999084,{"$error":"#VALUE!"},{"$error":"#VALUE!"}]
[0,{"$error":"#VALUE!"},{"$error":"#VALUE!"},null,6.3899999999999082,{"$error":"#VALUE!"},{"$error":"#VALUE!"}]
[{"$f":"MIN(AD$15,E691)","v":0},{"$f":"MIN(C$47,F691)","v":{"$error":"#VALUE!"}},{"$error":"#VALUE!"},null,6.399999999999908,{"$f":"((C$11)/((10^(-E691))+(C$11)))*100","v":{"$error":"#VALUE!"}},{"$error":"#VALUE!"}]
[0,{"$error":"#VALUE!"},{"$f":"100-B692","v":{"$error":"#VALUE!"}},null,6.4099999999999078,{"$error":"#VALUE!"},{"$f":"100-F692","v":{"$error":"#VALUE!"}}]
[0,{"$error":"#VALUE!"},{"$error":"#VALUE!"},null,{"$f":"E692+12/1200","v":6.4199999999999076},{"$error":"#VALUE!"},{"$error":"#VALUE!"}]
[0,{"$error":"#VALUE!"},{"$error":"#VALUE!"},null,6.4299999999999073,{"$error":"#VALUE!"},{"$error":"#VALUE!"}]
[0,{"$error":"#VALUE!"},{"$error":"#VALUE!"},null,6.4399999999999071,{"$error":"#VALUE!"},{"$error":"#VALUE!"}]
[0,{"$error":"#VALUE!"},{"$error":"#VALUE!"},null,6.4499999999999069,{"$error":"#VALUE!"},{"$error":"#VALUE!"}]
[0,{"$error":"#VALUE!"},{"$error":"#VALUE!"},null,6.4599999999999067,{"$error":"#VALUE!"},{"$error":"#VALUE!"}]
[0,{"$error":"#VALUE!"},{"$error":"#VALUE!"},null,6.4699999999999065,{"$error":"#VALUE!"},{"$error":"#VALUE!"}]
[0,{"$error":"#VALUE!"},{"$error":"#VALUE!"},null,6.4799999999999063,{"$error":"#VALUE!"},{"$error":"#VALUE!"}]
[0,{"$error":"#VALUE!"},{"$error":"#VALUE!"},null,6.4899999999999061,{"$error":"#VALUE!"},{"$error":"#VALUE!"}]
[0,{"$error":"#VALUE!"},{"$error":"#VALUE!"},null,6.4999999999999059,{"$error":"#VALUE!"},{"$error":"#VALUE!"}]
[0,{"$error":"#VALUE!"},{"$error":"#VALUE!"},null,6.5099999999999056,{"$error":"#VALUE!"},{"$error":"#VALUE!"}]
[0,{"$error":"#VALUE!"},{"$error":"#VALUE!"},null,6.5199999999999054,{"$error":"#VALUE!"},{"$error":"#VALUE!"}]
[0,{"$error":"#VALUE!"},{"$error":"#VALUE!"},null,6.5299999999999052,{"$error":"#VALUE!"},{"$error":"#VALUE!"}]
[0,{"$error":"#VALUE!"},{"$error":"#VALUE!"},null,6.539999999999905,{"$error":"#VALUE!"},{"$error":"#VALUE!"}]
[0,{"$error":"#VALUE!"},{"$error":"#VALUE!"},null,6.5499999999999048,{"$error":"#VALUE!"},{"$error":"#VALUE!"}]
[0,{"$error":"#VALUE!"},{"$error":"#VALUE!"},null,6.5599999999999046,{"$error":"#VALUE!"},{"$error":"#VALUE!"}]
[0,{"$error":"#VALUE!"},{"$error":"#VALUE!"},null,6.5699999999999044,{"$error":"#VALUE!"},{"$error":"#VALUE!"}]
[0,{"$error":"#VALUE!"},{"$error":"#VALUE!"},null,6.5799999999999041,{"$error":"#VALUE!"},{"$error":"#VALUE!"}]
[0,{"$error":"#VALUE!"},{"$error":"#VALUE!"},null,6.5899999999999039,{"$error":"#VALUE!"},{"$error":"#VALUE!"}]
[0,{"$error":"#VALUE!"},{"$error":"#VALUE!"},null,6.5999999999999037,{"$error":"#VALUE!"},{"$error":"#VALUE!"}]
[0,{"$error":"#VALUE!"},{"$error":"#VALUE!"},null,6.6099999999999035,{"$error":"#VALUE!"},{"$error":"#VALUE!"}]
[0,{"$error":"#VALUE!"},{"$error":"#VALUE!"},null,6.6199999999999033,{"$error":"#VALUE!"},{"$error":"#VALUE!"}]
[0,{"$error":"#VALUE!"},{"$error":"#VALUE!"},null,6.6299999999999031,{"$error":"#VALUE!"},{"$error":"#VALUE!"}]
[0,{"$error":"#VALUE!"},{"$error":"#VALUE!"},null,6.6399999999999029,{"$error":"#VALUE!"},{"$error":"#VALUE!"}]
[0,{"$error":"#VALUE!"},{"$error":"#VALUE!"},null,6.6499999999999027,{"$error":"#VALUE!"},{"$error":"#VALUE!"}]
[0,{"$error":"#VALUE!"},{"$error":"#VALUE!"},null,6.6599999999999024,{"$error":"#VALUE!"},{"$error":"#VALUE!"}]
[0,{"$error":"#VALUE!"},{"$error":"#VALUE!"},null,6.6699999999999022,{"$error":"#VALUE!"},{"$error":"#VALUE!"}]
[0,{"$error":"#VALUE!"},{"$error":"#VALUE!"},null,6.679999999999902,{"$error":"#VALUE!"},{"$error":"#VALUE!"}]
[0,{"$error":"#VALUE!"},{"$error":"#VALUE!"},null,6.6899999999999018,{"$error":"#VALUE!"},{"$error":"#VALUE!"}]
[0,{"$error":"#VALUE!"},{"$error":"#VALUE!"},null,6.6999999999999016,{"$error":"#VALUE!"},{"$error":"#VALUE!"}]
[0,{"$error":"#VALUE!"},{"$error":"#VALUE!"},null,6.7099999999999014,{"$error":"#VALUE!"},{"$error":"#VALUE!"}]
[0,{"$error":"#VALUE!"},{"$error":"#VALUE!"},null,6.7199999999999012,{"$error":"#VALUE!"},{"$error":"#VALUE!"}]
[0,{"$error":"#VALUE!"},{"$error":"#VALUE!"},null,6.729999999999901,{"$error":"#VALUE!"},{"$error":"#VALUE!"}]
[0,{"$error":"#VALUE!"},{"$error":"#VALUE!"},null,6.7399999999999007,{"$error":"#VALUE!"},{"$error":"#VALUE!"}]
[0,{"$error":"#VALUE!"},{"$error":"#VALUE!"},null,6.7499999999999005,{"$error":"#VALUE!"},{"$error":"#VALUE!"}]
[0,{"$error":"#VALUE!"},{"$error":"#VALUE!"},null,6.7599999999999003,{"$error":"#VALUE!"},{"$error":"#VALUE!"}]
[0,{"$error":"#VALUE!"},{"$error":"#VALUE!"},null,6.7699999999999001,{"$error":"#VALUE!"},{"$error":"#VALUE!"}]
[0,{"$error":"#VALUE!"},{"$error":"#VALUE!"},null,6.7799999999998999,{"$error":"#VALUE!"},{"$error":"#VALUE!"}]
[0,{"$error":"#VALUE!"},{"$error":"#VALUE!"},null,6.7899999999998997,{"$error":"#VALUE!"},{"$error":"#VALUE!"}]
[0,{"$error":"#VALUE!"},{"$error":"#VALUE!"},null,6.7999999999998995,{"$error":"#VALUE!"},{"$error":"#VALUE!"}]
[0,{"$error":"#VALUE!"},{"$error":"#VALUE!"},null,6.8099999999998992,{"$error":"#VALUE!"},{"$error":"#VALUE!"}]
[0,{"$error":"#VALUE!"},{"$error":"#VALUE!"},null,6.819999999999899,{"$error":"#VALUE!"},{"$error":"#VALUE!"}]
[0,{"$error":"#VALUE!"},{"$error":"#VALUE!"},null,6.8299999999998988,{"$error":"#VALUE!"},{"$error":"#VALUE!"}]
[0,{"$error":"#VALUE!"},{"$error":"#VALUE!"},null,6.8399999999998986,{"$error":"#VALUE!"},{"$error":"#VALUE!"}]
[0,{"$error":"#VALUE!"},{"$error":"#VALUE!"},null,6.8499999999998984,{"$error":"#VALUE!"},{"$error":"#VALUE!"}]
[0,{"$error":"#VALUE!"},{"$error":"#VALUE!"},null,6.8599999999998982,{"$error":"#VALUE!"},{"$error":"#VALUE!"}]
[0,{"$error":"#VALUE!"},{"$error":"#VALUE!"},null,6.869999999999898,{"$error":"#VALUE!"},{"$error":"#VALUE!"}]
[0,{"$error":"#VALUE!"},{"$error":"#VALUE!"},null,6.8799999999998978,{"$error":"#VALUE!"},{"$error":"#VALUE!"}]
[0,{"$error":"#VALUE!"},{"$error":"#VALUE!"},null,6.8899999999998975,{"$error":"#VALUE!"},{"$error":"#VALUE!"}]
[0,{"$error":"#VALUE!"},{"$error":"#VALUE!"},null,6.8999999999998973,{"$error":"#VALUE!"},{"$error":"#VALUE!"}]
[0,{"$error":"#VALUE!"},{"$error":"#VALUE!"},null,6.9099999999998971,{"$error":"#VALUE!"},{"$error":"#VALUE!"}]
[0,{"$error":"#VALUE!"},{"$error":"#VALUE!"},null,6.9199999999998969,{"$error":"#VALUE!"},{"$error":"#VALUE!"}]
[0,{"$error":"#VALUE!"},{"$error":"#VALUE!"},null,6.9299999999998967,{"$error":"#VALUE!"},{"$error":"#VALUE!"}]
[0,{"$error":"#VALUE!"},{"$error":"#VALUE!"},null,6.9399999999998965,{"$error":"#VALUE!"},{"$error":"#VALUE!"}]
[0,{"$error":"#VALUE!"},{"$error":"#VALUE!"},null,6.9499999999998963,{"$error":"#VALUE!"},{"$error":"#VALUE!"}]
[0,{"$error":"#VALUE!"},{"$error":"#VALUE!"},null,6.959999999999896,{"$error":"#VALUE!"},{"$error":"#VALUE!"}]
[0,{"$error":"#VALUE!"},{"$error":"#VALUE!"},null,6.9699999999998958,{"$error":"#VALUE!"},{"$error":"#VALUE!"}]
[0,{"$error":"#VALUE!"},{"$error":"#VALUE!"},null,6.9799999999998956,{"$error":"#VALUE!"},{"$error":"#VALUE!"}]
[0,{"$error":"#VALUE!"},{"$error":"#VALUE!"},null,6.9899999999998954,{"$error":"#VALUE!"},{"$error":"#VALUE!"}]
[0,{"$error":"#VALUE!"},{"$error":"#VALUE!"},null,6.9999999999998952,{"$error":"#VALUE!"},{"$error":"#VALUE!"}]
[0,{"$error":"#VALUE!"},{"$error":"#VALUE!"},null,7.009999999999895,{"$error":"#VALUE!"},{"$error":"#VALUE!"}]
[0,{"$error":"#VALUE!"},{"$error":"#VALUE!"},null,7.0199999999998948,{"$error":"#VALUE!"},{"$error":"#VALUE!"}]
[0,{"$error":"#VALUE!"},{"$error":"#VALUE!"},null,7.0299999999998946,{"$error":"#VALUE!"},{"$error":"#VALUE!"}]
[{"$f":"MIN(AD$15,E755)","v":0},{"$f":"MIN(C$47,F755)","v":{"$error":"#VALUE!"}},{"$error":"#VALUE!"},null,7.0399999999998943,{"$f":"((C$11)/((10^(-E755))+(C$11)))*100","v":{"$error":"#VALUE!"}},{"$error":"#VALUE!"}]
[0,{"$error":"#VALUE!"},{"$f":"100-B756","v":{"$error":"#VALUE!"}},null,7.0499999999998941,{"$error":"#VALUE!"},{"$f":"100-F756","v":{"$error":"#VALUE!"}}]
[0,{"$error":"#VALUE!"},{"$error":"#VALUE!"},null,{"$f":"E756+12/1200","v":7.0599999999998939},{"$error":"#VALUE!"},{"$error":"#VALUE!"}]
[0,{"$error":"#VALUE!"},{"$error":"#VALUE!"},null,7.0699999999998937,{"$error":"#VALUE!"},{"$error":"#VALUE!"}]
[0,{"$error":"#VALUE!"},{"$error":"#VALUE!"},null,7.0799999999998935,{"$error":"#VALUE!"},{"$error":"#VALUE!"}]
[0,{"$error":"#VALUE!"},{"$error":"#VALUE!"},null,7.0899999999998933,{"$error":"#VALUE!"},{"$error":"#VALUE!"}]
[0,{"$error":"#VALUE!"},{"$error":"#VALUE!"},null,7.0999999999998931,{"$error":"#VALUE!"},{"$error":"#VALUE!"}]
[0,{"$error":"#VALUE!"},{"$error":"#VALUE!"},null,7.1099999999998929,{"$error":"#VALUE!"},{"$error":"#VALUE!"}]
[0,{"$error":"#VALUE!"},{"$error":"#VALUE!"},null,7.1199999999998926,{"$error":"#VALUE!"},{"$error":"#VALUE!"}]
[0,{"$error":"#VALUE!"},{"$error":"#VALUE!"},null,7.1299999999998924,{"$error":"#VALUE!"},{"$error":"#VALUE!"}]
[0,{"$error":"#VALUE!"},{"$error":"#VALUE!"},null,7.1399999999998922,{"$error":"#VALUE!"},{"$error":"#VALUE!"}]
[0,{"$error":"#VALUE!"},{"$error":"#VALUE!"},null,7.149999999999892,{"$error":"#VALUE!"},{"$error":"#VALUE!"}]
[0,{"$error":"#VALUE!"},{"$error":"#VALUE!"},null,7.1599999999998918,{"$error":"#VALUE!"},{"$error":"#VALUE!"}]
[0,{"$error":"#VALUE!"},{"$error":"#VALUE!"},null,7.1699999999998916,{"$error":"#VALUE!"},{"$error":"#VALUE!"}]
[0,{"$error":"#VALUE!"},{"$error":"#VALUE!"},null,7.1799999999998914,{"$error":"#VALUE!"},{"$error":"#VALUE!"}]
[0,{"$error":"#VALUE!"},{"$error":"#VALUE!"},null,7.1899999999998911,{"$error":"#VALUE!"},{"$error":"#VALUE!"}]
[0,{"$error":"#VALUE!"},{"$error":"#VALUE!"},null,7.1999999999998909,{"$error":"#VALUE!"},{"$error":"#VALUE!"}]
[0,{"$error":"#VALUE!"},{"$error":"#VALUE!"},null,7.2099999999998907,{"$error":"#VALUE!"},{"$error":"#VALUE!"}]
[0,{"$error":"#VALUE!"},{"$error":"#VALUE!"},null,7.2199999999998905,{"$error":"#VALUE!"},{"$error":"#VALUE!"}]
[0,{"$error":"#VALUE!"},{"$error":"#VALUE!"},null,7.2299999999998903,{"$error":"#VALUE!"},{"$error":"#VALUE!"}]
[0,{"$error":"#VALUE!"},{"$error":"#VALUE!"},null,7.2399999999998901,{"$error":"#VALUE!"},{"$error":"#VALUE!"}]
[0,{"$error":"#VALUE!"},{"$error":"#VALUE!"},null,7.2499999999998899,{"$error":"#VALUE!"},{"$error":"#VALUE!"}]
[0,{"$error":"#VALUE!"},{"$error":"#VALUE!"},null,7.2599999999998897,{"$error":"#VALUE!"},{"$error":"#VALUE!"}]
[0,{"$error":"#VALUE!"},{"$error":"#VALUE!"},null,7.2699999999998894,{"$error":"#VALUE!"},{"$error":"#VALUE!"}]
[0,{"$error":"#VALUE!"},{"$error":"#VALUE!"},null,7.2799999999998892,{"$error":"#VALUE!"},{"$error":"#VALUE!"}]
[0,{"$error":"#VALUE!"},{"$error":"#VALUE!"},null,7.289999999999889,{"$error":"#VALUE!"},{"$error":"#VALUE!"}]
[0,{"$error":"#VALUE!"},{"$error":"#VALUE!"},null,7.2999999999998888,{"$error":"#VALUE!"},{"$error":"#VALUE!"}]
[0,{"$error":"#VALUE!"},{"$error":"#VALUE!"},null,7.3099999999998886,{"$error":"#VALUE!"},{"$error":"#VALUE!"}]
[0,{"$error":"#VALUE!"},{"$error":"#VALUE!"},null,7.3199999999998884,{"$error":"#VALUE!"},{"$error":"#VALUE!"}]
[0,{"$error":"#VALUE!"},{"$error":"#VALUE!"},null,7.3299999999998882,{"$error":"#VALUE!"},{"$error":"#VALUE!"}]
[0,{"$error":"#VALUE!"},{"$error":"#VALUE!"},null,7.3399999999998879,{"$error":"#VALUE!"},{"$error":"#VALUE!"}]
[0,{"$error":"#VALUE!"},{"$error":"#VALUE!"},null,7.3499999999998877,{"$error":"#VALUE!"},{"$error":"#VALUE!"}]
[0,{"$error":"#VALUE!"},{"$error":"#VALUE!"},null,7.3599999999998875,{"$error":"#VALUE!"},{"$error":"#VALUE!"}]
[0,{"$error":"#VALUE!"},{"$error":"#VALUE!"},null,7.3699999999998873,{"$error":"#VALUE!"},{"$error":"#VALUE!"}]
[0,{"$error":"#VALUE!"},{"$error":"#VALUE!"},null,7.3799999999998871,{"$error":"#VALUE!"},{"$error":"#VALUE!"}]
[0,{"$error":"#VALUE!"},{"$error":"#VALUE!"},null,7.3899999999998869,{"$error":"#VALUE!"},{"$error":"#VALUE!"}]
[0,{"$error":"#VALUE!"},{"$error":"#VALUE!"},null,7.3999999999998867,{"$error":"#VALUE!"},{"$error":"#VALUE!"}]
[0,{"$error":"#VALUE!"},{"$error":"#VALUE!"},null,7.4099999999998865,{"$error":"#VALUE!"},{"$error":"#VALUE!"}]
[0,{"$error":"#VALUE!"},{"$error":"#VALUE!"},null,7.4199999999998862,{"$error":"#VALUE!"},{"$error":"#VALUE!"}]
[0,{"$error":"#VALUE!"},{"$error":"#VALUE!"},null,7.429999999999886,{"$error":"#VALUE!"},{"$error":"#VALUE!"}]
[0,{"$error":"#VALUE!"},{"$error":"#VALUE!"},null,7.4399999999998858,{"$error":"#VALUE!"},{"$error":"#VALUE!"}]
[0,{"$error":"#VALUE!"},{"$error":"#VALUE!"},null,7.4499999999998856,{"$error":"#VALUE!"},{"$error":"#VALUE!"}]
[0,{"$error":"#VALUE!"},{"$error":"#VALUE!"},null,7.4599999999998854,{"$error":"#VALUE!"},{"$error":"#VALUE!"}]
[0,{"$error":"#VALUE!"},{"$error":"#VALUE!"},null,7.4699999999998852,{"$error":"#VALUE!"},{"$error":"#VALUE!"}]
[0,{"$error":"#VALUE!"},{"$error":"#VALUE!"},null,7.479999999999885,{"$error":"#VALUE!"},{"$error":"#VALUE!"}]
[0,{"$error":"#VALUE!"},{"$error":"#VALUE!"},null,7.4899999999998847,{"$error":"#VALUE!"},{"$error":"#VALUE!"}]
[0,{"$error":"#VALUE!"},{"$error":"#VALUE!"},null,7.4999999999998845,{"$error":"#VALUE!"},{"$error":"#VALUE!"}]
[0,{"$error":"#VALUE!"},{"$error":"#VALUE!"},null,7.5099999999998843,{"$error":"#VALUE!"},{"$error":"#VALUE!"}]
[0,{"$error":"#VALUE!"},{"$error":"#VALUE!"},null,7.5199999999998841,{"$error":"#VALUE!"},{"$error":"#VALUE!"}]
[0,{"$error":"#VALUE!"},{"$error":"#VALUE!"},null,7.5299999999998839,{"$error":"#VALUE!"},{"$error":"#VALUE!"}]
[0,{"$error":"#VALUE!"},{"$error":"#VALUE!"},null,7.5399999999998837,{"$error":"#VALUE!"},{"$error":"#VALUE!"}]
[0,{"$error":"#VALUE!"},{"$error":"#VALUE!"},null,7.5499999999998835,{"$error":"#VALUE!"},{"$error":"#VALUE!"}]
[0,{"$error":"#VALUE!"},{"$error":"#VALUE!"},null,7.5599999999998833,{"$error":"#VALUE!"},{"$error":"#VALUE!"}]
[0,{"$error":"#VALUE!"},{"$error":"#VALUE!"},null,7.569999999999883,{"$error":"#VALUE!"},{"$error":"#VALUE!"}]
[0,{"$error":"#VALUE!"},{"$error":"#VALUE!"},null,7.5799999999998828,{"$error":"#VALUE!"},{"$error":"#VALUE!"}]
[0,{"$error":"#VALUE!"},{"$error":"#VALUE!"},null,7.5899999999998826,{"$error":"#VALUE!"},{"$error":"#VALUE!"}]
[0,{"$error":"#VALUE!"},{"$error":"#VALUE!"},null,7.5999999999998824,{"$error":"#VALUE!"},{"$error":"#VALUE!"}]
[0,{"$error":"#VALUE!"},{"$error":"#VALUE!"},null,7.6099999999998822,{"$error":"#VALUE!"},{"$error":"#VALUE!"}]
[0,{"$error":"#VALUE!"},{"$error":"#VALUE!"},null,7.619999999999882,{"$error":"#VALUE!"},{"$error":"#VALUE!"}]
[0,{"$error":"#VALUE!"},{"$error":"#VALUE!"},null,7.6299999999998818,{"$error":"#VALUE!"},{"$error":"#VALUE!"}]
[0,{"$error":"#VALUE!"},{"$error":"#VALUE!"},null,7.6399999999998816,{"$error":"#VALUE!"},{"$error":"#VALUE!"}]
[0,{"$error":"#VALUE!"},{"$error":"#VALUE!"},null,7.6499999999998813,{"$error":"#VALUE!"},{"$error":"#VALUE!"}]
[0,{"$error":"#VALUE!"},{"$error":"#VALUE!"},null,7.6599999999998811,{"$error":"#VALUE!"},{"$error":"#VALUE!"}]
[0,{"$error":"#VALUE!"},{"$error":"#VALUE!"},null,7.6699999999998809,{"$error":"#VALUE!"},{"$error":"#VALUE!"}]
[{"$f":"MIN(AD$15,E819)","v":0},{"$f":"MIN(C$47,F819)","v":{"$error":"#VALUE!"}},{"$error":"#VALUE!"},null,7.6799999999998807,{"$f":"((C$11)/((10^(-E819))+(C$11)))*100","v":{"$error":"#VALUE!"}},{"$error":"#VALUE!"}]
[0,{"$error":"#VALUE!"},{"$f":"100-B820","v":{"$error":"#VALUE!"}},null,7.6899999999998805,{"$error":"#VALUE!"},{"$f":"100-F820","v":{"$error":"#VALUE!"}}]
[0,{"$error":"#VALUE!"},{"$error":"#VALUE!"},null,{"$f":"E820+12/1200","v":7.6999999999998803},{"$error":"#VALUE!"},{"$error":"#VALUE!"}]
[0,{"$error":"#VALUE!"},{"$error":"#VALUE!"},null,7.7099999999998801,{"$error":"#VALUE!"},{"$error":"#VALUE!"}]
[0,{"$error":"#VALUE!"},{"$error":"#VALUE!"},null,7.7199999999998798,{"$error":"#VALUE!"},{"$error":"#VALUE!"}]
[0,{"$error":"#VALUE!"},{"$error":"#VALUE!"},null,7.7299999999998796,{"$error":"#VALUE!"},{"$error":"#VALUE!"}]
[0,{"$error":"#VALUE!"},{"$error":"#VALUE!"},null,7.7399999999998794,{"$error":"#VALUE!"},{"$error":"#VALUE!"}]
[0,{"$error":"#VALUE!"},{"$error":"#VALUE!"},null,7.7499999999998792,{"$error":"#VALUE!"},{"$error":"#VALUE!"}]
[0,{"$error":"#VALUE!"},{"$error":"#VALUE!"},null,7.759999999999879,{"$error":"#VALUE!"},{"$error":"#VALUE!"}]
[0,{"$error":"#VALUE!"},{"$error":"#VALUE!"},null,7.7699999999998788,{"$error":"#VALUE!"},{"$error":"#VALUE!"}]
[0,{"$error":"#VALUE!"},{"$error":"#VALUE!"},null,7.7799999999998786,{"$error":"#VALUE!"},{"$error":"#VALUE!"}]
[0,{"$error":"#VALUE!"},{"$error":"#VALUE!"},null,7.7899999999998784,{"$error":"#VALUE!"},{"$error":"#VALUE!"}]
[0,{"$error":"#VALUE!"},{"$error":"#VALUE!"},null,7.7999999999998781,{"$error":"#VALUE!"},{"$error":"#VALUE!"}]
[0,{"$error":"#VALUE!"},{"$error":"#VALUE!"},null,7.8099999999998779,{"$error":"#VALUE!"},{"$error":"#VALUE!"}]
[0,{"$error":"#VALUE!"},{"$error":"#VALUE!"},null,7.8199999999998777,{"$error":"#VALUE!"},{"$error":"#VALUE!"}]
[0,{"$error":"#VALUE!"},{"$error":"#VALUE!"},null,7.8299999999998775,{"$error":"#VALUE!"},{"$error":"#VALUE!"}]
[0,{"$error":"#VALUE!"},{"$error":"#VALUE!"},null,7.8399999999998773,{"$error":"#VALUE!"},{"$error":"#VALUE!"}]
[0,{"$error":"#VALUE!"},{"$error":"#VALUE!"},null,7.8499999999998771,{"$error":"#VALUE!"},{"$error":"#VALUE!"}]
[0,{"$error":"#VALUE!"},{"$error":"#VALUE!"},null,7.8599999999998769,{"$error":"#VALUE!"},{"$error":"#VALUE!"}]
[0,{"$error":"#VALUE!"},{"$error":"#VALUE!"},null,7.8699999999998766,{"$error":"#VALUE!"},{"$error":"#VALUE!"}]
[0,{"$error":"#VALUE!"},{"$error":"#VALUE!"},null,7.8799999999998764,{"$error":"#VALUE!"},{"$error":"#VALUE!"}]
[0,{"$error":"#VALUE!"},{"$error":"#VALUE!"},null,7.8899999999998762,{"$error":"#VALUE!"},{"$error":"#VALUE!"}]
[0,{"$error":"#VALUE!"},{"$error":"#VALUE!"},null,7.899999999999876,{"$error":"#VALUE!"},{"$error":"#VALUE!"}]
[0,{"$error":"#VALUE!"},{"$error":"#VALUE!"},null,7.9099999999998758,{"$error":"#VALUE!"},{"$error":"#VALUE!"}]
[0,{"$error":"#VALUE!"},{"$error":"#VALUE!"},null,7.9199999999998756,{"$error":"#VALUE!"},{"$error":"#VALUE!"}]
[0,{"$error":"#VALUE!"},{"$error":"#VALUE!"},null,7.9299999999998754,{"$error":"#VALUE!"},{"$error":"#VALUE!"}]
[0,{"$error":"#VALUE!"},{"$error":"#VALUE!"},null,7.9399999999998752,{"$error":"#VALUE!"},{"$error":"#VALUE!"}]
[0,{"$error":"#VALUE!"},{"$error":"#VALUE!"},null,7.9499999999998749,{"$error":"#VALUE!"},{"$error":"#VALUE!"}]
[0,{"$error":"#VALUE!"},{"$error":"#VALUE!"},null,7.9599999999998747,{"$error":"#VALUE!"},{"$error":"#VALUE!"}]
[0,{"$error":"#VALUE!"},{"$error":"#VALUE!"},null,7.9699999999998745,{"$error":"#VALUE!"},{"$error":"#VALUE!"}]
[0,{"$error":"#VALUE!"},{"$error":"#VALUE!"},null,7.9799999999998743,{"$error":"#VALUE!"},{"$error":"#VALUE!"}]
[0,{"$error":"#VALUE!"},{"$error":"#VALUE!"},null,7.9899999999998741,{"$error":"#VALUE!"},{"$error":"#VALUE!"}]
[0,{"$error":"#VALUE!"},{"$error":"#VALUE!"},null,7.9999999999998739,{"$error":"#VALUE!"},{"$error":"#VALUE!"}]
[0,{"$error":"#VALUE!"},{"$error":"#VALUE!"},null,8.0099999999998737,{"$error":"#VALUE!"},{"$error":"#VALUE!"}]
[0,{"$error":"#VALUE!"},{"$error":"#VALUE!"},null,8.0199999999998735,{"$error":"#VALUE!"},{"$error":"#VALUE!"}]
[0,{"$error":"#VALUE!"},{"$error":"#VALUE!"},null,8.0299999999998732,{"$error":"#VALUE!"},{"$error":"#VALUE!"}]
[0,{"$error":"#VALUE!"},{"$error":"#VALUE!"},null,8.039999999999873,{"$error":"#VALUE!"},{"$error":"#VALUE!"}]
[0,{"$error":"#VALUE!"},{"$error":"#VALUE!"},null,8.0499999999998728,{"$error":"#VALUE!"},{"$error":"#VALUE!"}]
[0,{"$error":"#VALUE!"},{"$error":"#VALUE!"},null,8.0599999999998726,{"$error":"#VALUE!"},{"$error":"#VALUE!"}]
[0,{"$error":"#VALUE!"},{"$error":"#VALUE!"},null,8.0699999999998724,{"$error":"#VALUE!"},{"$error":"#VALUE!"}]
[0,{"$error":"#VALUE!"},{"$error":"#VALUE!"},null,8.0799999999998722,{"$error":"#VALUE!"},{"$error":"#VALUE!"}]
[0,{"$error":"#VALUE!"},{"$error":"#VALUE!"},null,8.089999999999872,{"$error":"#VALUE!"},{"$error":"#VALUE!"}]
[0,{"$error":"#VALUE!"},{"$error":"#VALUE!"},null,8.0999999999998717,{"$error":"#VALUE!"},{"$error":"#VALUE!"}]
[0,{"$error":"#VALUE!"},{"$error":"#VALUE!"},null,8.1099999999998715,{"$error":"#VALUE!"},{"$error":"#VALUE!"}]
[0,{"$error":"#VALUE!"},{"$error":"#VALUE!"},null,8.1199999999998713,{"$error":"#VALUE!"},{"$error":"#VALUE!"}]
[0,{"$error":"#VALUE!"},{"$error":"#VALUE!"},null,8.1299999999998711,{"$error":"#VALUE!"},{"$error":"#VALUE!"}]
[0,{"$error":"#VALUE!"},{"$error":"#VALUE!"},null,8.1399999999998709,{"$error":"#VALUE!"},{"$error":"#VALUE!"}]
[0,{"$error":"#VALUE!"},{"$error":"#VALUE!"},null,8.1499999999998707,{"$error":"#VALUE!"},{"$error":"#VALUE!"}]
[0,{"$error":"#VALUE!"},{"$error":"#VALUE!"},null,8.1599999999998705,{"$error":"#VALUE!"},{"$error":"#VALUE!"}]
[0,{"$error":"#VALUE!"},{"$error":"#VALUE!"},null,8.1699999999998703,{"$error":"#VALUE!"},{"$error":"#VALUE!"}]
[0,{"$error":"#VALUE!"},{"$error":"#VALUE!"},null,8.17999999999987,{"$error":"#VALUE!"},{"$error":"#VALUE!"}]
[0,{"$error":"#VALUE!"},{"$error":"#VALUE!"},null,8.1899999999998698,{"$error":"#VALUE!"},{"$error":"#VALUE!"}]
[0,{"$error":"#VALUE!"},{"$error":"#VALUE!"},null,8.1999999999998696,{"$error":"#VALUE!"},{"$error":"#VALUE!"}]
[0,{"$error":"#VALUE!"},{"$error":"#VALUE!"},null,8.2099999999998694,{"$error":"#VALUE!"},{"$error":"#VALUE!"}]
[0,{"$error":"#VALUE!"},{"$error":"#VALUE!"},null,8.2199999999998692,{"$error":"#VALUE!"},{"$error":"#VALUE!"}]
[0,{"$error":"#VALUE!"},{"$error":"#VALUE!"},null,8.229999999999869,{"$error":"#VALUE!"},{"$error":"#VALUE!"}]
[0,{"$error":"#VALUE!"},{"$error":"#VALUE!"},null,8.2399999999998688,{"$error":"#VALUE!"},{"$error":"#VALUE!"}]
[0,{"$error":"#VALUE!"},{"$error":"#VALUE!"},null,8.2499999999998685,{"$error":"#VALUE!"},{"$error":"#VALUE!"}]
[0,{"$error":"#VALUE!"},{"$error":"#VALUE!"},null,8.2599999999998683,{"$error":"#VALUE!"},{"$error":"#VALUE!"}]
[0,{"$error":"#VALUE!"},{"$error":"#VALUE!"},null,8.2699999999998681,{"$error":"#VALUE!"},{"$error":"#VALUE!"}]
[0,{"$error":"#VALUE!"},{"$error":"#VALUE!"},null,8.2799999999998679,{"$error":"#VALUE!"},{"$error":"#VALUE!"}]
[0,{"$error":"#VALUE!"},{"$error":"#VALUE!"},null,8.2899999999998677,{"$error":"#VALUE!"},{"$error":"#VALUE!"}]
[0,{"$error":"#VALUE!"},{"$error":"#VALUE!"},null,8.2999999999998675,{"$error":"#VALUE!"},{"$error":"#VALUE!"}]
[0,{"$error":"#VALUE!"},{"$error":"#VALUE!"},null,8.3099999999998673,{"$error":"#VALUE!"},{"$error":"#VALUE!"}]
[{"$f":"MIN(AD$15,E883)","v":0},{"$f":"MIN(C$47,F883)","v":{"$error":"#VALUE!"}},{"$error":"#VALUE!"},null,8.3199999999998671,{"$f":"((C$11)/((10^(-E883))+(C$11)))*100","v":{"$error":"#VALUE!"}},{"$error":"#VALUE!"}]
[0,{"$error":"#VALUE!"},{"$f":"100-B884","v":{"$error":"#VALUE!"}},null,8.3299999999998668,{"$error":"#VALUE!"},{"$f":"100-F884","v":{"$error":"#VALUE!"}}]
[0,{"$error":"#VALUE!"},{"$error":"#VALUE!"},null,{"$f":"E884+12/1200","v":8.3399999999998666},{"$error":"#VALUE!"},{"$error":"#VALUE!"}]
[0,{"$error":"#VALUE!"},{"$error":"#VALUE!"},null,8.3499999999998664,{"$error":"#VALUE!"},{"$error":"#VALUE!"}]
[0,{"$error":"#VALUE!"},{"$error":"#VALUE!"},null,8.3599999999998662,{"$error":"#VALUE!"},{"$error":"#VALUE!"}]
[0,{"$error":"#VALUE!"},{"$error":"#VALUE!"},null,8.369999999999866,{"$error":"#VALUE!"},{"$error":"#VALUE!"}]
[0,{"$error":"#VALUE!"},{"$error":"#VALUE!"},null,8.3799999999998658,{"$error":"#VALUE!"},{"$error":"#VALUE!"}]
[0,{"$error":"#VALUE!"},{"$error":"#VALUE!"},null,8.3899999999998656,{"$error":"#VALUE!"},{"$error":"#VALUE!"}]
[0,{"$error":"#VALUE!"},{"$error":"#VALUE!"},null,8.3999999999998654,{"$error":"#VALUE!"},{"$error":"#VALUE!"}]
[0,{"$error":"#VALUE!"},{"$error":"#VALUE!"},null,8.4099999999998651,{"$error":"#VALUE!"},{"$error":"#VALUE!"}]
[0,{"$error":"#VALUE!"},{"$error":"#VALUE!"},null,8.4199999999998649,{"$error":"#VALUE!"},{"$error":"#VALUE!"}]
[0,{"$error":"#VALUE!"},{"$error":"#VALUE!"},null,8.4299999999998647,{"$error":"#VALUE!"},{"$error":"#VALUE!"}]
[0,{"$error":"#VALUE!"},{"$error":"#VALUE!"},null,8.4399999999998645,{"$error":"#VALUE!"},{"$error":"#VALUE!"}]
[0,{"$error":"#VALUE!"},{"$error":"#VALUE!"},null,8.4499999999998643,{"$error":"#VALUE!"},{"$error":"#VALUE!"}]
[0,{"$error":"#VALUE!"},{"$error":"#VALUE!"},null,8.4599999999998641,{"$error":"#VALUE!"},{"$error":"#VALUE!"}]
[0,{"$error":"#VALUE!"},{"$error":"#VALUE!"},null,8.4699999999998639,{"$error":"#VALUE!"},{"$error":"#VALUE!"}]
[0,{"$error":"#VALUE!"},{"$error":"#VALUE!"},null,8.4799999999998636,{"$error":"#VALUE!"},{"$error":"#VALUE!"}]
[0,{"$error":"#VALUE!"},{"$error":"#VALUE!"},null,8.4899999999998634,{"$error":"#VALUE!"},{"$error":"#VALUE!"}]
[0,{"$error":"#VALUE!"},{"$error":"#VALUE!"},null,8.4999999999998632,{"$error":"#VALUE!"},{"$error":"#VALUE!"}]
[0,{"$error":"#VALUE!"},{"$error":"#VALUE!"},null,8.509999999999863,{"$error":"#VALUE!"},{"$error":"#VALUE!"}]
[0,{"$error":"#VALUE!"},{"$error":"#VALUE!"},null,8.5199999999998628,{"$error":"#VALUE!"},{"$error":"#VALUE!"}]
[0,{"$error":"#VALUE!"},{"$error":"#VALUE!"},null,8.5299999999998626,{"$error":"#VALUE!"},{"$error":"#VALUE!"}]
[0,{"$error":"#VALUE!"},{"$error":"#VALUE!"},null,8.5399999999998624,{"$error":"#VALUE!"},{"$error":"#VALUE!"}]
[0,{"$error":"#VALUE!"},{"$error":"#VALUE!"},null,8.5499999999998622,{"$error":"#VALUE!"},{"$error":"#VALUE!"}]
[0,{"$error":"#VALUE!"},{"$error":"#VALUE!"},null,8.5599999999998619,{"$error":"#VALUE!"},{"$error":"#VALUE!"}]
[0,{"$error":"#VALUE!"},{"$error":"#VALUE!"},null,8.5699999999998617,{"$error":"#VALUE!"},{"$error":"#VALUE!"}]
[0,{"$error":"#VALUE!"},{"$error":"#VALUE!"},null,8.5799999999998615,{"$error":"#VALUE!"},{"$error":"#VALUE!"}]
[0,{"$error":"#VALUE!"},{"$error":"#VALUE!"},null,8.5899999999998613,{"$error":"#VALUE!"},{"$error":"#VALUE!"}]
[0,{"$error":"#VALUE!"},{"$error":"#VALUE!"},null,8.5999999999998611,{"$error":"#VALUE!"},{"$error":"#VALUE!"}]
[0,{"$error":"#VALUE!"},{"$error":"#VALUE!"},null,8.6099999999998609,{"$error":"#VALUE!"},{"$error":"#VALUE!"}]
[0,{"$error":"#VALUE!"},{"$error":"#VALUE!"},null,8.6199999999998607,{"$error":"#VALUE!"},{"$error":"#VALUE!"}]
[0,{"$error":"#VALUE!"},{"$error":"#VALUE!"},null,8.6299999999998604,{"$error":"#VALUE!"},{"$error":"#VALUE!"}]
[0,{"$error":"#VALUE!"},{"$error":"#VALUE!"},null,8.6399999999998602,{"$error":"#VALUE!"},{"$error":"#VALUE!"}]
[0,{"$error":"#VALUE!"},{"$error":"#VALUE!"},null,8.64999999999986,{"$error":"#VALUE!"},{"$error":"#VALUE!"}]
[0,{"$error":"#VALUE!"},{"$error":"#VALUE!"},null,8.6599999999998598,{"$error":"#VALUE!"},{"$error":"#VALUE!"}]
[0,{"$error":"#VALUE!"},{"$error":"#VALUE!"},null,8.6699999999998596,{"$error":"#VALUE!"},{"$error":"#VALUE!"}]
[0,{"$error":"#VALUE!"},{"$error":"#VALUE!"},null,8.6799999999998594,{"$error":"#VALUE!"},{"$error":"#VALUE!"}]
[0,{"$error":"#VALUE!"},{"$error":"#VALUE!"},null,8.6899999999998592,{"$error":"#VALUE!"},{"$error":"#VALUE!"}]
[0,{"$error":"#VALUE!"},{"$error":"#VALUE!"},null,8.699999999999859,{"$error":"#VALUE!"},{"$error":"#VALUE!"}]
[0,{"$error":"#VALUE!"},{"$error":"#VALUE!"},null,8.7099999999998587,{"$error":"#VALUE!"},{"$error":"#VALUE!"}]
[0,{"$error":"#VALUE!"},{"$error":"#VALUE!"},null,8.7199999999998585,{"$error":"#VALUE!"},{"$error":"#VALUE!"}]
[0,{"$error":"#VALUE!"},{"$error":"#VALUE!"},null,8.7299999999998583,{"$error":"#VALUE!"},{"$error":"#VALUE!"}]
[0,{"$error":"#VALUE!"},{"$error":"#VALUE!"},null,8.7399999999998581,{"$error":"#VALUE!"},{"$error":"#VALUE!"}]
[0,{"$error":"#VALUE!"},{"$error":"#VALUE!"},null,8.7499999999998579,{"$error":"#VALUE!"},{"$error":"#VALUE!"}]
[0,{"$error":"#VALUE!"},{"$error":"#VALUE!"},null,8.7599999999998577,{"$error":"#VALUE!"},{"$error":"#VALUE!"}]
[0,{"$error":"#VALUE!"},{"$error":"#VALUE!"},null,8.7699999999998575,{"$error":"#VALUE!"},{"$error":"#VALUE!"}]
[0,{"$error":"#VALUE!"},{"$error":"#VALUE!"},null,8.7799999999998573,{"$error":"#VALUE!"},{"$error":"#VALUE!"}]
[0,{"$error":"#VALUE!"},{"$error":"#VALUE!"},null,8.789999999999857,{"$error":"#VALUE!"},{"$error":"#VALUE!"}]
[0,{"$error":"#VALUE!"},{"$error":"#VALUE!"},null,8.7999999999998568,{"$error":"#VALUE!"},{"$error":"#VALUE!"}]
[0,{"$error":"#VALUE!"},{"$error":"#VALUE!"},null,8.8099999999998566,{"$error":"#VALUE!"},{"$error":"#VALUE!"}]
[0,{"$error":"#VALUE!"},{"$error":"#VALUE!"},null,8.8199999999998564,{"$error":"#VALUE!"},{"$error":"#VALUE!"}]
[0,{"$error":"#VALUE!"},{"$error":"#VALUE!"},null,8.8299999999998562,{"$error":"#VALUE!"},{"$error":"#VALUE!"}]
[0,{"$error":"#VALUE!"},{"$error":"#VALUE!"},null,8.839999999999856,{"$error":"#VALUE!"},{"$error":"#VALUE!"}]
[0,{"$error":"#VALUE!"},{"$error":"#VALUE!"},null,8.8499999999998558,{"$error":"#VALUE!"},{"$error":"#VALUE!"}]
[0,{"$error":"#VALUE!"},{"$error":"#VALUE!"},null,8.8599999999998555,{"$error":"#VALUE!"},{"$error":"#VALUE!"}]
[0,{"$error":"#VALUE!"},{"$error":"#VALUE!"},null,8.8699999999998553,{"$error":"#VALUE!"},{"$error":"#VALUE!"}]
[0,{"$error":"#VALUE!"},{"$error":"#VALUE!"},null,8.8799999999998551,{"$error":"#VALUE!"},{"$error":"#VALUE!"}]
[0,{"$error":"#VALUE!"},{"$error":"#VALUE!"},null,8.8899999999998549,{"$error":"#VALUE!"},{"$error":"#VALUE!"}]
[0,{"$error":"#VALUE!"},{"$error":"#VALUE!"},null,8.8999999999998547,{"$error":"#VALUE!"},{"$error":"#VALUE!"}]
[0,{"$error":"#VALUE!"},{"$error":"#VALUE!"},null,8.9099999999998545,{"$error":"#VALUE!"},{"$error":"#VALUE!"}]
[0,{"$error":"#VALUE!"},{"$error":"#VALUE!"},null,8.9199999999998543,{"$error":"#VALUE!"},{"$error":"#VALUE!"}]
[0,{"$error":"#VALUE!"},{"$error":"#VALUE!"},null,8.9299999999998541,{"$error":"#VALUE!"},{"$error":"#VALUE!"}]
[0,{"$error":"#VALUE!"},{"$error":"#VALUE!"},null,8.9399999999998538,{"$error":"#VALUE!"},{"$error":"#VALUE!"}]
[0,{"$error":"#VALUE!"},{"$error":"#VALUE!"},null,8.9499999999998536,{"$error":"#VALUE!"},{"$error":"#VALUE!"}]
[{"$f":"MIN(AD$15,E947)","v":0},{"$f":"MIN(C$47,F947)","v":{"$error":"#VALUE!"}},{"$error":"#VALUE!"},null,8.9599999999998534,{"$f":"((C$11)/((10^(-E947))+(C$11)))*100","v":{"$error":"#VALUE!"}},{"$error":"#VALUE!"}]
[0,{"$error":"#VALUE!"},{"$f":"100-B948","v":{"$error":"#VALUE!"}},null,8.9699999999998532,{"$error":"#VALUE!"},{"$f":"100-F948","v":{"$error":"#VALUE!"}}]
[0,{"$error":"#VALUE!"},{"$error":"#VALUE!"},null,{"$f":"E948+12/1200","v":8.979999999999853},{"$error":"#VALUE!"},{"$error":"#VALUE!"}]
[0,{"$error":"#VALUE!"},{"$error":"#VALUE!"},null,8.9899999999998528,{"$error":"#VALUE!"},{"$error":"#VALUE!"}]
[0,{"$error":"#VALUE!"},{"$error":"#VALUE!"},null,8.9999999999998526,{"$error":"#VALUE!"},{"$error":"#VALUE!"}]
[0,{"$error":"#VALUE!"},{"$error":"#VALUE!"},null,9.0099999999998523,{"$error":"#VALUE!"},{"$f":"100-F952","v":{"$error":"#VALUE!"}}]
[0,{"$error":"#VALUE!"},{"$error":"#VALUE!"},null,9.0199999999998521,{"$error":"#VALUE!"},{"$error":"#VALUE!"}]
[0,{"$error":"#VALUE!"},{"$error":"#VALUE!"},null,9.0299999999998519,{"$error":"#VALUE!"},{"$error":"#VALUE!"}]
[0,{"$error":"#VALUE!"},{"$error":"#VALUE!"},null,9.0399999999998517,{"$error":"#VALUE!"},{"$error":"#VALUE!"}]
[0,{"$error":"#VALUE!"},{"$error":"#VALUE!"},null,9.0499999999998515,{"$error":"#VALUE!"},{"$error":"#VALUE!"}]
[0,{"$error":"#VALUE!"},{"$error":"#VALUE!"},null,9.0599999999998513,{"$error":"#VALUE!"},{"$error":"#VALUE!"}]
[0,{"$error":"#VALUE!"},{"$error":"#VALUE!"},null,9.0699999999998511,{"$error":"#VALUE!"},{"$error":"#VALUE!"}]
[0,{"$error":"#VALUE!"},{"$error":"#VALUE!"},null,9.0799999999998509,{"$error":"#VALUE!"},{"$error":"#VALUE!"}]
[0,{"$error":"#VALUE!"},{"$error":"#VALUE!"},null,9.0899999999998506,{"$error":"#VALUE!"},{"$error":"#VALUE!"}]
[0,{"$error":"#VALUE!"},{"$error":"#VALUE!"},null,9.0999999999998504,{"$error":"#VALUE!"},{"$error":"#VALUE!"}]
[0,{"$error":"#VALUE!"},{"$error":"#VALUE!"},null,9.1099999999998502,{"$error":"#VALUE!"},{"$error":"#VALUE!"}]
[0,{"$error":"#VALUE!"},{"$error":"#VALUE!"},null,9.11999999999985,{"$error":"#VALUE!"},{"$error":"#VALUE!"}]
[0,{"$error":"#VALUE!"},{"$error":"#VALUE!"},null,9.1299999999998498,{"$error":"#VALUE!"},{"$error":"#VALUE!"}]
[0,{"$error":"#VALUE!"},{"$error":"#VALUE!"},null,9.1399999999998496,{"$error":"#VALUE!"},{"$error":"#VALUE!"}]
[0,{"$error":"#VALUE!"},{"$error":"#VALUE!"},null,9.1499999999998494,{"$error":"#VALUE!"},{"$error":"#VALUE!"}]
[0,{"$error":"#VALUE!"},{"$error":"#VALUE!"},null,9.1599999999998492,{"$error":"#VALUE!"},{"$error":"#VALUE!"}]
[0,{"$error":"#VALUE!"},{"$error":"#VALUE!"},null,9.1699999999998489,{"$error":"#VALUE!"},{"$error":"#VALUE!"}]
[0,{"$error":"#VALUE!"},{"$error":"#VALUE!"},null,9.1799999999998487,{"$error":"#VALUE!"},{"$error":"#VALUE!"}]
[0,{"$error":"#VALUE!"},{"$error":"#VALUE!"},null,9.1899999999998485,{"$error":"#VALUE!"},{"$error":"#VALUE!"}]
[0,{"$error":"#VALUE!"},{"$error":"#VALUE!"},null,9.1999999999998483,{"$error":"#VALUE!"},{"$error":"#VALUE!"}]
[0,{"$error":"#VALUE!"},{"$error":"#VALUE!"},null,9.2099999999998481,{"$error":"#VALUE!"},{"$error":"#VALUE!"}]
[0,{"$error":"#VALUE!"},{"$error":"#VALUE!"},null,9.2199999999998479,{"$error":"#VALUE!"},{"$error":"#VALUE!"}]
[0,{"$error":"#VALUE!"},{"$error":"#VALUE!"},null,9.2299999999998477,{"$error":"#VALUE!"},{"$error":"#VALUE!"}]
[0,{"$error":"#VALUE!"},{"$error":"#VALUE!"},null,9.2399999999998474,{"$error":"#VALUE!"},{"$error":"#VALUE!"}]
[0,{"$error":"#VALUE!"},{"$error":"#VALUE!"},null,9.2499999999998472,{"$error":"#VALUE!"},{"$error":"#VALUE!"}]
[0,{"$error":"#VALUE!"},{"$error":"#VALUE!"},null,9.259999999999847,{"$error":"#VALUE!"},{"$error":"#VALUE!"}]
[0,{"$error":"#VALUE!"},{"$error":"#VALUE!"},null,9.2699999999998468,{"$error":"#VALUE!"},{"$error":"#VALUE!"}]
[0,{"$error":"#VALUE!"},{"$error":"#VALUE!"},null,9.2799999999998466,{"$error":"#VALUE!"},{"$error":"#VALUE!"}]
[0,{"$error":"#VALUE!"},{"$error":"#VALUE!"},null,9.2899999999998464,{"$error":"#VALUE!"},{"$error":"#VALUE!"}]
[0,{"$error":"#VALUE!"},{"$error":"#VALUE!"},null,9.2999999999998462,{"$error":"#VALUE!"},{"$error":"#VALUE!"}]
[0,{"$error":"#VALUE!"},{"$error":"#VALUE!"},null,9.309999999999846,{"$error":"#VALUE!"},{"$error":"#VALUE!"}]
[0,{"$error":"#VALUE!"},{"$error":"#VALUE!"},null,9.3199999999998457,{"$error":"#VALUE!"},{"$error":"#VALUE!"}]
[0,{"$error":"#VALUE!"},{"$error":"#VALUE!"},null,9.3299999999998455,{"$error":"#VALUE!"},{"$error":"#VALUE!"}]
[0,{"$error":"#VALUE!"},{"$error":"#VALUE!"},null,9.3399999999998453,{"$error":"#VALUE!"},{"$error":"#VALUE!"}]
[0,{"$error":"#VALUE!"},{"$error":"#VALUE!"},null,9.3499999999998451,{"$error":"#VALUE!"},{"$error":"#VALUE!"}]
[0,{"$error":"#VALUE!"},{"$error":"#VALUE!"},null,9.3599999999998449,{"$error":"#VALUE!"},{"$error":"#VALUE!"}]
[0,{"$error":"#VALUE!"},{"$error":"#VALUE!"},null,9.3699999999998447,{"$error":"#VALUE!"},{"$error":"#VALUE!"}]
[0,{"$error":"#VALUE!"},{"$error":"#VALUE!"},null,9.3799999999998445,{"$error":"#VALUE!"},{"$error":"#VALUE!"}]
[0,{"$error":"#VALUE!"},{"$error":"#VALUE!"},null,9.3899999999998442,{"$error":"#VALUE!"},{"$error":"#VALUE!"}]
[0,{"$error":"#VALUE!"},{"$error":"#VALUE!"},null,9.399999999999844,{"$error":"#VALUE!"},{"$error":"#VALUE!"}]
[0,{"$error":"#VALUE!"},{"$error":"#VALUE!"},null,9.4099999999998438,{"$error":"#VALUE!"},{"$error":"#VALUE!"}]
[0,{"$error":"#VALUE!"},{"$error":"#VALUE!"},null,9.4199999999998436,{"$error":"#VALUE!"},{"$error":"#VALUE!"}]
[0,{"$error":"#VALUE!"},{"$error":"#VALUE!"},null,9.4299999999998434,{"$error":"#VALUE!"},{"$error":"#VALUE!"}]
[0,{"$error":"#VALUE!"},{"$error":"#VALUE!"},null,9.4399999999998432,{"$error":"#VALUE!"},{"$error":"#VALUE!"}]
[0,{"$error":"#VALUE!"},{"$error":"#VALUE!"},null,9.449999999999843,{"$error":"#VALUE!"},{"$error":"#VALUE!"}]
[0,{"$error":"#VALUE!"},{"$error":"#VALUE!"},null,9.4599999999998428,{"$error":"#VALUE!"},{"$error":"#VALUE!"}]
[0,{"$error":"#VALUE!"},{"$error":"#VALUE!"},null,9.4699999999998425,{"$error":"#VALUE!"},{"$error":"#VALUE!"}]
[0,{"$error":"#VALUE!"},{"$error":"#VALUE!"},null,9.4799999999998423,{"$error":"#VALUE!"},{"$error":"#VALUE!"}]
[0,{"$error":"#VALUE!"},{"$error":"#VALUE!"},null,9.4899999999998421,{"$error":"#VALUE!"},{"$error":"#VALUE!"}]
[0,{"$error":"#VALUE!"},{"$error":"#VALUE!"},null,9.4999999999998419,{"$error":"#VALUE!"},{"$error":"#VALUE!"}]
[0,{"$error":"#VALUE!"},{"$error":"#VALUE!"},null,9.5099999999998417,{"$error":"#VALUE!"},{"$error":"#VALUE!"}]
[0,{"$error":"#VALUE!"},{"$error":"#VALUE!"},null,9.5199999999998415,{"$error":"#VALUE!"},{"$error":"#VALUE!"}]
[0,{"$error":"#VALUE!"},{"$error":"#VALUE!"},null,9.5299999999998413,{"$error":"#VALUE!"},{"$error":"#VALUE!"}]
[0,{"$error":"#VALUE!"},{"$error":"#VALUE!"},null,9.5399999999998411,{"$error":"#VALUE!"},{"$error":"#VALUE!"}]
[0,{"$error":"#VALUE!"},{"$error":"#VALUE!"},null,9.5499999999998408,{"$error":"#VALUE!"},{"$error":"#VALUE!"}]
[0,{"$error":"#VALUE!"},{"$error":"#VALUE!"},null,9.5599999999998406,{"$error":"#VALUE!"},{"$error":"#VALUE!"}]
[0,{"$error":"#VALUE!"},{"$error":"#VALUE!"},null,9.5699999999998404,{"$error":"#VALUE!"},{"$error":"#VALUE!"}]
[0,{"$error":"#VALUE!"},{"$error":"#VALUE!"},null,9.5799999999998402,{"$error":"#VALUE!"},{"$error":"#VALUE!"}]
[0,{"$error":"#VALUE!"},{"$error":"#VALUE!"},null,9.58999999999984,{"$error":"#VALUE!"},{"$error":"#VALUE!"}]
[{"$f":"MIN(AD$15,E1011)","v":0},{"$f":"MIN(C$47,F1011)","v":{"$error":"#VALUE!"}},{"$error":"#VALUE!"},null,9.5999999999998398,{"$f":"((C$11)/((10^(-E1011))+(C$11)))*100","v":{"$error":"#VALUE!"}},{"$error":"#VALUE!"}]
[0,{"$error":"#VALUE!"},{"$f":"100-B1012","v":{"$error":"#VALUE!"}},null,9.6099999999998396,{"$error":"#VALUE!"},{"$error":"#VALUE!"}]
[0,{"$error":"#VALUE!"},{"$error":"#VALUE!"},null,{"$f":"E1012+12/1200","v":9.6199999999998393},{"$error":"#VALUE!"},{"$error":"#VALUE!"}]
[0,{"$error":"#VALUE!"},{"$error":"#VALUE!"},null,9.6299999999998391,{"$error":"#VALUE!"},{"$error":"#VALUE!"}]
[0,{"$error":"#VALUE!"},{"$error":"#VALUE!"},null,9.6399999999998389,{"$error":"#VALUE!"},{"$error":"#VALUE!"}]
[0,{"$error":"#VALUE!"},{"$error":"#VALUE!"},null,9.6499999999998387,{"$error":"#VALUE!"},{"$f":"100-F1016","v":{"$error":"#VALUE!"}}]
[0,{"$error":"#VALUE!"},{"$error":"#VALUE!"},null,9.6599999999998385,{"$error":"#VALUE!"},{"$error":"#VALUE!"}]
[0,{"$error":"#VALUE!"},{"$error":"#VALUE!"},null,9.6699999999998383,{"$error":"#VALUE!"},{"$error":"#VALUE!"}]
[0,{"$error":"#VALUE!"},{"$error":"#VALUE!"},null,9.6799999999998381,{"$error":"#VALUE!"},{"$error":"#VALUE!"}]
[0,{"$error":"#VALUE!"},{"$error":"#VALUE!"},null,9.6899999999998379,{"$error":"#VALUE!"},{"$error":"#VALUE!"}]
[0,{"$error":"#VALUE!"},{"$error":"#VALUE!"},null,9.6999999999998376,{"$error":"#VALUE!"},{"$error":"#VALUE!"}]
[0,{"$error":"#VALUE!"},{"$error":"#VALUE!"},null,9.7099999999998374,{"$error":"#VALUE!"},{"$error":"#VALUE!"}]
[0,{"$error":"#VALUE!"},{"$error":"#VALUE!"},null,9.7199999999998372,{"$error":"#VALUE!"},{"$error":"#VALUE!"}]
[0,{"$error":"#VALUE!"},{"$error":"#VALUE!"},null,9.729999999999837,{"$error":"#VALUE!"},{"$error":"#VALUE!"}]
[0,{"$error":"#VALUE!"},{"$error":"#VALUE!"},null,9.7399999999998368,{"$error":"#VALUE!"},{"$error":"#VALUE!"}]
[0,{"$error":"#VALUE!"},{"$error":"#VALUE!"},null,9.7499999999998366,{"$error":"#VALUE!"},{"$error":"#VALUE!"}]
[0,{"$error":"#VALUE!"},{"$error":"#VALUE!"},null,9.7599999999998364,{"$error":"#VALUE!"},{"$error":"#VALUE!"}]
[0,{"$error":"#VALUE!"},{"$error":"#VALUE!"},null,9.7699999999998361,{"$error":"#VALUE!"},{"$error":"#VALUE!"}]
[0,{"$error":"#VALUE!"},{"$error":"#VALUE!"},null,9.7799999999998359,{"$error":"#VALUE!"},{"$error":"#VALUE!"}]
[0,{"$error":"#VALUE!"},{"$error":"#VALUE!"},null,9.7899999999998357,{"$error":"#VALUE!"},{"$error":"#VALUE!"}]
[0,{"$error":"#VALUE!"},{"$error":"#VALUE!"},null,9.7999999999998355,{"$error":"#VALUE!"},{"$error":"#VALUE!"}]
[0,{"$error":"#VALUE!"},{"$error":"#VALUE!"},null,9.8099999999998353,{"$error":"#VALUE!"},{"$error":"#VALUE!"}]
[0,{"$error":"#VALUE!"},{"$error":"#VALUE!"},null,9.8199999999998351,{"$error":"#VALUE!"},{"$error":"#VALUE!"}]
[0,{"$error":"#VALUE!"},{"$error":"#VALUE!"},null,9.8299999999998349,{"$error":"#VALUE!"},{"$error":"#VALUE!"}]
[0,{"$error":"#VALUE!"},{"$error":"#VALUE!"},null,9.8399999999998347,{"$error":"#VALUE!"},{"$error":"#VALUE!"}]
[0,{"$error":"#VALUE!"},{"$error":"#VALUE!"},null,9.8499999999998344,{"$error":"#VALUE!"},{"$error":"#VALUE!"}]
[0,{"$error":"#VALUE!"},{"$error":"#VALUE!"},null,9.8599999999998342,{"$error":"#VALUE!"},{"$error":"#VALUE!"}]
[0,{"$error":"#VALUE!"},{"$error":"#VALUE!"},null,9.869999999999834,{"$error":"#VALUE!"},{"$error":"#VALUE!"}]
[0,{"$error":"#VALUE!"},{"$error":"#VALUE!"},null,9.8799999999998338,{"$error":"#VALUE!"},{"$error":"#VALUE!"}]
[0,{"$error":"#VALUE!"},{"$error":"#VALUE!"},null,9.8899999999998336,{"$error":"#VALUE!"},{"$error":"#VALUE!"}]
[0,{"$error":"#VALUE!"},{"$error":"#VALUE!"},null,9.8999999999998334,{"$error":"#VALUE!"},{"$error":"#VALUE!"}]
[0,{"$error":"#VALUE!"},{"$error":"#VALUE!"},null,9.9099999999998332,{"$error":"#VALUE!"},{"$error":"#VALUE!"}]
[0,{"$error":"#VALUE!"},{"$error":"#VALUE!"},null,9.919999999999833,{"$error":"#VALUE!"},{"$error":"#VALUE!"}]
[0,{"$error":"#VALUE!"},{"$error":"#VALUE!"},null,9.9299999999998327,{"$error":"#VALUE!"},{"$error":"#VALUE!"}]
[0,{"$error":"#VALUE!"},{"$error":"#VALUE!"},null,9.9399999999998325,{"$error":"#VALUE!"},{"$error":"#VALUE!"}]
[0,{"$error":"#VALUE!"},{"$error":"#VALUE!"},null,9.9499999999998323,{"$error":"#VALUE!"},{"$error":"#VALUE!"}]
[0,{"$error":"#VALUE!"},{"$error":"#VALUE!"},null,9.9599999999998321,{"$error":"#VALUE!"},{"$error":"#VALUE!"}]
[0,{"$error":"#VALUE!"},{"$error":"#VALUE!"},null,9.9699999999998319,{"$error":"#VALUE!"},{"$error":"#VALUE!"}]
[0,{"$error":"#VALUE!"},{"$error":"#VALUE!"},null,9.9799999999998317,{"$error":"#VALUE!"},{"$error":"#VALUE!"}]
[0,{"$error":"#VALUE!"},{"$error":"#VALUE!"},null,9.9899999999998315,{"$error":"#VALUE!"},{"$error":"#VALUE!"}]
[0,{"$error":"#VALUE!"},{"$error":"#VALUE!"},null,9.9999999999998312,{"$error":"#VALUE!"},{"$error":"#VALUE!"}]
[0,{"$error":"#VALUE!"},{"$error":"#VALUE!"},null,10.009999999999831,{"$error":"#VALUE!"},{"$error":"#VALUE!"}]
[0,{"$error":"#VALUE!"},{"$error":"#VALUE!"},null,10.019999999999831,{"$error":"#VALUE!"},{"$error":"#VALUE!"}]
[0,{"$error":"#VALUE!"},{"$error":"#VALUE!"},null,10.029999999999831,{"$error":"#VALUE!"},{"$error":"#VALUE!"}]
[0,{"$error":"#VALUE!"},{"$error":"#VALUE!"},null,10.03999999999983,{"$error":"#VALUE!"},{"$error":"#VALUE!"}]
[0,{"$error":"#VALUE!"},{"$error":"#VALUE!"},null,10.04999999999983,{"$error":"#VALUE!"},{"$error":"#VALUE!"}]
[0,{"$error":"#VALUE!"},{"$error":"#VALUE!"},null,10.05999999999983,{"$error":"#VALUE!"},{"$error":"#VALUE!"}]
[0,{"$error":"#VALUE!"},{"$error":"#VALUE!"},null,10.06999999999983,{"$error":"#VALUE!"},{"$error":"#VALUE!"}]
[0,{"$error":"#VALUE!"},{"$error":"#VALUE!"},null,10.07999999999983,{"$error":"#VALUE!"},{"$error":"#VALUE!"}]
[0,{"$error":"#VALUE!"},{"$error":"#VALUE!"},null,10.089999999999829,{"$error":"#VALUE!"},{"$error":"#VALUE!"}]
[0,{"$error":"#VALUE!"},{"$error":"#VALUE!"},null,10.099999999999829,{"$error":"#VALUE!"},{"$error":"#VALUE!"}]
[0,{"$error":"#VALUE!"},{"$error":"#VALUE!"},null,10.109999999999829,{"$error":"#VALUE!"},{"$error":"#VALUE!"}]
[0,{"$error":"#VALUE!"},{"$error":"#VALUE!"},null,10.119999999999829,{"$error":"#VALUE!"},{"$error":"#VALUE!"}]
[0,{"$error":"#VALUE!"},{"$error":"#VALUE!"},null,10.129999999999828,{"$error":"#VALUE!"},{"$error":"#VALUE!"}]
[0,{"$error":"#VALUE!"},{"$error":"#VALUE!"},null,10.139999999999828,{"$error":"#VALUE!"},{"$error":"#VALUE!"}]
[0,{"$error":"#VALUE!"},{"$error":"#VALUE!"},null,10.149999999999828,{"$error":"#VALUE!"},{"$error":"#VALUE!"}]
[0,{"$error":"#VALUE!"},{"$error":"#VALUE!"},null,10.159999999999828,{"$error":"#VALUE!"},{"$error":"#VALUE!"}]
[0,{"$error":"#VALUE!"},{"$error":"#VALUE!"},null,10.169999999999828,{"$error":"#VALUE!"},{"$error":"#VALUE!"}]
[0,{"$error":"#VALUE!"},{"$error":"#VALUE!"},null,10.179999999999827,{"$error":"#VALUE!"},{"$error":"#VALUE!"}]
[0,{"$error":"#VALUE!"},{"$error":"#VALUE!"},null,10.189999999999827,{"$error":"#VALUE!"},{"$error":"#VALUE!"}]
[0,{"$error":"#VALUE!"},{"$error":"#VALUE!"},null,10.199999999999827,{"$error":"#VALUE!"},{"$error":"#VALUE!"}]
[0,{"$error":"#VALUE!"},{"$error":"#VALUE!"},null,10.209999999999827,{"$error":"#VALUE!"},{"$error":"#VALUE!"}]
[0,{"$error":"#VALUE!"},{"$error":"#VALUE!"},null,10.219999999999827,{"$error":"#VALUE!"},{"$error":"#VALUE!"}]
[0,{"$error":"#VALUE!"},{"$error":"#VALUE!"},null,10.229999999999826,{"$error":"#VALUE!"},{"$error":"#VALUE!"}]
[{"$f":"MIN(AD$15,E1075)","v":0},{"$f":"MIN(C$47,F1075)","v":{"$error":"#VALUE!"}},{"$error":"#VALUE!"},null,10.239999999999826,{"$f":"((C$11)/((10^(-E1075))+(C$11)))*100","v":{"$error":"#VALUE!"}},{"$error":"#VALUE!"}]
[0,{"$error":"#VALUE!"},{"$f":"100-B1076","v":{"$error":"#VALUE!"}},null,10.249999999999826,{"$error":"#VALUE!"},{"$error":"#VALUE!"}]
[0,{"$error":"#VALUE!"},{"$error":"#VALUE!"},null,{"$f":"E1076+12/1200","v":10.259999999999826},{"$error":"#VALUE!"},{"$error":"#VALUE!"}]
[0,{"$error":"#VALUE!"},{"$error":"#VALUE!"},null,10.269999999999825,{"$error":"#VALUE!"},{"$error":"#VALUE!"}]
[0,{"$error":"#VALUE!"},{"$error":"#VALUE!"},null,10.279999999999825,{"$error":"#VALUE!"},{"$error":"#VALUE!"}]
[0,{"$error":"#VALUE!"},{"$error":"#VALUE!"},null,10.289999999999825,{"$error":"#VALUE!"},{"$f":"100-F1080","v":{"$error":"#VALUE!"}}]
[0,{"$error":"#VALUE!"},{"$error":"#VALUE!"},null,10.299999999999825,{"$error":"#VALUE!"},{"$error":"#VALUE!"}]
[0,{"$error":"#VALUE!"},{"$error":"#VALUE!"},null,10.309999999999825,{"$error":"#VALUE!"},{"$error":"#VALUE!"}]
[0,{"$error":"#VALUE!"},{"$error":"#VALUE!"},null,10.319999999999824,{"$error":"#VALUE!"},{"$error":"#VALUE!"}]
[0,{"$error":"#VALUE!"},{"$error":"#VALUE!"},null,10.329999999999824,{"$error":"#VALUE!"},{"$error":"#VALUE!"}]
[0,{"$error":"#VALUE!"},{"$error":"#VALUE!"},null,10.339999999999824,{"$error":"#VALUE!"},{"$error":"#VALUE!"}]
[0,{"$error":"#VALUE!"},{"$error":"#VALUE!"},null,10.349999999999824,{"$error":"#VALUE!"},{"$error":"#VALUE!"}]
[0,{"$error":"#VALUE!"},{"$error":"#VALUE!"},null,10.359999999999824,{"$error":"#VALUE!"},{"$error":"#VALUE!"}]
[0,{"$error":"#VALUE!"},{"$error":"#VALUE!"},null,10.369999999999823,{"$error":"#VALUE!"},{"$error":"#VALUE!"}]
[0,{"$error":"#VALUE!"},{"$error":"#VALUE!"},null,10.379999999999823,{"$error":"#VALUE!"},{"$error":"#VALUE!"}]
[0,{"$error":"#VALUE!"},{"$error":"#VALUE!"},null,10.389999999999823,{"$error":"#VALUE!"},{"$error":"#VALUE!"}]
[0,{"$error":"#VALUE!"},{"$error":"#VALUE!"},null,10.399999999999823,{"$error":"#VALUE!"},{"$error":"#VALUE!"}]
[0,{"$error":"#VALUE!"},{"$error":"#VALUE!"},null,10.409999999999823,{"$error":"#VALUE!"},{"$error":"#VALUE!"}]
[0,{"$error":"#VALUE!"},{"$error":"#VALUE!"},null,10.419999999999822,{"$error":"#VALUE!"},{"$error":"#VALUE!"}]
[0,{"$error":"#VALUE!"},{"$error":"#VALUE!"},null,10.429999999999822,{"$error":"#VALUE!"},{"$error":"#VALUE!"}]
[0,{"$error":"#VALUE!"},{"$error":"#VALUE!"},null,10.439999999999822,{"$error":"#VALUE!"},{"$error":"#VALUE!"}]
[0,{"$error":"#VALUE!"},{"$error":"#VALUE!"},null,10.449999999999822,{"$error":"#VALUE!"},{"$error":"#VALUE!"}]
[0,{"$error":"#VALUE!"},{"$error":"#VALUE!"},null,10.459999999999821,{"$error":"#VALUE!"},{"$error":"#VALUE!"}]
[0,{"$error":"#VALUE!"},{"$error":"#VALUE!"},null,10.469999999999821,{"$error":"#VALUE!"},{"$error":"#VALUE!"}]
[0,{"$error":"#VALUE!"},{"$error":"#VALUE!"},null,10.479999999999821,{"$error":"#VALUE!"},{"$error":"#VALUE!"}]
[0,{"$error":"#VALUE!"},{"$error":"#VALUE!"},null,10.489999999999821,{"$error":"#VALUE!"},{"$error":"#VALUE!"}]
[0,{"$error":"#VALUE!"},{"$error":"#VALUE!"},null,10.499999999999821,{"$error":"#VALUE!"},{"$error":"#VALUE!"}]
[0,{"$error":"#VALUE!"},{"$error":"#VALUE!"},null,10.50999999999982,{"$error":"#VALUE!"},{"$error":"#VALUE!"}]
[0,{"$error":"#VALUE!"},{"$error":"#VALUE!"},null,10.51999999999982,{"$error":"#VALUE!"},{"$error":"#VALUE!"}]
[0,{"$error":"#VALUE!"},{"$error":"#VALUE!"},null,10.52999999999982,{"$error":"#VALUE!"},{"$error":"#VALUE!"}]
[0,{"$error":"#VALUE!"},{"$error":"#VALUE!"},null,10.53999999999982,{"$error":"#VALUE!"},{"$error":"#VALUE!"}]
[0,{"$error":"#VALUE!"},{"$error":"#VALUE!"},null,10.54999999999982,{"$error":"#VALUE!"},{"$error":"#VALUE!"}]
[0,{"$error":"#VALUE!"},{"$error":"#VALUE!"},null,10.559999999999819,{"$error":"#VALUE!"},{"$error":"#VALUE!"}]
[0,{"$error":"#VALUE!"},{"$error":"#VALUE!"},null,10.569999999999819,{"$error":"#VALUE!"},{"$error":"#VALUE!"}]
[0,{"$error":"#VALUE!"},{"$error":"#VALUE!"},null,10.579999999999819,{"$error":"#VALUE!"},{"$error":"#VALUE!"}]
[0,{"$error":"#VALUE!"},{"$error":"#VALUE!"},null,10.589999999999819,{"$error":"#VALUE!"},{"$error":"#VALUE!"}]
[0,{"$error":"#VALUE!"},{"$error":"#VALUE!"},null,10.599999999999818,{"$error":"#VALUE!"},{"$error":"#VALUE!"}]
[0,{"$error":"#VALUE!"},{"$error":"#VALUE!"},null,10.609999999999818,{"$error":"#VALUE!"},{"$error":"#VALUE!"}]
[0,{"$error":"#VALUE!"},{"$error":"#VALUE!"},null,10.619999999999818,{"$error":"#VALUE!"},{"$error":"#VALUE!"}]
[0,{"$error":"#VALUE!"},{"$error":"#VALUE!"},null,10.629999999999818,{"$error":"#VALUE!"},{"$error":"#VALUE!"}]
[0,{"$error":"#VALUE!"},{"$error":"#VALUE!"},null,10.639999999999818,{"$error":"#VALUE!"},{"$error":"#VALUE!"}]
[0,{"$error":"#VALUE!"},{"$error":"#VALUE!"},null,10.649999999999817,{"$error":"#VALUE!"},{"$error":"#VALUE!"}]
[0,{"$error":"#VALUE!"},{"$error":"#VALUE!"},null,10.659999999999817,{"$error":"#VALUE!"},{"$error":"#VALUE!"}]
[0,{"$error":"#VALUE!"},{"$error":"#VALUE!"},null,10.669999999999817,{"$error":"#VALUE!"},{"$error":"#VALUE!"}]
[0,{"$error":"#VALUE!"},{"$error":"#VALUE!"},null,10.679999999999817,{"$error":"#VALUE!"},{"$error":"#VALUE!"}]
[0,{"$error":"#VALUE!"},{"$error":"#VALUE!"},null,10.689999999999817,{"$error":"#VALUE!"},{"$error":"#VALUE!"}]
[0,{"$error":"#VALUE!"},{"$error":"#VALUE!"},null,10.699999999999816,{"$error":"#VALUE!"},{"$error":"#VALUE!"}]
[0,{"$error":"#VALUE!"},{"$error":"#VALUE!"},null,10.709999999999816,{"$error":"#VALUE!"},{"$error":"#VALUE!"}]
[0,{"$error":"#VALUE!"},{"$error":"#VALUE!"},null,10.719999999999816,{"$error":"#VALUE!"},{"$error":"#VALUE!"}]
[0,{"$error":"#VALUE!"},{"$error":"#VALUE!"},null,10.729999999999816,{"$error":"#VALUE!"},{"$error":"#VALUE!"}]
[0,{"$error":"#VALUE!"},{"$error":"#VALUE!"},null,10.739999999999815,{"$error":"#VALUE!"},{"$error":"#VALUE!"}]
[0,{"$error":"#VALUE!"},{"$error":"#VALUE!"},null,10.749999999999815,{"$error":"#VALUE!"},{"$error":"#VALUE!"}]
[0,{"$error":"#VALUE!"},{"$error":"#VALUE!"},null,10.759999999999815,{"$error":"#VALUE!"},{"$error":"#VALUE!"}]
[0,{"$error":"#VALUE!"},{"$error":"#VALUE!"},null,10.769999999999815,{"$error":"#VALUE!"},{"$error":"#VALUE!"}]
[0,{"$error":"#VALUE!"},{"$error":"#VALUE!"},null,10.779999999999815,{"$error":"#VALUE!"},{"$error":"#VALUE!"}]
[0,{"$error":"#VALUE!"},{"$error":"#VALUE!"},null,10.789999999999814,{"$error":"#VALUE!"},{"$error":"#VALUE!"}]
[0,{"$error":"#VALUE!"},{"$error":"#VALUE!"},null,10.799999999999814,{"$error":"#VALUE!"},{"$error":"#VALUE!"}]
[0,{"$error":"#VALUE!"},{"$error":"#VALUE!"},null,10.809999999999814,{"$error":"#VALUE!"},{"$error":"#VALUE!"}]
[0,{"$error":"#VALUE!"},{"$error":"#VALUE!"},null,10.819999999999814,{"$error":"#VALUE!"},{"$error":"#VALUE!"}]
[0,{"$error":"#VALUE!"},{"$error":"#VALUE!"},null,10.829999999999814,{"$error":"#VALUE!"},{"$error":"#VALUE!"}]
[0,{"$error":"#VALUE!"},{"$error":"#VALUE!"},null,10.839999999999813,{"$error":"#VALUE!"},{"$error":"#VALUE!"}]
[0,{"$error":"#VALUE!"},{"$error":"#VALUE!"},null,10.849999999999813,{"$error":"#VALUE!"},{"$error":"#VALUE!"}]
[0,{"$error":"#VALUE!"},{"$error":"#VALUE!"},null,10.859999999999813,{"$error":"#VALUE!"},{"$error":"#VALUE!"}]
[0,{"$error":"#VALUE!"},{"$error":"#VALUE!"},null,10.869999999999813,{"$error":"#VALUE!"},{"$error":"#VALUE!"}]
[{"$f":"MIN(AD$15,E1139)","v":0},{"$f":"MIN(C$47,F1139)","v":{"$error":"#VALUE!"}},{"$error":"#VALUE!"},null,10.879999999999812,{"$f":"((C$11)/((10^(-E1139))+(C$11)))*100","v":{"$error":"#VALUE!"}},{"$error":"#VALUE!"}]
[0,{"$error":"#VALUE!"},{"$f":"100-B1140","v":{"$error":"#VALUE!"}},null,10.889999999999812,{"$error":"#VALUE!"},{"$error":"#VALUE!"}]
[0,{"$error":"#VALUE!"},{"$error":"#VALUE!"},null,{"$f":"E1140+12/1200","v":10.899999999999812},{"$error":"#VALUE!"},{"$error":"#VALUE!"}]
[0,{"$error":"#VALUE!"},{"$error":"#VALUE!"},null,10.909999999999812,{"$error":"#VALUE!"},{"$error":"#VALUE!"}]
[0,{"$error":"#VALUE!"},{"$error":"#VALUE!"},null,10.919999999999812,{"$error":"#VALUE!"},{"$error":"#VALUE!"}]
[0,{"$error":"#VALUE!"},{"$error":"#VALUE!"},null,10.929999999999811,{"$error":"#VALUE!"},{"$f":"100-F1144","v":{"$error":"#VALUE!"}}]
[0,{"$error":"#VALUE!"},{"$error":"#VALUE!"},null,10.939999999999811,{"$error":"#VALUE!"},{"$error":"#VALUE!"}]
[0,{"$error":"#VALUE!"},{"$error":"#VALUE!"},null,10.949999999999811,{"$error":"#VALUE!"},{"$error":"#VALUE!"}]
[0,{"$error":"#VALUE!"},{"$error":"#VALUE!"},null,10.959999999999811,{"$error":"#VALUE!"},{"$error":"#VALUE!"}]
[0,{"$error":"#VALUE!"},{"$error":"#VALUE!"},null,10.969999999999811,{"$error":"#VALUE!"},{"$error":"#VALUE!"}]
[0,{"$error":"#VALUE!"},{"$error":"#VALUE!"},null,10.97999999999981,{"$error":"#VALUE!"},{"$error":"#VALUE!"}]
[0,{"$error":"#VALUE!"},{"$error":"#VALUE!"},null,10.98999999999981,{"$error":"#VALUE!"},{"$error":"#VALUE!"}]
[0,{"$error":"#VALUE!"},{"$error":"#VALUE!"},null,10.99999999999981,{"$error":"#VALUE!"},{"$error":"#VALUE!"}]
[0,{"$error":"#VALUE!"},{"$error":"#VALUE!"},null,11.00999999999981,{"$error":"#VALUE!"},{"$error":"#VALUE!"}]
[0,{"$error":"#VALUE!"},{"$error":"#VALUE!"},null,11.01999999999981,{"$error":"#VALUE!"},{"$error":"#VALUE!"}]
[0,{"$error":"#VALUE!"},{"$error":"#VALUE!"},null,11.029999999999809,{"$error":"#VALUE!"},{"$error":"#VALUE!"}]
[0,{"$error":"#VALUE!"},{"$error":"#VALUE!"},null,11.039999999999809,{"$error":"#VALUE!"},{"$error":"#VALUE!"}]
[0,{"$error":"#VALUE!"},{"$error":"#VALUE!"},null,11.049999999999809,{"$error":"#VALUE!"},{"$error":"#VALUE!"}]
[0,{"$error":"#VALUE!"},{"$error":"#VALUE!"},null,11.059999999999809,{"$error":"#VALUE!"},{"$error":"#VALUE!"}]
[0,{"$error":"#VALUE!"},{"$error":"#VALUE!"},null,11.069999999999808,{"$error":"#VALUE!"},{"$error":"#VALUE!"}]
[0,{"$error":"#VALUE!"},{"$error":"#VALUE!"},null,11.079999999999808,{"$error":"#VALUE!"},{"$error":"#VALUE!"}]
[0,{"$error":"#VALUE!"},{"$error":"#VALUE!"},null,11.089999999999808,{"$error":"#VALUE!"},{"$error":"#VALUE!"}]
[0,{"$error":"#VALUE!"},{"$error":"#VALUE!"},null,11.099999999999808,{"$error":"#VALUE!"},{"$error":"#VALUE!"}]
[0,{"$error":"#VALUE!"},{"$error":"#VALUE!"},null,11.109999999999808,{"$error":"#VALUE!"},{"$error":"#VALUE!"}]
[0,{"$error":"#VALUE!"},{"$error":"#VALUE!"},null,11.119999999999807,{"$error":"#VALUE!"},{"$error":"#VALUE!"}]
[0,{"$error":"#VALUE!"},{"$error":"#VALUE!"},null,11.129999999999807,{"$error":"#VALUE!"},{"$error":"#VALUE!"}]
[0,{"$error":"#VALUE!"},{"$error":"#VALUE!"},null,11.139999999999807,{"$error":"#VALUE!"},{"$error":"#VALUE!"}]
[0,{"$error":"#VALUE!"},{"$error":"#VALUE!"},null,11.149999999999807,{"$error":"#VALUE!"},{"$error":"#VALUE!"}]
[0,{"$error":"#VALUE!"},{"$error":"#VALUE!"},null,11.159999999999807,{"$error":"#VALUE!"},{"$error":"#VALUE!"}]
[0,{"$error":"#VALUE!"},{"$error":"#VALUE!"},null,11.169999999999806,{"$error":"#VALUE!"},{"$error":"#VALUE!"}]
[0,{"$error":"#VALUE!"},{"$error":"#VALUE!"},null,11.179999999999806,{"$error":"#VALUE!"},{"$error":"#VALUE!"}]
[0,{"$error":"#VALUE!"},{"$error":"#VALUE!"},null,11.189999999999806,{"$error":"#VALUE!"},{"$error":"#VALUE!"}]
[0,{"$error":"#VALUE!"},{"$error":"#VALUE!"},null,11.199999999999806,{"$error":"#VALUE!"},{"$error":"#VALUE!"}]
[0,{"$error":"#VALUE!"},{"$error":"#VALUE!"},null,11.209999999999805,{"$error":"#VALUE!"},{"$error":"#VALUE!"}]
[0,{"$error":"#VALUE!"},{"$error":"#VALUE!"},null,11.219999999999805,{"$error":"#VALUE!"},{"$error":"#VALUE!"}]
[0,{"$error":"#VALUE!"},{"$error":"#VALUE!"},null,11.229999999999805,{"$error":"#VALUE!"},{"$error":"#VALUE!"}]
[0,{"$error":"#VALUE!"},{"$error":"#VALUE!"},null,11.239999999999805,{"$error":"#VALUE!"},{"$error":"#VALUE!"}]
[0,{"$error":"#VALUE!"},{"$error":"#VALUE!"},null,11.249999999999805,{"$error":"#VALUE!"},{"$error":"#VALUE!"}]
[0,{"$error":"#VALUE!"},{"$error":"#VALUE!"},null,11.259999999999804,{"$error":"#VALUE!"},{"$error":"#VALUE!"}]
[0,{"$error":"#VALUE!"},{"$error":"#VALUE!"},null,11.269999999999804,{"$error":"#VALUE!"},{"$error":"#VALUE!"}]
[0,{"$error":"#VALUE!"},{"$error":"#VALUE!"},null,11.279999999999804,{"$error":"#VALUE!"},{"$error":"#VALUE!"}]
[0,{"$error":"#VALUE!"},{"$error":"#VALUE!"},null,11.289999999999804,{"$error":"#VALUE!"},{"$error":"#VALUE!"}]
[0,{"$error":"#VALUE!"},{"$error":"#VALUE!"},null,11.299999999999804,{"$error":"#VALUE!"},{"$error":"#VALUE!"}]
[0,{"$error":"#VALUE!"},{"$error":"#VALUE!"},null,11.309999999999803,{"$error":"#VALUE!"},{"$error":"#VALUE!"}]
[0,{"$error":"#VALUE!"},{"$error":"#VALUE!"},null,11.319999999999803,{"$error":"#VALUE!"},{"$error":"#VALUE!"}]
[0,{"$error":"#VALUE!"},{"$error":"#VALUE!"},null,11.329999999999803,{"$error":"#VALUE!"},{"$error":"#VALUE!"}]
[0,{"$error":"#VALUE!"},{"$error":"#VALUE!"},null,11.339999999999803,{"$error":"#VALUE!"},{"$error":"#VALUE!"}]
[0,{"$error":"#VALUE!"},{"$error":"#VALUE!"},null,11.349999999999802,{"$error":"#VALUE!"},{"$error":"#VALUE!"}]
[0,{"$error":"#VALUE!"},{"$error":"#VALUE!"},null,11.359999999999802,{"$error":"#VALUE!"},{"$error":"#VALUE!"}]
[0,{"$error":"#VALUE!"},{"$error":"#VALUE!"},null,11.369999999999802,{"$error":"#VALUE!"},{"$error":"#VALUE!"}]
[0,{"$error":"#VALUE!"},{"$error":"#VALUE!"},null,11.379999999999802,{"$error":"#VALUE!"},{"$error":"#VALUE!"}]
[0,{"$error":"#VALUE!"},{"$error":"#VALUE!"},null,11.389999999999802,{"$error":"#VALUE!"},{"$error":"#VALUE!"}]
[0,{"$error":"#VALUE!"},{"$error":"#VALUE!"},null,11.399999999999801,{"$error":"#VALUE!"},{"$error":"#VALUE!"}]
[0,{"$error":"#VALUE!"},{"$error":"#VALUE!"},null,11.409999999999801,{"$error":"#VALUE!"},{"$error":"#VALUE!"}]
[0,{"$error":"#VALUE!"},{"$error":"#VALUE!"},null,11.419999999999801,{"$error":"#VALUE!"},{"$error":"#VALUE!"}]
[0,{"$error":"#VALUE!"},{"$error":"#VALUE!"},null,11.429999999999801,{"$error":"#VALUE!"},{"$error":"#VALUE!"}]
[0,{"$error":"#VALUE!"},{"$error":"#VALUE!"},null,11.439999999999801,{"$error":"#VALUE!"},{"$error":"#VALUE!"}]
[0,{"$error":"#VALUE!"},{"$error":"#VALUE!"},null,11.4499999999998,{"$error":"#VALUE!"},{"$error":"#VALUE!"}]
[0,{"$error":"#VALUE!"},{"$error":"#VALUE!"},null,11.4599999999998,{"$error":"#VALUE!"},{"$error":"#VALUE!"}]
[0,{"$error":"#VALUE!"},{"$error":"#VALUE!"},null,11.4699999999998,{"$error":"#VALUE!"},{"$error":"#VALUE!"}]
[0,{"$error":"#VALUE!"},{"$error":"#VALUE!"},null,11.4799999999998,{"$error":"#VALUE!"},{"$error":"#VALUE!"}]
[0,{"$error":"#VALUE!"},{"$error":"#VALUE!"},null,11.489999999999799,{"$error":"#VALUE!"},{"$error":"#VALUE!"}]
[0,{"$error":"#VALUE!"},{"$error":"#VALUE!"},null,11.499999999999799,{"$error":"#VALUE!"},{"$error":"#VALUE!"}]
[0,{"$error":"#VALUE!"},{"$error":"#VALUE!"},null,11.509999999999799,{"$error":"#VALUE!"},{"$error":"#VALUE!"}]
[{"$f":"MIN(AD$15,E1203)","v":0},{"$f":"MIN(C$47,F1203)","v":{"$error":"#VALUE!"}},{"$error":"#VALUE!"},null,11.519999999999799,{"$f":"((C$11)/((10^(-E1203))+(C$11)))*100","v":{"$error":"#VALUE!"}},{"$error":"#VALUE!"}]
[0,{"$error":"#VALUE!"},{"$f":"100-B1204","v":{"$error":"#VALUE!"}},null,11.529999999999799,{"$error":"#VALUE!"},{"$error":"#VALUE!"}]
[0,{"$error":"#VALUE!"},{"$error":"#VALUE!"},null,{"$f":"E1204+12/1200","v":11.539999999999798},{"$error":"#VALUE!"},{"$error":"#VALUE!"}]
[0,{"$error":"#VALUE!"},{"$error":"#VALUE!"},null,11.549999999999798,{"$error":"#VALUE!"},{"$error":"#VALUE!"}]
[0,{"$error":"#VALUE!"},{"$error":"#VALUE!"},null,11.559999999999798,{"$error":"#VALUE!"},{"$error":"#VALUE!"}]
[0,{"$error":"#VALUE!"},{"$error":"#VALUE!"},null,11.569999999999798,{"$error":"#VALUE!"},{"$f":"100-F1208","v":{"$error":"#VALUE!"}}]
[0,{"$error":"#VALUE!"},{"$error":"#VALUE!"},null,11.579999999999798,{"$error":"#VALUE!"},{"$error":"#VALUE!"}]
[0,{"$error":"#VALUE!"},{"$error":"#VALUE!"},null,11.589999999999797,{"$error":"#VALUE!"},{"$error":"#VALUE!"}]
[0,{"$error":"#VALUE!"},{"$error":"#VALUE!"},null,11.599999999999797,{"$error":"#VALUE!"},{"$error":"#VALUE!"}]
[0,{"$error":"#VALUE!"},{"$error":"#VALUE!"},null,11.609999999999797,{"$error":"#VALUE!"},{"$error":"#VALUE!"}]
[0,{"$error":"#VALUE!"},{"$error":"#VALUE!"},null,11.619999999999797,{"$error":"#VALUE!"},{"$error":"#VALUE!"}]
[0,{"$error":"#VALUE!"},{"$error":"#VALUE!"},null,11.629999999999797,{"$error":"#VALUE!"},{"$error":"#VALUE!"}]
[0,{"$error":"#VALUE!"},{"$error":"#VALUE!"},null,11.639999999999796,{"$error":"#VALUE!"},{"$error":"#VALUE!"}]
[0,{"$error":"#VALUE!"},{"$error":"#VALUE!"},null,11.649999999999796,{"$error":"#VALUE!"},{"$error":"#VALUE!"}]
[0,{"$error":"#VALUE!"},{"$error":"#VALUE!"},null,11.659999999999796,{"$error":"#VALUE!"},{"$error":"#VALUE!"}]
[0,{"$error":"#VALUE!"},{"$error":"#VALUE!"},null,11.669999999999796,{"$error":"#VALUE!"},{"$error":"#VALUE!"}]
[0,{"$error":"#VALUE!"},{"$error":"#VALUE!"},null,11.679999999999795,{"$error":"#VALUE!"},{"$error":"#VALUE!"}]
[0,{"$error":"#VALUE!"},{"$error":"#VALUE!"},null,11.689999999999795,{"$error":"#VALUE!"},{"$error":"#VALUE!"}]
[0,{"$error":"#VALUE!"},{"$error":"#VALUE!"},null,11.699999999999795,{"$error":"#VALUE!"},{"$error":"#VALUE!"}]
[0,{"$error":"#VALUE!"},{"$error":"#VALUE!"},null,11.709999999999795,{"$error":"#VALUE!"},{"$error":"#VALUE!"}]
[0,{"$error":"#VALUE!"},{"$error":"#VALUE!"},null,11.719999999999795,{"$error":"#VALUE!"},{"$error":"#VALUE!"}]
[0,{"$error":"#VALUE!"},{"$error":"#VALUE!"},null,11.729999999999794,{"$error":"#VALUE!"},{"$error":"#VALUE!"}]
[0,{"$error":"#VALUE!"},{"$error":"#VALUE!"},null,11.739999999999794,{"$error":"#VALUE!"},{"$error":"#VALUE!"}]
[0,{"$error":"#VALUE!"},{"$error":"#VALUE!"},null,11.749999999999794,{"$error":"#VALUE!"},{"$error":"#VALUE!"}]
[0,{"$error":"#VALUE!"},{"$error":"#VALUE!"},null,11.759999999999794,{"$error":"#VALUE!"},{"$error":"#VALUE!"}]
[0,{"$error":"#VALUE!"},{"$error":"#VALUE!"},null,11.769999999999794,{"$error":"#VALUE!"},{"$error":"#VALUE!"}]
[0,{"$error":"#VALUE!"},{"$error":"#VALUE!"},null,11.779999999999793,{"$error":"#VALUE!"},{"$error":"#VALUE!"}]
[0,{"$error":"#VALUE!"},{"$error":"#VALUE!"},null,11.789999999999793,{"$error":"#VALUE!"},{"$error":"#VALUE!"}]
[0,{"$error":"#VALUE!"},{"$error":"#VALUE!"},null,11.799999999999793,{"$error":"#VALUE!"},{"$error":"#VALUE!"}]
[0,{"$error":"#VALUE!"},{"$error":"#VALUE!"},null,11.809999999999793,{"$error":"#VALUE!"},{"$error":"#VALUE!"}]
[0,{"$error":"#VALUE!"},{"$error":"#VALUE!"},null,11.819999999999792,{"$error":"#VALUE!"},{"$error":"#VALUE!"}]
[0,{"$error":"#VALUE!"},{"$error":"#VALUE!"},null,11.829999999999792,{"$error":"#VALUE!"},{"$error":"#VALUE!"}]
[0,{"$error":"#VALUE!"},{"$error":"#VALUE!"},null,11.839999999999792,{"$error":"#VALUE!"},{"$error":"#VALUE!"}]
[0,{"$error":"#VALUE!"},{"$error":"#VALUE!"},null,11.849999999999792,{"$error":"#VALUE!"},{"$error":"#VALUE!"}]
[0,{"$error":"#VALUE!"},{"$error":"#VALUE!"},null,11.859999999999792,{"$error":"#VALUE!"},{"$error":"#VALUE!"}]
[0,{"$error":"#VALUE!"},{"$error":"#VALUE!"},null,11.869999999999791,{"$error":"#VALUE!"},{"$error":"#VALUE!"}]
[0,{"$error":"#VALUE!"},{"$error":"#VALUE!"},null,11.879999999999791,{"$error":"#VALUE!"},{"$error":"#VALUE!"}]
[0,{"$error":"#VALUE!"},{"$error":"#VALUE!"},null,11.889999999999791,{"$error":"#VALUE!"},{"$error":"#VALUE!"}]
[0,{"$error":"#VALUE!"},{"$error":"#VALUE!"},null,11.899999999999791,{"$error":"#VALUE!"},{"$error":"#VALUE!"}]
[0,{"$error":"#VALUE!"},{"$error":"#VALUE!"},null,11.909999999999791,{"$error":"#VALUE!"},{"$error":"#VALUE!"}]
[0,{"$error":"#VALUE!"},{"$error":"#VALUE!"},null,11.91999999999979,{"$error":"#VALUE!"},{"$error":"#VALUE!"}]
[0,{"$error":"#VALUE!"},{"$error":"#VALUE!"},null,11.92999999999979,{"$error":"#VALUE!"},{"$error":"#VALUE!"}]
[0,{"$error":"#VALUE!"},{"$error":"#VALUE!"},null,11.93999999999979,{"$error":"#VALUE!"},{"$error":"#VALUE!"}]
[0,{"$error":"#VALUE!"},{"$error":"#VALUE!"},null,11.94999999999979,{"$error":"#VALUE!"},{"$error":"#VALUE!"}]
[0,{"$error":"#VALUE!"},{"$error":"#VALUE!"},null,11.959999999999789,{"$error":"#VALUE!"},{"$error":"#VALUE!"}]
[0,{"$error":"#VALUE!"},{"$f":"100-B1248","v":{"$error":"#VALUE!"}},null,11.969999999999789,{"$error":"#VALUE!"},{"$f":"100-F1248","v":{"$error":"#VALUE!"}}]
[0,{"$error":"#VALUE!"},{"$error":"#VALUE!"},null,11.979999999999789,{"$error":"#VALUE!"},{"$error":"#VALUE!"}]
[0,{"$error":"#VALUE!"},{"$error":"#VALUE!"},null,11.989999999999789,{"$error":"#VALUE!"},{"$error":"#VALUE!"}]
[0,{"$error":"#VALUE!"},{"$error":"#VALUE!"},null,11.999999999999789,{"$error":"#VALUE!"},{"$error":"#VALUE!"}]

{"sheet":"IMPRESSION","index":2,"n_rows":1236,"n_cols":37,"rows_kept":1236,"cut":false,"hidden":false,"merged":[[21,4,21,7],[30,29,30,30],[30,31,30,32],[30,33,30,34],[38,8,38,9],[38,10,38,11],[38,12,38,13],[27,29,27,34],[28,29,28,30],[28,31,28,32],[28,33,28,34],[29,29,29,30],[29,31,29,32],[29,33,29,34],[18,29,18,30],[18,31,18,32],[18,33,18,34],[19,29,19,30],[19,31,19,32],[19,33,19,34],[11,7,11,8],[11,29,11,31],[16,29,16,34],[17,29,17,30],[17,31,17,32],[17,33,17,34],[7,29,7,33],[8,29,8,33],[9,7,9,8],[9,29,9,33],[10,7,10,8],[1,3,2,4],[1,5,2,6],[1,7,2,8],[4,7,4,8],[6,29,6,33]]}
[]
[]
[]
[]
[null,null,null,null,null,null,null,null,null,null,null,null,null,null,null,null,null,null,null,null,null,null,null,null,null,null,null,null,null,null,null,{"$f":"IF(C$5=0,\"\",IF(C$5=1,AJ$7,IF(C$5=2,AJ$8,IF(C$5=3,AJ$9,IF(C$5=4,AJ$10)))))","v":""}]
[null,null,null,null,null,null,null,null,null,null,null,null,null,null,"innovsciences"]
[null,null,null,null,null,null,null,null,null,null,null,null,null,null,null,null,null,null,null,null,null,null,null,null,null,null,null,null,null,"Solution d'acide fluorhydrique",null,null,null,null,3.2,"HF/F-"]
[null,null,null,null,{"$f":"AF5","v":""},null,null,null,null,null,null,null,null,null,null,null,null,null,null,null,null,null,null,null,null,null,null,null,null,"Solution d'acide éthanoïque",null,null,null,null,4.75,"CH3COOH/CH3COO-"]
[null,null,null,null,null,null,null,null,null,null,null,null,null,null,null,null,null,null,null,null,null,null,null,null,null,null,null,null,null,"Solution d'hypochlorite de sodium ",null,null,null,null,7.5,"HClO/ClO-"]
[null,null,null,null,null,null,null,null,null,null,null,null,null,null,null,null,null,null,null,null,null,null,null,null,null,null,null,null,null,"Solution d'ammoniac",null,null,null,null,9.25,"NH4+/NH3"]
[]
[null,null,null,null,null,null,null,null,null,null,null,null,null,null,null,null,null,null,null,null,null,null,null,null,null,null,null,null,null,"Play",null,null,null,"Pas"]
[null,null,null,null,null,null,null,null,null,null,null,null,null,null,null,null,null,null,null,null,null,null,null,null,{"$f":"AD$13/5","v":6.2000000000000041E-3},{"$f":"AD$13/200","v":1.5500000000000011E-4},{"$f":"AD$13/10000","v":3.1000000000000021E-6},{"$f":"AD$13/500","v":6.2000000000000043E-5},null,3.1000000000000021E-2,{"$f":"MIN(0.01*AD$13,0.001)","v":3.1000000000000022E-4},{"$f":"MAX(AD$13,0.05)","v":0.05},null,{"$f":"0.001","v":1E-3}]
[]
[null,null,null,null,null,null,null,null,null,null,null,null,null,null,null,null,null,null,null,null,null,null,null,null,null,null,null,null,null,7.75,{"$f":"MIN(AD$15,AF$15)","v":7.75},{"$f":"MAX(AD$15,12)","v":12},null,{"$f":"0.25","v":0.25}]
[]
[null,null,null,null,null,null,null,null,null,null,null,null,null,null,null,null,null,null,null,null,null,null,null,null,null,null,null,null,null,"calcul de pH solution acide"]
[null,null,null,null,null,null,null,null,null,null,null,null,null,null,null,null,null,null,null,null,null,null,null,null,null,null,null,null,null,"a",null,"b",null,"c",null,null,5]
[null,null,null,null,null,null,null,null,null,null,null,null,null,null,null,null,null,null,null,null,null,null,null,null,null,null,null,null,null,null,null,null,null,null,null,null,"Ka"]
[null,null,null,null,null,null,null,null,null,null,null,null,null,null,null,null,null,null,null,null,null,null,null,null,null,null,null,null,null,{"$f":"AK$20","v":""},null,{"$f":"-(AK$20*H$12+D$11)","v":{"$error":"#VALUE!"}},null,{"$f":"-AK$20*D$11","v":{"$error":"#VALUE!"}},null,null,{"$f":"IF(C$5=0,\"\",IF(C$5=1,C$11,IF(C$5=2,C11,IF(C$5=3,\"\",IF(C$5=4,\"\")))))","v":""}]
[null,null,null,null,null,null,null,null,null,null,null,null,null,null,null,null,null,null,null,null,null,null,null,null,null,null,null,null,null,"L","M","S","P","r","j"]
[null,null,null,null,{"$f":"IF(INTERFACE!C$5=1,INTERFACE!AD$7,IF(INTERFACE!C$5=2,INTERFACE!AD$8,IF(INTERFACE!C$5=3,INTERFACE!AD$9,IF(INTERFACE!C$5=4,INTERFACE!AD$10))))","v":false},null,null,null,null,"pKa =",{"$f":"IF(INTERFACE!C$5=1,INTERFACE!AI$7,IF(INTERFACE!C$5=2,INTERFACE!AI$8,IF(INTERFACE!C$5=3,INTERFACE!AI$9,IF(INTERFACE!C$5=4,INTERFACE!AI$10))))","v":false},null,null,null,null,null,null,null,null,null,null,null,null,null,null,null,null,null,null,{"$f":"AF$20-AD$20^2/3","v":{"$error":"#VALUE!"}},{"$f":"(2*AD$20^3/27)-(AD$20*AF$20/3)+(AH$20)","v":{"$error":"#VALUE!"}},{"$f":"-AE$22","v":{"$error":"#VALUE!"}},{"$f":"-AD$22^3/27","v":{"$error":"#VALUE!"}},{"$f":"SQRT(AG$22)","v":{"$error":"#VALUE!"}},{"$f":"ACOS(0.5*AF$22/AH$22)","v":{"$error":"#VALUE!"}}]
[]
[null,null,null,null,null,null,null,null,null,null,null,null,null,null,null,null,null,null,null,null,null,null,null,null,null,null,null,null,null,"[H3O+]","pH","D"]
[null,null,null,null,null,null,null,null,null,null,null,null,null,null,null,null,null,null,null,null,null,null,null,null,null,null,null,null,null,{"$f":"2*SQRT(-AD$22/3)*COS(AI$22/3)-C$11/3","v":{"$error":"#VALUE!"}},{"$f":"-LOG(AD$25)","v":{"$error":"#VALUE!"}},{"$f":"AF$22^2-(4*AG$22)","v":{"$error":"#VALUE!"}}]
[]
[]
[null,null,null,null,null,null,null,null,null,null,null,null,null,null,null,null,null,null,null,null,null,null,null,null,null,null,null,null,null,"calcul de pH solution basique"]
[null,null,null,null,null,null,null,null,null,null,null,null,null,null,null,null,null,null,null,null,null,null,null,null,null,null,null,null,null,"a",null,"b",null,"c",null,null,"Kb"]
[null,null,null,null,null,null,null,null,null,null,null,null,null,null,null,null,null,null,null,null,null,null,null,null,null,null,null,null,null,null,null,null,null,null,null,null,{"$f":"IF(C$5=0,\"\",IF(C$5=1,\"\",IF(C$5=2,\"\",IF(C$5=3,D$11/C$11,IF(C$5=4,D$11/C$11)))))","v":""}]
[null,null,null,null,null,null,null,null,null,null,null,null,null,null,null,null,null,null,null,null,null,null,null,null,null,null,null,null,null,{"$f":"AK$30","v":""},null,{"$f":"-(AK$30*H$12+D$11)","v":{"$error":"#VALUE!"}},null,{"$f":"-AK$30*D$11","v":{"$error":"#VALUE!"}}]
[null,null,null,null,null,null,null,null,null,null,null,null,null,null,null,null,null,null,null,null,null,null,null,null,null,null,null,null,null,"L","M","S","P","r","j"]
[null,null,null,null,null,null,null,null,null,null,null,null,null,null,null,null,null,null,null,null,null,null,null,null,null,null,null,null,null,{"$f":"AF$31-AD$31^2/3","v":{"$error":"#VALUE!"}},{"$f":"(2*AD$31^3/27)-(AD$31*AF$31/3)+(AH$31)","v":{"$error":"#VALUE!"}},{"$f":"-AE$33","v":{"$error":"#VALUE!"}},{"$f":"-AD$33^3/27","v":{"$error":"#VALUE!"}},{"$f":"SQRT(AG$33)","v":{"$error":"#VALUE!"}},{"$f":"ACOS(0.5*AF$33/AH$33)","v":{"$error":"#VALUE!"}}]
[]
[null,"pH vari","[ A- ] %","[HA ] %",null,null,null,null,null,null,null,null,null,null,null,null,null,null,null,null,null,null,null,null,null,null,null,null,null,"[H3O+]","pH","D"]
[null,{"$f":"MAX(INTERFACE!AE$15,INTERFACE!E51)","v":0},{"$f":"((INTERFACE!C$11)/((10^-(INTERFACE!B47))+(INTERFACE!C$11)))*100","v":{"$error":"#VALUE!"}},{"$f":"100-INTERFACE!C47","v":{"$error":"#VALUE!"}},null,null,null,null,null,null,null,null,null,null,null,null,null,null,null,null,null,null,null,null,null,null,null,null,null,{"$f":"((2*SQRT(-AD$33/3)*COS(AI$33/3)-AK$30/3)^-1)*D$11","v":{"$error":"#VALUE!"}},{"$f":"-LOG(AD$36)","v":{"$error":"#VALUE!"}},{"$f":"AF$33^2-(4*AG$33)","v":{"$error":"#VALUE!"}}]
[]
[]
["pH","[ A- ] %","[HA ] %",null,"pH inter","[ A- ] %","[HA ] %",null,"intersection",null,"[ A- ] %",null,"[HA ] %"]
[{"$f":"(MIN(INTERFACE!AD$15,INTERFACE!E51))","v":0},{"$f":"MIN(INTERFACE!C$47,INTERFACE!F51)","v":{"$error":"#VALUE!"}},{"$f":"100-INTERFACE!B51","v":{"$error":"#VALUE!"}},null,0,{"$f":"((INTERFACE!C$11)/((10^-(INTERFACE!E51))+(INTERFACE!C$11)))*100","v":{"$error":"#VALUE!"}},{"$f":"100-INTERFACE!F51","v":{"$error":"#VALUE!"}},null,{"$f":"IF(INTERFACE!B$47<INTERFACE!B$11,\"\",IF(INTERFACE!B$47>=INTERFACE!B$11,INTERFACE!B$11))","v":""},{"$f":"IF(INTERFACE!B$47<INTERFACE!B$11,\"\",IF(INTERFACE!B$47>=INTERFACE!B$11,0))","v":""},{"$f":"INTERFACE!B$47","v":0},{"$f":"INTERFACE!C$47","v":{"$error":"#VALUE!"}},{"$f":"INTERFACE!B$47","v":0},{"$f":"INTERFACE!D$47","v":{"$error":"#VALUE!"}}]
[{"$f":"(MIN(INTERFACE!AD$15,INTERFACE!E52))","v":0},{"$f":"MIN(INTERFACE!C$47,INTERFACE!F52)","v":{"$error":"#VALUE!"}},{"$f":"100-INTERFACE!B52","v":{"$error":"#VALUE!"}},null,{"$f":"INTERFACE!E51+12/1200","v":0.01},{"$f":"((INTERFACE!C$11)/((10^-(INTERFACE!E52))+(INTERFACE!C$11)))*100","v":{"$error":"#VALUE!"}},{"$f":"100-INTERFACE!F52","v":{"$error":"#VALUE!"}},null,{"$f":"IF(INTERFACE!B$47<INTERFACE!B$11,\"\",IF(INTERFACE!B$47>=INTERFACE!B$11,INTERFACE!B$11))","v":""},{"$f":"IF(INTERFACE!B$47<INTERFACE!B$11,\"\",IF(INTERFACE!B$47>=INTERFACE!B$11,50))","v":""},{"$f":"INTERFACE!B$47","v":0},0,{"$f":"INTERFACE!B$47","v":0},0]
[{"$f":"(MIN(INTERFACE!AD$15,INTERFACE!E53))","v":0},{"$f":"MIN(INTERFACE!C$47,INTERFACE!F53)","v":{"$error":"#VALUE!"}},{"$f":"100-INTERFACE!B53","v":{"$error":"#VALUE!"}},null,{"$f":"INTERFACE!E52+12/1200","v":0.02},{"$f":"((INTERFACE!C$11)/((10^-(INTERFACE!E53))+(INTERFACE!C$11)))*100","v":{"$error":"#VALUE!"}},{"$f":"100-INTERFACE!F53","v":{"$error":"#VALUE!"}},null,{"$f":"IF(INTERFACE!B$47<INTERFACE!B$11,\"\",IF(INTERFACE!B$47>=INTERFACE!B$11,0))","v":""},{"$f":"IF(INTERFACE!B$47<INTERFACE!B$11,\"\",IF(INTERFACE!B$47>=INTERFACE!B$11,50))","v":""}]
[{"$f":"(MIN(INTERFACE!AD$15,INTERFACE!E54))","v":0},{"$f":"MIN(INTERFACE!C$47,INTERFACE!F54)","v":{"$error":"#VALUE!"}},{"$f":"100-INTERFACE!B54","v":{"$error":"#VALUE!"}},null,{"$f":"INTERFACE!E53+12/1200","v":0.03},{"$f":"((INTERFACE!C$11)/((10^-(INTERFACE!E54))+(INTERFACE!C$11)))*100","v":{"$error":"#VALUE!"}},{"$f":"100-INTERFACE!F54","v":{"$error":"#VALUE!"}}]
[{"$f":"(MIN(INTERFACE!AD$15,INTERFACE!E55))","v":0},{"$f":"MIN(INTERFACE!C$47,INTERFACE!F55)","v":{"$error":"#VALUE!"}},{"$f":"100-INTERFACE!B55","v":{"$error":"#VALUE!"}},null,{"$f":"INTERFACE!E54+12/1200","v":0.04},{"$f":"((INTERFACE!C$11)/((10^-(INTERFACE!E55))+(INTERFACE!C$11)))*100","v":{"$error":"#VALUE!"}},{"$f":"100-INTERFACE!F55","v":{"$error":"#VALUE!"}}]
[{"$f":"(MIN(INTERFACE!AD$15,INTERFACE!E56))","v":0},{"$f":"MIN(INTERFACE!C$47,INTERFACE!F56)","v":{"$error":"#VALUE!"}},{"$f":"100-INTERFACE!B56","v":{"$error":"#VALUE!"}},null,{"$f":"INTERFACE!E55+12/1200","v":0.05},{"$f":"((INTERFACE!C$11)/((10^-(INTERFACE!E56))+(INTERFACE!C$11)))*100","v":{"$error":"#VALUE!"}},{"$f":"100-INTERFACE!F56","v":{"$error":"#VALUE!"}}]
[{"$f":"(MIN(INTERFACE!AD$15,INTERFACE!E57))","v":0},{"$f":"MIN(INTERFACE!C$47,INTERFACE!F57)","v":{"$error":"#VALUE!"}},{"$f":"100-INTERFACE!B57","v":{"$error":"#VALUE!"}},null,{"$f":"INTERFACE!E56+12/1200","v":6.0000000000000005E-2},{"$f":"((INTERFACE!C$11)/((10^-(INTERFACE!E57))+(INTERFACE!C$11)))*100","v":{"$error":"#VALUE!"}},{"$f":"100-INTERFACE!F57","v":{"$error":"#VALUE!"}}]
[{"$f":"(MIN(INTERFACE!AD$15,INTERFACE!E58))","v":0},{"$f":"MIN(INTERFACE!C$47,INTERFACE!F58)","v":{"$error":"#VALUE!"}},{"$f":"100-INTERFACE!B58","v":{"$error":"#VALUE!"}},null,{"$f":"INTERFACE!E57+12/1200","v":7.0000000000000007E-2},{"$f":"((INTERFACE!C$11)/((10^-(INTERFACE!E58))+(INTERFACE!C$11)))*100","v":{"$error":"#VALUE!"}},{"$f":"100-INTERFACE!F58","v":{"$error":"#VALUE!"}}]
[{"$f":"(MIN(INTERFACE!AD$15,INTERFACE!E59))","v":0},{"$f":"MIN(INTERFACE!C$47,INTERFACE!F59)","v":{"$error":"#VALUE!"}},{"$f":"100-INTERFACE!B59","v":{"$error":"#VALUE!"}},null,{"$f":"INTERFACE!E58+12/1200","v":0.08},{"$f":"((INTERFACE!C$11)/((10^-(INTERFACE!E59))+(INTERFACE!C$11)))*100","v":{"$error":"#VALUE!"}},{"$f":"100-INTERFACE!F59","v":{"$error":"#VALUE!"}}]
[{"$f":"(MIN(INTERFACE!AD$15,INTERFACE!E60))","v":0},{"$f":"MIN(INTERFACE!C$47,INTERFACE!F60)","v":{"$error":"#VALUE!"}},{"$f":"100-INTERFACE!B60","v":{"$error":"#VALUE!"}},null,{"$f":"INTERFACE!E59+12/1200","v":0.09},{"$f":"((INTERFACE!C$11)/((10^-(INTERFACE!E60))+(INTERFACE!C$11)))*100","v":{"$error":"#VALUE!"}},{"$f":"100-INTERFACE!F60","v":{"$error":"#VALUE!"}}]
[{"$f":"(MIN(INTERFACE!AD$15,INTERFACE!E61))","v":0},{"$f":"MIN(INTERFACE!C$47,INTERFACE!F61)","v":{"$error":"#VALUE!"}},{"$f":"100-INTERFACE!B61","v":{"$error":"#VALUE!"}},null,{"$f":"INTERFACE!E60+12/1200","v":9.9999999999999992E-2},{"$f":"((INTERFACE!C$11)/((10^-(INTERFACE!E61))+(INTERFACE!C$11)))*100","v":{"$error":"#VALUE!"}},{"$f":"100-INTERFACE!F61","v":{"$error":"#VALUE!"}}]
[{"$f":"(MIN(INTERFACE!AD$15,INTERFACE!E62))","v":0},{"$f":"MIN(INTERFACE!C$47,INTERFACE!F62)","v":{"$error":"#VALUE!"}},{"$f":"100-INTERFACE!B62","v":{"$error":"#VALUE!"}},null,{"$f":"INTERFACE!E61+12/1200","v":0.10999999999999999},{"$f":"((INTERFACE!C$11)/((10^-(INTERFACE!E62))+(INTERFACE!C$11)))*100","v":{"$error":"#VALUE!"}},{"$f":"100-INTERFACE!F62","v":{"$error":"#VALUE!"}}]
[{"$f":"(MIN(INTERFACE!AD$15,INTERFACE!E63))","v":0},{"$f":"MIN(INTERFACE!C$47,INTERFACE!F63)","v":{"$error":"#VALUE!"}},{"$f":"100-INTERFACE!B63","v":{"$error":"#VALUE!"}},null,{"$f":"INTERFACE!E62+12/1200","v":0.11999999999999998},{"$f":"((INTERFACE!C$11)/((10^-(INTERFACE!E63))+(INTERFACE!C$11)))*100","v":{"$error":"#VALUE!"}},{"$f":"100-INTERFACE!F63","v":{"$error":"#VALUE!"}}]
[{"$f":"(MIN(INTERFACE!AD$15,INTERFACE!E64))","v":0},{"$f":"MIN(INTERFACE!C$47,INTERFACE!F64)","v":{"$error":"#VALUE!"}},{"$f":"100-INTERFACE!B64","v":{"$error":"#VALUE!"}},null,{"$f":"INTERFACE!E63+12/1200","v":0.12999999999999998},{"$f":"((INTERFACE!C$11)/((10^-(INTERFACE!E64))+(INTERFACE!C$11)))*100","v":{"$error":"#VALUE!"}},{"$f":"100-INTERFACE!F64","v":{"$error":"#VALUE!"}}]
[{"$f":"(MIN(INTERFACE!AD$15,INTERFACE!E65))","v":0},{"$f":"MIN(INTERFACE!C$47,INTERFACE!F65)","v":{"$error":"#VALUE!"}},{"$f":"100-INTERFACE!B65","v":{"$error":"#VALUE!"}},null,{"$f":"INTERFACE!E64+12/1200","v":0.13999999999999999},{"$f":"((INTERFACE!C$11)/((10^-(INTERFACE!E65))+(INTERFACE!C$11)))*100","v":{"$error":"#VALUE!"}},{"$f":"100-INTERFACE!F65","v":{"$error":"#VALUE!"}}]
[{"$f":"(MIN(INTERFACE!AD$15,INTERFACE!E66))","v":0},{"$f":"MIN(INTERFACE!C$47,INTERFACE!F66)","v":{"$error":"#VALUE!"}},{"$f":"100-INTERFACE!B66","v":{"$error":"#VALUE!"}},null,{"$f":"INTERFACE!E65+12/1200","v":0.15},{"$f":"((INTERFACE!C$11)/((10^-(INTERFACE!E66))+(INTERFACE!C$11)))*100","v":{"$error":"#VALUE!"}},{"$f":"100-INTERFACE!F66","v":{"$error":"#VALUE!"}}]
[{"$f":"(MIN(INTERFACE!AD$15,INTERFACE!E67))","v":0},{"$f":"MIN(INTERFACE!C$47,INTERFACE!F67)","v":{"$error":"#VALUE!"}},{"$f":"100-INTERFACE!B67","v":{"$error":"#VALUE!"}},null,{"$f":"INTERFACE!E66+12/1200","v":0.16},{"$f":"((INTERFACE!C$11)/((10^-(INTERFACE!E67))+(INTERFACE!C$11)))*100","v":{"$error":"#VALUE!"}},{"$f":"100-INTERFACE!F67","v":{"$error":"#VALUE!"}}]
[{"$f":"(MIN(INTERFACE!AD$15,INTERFACE!E68))","v":0},{"$f":"MIN(INTERFACE!C$47,INTERFACE!F68)","v":{"$error":"#VALUE!"}},{"$f":"100-INTERFACE!B68","v":{"$error":"#VALUE!"}},null,{"$f":"INTERFACE!E67+12/1200","v":0.17},{"$f":"((INTERFACE!C$11)/((10^-(INTERFACE!E68))+(INTERFACE!C$11)))*100","v":{"$error":"#VALUE!"}},{"$f":"100-INTERFACE!F68","v":{"$error":"#VALUE!"}}]
[{"$f":"(MIN(INTERFACE!AD$15,INTERFACE!E69))","v":0},{"$f":"MIN(INTERFACE!C$47,INTERFACE!F69)","v":{"$error":"#VALUE!"}},{"$f":"100-INTERFACE!B69","v":{"$error":"#VALUE!"}},null,{"$f":"INTERFACE!E68+12/1200","v":0.18000000000000002},{"$f":"((INTERFACE!C$11)/((10^-(INTERFACE!E69))+(INTERFACE!C$11)))*100","v":{"$error":"#VALUE!"}},{"$f":"100-INTERFACE!F69","v":{"$error":"#VALUE!"}}]
[{"$f":"(MIN(INTERFACE!AD$15,INTERFACE!E70))","v":0},{"$f":"MIN(INTERFACE!C$47,INTERFACE!F70)","v":{"$error":"#VALUE!"}},{"$f":"100-INTERFACE!B70","v":{"$error":"#VALUE!"}},null,{"$f":"INTERFACE!E69+12/1200","v":0.19000000000000003},{"$f":"((INTERFACE!C$11)/((10^-(INTERFACE!E70))+(INTERFACE!C$11)))*100","v":{"$error":"#VALUE!"}},{"$f":"100-INTERFACE!F70","v":{"$error":"#VALUE!"}}]
[{"$f":"(MIN(INTERFACE!AD$15,INTERFACE!E71))","v":0},{"$f":"MIN(INTERFACE!C$47,INTERFACE!F71)","v":{"$error":"#VALUE!"}},{"$f":"100-INTERFACE!B71","v":{"$error":"#VALUE!"}},null,{"$f":"INTERFACE!E70+12/1200","v":0.20000000000000004},{"$f":"((INTERFACE!C$11)/((10^-(INTERFACE!E71))+(INTERFACE!C$11)))*100","v":{"$error":"#VALUE!"}},{"$f":"100-INTERFACE!F71","v":{"$error":"#VALUE!"}}]
[{"$f":"(MIN(INTERFACE!AD$15,INTERFACE!E72))","v":0},{"$f":"MIN(INTERFACE!C$47,INTERFACE!F72)","v":{"$error":"#VALUE!"}},{"$f":"100-INTERFACE!B72","v":{"$error":"#VALUE!"}},null,{"$f":"INTERFACE!E71+12/1200","v":0.21000000000000005},{"$f":"((INTERFACE!C$11)/((10^-(INTERFACE!E72))+(INTERFACE!C$11)))*100","v":{"$error":"#VALUE!"}},{"$f":"100-INTERFACE!F72","v":{"$error":"#VALUE!"}}]
[{"$f":"(MIN(INTERFACE!AD$15,INTERFACE!E73))","v":0},{"$f":"MIN(INTERFACE!C$47,INTERFACE!F73)","v":{"$error":"#VALUE!"}},{"$f":"100-INTERFACE!B73","v":{"$error":"#VALUE!"}},null,{"$f":"INTERFACE!E72+12/1200","v":0.22000000000000006},{"$f":"((INTERFACE!C$11)/((10^-(INTERFACE!E73))+(INTERFACE!C$11)))*100","v":{"$error":"#VALUE!"}},{"$f":"100-INTERFACE!F73","v":{"$error":"#VALUE!"}}]
[{"$f":"(MIN(INTERFACE!AD$15,INTERFACE!E74))","v":0},{"$f":"MIN(INTERFACE!C$47,INTERFACE!F74)","v":{"$error":"#VALUE!"}},{"$f":"100-INTERFACE!B74","v":{"$error":"#VALUE!"}},null,{"$f":"INTERFACE!E73+12/1200","v":0.23000000000000007},{"$f":"((INTERFACE!C$11)/((10^-(INTERFACE!E74))+(INTERFACE!C$11)))*100","v":{"$error":"#VALUE!"}},{"$f":"100-INTERFACE!F74","v":{"$error":"#VALUE!"}}]
[{"$f":"(MIN(INTERFACE!AD$15,INTERFACE!E75))","v":0},{"$f":"MIN(INTERFACE!C$47,INTERFACE!F75)","v":{"$error":"#VALUE!"}},{"$f":"100-INTERFACE!B75","v":{"$error":"#VALUE!"}},null,{"$f":"INTERFACE!E74+12/1200","v":0.24000000000000007},{"$f":"((INTERFACE!C$11)/((10^-(INTERFACE!E75))+(INTERFACE!C$11)))*100","v":{"$error":"#VALUE!"}},{"$f":"100-INTERFACE!F75","v":{"$error":"#VALUE!"}}]
[{"$f":"(MIN(INTERFACE!AD$15,INTERFACE!E76))","v":0},{"$f":"MIN(INTERFACE!C$47,INTERFACE!F76)","v":{"$error":"#VALUE!"}},{"$f":"100-INTERFACE!B76","v":{"$error":"#VALUE!"}},null,{"$f":"INTERFACE!E75+12/1200","v":0.25000000000000006},{"$f":"((INTERFACE!C$11)/((10^-(INTERFACE!E76))+(INTERFACE!C$11)))*100","v":{"$error":"#VALUE!"}},{"$f":"100-INTERFACE!F76","v":{"$error":"#VALUE!"}}]
[{"$f":"(MIN(INTERFACE!AD$15,INTERFACE!E77))","v":0},{"$f":"MIN(INTERFACE!C$47,INTERFACE!F77)","v":{"$error":"#VALUE!"}},{"$f":"100-INTERFACE!B77","v":{"$error":"#VALUE!"}},null,{"$f":"INTERFACE!E76+12/1200","v":0.26000000000000006},{"$f":"((INTERFACE!C$11)/((10^-(INTERFACE!E77))+(INTERFACE!C$11)))*100","v":{"$error":"#VALUE!"}},{"$f":"100-INTERFACE!F77","v":{"$error":"#VALUE!"}}]
[{"$f":"(MIN(INTERFACE!AD$15,INTERFACE!E78))","v":0},{"$f":"MIN(INTERFACE!C$47,INTERFACE!F78)","v":{"$error":"#VALUE!"}},{"$f":"100-INTERFACE!B78","v":{"$error":"#VALUE!"}},null,{"$f":"INTERFACE!E77+12/1200","v":0.27000000000000007},{"$f":"((INTERFACE!C$11)/((10^-(INTERFACE!E78))+(INTERFACE!C$11)))*100","v":{"$error":"#VALUE!"}},{"$f":"100-INTERFACE!F78","v":{"$error":"#VALUE!"}}]
[{"$f":"(MIN(INTERFACE!AD$15,INTERFACE!E79))","v":0},{"$f":"MIN(INTERFACE!C$47,INTERFACE!F79)","v":{"$error":"#VALUE!"}},{"$f":"100-INTERFACE!B79","v":{"$error":"#VALUE!"}},null,{"$f":"INTERFACE!E78+12/1200","v":0.28000000000000008},{"$f":"((INTERFACE!C$11)/((10^-(INTERFACE!E79))+(INTERFACE!C$11)))*100","v":{"$error":"#VALUE!"}},{"$f":"100-INTERFACE!F79","v":{"$error":"#VALUE!"}}]
[{"$f":"(MIN(INTERFACE!AD$15,INTERFACE!E80))","v":0},{"$f":"MIN(INTERFACE!C$47,INTERFACE!F80)","v":{"$error":"#VALUE!"}},{"$f":"100-INTERFACE!B80","v":{"$error":"#VALUE!"}},null,{"$f":"INTERFACE!E79+12/1200","v":0.29000000000000009},{"$f":"((INTERFACE!C$11)/((10^-(INTERFACE!E80))+(INTERFACE!C$11)))*100","v":{"$error":"#VALUE!"}},{"$f":"100-INTERFACE!F80","v":{"$error":"#VALUE!"}}]
[{"$f":"(MIN(INTERFACE!AD$15,INTERFACE!E81))","v":0},{"$f":"MIN(INTERFACE!C$47,INTERFACE!F81)","v":{"$error":"#VALUE!"}},{"$f":"100-INTERFACE!B81","v":{"$error":"#VALUE!"}},null,{"$f":"INTERFACE!E80+12/1200","v":0.3000000000000001},{"$f":"((INTERFACE!C$11)/((10^-(INTERFACE!E81))+(INTERFACE!C$11)))*100","v":{"$error":"#VALUE!"}},{"$f":"100-INTERFACE!F81","v":{"$error":"#VALUE!"}}]
[{"$f":"(MIN(INTERFACE!AD$15,INTERFACE!E82))","v":0},{"$f":"MIN(INTERFACE!C$47,INTERFACE!F82)","v":{"$error":"#VALUE!"}},{"$f":"100-INTERFACE!B82","v":{"$error":"#VALUE!"}},null,{"$f":"INTERFACE!E81+12/1200","v":0.31000000000000011},{"$f":"((INTERFACE!C$11)/((10^-(INTERFACE!E82))+(INTERFACE!C$11)))*100","v":{"$error":"#VALUE!"}},{"$f":"100-INTERFACE!F82","v":{"$error":"#VALUE!"}}]
[{"$f":"(MIN(INTERFACE!AD$15,INTERFACE!E83))","v":0},{"$f":"MIN(INTERFACE!C$47,INTERFACE!F83)","v":{"$error":"#VALUE!"}},{"$f":"100-INTERFACE!B83","v":{"$error":"#VALUE!"}},null,{"$f":"INTERFACE!E82+12/1200","v":0.32000000000000012},{"$f":"((INTERFACE!C$11)/((10^-(INTERFACE!E83))+(INTERFACE!C$11)))*100","v":{"$error":"#VALUE!"}},{"$f":"100-INTERFACE!F83","v":{"$error":"#VALUE!"}}]
[{"$f":"(MIN(INTERFACE!AD$15,INTERFACE!E84))","v":0},{"$f":"MIN(INTERFACE!C$47,INTERFACE!F84)","v":{"$error":"#VALUE!"}},{"$f":"100-INTERFACE!B84","v":{"$error":"#VALUE!"}},null,{"$f":"INTERFACE!E83+12/1200","v":0.33000000000000013},{"$f":"((INTERFACE!C$11)/((10^-(INTERFACE!E84))+(INTERFACE!C$11)))*100","v":{"$error":"#VALUE!"}},{"$f":"100-INTERFACE!F84","v":{"$error":"#VALUE!"}}]
[{"$f":"(MIN(INTERFACE!AD$15,INTERFACE!E85))","v":0},{"$f":"MIN(INTERFACE!C$47,INTERFACE!F85)","v":{"$error":"#VALUE!"}},{"$f":"100-INTERFACE!B85","v":{"$error":"#VALUE!"}},null,{"$f":"INTERFACE!E84+12/1200","v":0.34000000000000014},{"$f":"((INTERFACE!C$11)/((10^-(INTERFACE!E85))+(INTERFACE!C$11)))*100","v":{"$error":"#VALUE!"}},{"$f":"100-INTERFACE!F85","v":{"$error":"#VALUE!"}}]
[{"$f":"(MIN(INTERFACE!AD$15,INTERFACE!E86))","v":0},{"$f":"MIN(INTERFACE!C$47,INTERFACE!F86)","v":{"$error":"#VALUE!"}},{"$f":"100-INTERFACE!B86","v":{"$error":"#VALUE!"}},null,{"$f":"INTERFACE!E85+12/1200","v":0.35000000000000014},{"$f":"((INTERFACE!C$11)/((10^-(INTERFACE!E86))+(INTERFACE!C$11)))*100","v":{"$error":"#VALUE!"}},{"$f":"100-INTERFACE!F86","v":{"$error":"#VALUE!"}}]
[{"$f":"(MIN(INTERFACE!AD$15,INTERFACE!E87))","v":0},{"$f":"MIN(INTERFACE!C$47,INTERFACE!F87)","v":{"$error":"#VALUE!"}},{"$f":"100-INTERFACE!B87","v":{"$error":"#VALUE!"}},null,{"$f":"INTERFACE!E86+12/1200","v":0.36000000000000015},{"$f":"((INTERFACE!C$11)/((10^-(INTERFACE!E87))+(INTERFACE!C$11)))*100","v":{"$error":"#VALUE!"}},{"$f":"100-INTERFACE!F87","v":{"$error":"#VALUE!"}}]
[{"$f":"(MIN(INTERFACE!AD$15,INTERFACE!E88))","v":0},{"$f":"MIN(INTERFACE!C$47,INTERFACE!F88)","v":{"$error":"#VALUE!"}},{"$f":"100-INTERFACE!B88","v":{"$error":"#VALUE!"}},null,{"$f":"INTERFACE!E87+12/1200","v":0.37000000000000016},{"$f":"((INTERFACE!C$11)/((10^-(INTERFACE!E88))+(INTERFACE!C$11)))*100","v":{"$error":"#VALUE!"}},{"$f":"100-INTERFACE!F88","v":{"$error":"#VALUE!"}}]
[{"$f":"(MIN(INTERFACE!AD$15,INTERFACE!E89))","v":0},{"$f":"MIN(INTERFACE!C$47,INTERFACE!F89)","v":{"$error":"#VALUE!"}},{"$f":"100-INTERFACE!B89","v":{"$error":"#VALUE!"}},null,{"$f":"INTERFACE!E88+12/1200","v":0.38000000000000017},{"$f":"((INTERFACE!C$11)/((10^-(INTERFACE!E89))+(INTERFACE!C$11)))*100","v":{"$error":"#VALUE!"}},{"$f":"100-INTERFACE!F89","v":{"$error":"#VALUE!"}}]
[{"$f":"(MIN(INTERFACE!AD$15,INTERFACE!E90))","v":0},{"$f":"MIN(INTERFACE!C$47,INTERFACE!F90)","v":{"$error":"#VALUE!"}},{"$f":"100-INTERFACE!B90","v":{"$error":"#VALUE!"}},null,{"$f":"INTERFACE!E89+12/1200","v":0.39000000000000018},{"$f":"((INTERFACE!C$11)/((10^-(INTERFACE!E90))+(INTERFACE!C$11)))*100","v":{"$error":"#VALUE!"}},{"$f":"100-INTERFACE!F90","v":{"$error":"#VALUE!"}}]
[{"$f":"(MIN(INTERFACE!AD$15,INTERFACE!E91))","v":0},{"$f":"MIN(INTERFACE!C$47,INTERFACE!F91)","v":{"$error":"#VALUE!"}},{"$f":"100-INTERFACE!B91","v":{"$error":"#VALUE!"}},null,{"$f":"INTERFACE!E90+12/1200","v":0.40000000000000019},{"$f":"((INTERFACE!C$11)/((10^-(INTERFACE!E91))+(INTERFACE!C$11)))*100","v":{"$error":"#VALUE!"}},{"$f":"100-INTERFACE!F91","v":{"$error":"#VALUE!"}}]
[{"$f":"(MIN(INTERFACE!AD$15,INTERFACE!E92))","v":0},{"$f":"MIN(INTERFACE!C$47,INTERFACE!F92)","v":{"$error":"#VALUE!"}},{"$f":"100-INTERFACE!B92","v":{"$error":"#VALUE!"}},null,{"$f":"INTERFACE!E91+12/1200","v":0.4100000000000002},{"$f":"((INTERFACE!C$11)/((10^-(INTERFACE!E92))+(INTERFACE!C$11)))*100","v":{"$error":"#VALUE!"}},{"$f":"100-INTERFACE!F92","v":{"$error":"#VALUE!"}}]
[{"$f":"(MIN(INTERFACE!AD$15,INTERFACE!E93))","v":0},{"$f":"MIN(INTERFACE!C$47,INTERFACE!F93)","v":{"$error":"#VALUE!"}},{"$f":"100-INTERFACE!B93","v":{"$error":"#VALUE!"}},null,{"$f":"INTERFACE!E92+12/1200","v":0.42000000000000021},{"$f":"((INTERFACE!C$11)/((10^-(INTERFACE!E93))+(INTERFACE!C$11)))*100","v":{"$error":"#VALUE!"}},{"$f":"100-INTERFACE!F93","v":{"$error":"#VALUE!"}}]
[{"$f":"(MIN(INTERFACE!AD$15,INTERFACE!E94))","v":0},{"$f":"MIN(INTERFACE!C$47,INTERFACE!F94)","v":{"$error":"#VALUE!"}},{"$f":"100-INTERFACE!B94","v":{"$error":"#VALUE!"}},null,{"$f":"INTERFACE!E93+12/1200","v":0.43000000000000022},{"$f":"((INTERFACE!C$11)/((10^-(INTERFACE!E94))+(INTERFACE!C$11)))*100","v":{"$error":"#VALUE!"}},{"$f":"100-INTERFACE!F94","v":{"$error":"#VALUE!"}}]
[{"$f":"(MIN(INTERFACE!AD$15,INTERFACE!E95))","v":0},{"$f":"MIN(INTERFACE!C$47,INTERFACE!F95)","v":{"$error":"#VALUE!"}},{"$f":"100-INTERFACE!B95","v":{"$error":"#VALUE!"}},null,{"$f":"INTERFACE!E94+12/1200","v":0.44000000000000022},{"$f":"((INTERFACE!C$11)/((10^-(INTERFACE!E95))+(INTERFACE!C$11)))*100","v":{"$error":"#VALUE!"}},{"$f":"100-INTERFACE!F95","v":{"$error":"#VALUE!"}}]
[{"$f":"(MIN(INTERFACE!AD$15,INTERFACE!E96))","v":0},{"$f":"MIN(INTERFACE!C$47,INTERFACE!F96)","v":{"$error":"#VALUE!"}},{"$f":"100-INTERFACE!B96","v":{"$error":"#VALUE!"}},null,{"$f":"INTERFACE!E95+12/1200","v":0.45000000000000023},{"$f":"((INTERFACE!C$11)/((10^-(INTERFACE!E96))+(INTERFACE!C$11)))*100","v":{"$error":"#VALUE!"}},{"$f":"100-INTERFACE!F96","v":{"$error":"#VALUE!"}}]
[{"$f":"(MIN(INTERFACE!AD$15,INTERFACE!E97))","v":0},{"$f":"MIN(INTERFACE!C$47,INTERFACE!F97)","v":{"$error":"#VALUE!"}},{"$f":"100-INTERFACE!B97","v":{"$error":"#VALUE!"}},null,{"$f":"INTERFACE!E96+12/1200","v":0.46000000000000024},{"$f":"((INTERFACE!C$11)/((10^-(INTERFACE!E97))+(INTERFACE!C$11)))*100","v":{"$error":"#VALUE!"}},{"$f":"100-INTERFACE!F97","v":{"$error":"#VALUE!"}}]
[{"$f":"(MIN(INTERFACE!AD$15,INTERFACE!E98))","v":0},{"$f":"MIN(INTERFACE!C$47,INTERFACE!F98)","v":{"$error":"#VALUE!"}},{"$f":"100-INTERFACE!B98","v":{"$error":"#VALUE!"}},null,{"$f":"INTERFACE!E97+12/1200","v":0.47000000000000025},{"$f":"((INTERFACE!C$11)/((10^-(INTERFACE!E98))+(INTERFACE!C$11)))*100","v":{"$error":"#VALUE!"}},{"$f":"100-INTERFACE!F98","v":{"$error":"#VALUE!"}}]
[{"$f":"(MIN(INTERFACE!AD$15,INTERFACE!E99))","v":0},{"$f":"MIN(INTERFACE!C$47,INTERFACE!F99)","v":{"$error":"#VALUE!"}},{"$f":"100-INTERFACE!B99","v":{"$error":"#VALUE!"}},null,{"$f":"INTERFACE!E98+12/1200","v":0.48000000000000026},{"$f":"((INTERFACE!C$11)/((10^-(INTERFACE!E99))+(INTERFACE!C$11)))*100","v":{"$error":"#VALUE!"}},{"$f":"100-INTERFACE!F99","v":{"$error":"#VALUE!"}}]
[{"$f":"(MIN(INTERFACE!AD$15,INTERFACE!E100))","v":0},{"$f":"MIN(INTERFACE!C$47,INTERFACE!F100)","v":{"$error":"#VALUE!"}},{"$f":"100-INTERFACE!B100","v":{"$error":"#VALUE!"}},null,{"$f":"INTERFACE!E99+12/1200","v":0.49000000000000027},{"$f":"((INTERFACE!C$11)/((10^-(INTERFACE!E100))+(INTERFACE!C$11)))*100","v":{"$error":"#VALUE!"}},{"$f":"100-INTERFACE!F100","v":{"$error":"#VALUE!"}}]
[{"$f":"(MIN(INTERFACE!AD$15,INTERFACE!E101))","v":0},{"$f":"MIN(INTERFACE!C$47,INTERFACE!F101)","v":{"$error":"#VALUE!"}},{"$f":"100-INTERFACE!B101","v":{"$error":"#VALUE!"}},null,{"$f":"INTERFACE!E100+12/1200","v":0.50000000000000022},{"$f":"((INTERFACE!C$11)/((10^-(INTERFACE!E101))+(INTERFACE!C$11)))*100","v":{"$error":"#VALUE!"}},{"$f":"100-INTERFACE!F101","v":{"$error":"#VALUE!"}}]
[{"$f":"(MIN(INTERFACE!AD$15,INTERFACE!E102))","v":0},{"$f":"MIN(INTERFACE!C$47,INTERFACE!F102)","v":{"$error":"#VALUE!"}},{"$f":"100-INTERFACE!B102","v":{"$error":"#VALUE!"}},null,{"$f":"INTERFACE!E101+12/1200","v":0.51000000000000023},{"$f":"((INTERFACE!C$11)/((10^-(INTERFACE!E102))+(INTERFACE!C$11)))*100","v":{"$error":"#VALUE!"}},{"$f":"100-INTERFACE!F102","v":{"$error":"#VALUE!"}}]
[{"$f":"(MIN(INTERFACE!AD$15,INTERFACE!E103))","v":0},{"$f":"MIN(INTERFACE!C$47,INTERFACE!F103)","v":{"$error":"#VALUE!"}},{"$f":"100-INTERFACE!B103","v":{"$error":"#VALUE!"}},null,{"$f":"INTERFACE!E102+12/1200","v":0.52000000000000024},{"$f":"((INTERFACE!C$11)/((10^-(INTERFACE!E103))+(INTERFACE!C$11)))*100","v":{"$error":"#VALUE!"}},{"$f":"100-INTERFACE!F103","v":{"$error":"#VALUE!"}}]
[{"$f":"(MIN(INTERFACE!AD$15,INTERFACE!E104))","v":0},{"$f":"MIN(INTERFACE!C$47,INTERFACE!F104)","v":{"$error":"#VALUE!"}},{"$f":"100-INTERFACE!B104","v":{"$error":"#VALUE!"}},null,{"$f":"INTERFACE!E103+12/1200","v":0.53000000000000025},{"$f":"((INTERFACE!C$11)/((10^-(INTERFACE!E104))+(INTERFACE!C$11)))*100","v":{"$error":"#VALUE!"}},{"$f":"100-INTERFACE!F104","v":{"$error":"#VALUE!"}}]
[{"$f":"(MIN(INTERFACE!AD$15,INTERFACE!E105))","v":0},{"$f":"MIN(INTERFACE!C$47,INTERFACE!F105)","v":{"$error":"#VALUE!"}},{"$f":"100-INTERFACE!B105","v":{"$error":"#VALUE!"}},null,{"$f":"INTERFACE!E104+12/1200","v":0.54000000000000026},{"$f":"((INTERFACE!C$11)/((10^-(INTERFACE!E105))+(INTERFACE!C$11)))*100","v":{"$error":"#VALUE!"}},{"$f":"100-INTERFACE!F105","v":{"$error":"#VALUE!"}}]
[{"$f":"(MIN(INTERFACE!AD$15,INTERFACE!E106))","v":0},{"$f":"MIN(INTERFACE!C$47,INTERFACE!F106)","v":{"$error":"#VALUE!"}},{"$f":"100-INTERFACE!B106","v":{"$error":"#VALUE!"}},null,{"$f":"INTERFACE!E105+12/1200","v":0.55000000000000027},{"$f":"((INTERFACE!C$11)/((10^-(INTERFACE!E106))+(INTERFACE!C$11)))*100","v":{"$error":"#VALUE!"}},{"$f":"100-INTERFACE!F106","v":{"$error":"#VALUE!"}}]
[{"$f":"(MIN(INTERFACE!AD$15,INTERFACE!E107))","v":0},{"$f":"MIN(INTERFACE!C$47,INTERFACE!F107)","v":{"$error":"#VALUE!"}},{"$f":"100-INTERFACE!B107","v":{"$error":"#VALUE!"}},null,{"$f":"INTERFACE!E106+12/1200","v":0.56000000000000028},{"$f":"((INTERFACE!C$11)/((10^-(INTERFACE!E107))+(INTERFACE!C$11)))*100","v":{"$error":"#VALUE!"}},{"$f":"100-INTERFACE!F107","v":{"$error":"#VALUE!"}}]
[{"$f":"(MIN(INTERFACE!AD$15,INTERFACE!E108))","v":0},{"$f":"MIN(INTERFACE!C$47,INTERFACE!F108)","v":{"$error":"#VALUE!"}},{"$f":"100-INTERFACE!B108","v":{"$error":"#VALUE!"}},null,{"$f":"INTERFACE!E107+12/1200","v":0.57000000000000028},{"$f":"((INTERFACE!C$11)/((10^-(INTERFACE!E108))+(INTERFACE!C$11)))*100","v":{"$error":"#VALUE!"}},{"$f":"100-INTERFACE!F108","v":{"$error":"#VALUE!"}}]
[{"$f":"(MIN(INTERFACE!AD$15,INTERFACE!E109))","v":0},{"$f":"MIN(INTERFACE!C$47,INTERFACE!F109)","v":{"$error":"#VALUE!"}},{"$f":"100-INTERFACE!B109","v":{"$error":"#VALUE!"}},null,{"$f":"INTERFACE!E108+12/1200","v":0.58000000000000029},{"$f":"((INTERFACE!C$11)/((10^-(INTERFACE!E109))+(INTERFACE!C$11)))*100","v":{"$error":"#VALUE!"}},{"$f":"100-INTERFACE!F109","v":{"$error":"#VALUE!"}}]
[{"$f":"(MIN(INTERFACE!AD$15,INTERFACE!E110))","v":0},{"$f":"MIN(INTERFACE!C$47,INTERFACE!F110)","v":{"$error":"#VALUE!"}},{"$f":"100-INTERFACE!B110","v":{"$error":"#VALUE!"}},null,{"$f":"INTERFACE!E109+12/1200","v":0.5900000000000003},{"$f":"((INTERFACE!C$11)/((10^-(INTERFACE!E110))+(INTERFACE!C$11)))*100","v":{"$error":"#VALUE!"}},{"$f":"100-INTERFACE!F110","v":{"$error":"#VALUE!"}}]
[{"$f":"(MIN(INTERFACE!AD$15,INTERFACE!E111))","v":0},{"$f":"MIN(INTERFACE!C$47,INTERFACE!F111)","v":{"$error":"#VALUE!"}},{"$f":"100-INTERFACE!B111","v":{"$error":"#VALUE!"}},null,{"$f":"INTERFACE!E110+12/1200","v":0.60000000000000031},{"$f":"((INTERFACE!C$11)/((10^-(INTERFACE!E111))+(INTERFACE!C$11)))*100","v":{"$error":"#VALUE!"}},{"$f":"100-INTERFACE!F111","v":{"$error":"#VALUE!"}}]
[{"$f":"(MIN(INTERFACE!AD$15,INTERFACE!E112))","v":0},{"$f":"MIN(INTERFACE!C$47,INTERFACE!F112)","v":{"$error":"#VALUE!"}},{"$f":"100-INTERFACE!B112","v":{"$error":"#VALUE!"}},null,{"$f":"INTERFACE!E111+12/1200","v":0.61000000000000032},{"$f":"((INTERFACE!C$11)/((10^-(INTERFACE!E112))+(INTERFACE!C$11)))*100","v":{"$error":"#VALUE!"}},{"$f":"100-INTERFACE!F112","v":{"$error":"#VALUE!"}}]
[{"$f":"(MIN(INTERFACE!AD$15,INTERFACE!E113))","v":0},{"$f":"MIN(INTERFACE!C$47,INTERFACE!F113)","v":{"$error":"#VALUE!"}},{"$f":"100-INTERFACE!B113","v":{"$error":"#VALUE!"}},null,{"$f":"INTERFACE!E112+12/1200","v":0.62000000000000033},{"$f":"((INTERFACE!C$11)/((10^-(INTERFACE!E113))+(INTERFACE!C$11)))*100","v":{"$error":"#VALUE!"}},{"$f":"100-INTERFACE!F113","v":{"$error":"#VALUE!"}}]
[{"$f":"(MIN(INTERFACE!AD$15,INTERFACE!E114))","v":0},{"$f":"MIN(INTERFACE!C$47,INTERFACE!F114)","v":{"$error":"#VALUE!"}},{"$f":"100-INTERFACE!B114","v":{"$error":"#VALUE!"}},null,{"$f":"INTERFACE!E113+12/1200","v":0.63000000000000034},{"$f":"((INTERFACE!C$11)/((10^-(INTERFACE!E114))+(INTERFACE!C$11)))*100","v":{"$error":"#VALUE!"}},{"$f":"100-INTERFACE!F114","v":{"$error":"#VALUE!"}}]
[{"$f":"(MIN(INTERFACE!AD$15,INTERFACE!E115))","v":0},{"$f":"MIN(INTERFACE!C$47,INTERFACE!F115)","v":{"$error":"#VALUE!"}},{"$f":"100-INTERFACE!B115","v":{"$error":"#VALUE!"}},null,{"$f":"INTERFACE!E114+12/1200","v":0.64000000000000035},{"$f":"((INTERFACE!C$11)/((10^-(INTERFACE!E115))+(INTERFACE!C$11)))*100","v":{"$error":"#VALUE!"}},{"$f":"100-INTERFACE!F115","v":{"$error":"#VALUE!"}}]
[{"$f":"(MIN(INTERFACE!AD$15,INTERFACE!E116))","v":0},{"$f":"MIN(INTERFACE!C$47,INTERFACE!F116)","v":{"$error":"#VALUE!"}},{"$f":"100-INTERFACE!B116","v":{"$error":"#VALUE!"}},null,{"$f":"INTERFACE!E115+12/1200","v":0.65000000000000036},{"$f":"((INTERFACE!C$11)/((10^-(INTERFACE!E116))+(INTERFACE!C$11)))*100","v":{"$error":"#VALUE!"}},{"$f":"100-INTERFACE!F116","v":{"$error":"#VALUE!"}}]
[{"$f":"(MIN(INTERFACE!AD$15,INTERFACE!E117))","v":0},{"$f":"MIN(INTERFACE!C$47,INTERFACE!F117)","v":{"$error":"#VALUE!"}},{"$f":"100-INTERFACE!B117","v":{"$error":"#VALUE!"}},null,{"$f":"INTERFACE!E116+12/1200","v":0.66000000000000036},{"$f":"((INTERFACE!C$11)/((10^-(INTERFACE!E117))+(INTERFACE!C$11)))*100","v":{"$error":"#VALUE!"}},{"$f":"100-INTERFACE!F117","v":{"$error":"#VALUE!"}}]
[{"$f":"(MIN(INTERFACE!AD$15,INTERFACE!E118))","v":0},{"$f":"MIN(INTERFACE!C$47,INTERFACE!F118)","v":{"$error":"#VALUE!"}},{"$f":"100-INTERFACE!B118","v":{"$error":"#VALUE!"}},null,{"$f":"INTERFACE!E117+12/1200","v":0.67000000000000037},{"$f":"((INTERFACE!C$11)/((10^-(INTERFACE!E118))+(INTERFACE!C$11)))*100","v":{"$error":"#VALUE!"}},{"$f":"100-INTERFACE!F118","v":{"$error":"#VALUE!"}}]
[{"$f":"(MIN(INTERFACE!AD$15,INTERFACE!E119))","v":0},{"$f":"MIN(INTERFACE!C$47,INTERFACE!F119)","v":{"$error":"#VALUE!"}},{"$f":"100-INTERFACE!B119","v":{"$error":"#VALUE!"}},null,{"$f":"INTERFACE!E118+12/1200","v":0.68000000000000038},{"$f":"((INTERFACE!C$11)/((10^-(INTERFACE!E119))+(INTERFACE!C$11)))*100","v":{"$error":"#VALUE!"}},{"$f":"100-INTERFACE!F119","v":{"$error":"#VALUE!"}}]
[{"$f":"(MIN(INTERFACE!AD$15,INTERFACE!E120))","v":0},{"$f":"MIN(INTERFACE!C$47,INTERFACE!F120)","v":{"$error":"#VALUE!"}},{"$f":"100-INTERFACE!B120","v":{"$error":"#VALUE!"}},null,{"$f":"INTERFACE!E119+12/1200","v":0.69000000000000039},{"$f":"((INTERFACE!C$11)/((10^-(INTERFACE!E120))+(INTERFACE!C$11)))*100","v":{"$error":"#VALUE!"}},{"$f":"100-INTERFACE!F120","v":{"$error":"#VALUE!"}}]
[{"$f":"(MIN(INTERFACE!AD$15,INTERFACE!E121))","v":0},{"$f":"MIN(INTERFACE!C$47,INTERFACE!F121)","v":{"$error":"#VALUE!"}},{"$f":"100-INTERFACE!B121","v":{"$error":"#VALUE!"}},null,{"$f":"INTERFACE!E120+12/1200","v":0.7000000000000004},{"$f":"((INTERFACE!C$11)/((10^-(INTERFACE!E121))+(INTERFACE!C$11)))*100","v":{"$error":"#VALUE!"}},{"$f":"100-INTERFACE!F121","v":{"$error":"#VALUE!"}}]
[{"$f":"(MIN(INTERFACE!AD$15,INTERFACE!E122))","v":0},{"$f":"MIN(INTERFACE!C$47,INTERFACE!F122)","v":{"$error":"#VALUE!"}},{"$f":"100-INTERFACE!B122","v":{"$error":"#VALUE!"}},null,{"$f":"INTERFACE!E121+12/1200","v":0.71000000000000041},{"$f":"((INTERFACE!C$11)/((10^-(INTERFACE!E122))+(INTERFACE!C$11)))*100","v":{"$error":"#VALUE!"}},{"$f":"100-INTERFACE!F122","v":{"$error":"#VALUE!"}}]
[{"$f":"(MIN(INTERFACE!AD$15,INTERFACE!E123))","v":0},{"$f":"MIN(INTERFACE!C$47,INTERFACE!F123)","v":{"$error":"#VALUE!"}},{"$f":"100-INTERFACE!B123","v":{"$error":"#VALUE!"}},null,{"$f":"INTERFACE!E122+12/1200","v":0.72000000000000042},{"$f":"((INTERFACE!C$11)/((10^-(INTERFACE!E123))+(INTERFACE!C$11)))*100","v":{"$error":"#VALUE!"}},{"$f":"100-INTERFACE!F123","v":{"$error":"#VALUE!"}}]
[{"$f":"(MIN(INTERFACE!AD$15,INTERFACE!E124))","v":0},{"$f":"MIN(INTERFACE!C$47,INTERFACE!F124)","v":{"$error":"#VALUE!"}},{"$f":"100-INTERFACE!B124","v":{"$error":"#VALUE!"}},null,{"$f":"INTERFACE!E123+12/1200","v":0.73000000000000043},{"$f":"((INTERFACE!C$11)/((10^-(INTERFACE!E124))+(INTERFACE!C$11)))*100","v":{"$error":"#VALUE!"}},{"$f":"100-INTERFACE!F124","v":{"$error":"#VALUE!"}}]
[{"$f":"(MIN(INTERFACE!AD$15,INTERFACE!E125))","v":0},{"$f":"MIN(INTERFACE!C$47,INTERFACE!F125)","v":{"$error":"#VALUE!"}},{"$f":"100-INTERFACE!B125","v":{"$error":"#VALUE!"}},null,{"$f":"INTERFACE!E124+12/1200","v":0.74000000000000044},{"$f":"((INTERFACE!C$11)/((10^-(INTERFACE!E125))+(INTERFACE!C$11)))*100","v":{"$error":"#VALUE!"}},{"$f":"100-INTERFACE!F125","v":{"$error":"#VALUE!"}}]
[{"$f":"(MIN(INTERFACE!AD$15,INTERFACE!E126))","v":0},{"$f":"MIN(INTERFACE!C$47,INTERFACE!F126)","v":{"$error":"#VALUE!"}},{"$f":"100-INTERFACE!B126","v":{"$error":"#VALUE!"}},null,{"$f":"INTERFACE!E125+12/1200","v":0.75000000000000044},{"$f":"((INTERFACE!C$11)/((10^-(INTERFACE!E126))+(INTERFACE!C$11)))*100","v":{"$error":"#VALUE!"}},{"$f":"100-INTERFACE!F126","v":{"$error":"#VALUE!"}}]
[{"$f":"(MIN(INTERFACE!AD$15,INTERFACE!E127))","v":0},{"$f":"MIN(INTERFACE!C$47,INTERFACE!F127)","v":{"$error":"#VALUE!"}},{"$f":"100-INTERFACE!B127","v":{"$error":"#VALUE!"}},null,{"$f":"INTERFACE!E126+12/1200","v":0.76000000000000045},{"$f":"((INTERFACE!C$11)/((10^-(INTERFACE!E127))+(INTERFACE!C$11)))*100","v":{"$error":"#VALUE!"}},{"$f":"100-INTERFACE!F127","v":{"$error":"#VALUE!"}}]
[{"$f":"(MIN(INTERFACE!AD$15,INTERFACE!E128))","v":0},{"$f":"MIN(INTERFACE!C$47,INTERFACE!F128)","v":{"$error":"#VALUE!"}},{"$f":"100-INTERFACE!B128","v":{"$error":"#VALUE!"}},null,{"$f":"INTERFACE!E127+12/1200","v":0.77000000000000046},{"$f":"((INTERFACE!C$11)/((10^-(INTERFACE!E128))+(INTERFACE!C$11)))*100","v":{"$error":"#VALUE!"}},{"$f":"100-INTERFACE!F128","v":{"$error":"#VALUE!"}}]
[{"$f":"(MIN(INTERFACE!AD$15,INTERFACE!E129))","v":0},{"$f":"MIN(INTERFACE!C$47,INTERFACE!F129)","v":{"$error":"#VALUE!"}},{"$f":"100-INTERFACE!B129","v":{"$error":"#VALUE!"}},null,{"$f":"INTERFACE!E128+12/1200","v":0.78000000000000047},{"$f":"((INTERFACE!C$11)/((10^-(INTERFACE!E129))+(INTERFACE!C$11)))*100","v":{"$error":"#VALUE!"}},{"$f":"100-INTERFACE!F129","v":{"$error":"#VALUE!"}}]
[{"$f":"(MIN(INTERFACE!AD$15,INTERFACE!E130))","v":0},{"$f":"MIN(INTERFACE!C$47,INTERFACE!F130)","v":{"$error":"#VALUE!"}},{"$f":"100-INTERFACE!B130","v":{"$error":"#VALUE!"}},null,{"$f":"INTERFACE!E129+12/1200","v":0.79000000000000048},{"$f":"((INTERFACE!C$11)/((10^-(INTERFACE!E130))+(INTERFACE!C$11)))*100","v":{"$error":"#VALUE!"}},{"$f":"100-INTERFACE!F130","v":{"$error":"#VALUE!"}}]
[{"$f":"(MIN(INTERFACE!AD$15,INTERFACE!E131))","v":0},{"$f":"MIN(INTERFACE!C$47,INTERFACE!F131)","v":{"$error":"#VALUE!"}},{"$f":"100-INTERFACE!B131","v":{"$error":"#VALUE!"}},null,{"$f":"INTERFACE!E130+12/1200","v":0.80000000000000049},{"$f":"((INTERFACE!C$11)/((10^-(INTERFACE!E131))+(INTERFACE!C$11)))*100","v":{"$error":"#VALUE!"}},{"$f":"100-INTERFACE!F131","v":{"$error":"#VALUE!"}}]
[{"$f":"(MIN(INTERFACE!AD$15,INTERFACE!E132))","v":0},{"$f":"MIN(INTERFACE!C$47,INTERFACE!F132)","v":{"$error":"#VALUE!"}},{"$f":"100-INTERFACE!B132","v":{"$error":"#VALUE!"}},null,{"$f":"INTERFACE!E131+12/1200","v":0.8100000000000005},{"$f":"((INTERFACE!C$11)/((10^-(INTERFACE!E132))+(INTERFACE!C$11)))*100","v":{"$error":"#VALUE!"}},{"$f":"100-INTERFACE!F132","v":{"$error":"#VALUE!"}}]
[{"$f":"(MIN(INTERFACE!AD$15,INTERFACE!E133))","v":0},{"$f":"MIN(INTERFACE!C$47,INTERFACE!F133)","v":{"$error":"#VALUE!"}},{"$f":"100-INTERFACE!B133","v":{"$error":"#VALUE!"}},null,{"$f":"INTERFACE!E132+12/1200","v":0.82000000000000051},{"$f":"((INTERFACE!C$11)/((10^-(INTERFACE!E133))+(INTERFACE!C$11)))*100","v":{"$error":"#VALUE!"}},{"$f":"100-INTERFACE!F133","v":{"$error":"#VALUE!"}}]
[{"$f":"(MIN(INTERFACE!AD$15,INTERFACE!E134))","v":0},{"$f":"MIN(INTERFACE!C$47,INTERFACE!F134)","v":{"$error":"#VALUE!"}},{"$f":"100-INTERFACE!B134","v":{"$error":"#VALUE!"}},null,{"$f":"INTERFACE!E133+12/1200","v":0.83000000000000052},{"$f":"((INTERFACE!C$11)/((10^-(INTERFACE!E134))+(INTERFACE!C$11)))*100","v":{"$error":"#VALUE!"}},{"$f":"100-INTERFACE!F134","v":{"$error":"#VALUE!"}}]
[{"$f":"(MIN(INTERFACE!AD$15,INTERFACE!E135))","v":0},{"$f":"MIN(INTERFACE!C$47,INTERFACE!F135)","v":{"$error":"#VALUE!"}},{"$f":"100-INTERFACE!B135","v":{"$error":"#VALUE!"}},null,{"$f":"INTERFACE!E134+12/1200","v":0.84000000000000052},{"$f":"((INTERFACE!C$11)/((10^-(INTERFACE!E135))+(INTERFACE!C$11)))*100","v":{"$error":"#VALUE!"}},{"$f":"100-INTERFACE!F135","v":{"$error":"#VALUE!"}}]
[{"$f":"(MIN(INTERFACE!AD$15,INTERFACE!E136))","v":0},{"$f":"MIN(INTERFACE!C$47,INTERFACE!F136)","v":{"$error":"#VALUE!"}},{"$f":"100-INTERFACE!B136","v":{"$error":"#VALUE!"}},null,{"$f":"INTERFACE!E135+12/1200","v":0.85000000000000053},{"$f":"((INTERFACE!C$11)/((10^-(INTERFACE!E136))+(INTERFACE!C$11)))*100","v":{"$error":"#VALUE!"}},{"$f":"100-INTERFACE!F136","v":{"$error":"#VALUE!"}}]
[{"$f":"(MIN(INTERFACE!AD$15,INTERFACE!E137))","v":0},{"$f":"MIN(INTERFACE!C$47,INTERFACE!F137)","v":{"$error":"#VALUE!"}},{"$f":"100-INTERFACE!B137","v":{"$error":"#VALUE!"}},null,{"$f":"INTERFACE!E136+12/1200","v":0.86000000000000054},{"$f":"((INTERFACE!C$11)/((10^-(INTERFACE!E137))+(INTERFACE!C$11)))*100","v":{"$error":"#VALUE!"}},{"$f":"100-INTERFACE!F137","v":{"$error":"#VALUE!"}}]
[{"$f":"(MIN(INTERFACE!AD$15,INTERFACE!E138))","v":0},{"$f":"MIN(INTERFACE!C$47,INTERFACE!F138)","v":{"$error":"#VALUE!"}},{"$f":"100-INTERFACE!B138","v":{"$error":"#VALUE!"}},null,{"$f":"INTERFACE!E137+12/1200","v":0.87000000000000055},{"$f":"((INTERFACE!C$11)/((10^-(INTERFACE!E138))+(INTERFACE!C$11)))*100","v":{"$error":"#VALUE!"}},{"$f":"100-INTERFACE!F138","v":{"$error":"#VALUE!"}}]
[{"$f":"(MIN(INTERFACE!AD$15,INTERFACE!E139))","v":0},{"$f":"MIN(INTERFACE!C$47,INTERFACE!F139)","v":{"$error":"#VALUE!"}},{"$f":"100-INTERFACE!B139","v":{"$error":"#VALUE!"}},null,{"$f":"INTERFACE!E138+12/1200","v":0.88000000000000056},{"$f":"((INTERFACE!C$11)/((10^-(INTERFACE!E139))+(INTERFACE!C$11)))*100","v":{"$error":"#VALUE!"}},{"$f":"100-INTERFACE!F139","v":{"$error":"#VALUE!"}}]
[{"$f":"(MIN(INTERFACE!AD$15,INTERFACE!E140))","v":0},{"$f":"MIN(INTERFACE!C$47,INTERFACE!F140)","v":{"$error":"#VALUE!"}},{"$f":"100-INTERFACE!B140","v":{"$error":"#VALUE!"}},null,{"$f":"INTERFACE!E139+12/1200","v":0.89000000000000057},{"$f":"((INTERFACE!C$11)/((10^-(INTERFACE!E140))+(INTERFACE!C$11)))*100","v":{"$error":"#VALUE!"}},{"$f":"100-INTERFACE!F140","v":{"$error":"#VALUE!"}}]
[{"$f":"(MIN(INTERFACE!AD$15,INTERFACE!E141))","v":0},{"$f":"MIN(INTERFACE!C$47,INTERFACE!F141)","v":{"$error":"#VALUE!"}},{"$f":"100-INTERFACE!B141","v":{"$error":"#VALUE!"}},null,{"$f":"INTERFACE!E140+12/1200","v":0.90000000000000058},{"$f":"((INTERFACE!C$11)/((10^-(INTERFACE!E141))+(INTERFACE!C$11)))*100","v":{"$error":"#VALUE!"}},{"$f":"100-INTERFACE!F141","v":{"$error":"#VALUE!"}}]
[{"$f":"(MIN(INTERFACE!AD$15,INTERFACE!E142))","v":0},{"$f":"MIN(INTERFACE!C$47,INTERFACE!F142)","v":{"$error":"#VALUE!"}},{"$f":"100-INTERFACE!B142","v":{"$error":"#VALUE!"}},null,{"$f":"INTERFACE!E141+12/1200","v":0.91000000000000059},{"$f":"((INTERFACE!C$11)/((10^-(INTERFACE!E142))+(INTERFACE!C$11)))*100","v":{"$error":"#VALUE!"}},{"$f":"100-INTERFACE!F142","v":{"$error":"#VALUE!"}}]
[{"$f":"(MIN(INTERFACE!AD$15,INTERFACE!E143))","v":0},{"$f":"MIN(INTERFACE!C$47,INTERFACE!F143)","v":{"$error":"#VALUE!"}},{"$f":"100-INTERFACE!B143","v":{"$error":"#VALUE!"}},null,{"$f":"INTERFACE!E142+12/1200","v":0.9200000000000006},{"$f":"((INTERFACE!C$11)/((10^-(INTERFACE!E143))+(INTERFACE!C$11)))*100","v":{"$error":"#VALUE!"}},{"$f":"100-INTERFACE!F143","v":{"$error":"#VALUE!"}}]
[{"$f":"(MIN(INTERFACE!AD$15,INTERFACE!E144))","v":0},{"$f":"MIN(INTERFACE!C$47,INTERFACE!F144)","v":{"$error":"#VALUE!"}},{"$f":"100-INTERFACE!B144","v":{"$error":"#VALUE!"}},null,{"$f":"INTERFACE!E143+12/1200","v":0.9300000000000006},{"$f":"((INTERFACE!C$11)/((10^-(INTERFACE!E144))+(INTERFACE!C$11)))*100","v":{"$error":"#VALUE!"}},{"$f":"100-INTERFACE!F144","v":{"$error":"#VALUE!"}}]
[{"$f":"(MIN(INTERFACE!AD$15,INTERFACE!E145))","v":0},{"$f":"MIN(INTERFACE!C$47,INTERFACE!F145)","v":{"$error":"#VALUE!"}},{"$f":"100-INTERFACE!B145","v":{"$error":"#VALUE!"}},null,{"$f":"INTERFACE!E144+12/1200","v":0.94000000000000061},{"$f":"((INTERFACE!C$11)/((10^-(INTERFACE!E145))+(INTERFACE!C$11)))*100","v":{"$error":"#VALUE!"}},{"$f":"100-INTERFACE!F145","v":{"$error":"#VALUE!"}}]
[{"$f":"(MIN(INTERFACE!AD$15,INTERFACE!E146))","v":0},{"$f":"MIN(INTERFACE!C$47,INTERFACE!F146)","v":{"$error":"#VALUE!"}},{"$f":"100-INTERFACE!B146","v":{"$error":"#VALUE!"}},null,{"$f":"INTERFACE!E145+12/1200","v":0.95000000000000062},{"$f":"((INTERFACE!C$11)/((10^-(INTERFACE!E146))+(INTERFACE!C$11)))*100","v":{"$error":"#VALUE!"}},{"$f":"100-INTERFACE!F146","v":{"$error":"#VALUE!"}}]
[{"$f":"(MIN(INTERFACE!AD$15,INTERFACE!E147))","v":0},{"$f":"MIN(INTERFACE!C$47,INTERFACE!F147)","v":{"$error":"#VALUE!"}},{"$f":"100-INTERFACE!B147","v":{"$error":"#VALUE!"}},null,{"$f":"INTERFACE!E146+12/1200","v":0.96000000000000063},{"$f":"((INTERFACE!C$11)/((10^-(INTERFACE!E147))+(INTERFACE!C$11)))*100","v":{"$error":"#VALUE!"}},{"$f":"100-INTERFACE!F147","v":{"$error":"#VALUE!"}}]
[{"$f":"(MIN(INTERFACE!AD$15,INTERFACE!E148))","v":0},{"$f":"MIN(INTERFACE!C$47,INTERFACE!F148)","v":{"$error":"#VALUE!"}},{"$f":"100-INTERFACE!B148","v":{"$error":"#VALUE!"}},null,{"$f":"INTERFACE!E147+12/1200","v":0.97000000000000064},{"$f":"((INTERFACE!C$11)/((10^-(INTERFACE!E148))+(INTERFACE!C$11)))*100","v":{"$error":"#VALUE!"}},{"$f":"100-INTERFACE!F148","v":{"$error":"#VALUE!"}}]
[{"$f":"(MIN(INTERFACE!AD$15,INTERFACE!E149))","v":0},{"$f":"MIN(INTERFACE!C$47,INTERFACE!F149)","v":{"$error":"#VALUE!"}},{"$f":"100-INTERFACE!B149","v":{"$error":"#VALUE!"}},null,{"$f":"INTERFACE!E148+12/1200","v":0.98000000000000065},{"$f":"((INTERFACE!C$11)/((10^-(INTERFACE!E149))+(INTERFACE!C$11)))*100","v":{"$error":"#VALUE!"}},{"$f":"100-INTERFACE!F149","v":{"$error":"#VALUE!"}}]
[{"$f":"(MIN(INTERFACE!AD$15,INTERFACE!E150))","v":0},{"$f":"MIN(INTERFACE!C$47,INTERFACE!F150)","v":{"$error":"#VALUE!"}},{"$f":"100-INTERFACE!B150","v":{"$error":"#VALUE!"}},null,{"$f":"INTERFACE!E149+12/1200","v":0.99000000000000066},{"$f":"((INTERFACE!C$11)/((10^-(INTERFACE!E150))+(INTERFACE!C$11)))*100","v":{"$error":"#VALUE!"}},{"$f":"100-INTERFACE!F150","v":{"$error":"#VALUE!"}}]
[{"$f":"(MIN(INTERFACE!AD$15,INTERFACE!E151))","v":0},{"$f":"MIN(INTERFACE!C$47,INTERFACE!F151)","v":{"$error":"#VALUE!"}},{"$f":"100-INTERFACE!B151","v":{"$error":"#VALUE!"}},null,{"$f":"INTERFACE!E150+12/1200","v":1.0000000000000007},{"$f":"((INTERFACE!C$11)/((10^-(INTERFACE!E151))+(INTERFACE!C$11)))*100","v":{"$error":"#VALUE!"}},{"$f":"100-INTERFACE!F151","v":{"$error":"#VALUE!"}}]
[{"$f":"(MIN(INTERFACE!AD$15,INTERFACE!E152))","v":0},{"$f":"MIN(INTERFACE!C$47,INTERFACE!F152)","v":{"$error":"#VALUE!"}},{"$f":"100-INTERFACE!B152","v":{"$error":"#VALUE!"}},null,{"$f":"INTERFACE!E151+12/1200","v":1.0100000000000007},{"$f":"((INTERFACE!C$11)/((10^-(INTERFACE!E152))+(INTERFACE!C$11)))*100","v":{"$error":"#VALUE!"}},{"$f":"100-INTERFACE!F152","v":{"$error":"#VALUE!"}}]
[{"$f":"(MIN(INTERFACE!AD$15,INTERFACE!E153))","v":0},{"$f":"MIN(INTERFACE!C$47,INTERFACE!F153)","v":{"$error":"#VALUE!"}},{"$f":"100-INTERFACE!B153","v":{"$error":"#VALUE!"}},null,{"$f":"INTERFACE!E152+12/1200","v":1.0200000000000007},{"$f":"((INTERFACE!C$11)/((10^-(INTERFACE!E153))+(INTERFACE!C$11)))*100","v":{"$error":"#VALUE!"}},{"$f":"100-INTERFACE!F153","v":{"$error":"#VALUE!"}}]
[{"$f":"(MIN(INTERFACE!AD$15,INTERFACE!E154))","v":0},{"$f":"MIN(INTERFACE!C$47,INTERFACE!F154)","v":{"$error":"#VALUE!"}},{"$f":"100-INTERFACE!B154","v":{"$error":"#VALUE!"}},null,{"$f":"INTERFACE!E153+12/1200","v":1.0300000000000007},{"$f":"((INTERFACE!C$11)/((10^-(INTERFACE!E154))+(INTERFACE!C$11)))*100","v":{"$error":"#VALUE!"}},{"$f":"100-INTERFACE!F154","v":{"$error":"#VALUE!"}}]
[{"$f":"(MIN(INTERFACE!AD$15,INTERFACE!E155))","v":0},{"$f":"MIN(INTERFACE!C$47,INTERFACE!F155)","v":{"$error":"#VALUE!"}},{"$f":"100-INTERFACE!B155","v":{"$error":"#VALUE!"}},null,{"$f":"INTERFACE!E154+12/1200","v":1.0400000000000007},{"$f":"((INTERFACE!C$11)/((10^-(INTERFACE!E155))+(INTERFACE!C$11)))*100","v":{"$error":"#VALUE!"}},{"$f":"100-INTERFACE!F155","v":{"$error":"#VALUE!"}}]
[{"$f":"(MIN(INTERFACE!AD$15,INTERFACE!E156))","v":0},{"$f":"MIN(INTERFACE!C$47,INTERFACE!F156)","v":{"$error":"#VALUE!"}},{"$f":"100-INTERFACE!B156","v":{"$error":"#VALUE!"}},null,{"$f":"INTERFACE!E155+12/1200","v":1.0500000000000007},{"$f":"((INTERFACE!C$11)/((10^-(INTERFACE!E156))+(INTERFACE!C$11)))*100","v":{"$error":"#VALUE!"}},{"$f":"100-INTERFACE!F156","v":{"$error":"#VALUE!"}}]
[{"$f":"(MIN(INTERFACE!AD$15,INTERFACE!E157))","v":0},{"$f":"MIN(INTERFACE!C$47,INTERFACE!F157)","v":{"$error":"#VALUE!"}},{"$f":"100-INTERFACE!B157","v":{"$error":"#VALUE!"}},null,{"$f":"INTERFACE!E156+12/1200","v":1.0600000000000007},{"$f":"((INTERFACE!C$11)/((10^-(INTERFACE!E157))+(INTERFACE!C$11)))*100","v":{"$error":"#VALUE!"}},{"$f":"100-INTERFACE!F157","v":{"$error":"#VALUE!"}}]
[{"$f":"(MIN(INTERFACE!AD$15,INTERFACE!E158))","v":0},{"$f":"MIN(INTERFACE!C$47,INTERFACE!F158)","v":{"$error":"#VALUE!"}},{"$f":"100-INTERFACE!B158","v":{"$error":"#VALUE!"}},null,{"$f":"INTERFACE!E157+12/1200","v":1.0700000000000007},{"$f":"((INTERFACE!C$11)/((10^-(INTERFACE!E158))+(INTERFACE!C$11)))*100","v":{"$error":"#VALUE!"}},{"$f":"100-INTERFACE!F158","v":{"$error":"#VALUE!"}}]
[{"$f":"(MIN(INTERFACE!AD$15,INTERFACE!E159))","v":0},{"$f":"MIN(INTERFACE!C$47,INTERFACE!F159)","v":{"$error":"#VALUE!"}},{"$f":"100-INTERFACE!B159","v":{"$error":"#VALUE!"}},null,{"$f":"INTERFACE!E158+12/1200","v":1.0800000000000007},{"$f":"((INTERFACE!C$11)/((10^-(INTERFACE!E159))+(INTERFACE!C$11)))*100","v":{"$error":"#VALUE!"}},{"$f":"100-INTERFACE!F159","v":{"$error":"#VALUE!"}}]
[{"$f":"(MIN(INTERFACE!AD$15,INTERFACE!E160))","v":0},{"$f":"MIN(INTERFACE!C$47,INTERFACE!F160)","v":{"$error":"#VALUE!"}},{"$f":"100-INTERFACE!B160","v":{"$error":"#VALUE!"}},null,{"$f":"INTERFACE!E159+12/1200","v":1.0900000000000007},{"$f":"((INTERFACE!C$11)/((10^-(INTERFACE!E160))+(INTERFACE!C$11)))*100","v":{"$error":"#VALUE!"}},{"$f":"100-INTERFACE!F160","v":{"$error":"#VALUE!"}}]
[{"$f":"(MIN(INTERFACE!AD$15,INTERFACE!E161))","v":0},{"$f":"MIN(INTERFACE!C$47,INTERFACE!F161)","v":{"$error":"#VALUE!"}},{"$f":"100-INTERFACE!B161","v":{"$error":"#VALUE!"}},null,{"$f":"INTERFACE!E160+12/1200","v":1.1000000000000008},{"$f":"((INTERFACE!C$11)/((10^-(INTERFACE!E161))+(INTERFACE!C$11)))*100","v":{"$error":"#VALUE!"}},{"$f":"100-INTERFACE!F161","v":{"$error":"#VALUE!"}}]
[{"$f":"(MIN(INTERFACE!AD$15,INTERFACE!E162))","v":0},{"$f":"MIN(INTERFACE!C$47,INTERFACE!F162)","v":{"$error":"#VALUE!"}},{"$f":"100-INTERFACE!B162","v":{"$error":"#VALUE!"}},null,{"$f":"INTERFACE!E161+12/1200","v":1.1100000000000008},{"$f":"((INTERFACE!C$11)/((10^-(INTERFACE!E162))+(INTERFACE!C$11)))*100","v":{"$error":"#VALUE!"}},{"$f":"100-INTERFACE!F162","v":{"$error":"#VALUE!"}}]
[{"$f":"(MIN(INTERFACE!AD$15,INTERFACE!E163))","v":0},{"$f":"MIN(INTERFACE!C$47,INTERFACE!F163)","v":{"$error":"#VALUE!"}},{"$f":"100-INTERFACE!B163","v":{"$error":"#VALUE!"}},null,{"$f":"INTERFACE!E162+12/1200","v":1.1200000000000008},{"$f":"((INTERFACE!C$11)/((10^-(INTERFACE!E163))+(INTERFACE!C$11)))*100","v":{"$error":"#VALUE!"}},{"$f":"100-INTERFACE!F163","v":{"$error":"#VALUE!"}}]
[{"$f":"(MIN(INTERFACE!AD$15,INTERFACE!E164))","v":0},{"$f":"MIN(INTERFACE!C$47,INTERFACE!F164)","v":{"$error":"#VALUE!"}},{"$f":"100-INTERFACE!B164","v":{"$error":"#VALUE!"}},null,{"$f":"INTERFACE!E163+12/1200","v":1.1300000000000008},{"$f":"((INTERFACE!C$11)/((10^-(INTERFACE!E164))+(INTERFACE!C$11)))*100","v":{"$error":"#VALUE!"}},{"$f":"100-INTERFACE!F164","v":{"$error":"#VALUE!"}}]
[{"$f":"(MIN(INTERFACE!AD$15,INTERFACE!E165))","v":0},{"$f":"MIN(INTERFACE!C$47,INTERFACE!F165)","v":{"$error":"#VALUE!"}},{"$f":"100-INTERFACE!B165","v":{"$error":"#VALUE!"}},null,{"$f":"INTERFACE!E164+12/1200","v":1.1400000000000008},{"$f":"((INTERFACE!C$11)/((10^-(INTERFACE!E165))+(INTERFACE!C$11)))*100","v":{"$error":"#VALUE!"}},{"$f":"100-INTERFACE!F165","v":{"$error":"#VALUE!"}}]
[{"$f":"(MIN(INTERFACE!AD$15,INTERFACE!E166))","v":0},{"$f":"MIN(INTERFACE!C$47,INTERFACE!F166)","v":{"$error":"#VALUE!"}},{"$f":"100-INTERFACE!B166","v":{"$error":"#VALUE!"}},null,{"$f":"INTERFACE!E165+12/1200","v":1.1500000000000008},{"$f":"((INTERFACE!C$11)/((10^-(INTERFACE!E166))+(INTERFACE!C$11)))*100","v":{"$error":"#VALUE!"}},{"$f":"100-INTERFACE!F166","v":{"$error":"#VALUE!"}}]
[{"$f":"(MIN(INTERFACE!AD$15,INTERFACE!E167))","v":0},{"$f":"MIN(INTERFACE!C$47,INTERFACE!F167)","v":{"$error":"#VALUE!"}},{"$f":"100-INTERFACE!B167","v":{"$error":"#VALUE!"}},null,{"$f":"INTERFACE!E166+12/1200","v":1.1600000000000008},{"$f":"((INTERFACE!C$11)/((10^-(INTERFACE!E167))+(INTERFACE!C$11)))*100","v":{"$error":"#VALUE!"}},{"$f":"100-INTERFACE!F167","v":{"$error":"#VALUE!"}}]
[{"$f":"(MIN(INTERFACE!AD$15,INTERFACE!E168))","v":0},{"$f":"MIN(INTERFACE!C$47,INTERFACE!F168)","v":{"$error":"#VALUE!"}},{"$f":"100-INTERFACE!B168","v":{"$error":"#VALUE!"}},null,{"$f":"INTERFACE!E167+12/1200","v":1.1700000000000008},{"$f":"((INTERFACE!C$11)/((10^-(INTERFACE!E168))+(INTERFACE!C$11)))*100","v":{"$error":"#VALUE!"}},{"$f":"100-INTERFACE!F168","v":{"$error":"#VALUE!"}}]
[{"$f":"(MIN(INTERFACE!AD$15,INTERFACE!E169))","v":0},{"$f":"MIN(INTERFACE!C$47,INTERFACE!F169)","v":{"$error":"#VALUE!"}},{"$f":"100-INTERFACE!B169","v":{"$error":"#VALUE!"}},null,{"$f":"INTERFACE!E168+12/1200","v":1.1800000000000008},{"$f":"((INTERFACE!C$11)/((10^-(INTERFACE!E169))+(INTERFACE!C$11)))*100","v":{"$error":"#VALUE!"}},{"$f":"100-INTERFACE!F169","v":{"$error":"#VALUE!"}}]
[{"$f":"(MIN(INTERFACE!AD$15,INTERFACE!E170))","v":0},{"$f":"MIN(INTERFACE!C$47,INTERFACE!F170)","v":{"$error":"#VALUE!"}},{"$f":"100-INTERFACE!B170","v":{"$error":"#VALUE!"}},null,{"$f":"INTERFACE!E169+12/1200","v":1.1900000000000008},{"$f":"((INTERFACE!C$11)/((10^-(INTERFACE!E170))+(INTERFACE!C$11)))*100","v":{"$error":"#VALUE!"}},{"$f":"100-INTERFACE!F170","v":{"$error":"#VALUE!"}}]
[{"$f":"(MIN(INTERFACE!AD$15,INTERFACE!E171))","v":0},{"$f":"MIN(INTERFACE!C$47,INTERFACE!F171)","v":{"$error":"#VALUE!"}},{"$f":"100-INTERFACE!B171","v":{"$error":"#VALUE!"}},null,{"$f":"INTERFACE!E170+12/1200","v":1.2000000000000008},{"$f":"((INTERFACE!C$11)/((10^-(INTERFACE!E171))+(INTERFACE!C$11)))*100","v":{"$error":"#VALUE!"}},{"$f":"100-INTERFACE!F171","v":{"$error":"#VALUE!"}}]
[{"$f":"(MIN(INTERFACE!AD$15,INTERFACE!E172))","v":0},{"$f":"MIN(INTERFACE!C$47,INTERFACE!F172)","v":{"$error":"#VALUE!"}},{"$f":"100-INTERFACE!B172","v":{"$error":"#VALUE!"}},null,{"$f":"INTERFACE!E171+12/1200","v":1.2100000000000009},{"$f":"((INTERFACE!C$11)/((10^-(INTERFACE!E172))+(INTERFACE!C$11)))*100","v":{"$error":"#VALUE!"}},{"$f":"100-INTERFACE!F172","v":{"$error":"#VALUE!"}}]
[{"$f":"(MIN(INTERFACE!AD$15,INTERFACE!E173))","v":0},{"$f":"MIN(INTERFACE!C$47,INTERFACE!F173)","v":{"$error":"#VALUE!"}},{"$f":"100-INTERFACE!B173","v":{"$error":"#VALUE!"}},null,{"$f":"INTERFACE!E172+12/1200","v":1.2200000000000009},{"$f":"((INTERFACE!C$11)/((10^-(INTERFACE!E173))+(INTERFACE!C$11)))*100","v":{"$error":"#VALUE!"}},{"$f":"100-INTERFACE!F173","v":{"$error":"#VALUE!"}}]
[{"$f":"(MIN(INTERFACE!AD$15,INTERFACE!E174))","v":0},{"$f":"MIN(INTERFACE!C$47,INTERFACE!F174)","v":{"$error":"#VALUE!"}},{"$f":"100-INTERFACE!B174","v":{"$error":"#VALUE!"}},null,{"$f":"INTERFACE!E173+12/1200","v":1.2300000000000009},{"$f":"((INTERFACE!C$11)/((10^-(INTERFACE!E174))+(INTERFACE!C$11)))*100","v":{"$error":"#VALUE!"}},{"$f":"100-INTERFACE!F174","v":{"$error":"#VALUE!"}}]
[{"$f":"(MIN(INTERFACE!AD$15,INTERFACE!E175))","v":0},{"$f":"MIN(INTERFACE!C$47,INTERFACE!F175)","v":{"$error":"#VALUE!"}},{"$f":"100-INTERFACE!B175","v":{"$error":"#VALUE!"}},null,{"$f":"INTERFACE!E174+12/1200","v":1.2400000000000009},{"$f":"((INTERFACE!C$11)/((10^-(INTERFACE!E175))+(INTERFACE!C$11)))*100","v":{"$error":"#VALUE!"}},{"$f":"100-INTERFACE!F175","v":{"$error":"#VALUE!"}}]
[{"$f":"(MIN(INTERFACE!AD$15,INTERFACE!E176))","v":0},{"$f":"MIN(INTERFACE!C$47,INTERFACE!F176)","v":{"$error":"#VALUE!"}},{"$f":"100-INTERFACE!B176","v":{"$error":"#VALUE!"}},null,{"$f":"INTERFACE!E175+12/1200","v":1.2500000000000009},{"$f":"((INTERFACE!C$11)/((10^-(INTERFACE!E176))+(INTERFACE!C$11)))*100","v":{"$error":"#VALUE!"}},{"$f":"100-INTERFACE!F176","v":{"$error":"#VALUE!"}}]
[{"$f":"(MIN(INTERFACE!AD$15,INTERFACE!E177))","v":0},{"$f":"MIN(INTERFACE!C$47,INTERFACE!F177)","v":{"$error":"#VALUE!"}},{"$f":"100-INTERFACE!B177","v":{"$error":"#VALUE!"}},null,{"$f":"INTERFACE!E176+12/1200","v":1.2600000000000009},{"$f":"((INTERFACE!C$11)/((10^-(INTERFACE!E177))+(INTERFACE!C$11)))*100","v":{"$error":"#VALUE!"}},{"$f":"100-INTERFACE!F177","v":{"$error":"#VALUE!"}}]
[{"$f":"(MIN(INTERFACE!AD$15,INTERFACE!E178))","v":0},{"$f":"MIN(INTERFACE!C$47,INTERFACE!F178)","v":{"$error":"#VALUE!"}},{"$f":"100-INTERFACE!B178","v":{"$error":"#VALUE!"}},null,{"$f":"INTERFACE!E177+12/1200","v":1.2700000000000009},{"$f":"((INTERFACE!C$11)/((10^-(INTERFACE!E178))+(INTERFACE!C$11)))*100","v":{"$error":"#VALUE!"}},{"$f":"100-INTERFACE!F178","v":{"$error":"#VALUE!"}}]
[{"$f":"(MIN(INTERFACE!AD$15,INTERFACE!E179))","v":0},{"$f":"MIN(INTERFACE!C$47,INTERFACE!F179)","v":{"$error":"#VALUE!"}},{"$f":"100-INTERFACE!B179","v":{"$error":"#VALUE!"}},null,{"$f":"INTERFACE!E178+12/1200","v":1.2800000000000009},{"$f":"((INTERFACE!C$11)/((10^-(INTERFACE!E179))+(INTERFACE!C$11)))*100","v":{"$error":"#VALUE!"}},{"$f":"100-INTERFACE!F179","v":{"$error":"#VALUE!"}}]
[{"$f":"(MIN(INTERFACE!AD$15,INTERFACE!E180))","v":0},{"$f":"MIN(INTERFACE!C$47,INTERFACE!F180)","v":{"$error":"#VALUE!"}},{"$f":"100-INTERFACE!B180","v":{"$error":"#VALUE!"}},null,{"$f":"INTERFACE!E179+12/1200","v":1.2900000000000009},{"$f":"((INTERFACE!C$11)/((10^-(INTERFACE!E180))+(INTERFACE!C$11)))*100","v":{"$error":"#VALUE!"}},{"$f":"100-INTERFACE!F180","v":{"$error":"#VALUE!"}}]
[{"$f":"(MIN(INTERFACE!AD$15,INTERFACE!E181))","v":0},{"$f":"MIN(INTERFACE!C$47,INTERFACE!F181)","v":{"$error":"#VALUE!"}},{"$f":"100-INTERFACE!B181","v":{"$error":"#VALUE!"}},null,{"$f":"INTERFACE!E180+12/1200","v":1.3000000000000009},{"$f":"((INTERFACE!C$11)/((10^-(INTERFACE!E181))+(INTERFACE!C$11)))*100","v":{"$error":"#VALUE!"}},{"$f":"100-INTERFACE!F181","v":{"$error":"#VALUE!"}}]
[{"$f":"(MIN(INTERFACE!AD$15,INTERFACE!E182))","v":0},{"$f":"MIN(INTERFACE!C$47,INTERFACE!F182)","v":{"$error":"#VALUE!"}},{"$f":"100-INTERFACE!B182","v":{"$error":"#VALUE!"}},null,{"$f":"INTERFACE!E181+12/1200","v":1.3100000000000009},{"$f":"((INTERFACE!C$11)/((10^-(INTERFACE!E182))+(INTERFACE!C$11)))*100","v":{"$error":"#VALUE!"}},{"$f":"100-INTERFACE!F182","v":{"$error":"#VALUE!"}}]
[{"$f":"(MIN(INTERFACE!AD$15,INTERFACE!E183))","v":0},{"$f":"MIN(INTERFACE!C$47,INTERFACE!F183)","v":{"$error":"#VALUE!"}},{"$f":"100-INTERFACE!B183","v":{"$error":"#VALUE!"}},null,{"$f":"INTERFACE!E182+12/1200","v":1.320000000000001},{"$f":"((INTERFACE!C$11)/((10^-(INTERFACE!E183))+(INTERFACE!C$11)))*100","v":{"$error":"#VALUE!"}},{"$f":"100-INTERFACE!F183","v":{"$error":"#VALUE!"}}]
[{"$f":"(MIN(INTERFACE!AD$15,INTERFACE!E184))","v":0},{"$f":"MIN(INTERFACE!C$47,INTERFACE!F184)","v":{"$error":"#VALUE!"}},{"$f":"100-INTERFACE!B184","v":{"$error":"#VALUE!"}},null,{"$f":"INTERFACE!E183+12/1200","v":1.330000000000001},{"$f":"((INTERFACE!C$11)/((10^-(INTERFACE!E184))+(INTERFACE!C$11)))*100","v":{"$error":"#VALUE!"}},{"$f":"100-INTERFACE!F184","v":{"$error":"#VALUE!"}}]
[{"$f":"(MIN(INTERFACE!AD$15,INTERFACE!E185))","v":0},{"$f":"MIN(INTERFACE!C$47,INTERFACE!F185)","v":{"$error":"#VALUE!"}},{"$f":"100-INTERFACE!B185","v":{"$error":"#VALUE!"}},null,{"$f":"INTERFACE!E184+12/1200","v":1.340000000000001},{"$f":"((INTERFACE!C$11)/((10^-(INTERFACE!E185))+(INTERFACE!C$11)))*100","v":{"$error":"#VALUE!"}},{"$f":"100-INTERFACE!F185","v":{"$error":"#VALUE!"}}]
[{"$f":"(MIN(INTERFACE!AD$15,INTERFACE!E186))","v":0},{"$f":"MIN(INTERFACE!C$47,INTERFACE!F186)","v":{"$error":"#VALUE!"}},{"$f":"100-INTERFACE!B186","v":{"$error":"#VALUE!"}},null,{"$f":"INTERFACE!E185+12/1200","v":1.350000000000001},{"$f":"((INTERFACE!C$11)/((10^-(INTERFACE!E186))+(INTERFACE!C$11)))*100","v":{"$error":"#VALUE!"}},{"$f":"100-INTERFACE!F186","v":{"$error":"#VALUE!"}}]
[{"$f":"(MIN(INTERFACE!AD$15,INTERFACE!E187))","v":0},{"$f":"MIN(INTERFACE!C$47,INTERFACE!F187)","v":{"$error":"#VALUE!"}},{"$f":"100-INTERFACE!B187","v":{"$error":"#VALUE!"}},null,{"$f":"INTERFACE!E186+12/1200","v":1.360000000000001},{"$f":"((INTERFACE!C$11)/((10^-(INTERFACE!E187))+(INTERFACE!C$11)))*100","v":{"$error":"#VALUE!"}},{"$f":"100-INTERFACE!F187","v":{"$error":"#VALUE!"}}]
[{"$f":"(MIN(INTERFACE!AD$15,INTERFACE!E188))","v":0},{"$f":"MIN(INTERFACE!C$47,INTERFACE!F188)","v":{"$error":"#VALUE!"}},{"$f":"100-INTERFACE!B188","v":{"$error":"#VALUE!"}},null,{"$f":"INTERFACE!E187+12/1200","v":1.370000000000001},{"$f":"((INTERFACE!C$11)/((10^-(INTERFACE!E188))+(INTERFACE!C$11)))*100","v":{"$error":"#VALUE!"}},{"$f":"100-INTERFACE!F188","v":{"$error":"#VALUE!"}}]
[{"$f":"(MIN(INTERFACE!AD$15,INTERFACE!E189))","v":0},{"$f":"MIN(INTERFACE!C$47,INTERFACE!F189)","v":{"$error":"#VALUE!"}},{"$f":"100-INTERFACE!B189","v":{"$error":"#VALUE!"}},null,{"$f":"INTERFACE!E188+12/1200","v":1.380000000000001},{"$f":"((INTERFACE!C$11)/((10^-(INTERFACE!E189))+(INTERFACE!C$11)))*100","v":{"$error":"#VALUE!"}},{"$f":"100-INTERFACE!F189","v":{"$error":"#VALUE!"}}]
[{"$f":"(MIN(INTERFACE!AD$15,INTERFACE!E190))","v":0},{"$f":"MIN(INTERFACE!C$47,INTERFACE!F190)","v":{"$error":"#VALUE!"}},{"$f":"100-INTERFACE!B190","v":{"$error":"#VALUE!"}},null,{"$f":"INTERFACE!E189+12/1200","v":1.390000000000001},{"$f":"((INTERFACE!C$11)/((10^-(INTERFACE!E190))+(INTERFACE!C$11)))*100","v":{"$error":"#VALUE!"}},{"$f":"100-INTERFACE!F190","v":{"$error":"#VALUE!"}}]
[{"$f":"(MIN(INTERFACE!AD$15,INTERFACE!E191))","v":0},{"$f":"MIN(INTERFACE!C$47,INTERFACE!F191)","v":{"$error":"#VALUE!"}},{"$f":"100-INTERFACE!B191","v":{"$error":"#VALUE!"}},null,{"$f":"INTERFACE!E190+12/1200","v":1.400000000000001},{"$f":"((INTERFACE!C$11)/((10^-(INTERFACE!E191))+(INTERFACE!C$11)))*100","v":{"$error":"#VALUE!"}},{"$f":"100-INTERFACE!F191","v":{"$error":"#VALUE!"}}]
[{"$f":"(MIN(INTERFACE!AD$15,INTERFACE!E192))","v":0},{"$f":"MIN(INTERFACE!C$47,INTERFACE!F192)","v":{"$error":"#VALUE!"}},{"$f":"100-INTERFACE!B192","v":{"$error":"#VALUE!"}},null,{"$f":"INTERFACE!E191+12/1200","v":1.410000000000001},{"$f":"((INTERFACE!C$11)/((10^-(INTERFACE!E192))+(INTERFACE!C$11)))*100","v":{"$error":"#VALUE!"}},{"$f":"100-INTERFACE!F192","v":{"$error":"#VALUE!"}}]
[{"$f":"(MIN(INTERFACE!AD$15,INTERFACE!E193))","v":0},{"$f":"MIN(INTERFACE!C$47,INTERFACE!F193)","v":{"$error":"#VALUE!"}},{"$f":"100-INTERFACE!B193","v":{"$error":"#VALUE!"}},null,{"$f":"INTERFACE!E192+12/1200","v":1.420000000000001},{"$f":"((INTERFACE!C$11)/((10^-(INTERFACE!E193))+(INTERFACE!C$11)))*100","v":{"$error":"#VALUE!"}},{"$f":"100-INTERFACE!F193","v":{"$error":"#VALUE!"}}]
[{"$f":"(MIN(INTERFACE!AD$15,INTERFACE!E194))","v":0},{"$f":"MIN(INTERFACE!C$47,INTERFACE!F194)","v":{"$error":"#VALUE!"}},{"$f":"100-INTERFACE!B194","v":{"$error":"#VALUE!"}},null,{"$f":"INTERFACE!E193+12/1200","v":1.430000000000001},{"$f":"((INTERFACE!C$11)/((10^-(INTERFACE!E194))+(INTERFACE!C$11)))*100","v":{"$error":"#VALUE!"}},{"$f":"100-INTERFACE!F194","v":{"$error":"#VALUE!"}}]
[{"$f":"(MIN(INTERFACE!AD$15,INTERFACE!E195))","v":0},{"$f":"MIN(INTERFACE!C$47,INTERFACE!F195)","v":{"$error":"#VALUE!"}},{"$f":"100-INTERFACE!B195","v":{"$error":"#VALUE!"}},null,{"$f":"INTERFACE!E194+12/1200","v":1.4400000000000011},{"$f":"((INTERFACE!C$11)/((10^-(INTERFACE!E195))+(INTERFACE!C$11)))*100","v":{"$error":"#VALUE!"}},{"$f":"100-INTERFACE!F195","v":{"$error":"#VALUE!"}}]
[{"$f":"(MIN(INTERFACE!AD$15,INTERFACE!E196))","v":0},{"$f":"MIN(INTERFACE!C$47,INTERFACE!F196)","v":{"$error":"#VALUE!"}},{"$f":"100-INTERFACE!B196","v":{"$error":"#VALUE!"}},null,{"$f":"INTERFACE!E195+12/1200","v":1.4500000000000011},{"$f":"((INTERFACE!C$11)/((10^-(INTERFACE!E196))+(INTERFACE!C$11)))*100","v":{"$error":"#VALUE!"}},{"$f":"100-INTERFACE!F196","v":{"$error":"#VALUE!"}}]
[{"$f":"(MIN(INTERFACE!AD$15,INTERFACE!E197))","v":0},{"$f":"MIN(INTERFACE!C$47,INTERFACE!F197)","v":{"$error":"#VALUE!"}},{"$f":"100-INTERFACE!B197","v":{"$error":"#VALUE!"}},null,{"$f":"INTERFACE!E196+12/1200","v":1.4600000000000011},{"$f":"((INTERFACE!C$11)/((10^-(INTERFACE!E197))+(INTERFACE!C$11)))*100","v":{"$error":"#VALUE!"}},{"$f":"100-INTERFACE!F197","v":{"$error":"#VALUE!"}}]
[{"$f":"(MIN(INTERFACE!AD$15,INTERFACE!E198))","v":0},{"$f":"MIN(INTERFACE!C$47,INTERFACE!F198)","v":{"$error":"#VALUE!"}},{"$f":"100-INTERFACE!B198","v":{"$error":"#VALUE!"}},null,{"$f":"INTERFACE!E197+12/1200","v":1.4700000000000011},{"$f":"((INTERFACE!C$11)/((10^-(INTERFACE!E198))+(INTERFACE!C$11)))*100","v":{"$error":"#VALUE!"}},{"$f":"100-INTERFACE!F198","v":{"$error":"#VALUE!"}}]
[{"$f":"(MIN(INTERFACE!AD$15,INTERFACE!E199))","v":0},{"$f":"MIN(INTERFACE!C$47,INTERFACE!F199)","v":{"$error":"#VALUE!"}},{"$f":"100-INTERFACE!B199","v":{"$error":"#VALUE!"}},null,{"$f":"INTERFACE!E198+12/1200","v":1.4800000000000011},{"$f":"((INTERFACE!C$11)/((10^-(INTERFACE!E199))+(INTERFACE!C$11)))*100","v":{"$error":"#VALUE!"}},{"$f":"100-INTERFACE!F199","v":{"$error":"#VALUE!"}}]
[{"$f":"(MIN(INTERFACE!AD$15,INTERFACE!E200))","v":0},{"$f":"MIN(INTERFACE!C$47,INTERFACE!F200)","v":{"$error":"#VALUE!"}},{"$f":"100-INTERFACE!B200","v":{"$error":"#VALUE!"}},null,{"$f":"INTERFACE!E199+12/1200","v":1.4900000000000011},{"$f":"((INTERFACE!C$11)/((10^-(INTERFACE!E200))+(INTERFACE!C$11)))*100","v":{"$error":"#VALUE!"}},{"$f":"100-INTERFACE!F200","v":{"$error":"#VALUE!"}}]
[{"$f":"(MIN(INTERFACE!AD$15,INTERFACE!E201))","v":0},{"$f":"MIN(INTERFACE!C$47,INTERFACE!F201)","v":{"$error":"#VALUE!"}},{"$f":"100-INTERFACE!B201","v":{"$error":"#VALUE!"}},null,{"$f":"INTERFACE!E200+12/1200","v":1.5000000000000011},{"$f":"((INTERFACE!C$11)/((10^-(INTERFACE!E201))+(INTERFACE!C$11)))*100","v":{"$error":"#VALUE!"}},{"$f":"100-INTERFACE!F201","v":{"$error":"#VALUE!"}}]
[{"$f":"(MIN(INTERFACE!AD$15,INTERFACE!E202))","v":0},{"$f":"MIN(INTERFACE!C$47,INTERFACE!F202)","v":{"$error":"#VALUE!"}},{"$f":"100-INTERFACE!B202","v":{"$error":"#VALUE!"}},null,{"$f":"INTERFACE!E201+12/1200","v":1.5100000000000011},{"$f":"((INTERFACE!C$11)/((10^-(INTERFACE!E202))+(INTERFACE!C$11)))*100","v":{"$error":"#VALUE!"}},{"$f":"100-INTERFACE!F202","v":{"$error":"#VALUE!"}}]
[{"$f":"(MIN(INTERFACE!AD$15,INTERFACE!E203))","v":0},{"$f":"MIN(INTERFACE!C$47,INTERFACE!F203)","v":{"$error":"#VALUE!"}},{"$f":"100-INTERFACE!B203","v":{"$error":"#VALUE!"}},null,{"$f":"INTERFACE!E202+12/1200","v":1.5200000000000011},{"$f":"((INTERFACE!C$11)/((10^-(INTERFACE!E203))+(INTERFACE!C$11)))*100","v":{"$error":"#VALUE!"}},{"$f":"100-INTERFACE!F203","v":{"$error":"#VALUE!"}}]
[{"$f":"(MIN(INTERFACE!AD$15,INTERFACE!E204))","v":0},{"$f":"MIN(INTERFACE!C$47,INTERFACE!F204)","v":{"$error":"#VALUE!"}},{"$f":"100-INTERFACE!B204","v":{"$error":"#VALUE!"}},null,{"$f":"INTERFACE!E203+12/1200","v":1.5300000000000011},{"$f":"((INTERFACE!C$11)/((10^-(INTERFACE!E204))+(INTERFACE!C$11)))*100","v":{"$error":"#VALUE!"}},{"$f":"100-INTERFACE!F204","v":{"$error":"#VALUE!"}}]
[{"$f":"(MIN(INTERFACE!AD$15,INTERFACE!E205))","v":0},{"$f":"MIN(INTERFACE!C$47,INTERFACE!F205)","v":{"$error":"#VALUE!"}},{"$f":"100-INTERFACE!B205","v":{"$error":"#VALUE!"}},null,{"$f":"INTERFACE!E204+12/1200","v":1.5400000000000011},{"$f":"((INTERFACE!C$11)/((10^-(INTERFACE!E205))+(INTERFACE!C$11)))*100","v":{"$error":"#VALUE!"}},{"$f":"100-INTERFACE!F205","v":{"$error":"#VALUE!"}}]
[{"$f":"(MIN(INTERFACE!AD$15,INTERFACE!E206))","v":0},{"$f":"MIN(INTERFACE!C$47,INTERFACE!F206)","v":{"$error":"#VALUE!"}},{"$f":"100-INTERFACE!B206","v":{"$error":"#VALUE!"}},null,{"$f":"INTERFACE!E205+12/1200","v":1.5500000000000012},{"$f":"((INTERFACE!C$11)/((10^-(INTERFACE!E206))+(INTERFACE!C$11)))*100","v":{"$error":"#VALUE!"}},{"$f":"100-INTERFACE!F206","v":{"$error":"#VALUE!"}}]
[{"$f":"(MIN(INTERFACE!AD$15,INTERFACE!E207))","v":0},{"$f":"MIN(INTERFACE!C$47,INTERFACE!F207)","v":{"$error":"#VALUE!"}},{"$f":"100-INTERFACE!B207","v":{"$error":"#VALUE!"}},null,{"$f":"INTERFACE!E206+12/1200","v":1.5600000000000012},{"$f":"((INTERFACE!C$11)/((10^-(INTERFACE!E207))+(INTERFACE!C$11)))*100","v":{"$error":"#VALUE!"}},{"$f":"100-INTERFACE!F207","v":{"$error":"#VALUE!"}}]
[{"$f":"(MIN(INTERFACE!AD$15,INTERFACE!E208))","v":0},{"$f":"MIN(INTERFACE!C$47,INTERFACE!F208)","v":{"$error":"#VALUE!"}},{"$f":"100-INTERFACE!B208","v":{"$error":"#VALUE!"}},null,{"$f":"INTERFACE!E207+12/1200","v":1.5700000000000012},{"$f":"((INTERFACE!C$11)/((10^-(INTERFACE!E208))+(INTERFACE!C$11)))*100","v":{"$error":"#VALUE!"}},{"$f":"100-INTERFACE!F208","v":{"$error":"#VALUE!"}}]
[{"$f":"(MIN(INTERFACE!AD$15,INTERFACE!E209))","v":0},{"$f":"MIN(INTERFACE!C$47,INTERFACE!F209)","v":{"$error":"#VALUE!"}},{"$f":"100-INTERFACE!B209","v":{"$error":"#VALUE!"}},null,{"$f":"INTERFACE!E208+12/1200","v":1.5800000000000012},{"$f":"((INTERFACE!C$11)/((10^-(INTERFACE!E209))+(INTERFACE!C$11)))*100","v":{"$error":"#VALUE!"}},{"$f":"100-INTERFACE!F209","v":{"$error":"#VALUE!"}}]
[{"$f":"(MIN(INTERFACE!AD$15,INTERFACE!E210))","v":0},{"$f":"MIN(INTERFACE!C$47,INTERFACE!F210)","v":{"$error":"#VALUE!"}},{"$f":"100-INTERFACE!B210","v":{"$error":"#VALUE!"}},null,{"$f":"INTERFACE!E209+12/1200","v":1.5900000000000012},{"$f":"((INTERFACE!C$11)/((10^-(INTERFACE!E210))+(INTERFACE!C$11)))*100","v":{"$error":"#VALUE!"}},{"$f":"100-INTERFACE!F210","v":{"$error":"#VALUE!"}}]
[{"$f":"(MIN(INTERFACE!AD$15,INTERFACE!E211))","v":0},{"$f":"MIN(INTERFACE!C$47,INTERFACE!F211)","v":{"$error":"#VALUE!"}},{"$f":"100-INTERFACE!B211","v":{"$error":"#VALUE!"}},null,{"$f":"INTERFACE!E210+12/1200","v":1.6000000000000012},{"$f":"((INTERFACE!C$11)/((10^-(INTERFACE!E211))+(INTERFACE!C$11)))*100","v":{"$error":"#VALUE!"}},{"$f":"100-INTERFACE!F211","v":{"$error":"#VALUE!"}}]
[{"$f":"(MIN(INTERFACE!AD$15,INTERFACE!E212))","v":0},{"$f":"MIN(INTERFACE!C$47,INTERFACE!F212)","v":{"$error":"#VALUE!"}},{"$f":"100-INTERFACE!B212","v":{"$error":"#VALUE!"}},null,{"$f":"INTERFACE!E211+12/1200","v":1.6100000000000012},{"$f":"((INTERFACE!C$11)/((10^-(INTERFACE!E212))+(INTERFACE!C$11)))*100","v":{"$error":"#VALUE!"}},{"$f":"100-INTERFACE!F212","v":{"$error":"#VALUE!"}}]
[{"$f":"(MIN(INTERFACE!AD$15,INTERFACE!E213))","v":0},{"$f":"MIN(INTERFACE!C$47,INTERFACE!F213)","v":{"$error":"#VALUE!"}},{"$f":"100-INTERFACE!B213","v":{"$error":"#VALUE!"}},null,{"$f":"INTERFACE!E212+12/1200","v":1.6200000000000012},{"$f":"((INTERFACE!C$11)/((10^-(INTERFACE!E213))+(INTERFACE!C$11)))*100","v":{"$error":"#VALUE!"}},{"$f":"100-INTERFACE!F213","v":{"$error":"#VALUE!"}}]
[{"$f":"(MIN(INTERFACE!AD$15,INTERFACE!E214))","v":0},{"$f":"MIN(INTERFACE!C$47,INTERFACE!F214)","v":{"$error":"#VALUE!"}},{"$f":"100-INTERFACE!B214","v":{"$error":"#VALUE!"}},null,{"$f":"INTERFACE!E213+12/1200","v":1.6300000000000012},{"$f":"((INTERFACE!C$11)/((10^-(INTERFACE!E214))+(INTERFACE!C$11)))*100","v":{"$error":"#VALUE!"}},{"$f":"100-INTERFACE!F214","v":{"$error":"#VALUE!"}}]
[{"$f":"(MIN(INTERFACE!AD$15,INTERFACE!E215))","v":0},{"$f":"MIN(INTERFACE!C$47,INTERFACE!F215)","v":{"$error":"#VALUE!"}},{"$f":"100-INTERFACE!B215","v":{"$error":"#VALUE!"}},null,{"$f":"INTERFACE!E214+12/1200","v":1.6400000000000012},{"$f":"((INTERFACE!C$11)/((10^-(INTERFACE!E215))+(INTERFACE!C$11)))*100","v":{"$error":"#VALUE!"}},{"$f":"100-INTERFACE!F215","v":{"$error":"#VALUE!"}}]
[{"$f":"(MIN(INTERFACE!AD$15,INTERFACE!E216))","v":0},{"$f":"MIN(INTERFACE!C$47,INTERFACE!F216)","v":{"$error":"#VALUE!"}},{"$f":"100-INTERFACE!B216","v":{"$error":"#VALUE!"}},null,{"$f":"INTERFACE!E215+12/1200","v":1.6500000000000012},{"$f":"((INTERFACE!C$11)/((10^-(INTERFACE!E216))+(INTERFACE!C$11)))*100","v":{"$error":"#VALUE!"}},{"$f":"100-INTERFACE!F216","v":{"$error":"#VALUE!"}}]
[{"$f":"(MIN(INTERFACE!AD$15,INTERFACE!E217))","v":0},{"$f":"MIN(INTERFACE!C$47,INTERFACE!F217)","v":{"$error":"#VALUE!"}},{"$f":"100-INTERFACE!B217","v":{"$error":"#VALUE!"}},null,{"$f":"INTERFACE!E216+12/1200","v":1.6600000000000013},{"$f":"((INTERFACE!C$11)/((10^-(INTERFACE!E217))+(INTERFACE!C$11)))*100","v":{"$error":"#VALUE!"}},{"$f":"100-INTERFACE!F217","v":{"$error":"#VALUE!"}}]
[{"$f":"(MIN(INTERFACE!AD$15,INTERFACE!E218))","v":0},{"$f":"MIN(INTERFACE!C$47,INTERFACE!F218)","v":{"$error":"#VALUE!"}},{"$f":"100-INTERFACE!B218","v":{"$error":"#VALUE!"}},null,{"$f":"INTERFACE!E217+12/1200","v":1.6700000000000013},{"$f":"((INTERFACE!C$11)/((10^-(INTERFACE!E218))+(INTERFACE!C$11)))*100","v":{"$error":"#VALUE!"}},{"$f":"100-INTERFACE!F218","v":{"$error":"#VALUE!"}}]
[{"$f":"(MIN(INTERFACE!AD$15,INTERFACE!E219))","v":0},{"$f":"MIN(INTERFACE!C$47,INTERFACE!F219)","v":{"$error":"#VALUE!"}},{"$f":"100-INTERFACE!B219","v":{"$error":"#VALUE!"}},null,{"$f":"INTERFACE!E218+12/1200","v":1.6800000000000013},{"$f":"((INTERFACE!C$11)/((10^-(INTERFACE!E219))+(INTERFACE!C$11)))*100","v":{"$error":"#VALUE!"}},{"$f":"100-INTERFACE!F219","v":{"$error":"#VALUE!"}}]
[{"$f":"(MIN(INTERFACE!AD$15,INTERFACE!E220))","v":0},{"$f":"MIN(INTERFACE!C$47,INTERFACE!F220)","v":{"$error":"#VALUE!"}},{"$f":"100-INTERFACE!B220","v":{"$error":"#VALUE!"}},null,{"$f":"INTERFACE!E219+12/1200","v":1.6900000000000013},{"$f":"((INTERFACE!C$11)/((10^-(INTERFACE!E220))+(INTERFACE!C$11)))*100","v":{"$error":"#VALUE!"}},{"$f":"100-INTERFACE!F220","v":{"$error":"#VALUE!"}}]
[{"$f":"(MIN(INTERFACE!AD$15,INTERFACE!E221))","v":0},{"$f":"MIN(INTERFACE!C$47,INTERFACE!F221)","v":{"$error":"#VALUE!"}},{"$f":"100-INTERFACE!B221","v":{"$error":"#VALUE!"}},null,{"$f":"INTERFACE!E220+12/1200","v":1.7000000000000013},{"$f":"((INTERFACE!C$11)/((10^-(INTERFACE!E221))+(INTERFACE!C$11)))*100","v":{"$error":"#VALUE!"}},{"$f":"100-INTERFACE!F221","v":{"$error":"#VALUE!"}}]
[{"$f":"(MIN(INTERFACE!AD$15,INTERFACE!E222))","v":0},{"$f":"MIN(INTERFACE!C$47,INTERFACE!F222)","v":{"$error":"#VALUE!"}},{"$f":"100-INTERFACE!B222","v":{"$error":"#VALUE!"}},null,{"$f":"INTERFACE!E221+12/1200","v":1.7100000000000013},{"$f":"((INTERFACE!C$11)/((10^-(INTERFACE!E222))+(INTERFACE!C$11)))*100","v":{"$error":"#VALUE!"}},{"$f":"100-INTERFACE!F222","v":{"$error":"#VALUE!"}}]
[{"$f":"(MIN(INTERFACE!AD$15,INTERFACE!E223))","v":0},{"$f":"MIN(INTERFACE!C$47,INTERFACE!F223)","v":{"$error":"#VALUE!"}},{"$f":"100-INTERFACE!B223","v":{"$error":"#VALUE!"}},null,{"$f":"INTERFACE!E222+12/1200","v":1.7200000000000013},{"$f":"((INTERFACE!C$11)/((10^-(INTERFACE!E223))+(INTERFACE!C$11)))*100","v":{"$error":"#VALUE!"}},{"$f":"100-INTERFACE!F223","v":{"$error":"#VALUE!"}}]
[{"$f":"(MIN(INTERFACE!AD$15,INTERFACE!E224))","v":0},{"$f":"MIN(INTERFACE!C$47,INTERFACE!F224)","v":{"$error":"#VALUE!"}},{"$f":"100-INTERFACE!B224","v":{"$error":"#VALUE!"}},null,{"$f":"INTERFACE!E223+12/1200","v":1.7300000000000013},{"$f":"((INTERFACE!C$11)/((10^-(INTERFACE!E224))+(INTERFACE!C$11)))*100","v":{"$error":"#VALUE!"}},{"$f":"100-INTERFACE!F224","v":{"$error":"#VALUE!"}}]
[{"$f":"(MIN(INTERFACE!AD$15,INTERFACE!E225))","v":0},{"$f":"MIN(INTERFACE!C$47,INTERFACE!F225)","v":{"$error":"#VALUE!"}},{"$f":"100-INTERFACE!B225","v":{"$error":"#VALUE!"}},null,{"$f":"INTERFACE!E224+12/1200","v":1.7400000000000013},{"$f":"((INTERFACE!C$11)/((10^-(INTERFACE!E225))+(INTERFACE!C$11)))*100","v":{"$error":"#VALUE!"}},{"$f":"100-INTERFACE!F225","v":{"$error":"#VALUE!"}}]
[{"$f":"(MIN(INTERFACE!AD$15,INTERFACE!E226))","v":0},{"$f":"MIN(INTERFACE!C$47,INTERFACE!F226)","v":{"$error":"#VALUE!"}},{"$f":"100-INTERFACE!B226","v":{"$error":"#VALUE!"}},null,{"$f":"INTERFACE!E225+12/1200","v":1.7500000000000013},{"$f":"((INTERFACE!C$11)/((10^-(INTERFACE!E226))+(INTERFACE!C$11)))*100","v":{"$error":"#VALUE!"}},{"$f":"100-INTERFACE!F226","v":{"$error":"#VALUE!"}}]
[{"$f":"(MIN(INTERFACE!AD$15,INTERFACE!E227))","v":0},{"$f":"MIN(INTERFACE!C$47,INTERFACE!F227)","v":{"$error":"#VALUE!"}},{"$f":"100-INTERFACE!B227","v":{"$error":"#VALUE!"}},null,{"$f":"INTERFACE!E226+12/1200","v":1.7600000000000013},{"$f":"((INTERFACE!C$11)/((10^-(INTERFACE!E227))+(INTERFACE!C$11)))*100","v":{"$error":"#VALUE!"}},{"$f":"100-INTERFACE!F227","v":{"$error":"#VALUE!"}}]
[{"$f":"(MIN(INTERFACE!AD$15,INTERFACE!E228))","v":0},{"$f":"MIN(INTERFACE!C$47,INTERFACE!F228)","v":{"$error":"#VALUE!"}},{"$f":"100-INTERFACE!B228","v":{"$error":"#VALUE!"}},null,{"$f":"INTERFACE!E227+12/1200","v":1.7700000000000014},{"$f":"((INTERFACE!C$11)/((10^-(INTERFACE!E228))+(INTERFACE!C$11)))*100","v":{"$error":"#VALUE!"}},{"$f":"100-INTERFACE!F228","v":{"$error":"#VALUE!"}}]
[{"$f":"(MIN(INTERFACE!AD$15,INTERFACE!E229))","v":0},{"$f":"MIN(INTERFACE!C$47,INTERFACE!F229)","v":{"$error":"#VALUE!"}},{"$f":"100-INTERFACE!B229","v":{"$error":"#VALUE!"}},null,{"$f":"INTERFACE!E228+12/1200","v":1.7800000000000014},{"$f":"((INTERFACE!C$11)/((10^-(INTERFACE!E229))+(INTERFACE!C$11)))*100","v":{"$error":"#VALUE!"}},{"$f":"100-INTERFACE!F229","v":{"$error":"#VALUE!"}}]
[{"$f":"(MIN(INTERFACE!AD$15,INTERFACE!E230))","v":0},{"$f":"MIN(INTERFACE!C$47,INTERFACE!F230)","v":{"$error":"#VALUE!"}},{"$f":"100-INTERFACE!B230","v":{"$error":"#VALUE!"}},null,{"$f":"INTERFACE!E229+12/1200","v":1.7900000000000014},{"$f":"((INTERFACE!C$11)/((10^-(INTERFACE!E230))+(INTERFACE!C$11)))*100","v":{"$error":"#VALUE!"}},{"$f":"100-INTERFACE!F230","v":{"$error":"#VALUE!"}}]
[{"$f":"(MIN(INTERFACE!AD$15,INTERFACE!E231))","v":0},{"$f":"MIN(INTERFACE!C$47,INTERFACE!F231)","v":{"$error":"#VALUE!"}},{"$f":"100-INTERFACE!B231","v":{"$error":"#VALUE!"}},null,{"$f":"INTERFACE!E230+12/1200","v":1.8000000000000014},{"$f":"((INTERFACE!C$11)/((10^-(INTERFACE!E231))+(INTERFACE!C$11)))*100","v":{"$error":"#VALUE!"}},{"$f":"100-INTERFACE!F231","v":{"$error":"#VALUE!"}}]
[{"$f":"(MIN(INTERFACE!AD$15,INTERFACE!E232))","v":0},{"$f":"MIN(INTERFACE!C$47,INTERFACE!F232)","v":{"$error":"#VALUE!"}},{"$f":"100-INTERFACE!B232","v":{"$error":"#VALUE!"}},null,{"$f":"INTERFACE!E231+12/1200","v":1.8100000000000014},{"$f":"((INTERFACE!C$11)/((10^-(INTERFACE!E232))+(INTERFACE!C$11)))*100","v":{"$error":"#VALUE!"}},{"$f":"100-INTERFACE!F232","v":{"$error":"#VALUE!"}}]
[{"$f":"(MIN(INTERFACE!AD$15,INTERFACE!E233))","v":0},{"$f":"MIN(INTERFACE!C$47,INTERFACE!F233)","v":{"$error":"#VALUE!"}},{"$f":"100-INTERFACE!B233","v":{"$error":"#VALUE!"}},null,{"$f":"INTERFACE!E232+12/1200","v":1.8200000000000014},{"$f":"((INTERFACE!C$11)/((10^-(INTERFACE!E233))+(INTERFACE!C$11)))*100","v":{"$error":"#VALUE!"}},{"$f":"100-INTERFACE!F233","v":{"$error":"#VALUE!"}}]
[{"$f":"(MIN(INTERFACE!AD$15,INTERFACE!E234))","v":0},{"$f":"MIN(INTERFACE!C$47,INTERFACE!F234)","v":{"$error":"#VALUE!"}},{"$f":"100-INTERFACE!B234","v":{"$error":"#VALUE!"}},null,{"$f":"INTERFACE!E233+12/1200","v":1.8300000000000014},{"$f":"((INTERFACE!C$11)/((10^-(INTERFACE!E234))+(INTERFACE!C$11)))*100","v":{"$error":"#VALUE!"}},{"$f":"100-INTERFACE!F234","v":{"$error":"#VALUE!"}}]
[{"$f":"(MIN(INTERFACE!AD$15,INTERFACE!E235))","v":0},{"$f":"MIN(INTERFACE!C$47,INTERFACE!F235)","v":{"$error":"#VALUE!"}},{"$f":"100-INTERFACE!B235","v":{"$error":"#VALUE!"}},null,{"$f":"INTERFACE!E234+12/1200","v":1.8400000000000014},{"$f":"((INTERFACE!C$11)/((10^-(INTERFACE!E235))+(INTERFACE!C$11)))*100","v":{"$error":"#VALUE!"}},{"$f":"100-INTERFACE!F235","v":{"$error":"#VALUE!"}}]
[{"$f":"(MIN(INTERFACE!AD$15,INTERFACE!E236))","v":0},{"$f":"MIN(INTERFACE!C$47,INTERFACE!F236)","v":{"$error":"#VALUE!"}},{"$f":"100-INTERFACE!B236","v":{"$error":"#VALUE!"}},null,{"$f":"INTERFACE!E235+12/1200","v":1.8500000000000014},{"$f":"((INTERFACE!C$11)/((10^-(INTERFACE!E236))+(INTERFACE!C$11)))*100","v":{"$error":"#VALUE!"}},{"$f":"100-INTERFACE!F236","v":{"$error":"#VALUE!"}}]
[{"$f":"(MIN(INTERFACE!AD$15,INTERFACE!E237))","v":0},{"$f":"MIN(INTERFACE!C$47,INTERFACE!F237)","v":{"$error":"#VALUE!"}},{"$f":"100-INTERFACE!B237","v":{"$error":"#VALUE!"}},null,{"$f":"INTERFACE!E236+12/1200","v":1.8600000000000014},{"$f":"((INTERFACE!C$11)/((10^-(INTERFACE!E237))+(INTERFACE!C$11)))*100","v":{"$error":"#VALUE!"}},{"$f":"100-INTERFACE!F237","v":{"$error":"#VALUE!"}}]
[{"$f":"(MIN(INTERFACE!AD$15,INTERFACE!E238))","v":0},{"$f":"MIN(INTERFACE!C$47,INTERFACE!F238)","v":{"$error":"#VALUE!"}},{"$f":"100-INTERFACE!B238","v":{"$error":"#VALUE!"}},null,{"$f":"INTERFACE!E237+12/1200","v":1.8700000000000014},{"$f":"((INTERFACE!C$11)/((10^-(INTERFACE!E238))+(INTERFACE!C$11)))*100","v":{"$error":"#VALUE!"}},{"$f":"100-INTERFACE!F238","v":{"$error":"#VALUE!"}}]
[{"$f":"(MIN(INTERFACE!AD$15,INTERFACE!E239))","v":0},{"$f":"MIN(INTERFACE!C$47,INTERFACE!F239)","v":{"$error":"#VALUE!"}},{"$f":"100-INTERFACE!B239","v":{"$error":"#VALUE!"}},null,{"$f":"INTERFACE!E238+12/1200","v":1.8800000000000014},{"$f":"((INTERFACE!C$11)/((10^-(INTERFACE!E239))+(INTERFACE!C$11)))*100","v":{"$error":"#VALUE!"}},{"$f":"100-INTERFACE!F239","v":{"$error":"#VALUE!"}}]
[{"$f":"(MIN(INTERFACE!AD$15,INTERFACE!E240))","v":0},{"$f":"MIN(INTERFACE!C$47,INTERFACE!F240)","v":{"$error":"#VALUE!"}},{"$f":"100-INTERFACE!B240","v":{"$error":"#VALUE!"}},null,{"$f":"INTERFACE!E239+12/1200","v":1.8900000000000015},{"$f":"((INTERFACE!C$11)/((10^-(INTERFACE!E240))+(INTERFACE!C$11)))*100","v":{"$error":"#VALUE!"}},{"$f":"100-INTERFACE!F240","v":{"$error":"#VALUE!"}}]
[{"$f":"(MIN(INTERFACE!AD$15,INTERFACE!E241))","v":0},{"$f":"MIN(INTERFACE!C$47,INTERFACE!F241)","v":{"$error":"#VALUE!"}},{"$f":"100-INTERFACE!B241","v":{"$error":"#VALUE!"}},null,{"$f":"INTERFACE!E240+12/1200","v":1.9000000000000015},{"$f":"((INTERFACE!C$11)/((10^-(INTERFACE!E241))+(INTERFACE!C$11)))*100","v":{"$error":"#VALUE!"}},{"$f":"100-INTERFACE!F241","v":{"$error":"#VALUE!"}}]
[{"$f":"(MIN(INTERFACE!AD$15,INTERFACE!E242))","v":0},{"$f":"MIN(INTERFACE!C$47,INTERFACE!F242)","v":{"$error":"#VALUE!"}},{"$f":"100-INTERFACE!B242","v":{"$error":"#VALUE!"}},null,{"$f":"INTERFACE!E241+12/1200","v":1.9100000000000015},{"$f":"((INTERFACE!C$11)/((10^-(INTERFACE!E242))+(INTERFACE!C$11)))*100","v":{"$error":"#VALUE!"}},{"$f":"100-INTERFACE!F242","v":{"$error":"#VALUE!"}}]
[{"$f":"(MIN(INTERFACE!AD$15,INTERFACE!E243))","v":0},{"$f":"MIN(INTERFACE!C$47,INTERFACE!F243)","v":{"$error":"#VALUE!"}},{"$f":"100-INTERFACE!B243","v":{"$error":"#VALUE!"}},null,{"$f":"INTERFACE!E242+12/1200","v":1.9200000000000015},{"$f":"((INTERFACE!C$11)/((10^-(INTERFACE!E243))+(INTERFACE!C$11)))*100","v":{"$error":"#VALUE!"}},{"$f":"100-INTERFACE!F243","v":{"$error":"#VALUE!"}}]
[{"$f":"(MIN(INTERFACE!AD$15,INTERFACE!E244))","v":0},{"$f":"MIN(INTERFACE!C$47,INTERFACE!F244)","v":{"$error":"#VALUE!"}},{"$f":"100-INTERFACE!B244","v":{"$error":"#VALUE!"}},null,{"$f":"INTERFACE!E243+12/1200","v":1.9300000000000015},{"$f":"((INTERFACE!C$11)/((10^-(INTERFACE!E244))+(INTERFACE!C$11)))*100","v":{"$error":"#VALUE!"}},{"$f":"100-INTERFACE!F244","v":{"$error":"#VALUE!"}}]
[{"$f":"(MIN(INTERFACE!AD$15,INTERFACE!E245))","v":0},{"$f":"MIN(INTERFACE!C$47,INTERFACE!F245)","v":{"$error":"#VALUE!"}},{"$f":"100-INTERFACE!B245","v":{"$error":"#VALUE!"}},null,{"$f":"INTERFACE!E244+12/1200","v":1.9400000000000015},{"$f":"((INTERFACE!C$11)/((10^-(INTERFACE!E245))+(INTERFACE!C$11)))*100","v":{"$error":"#VALUE!"}},{"$f":"100-INTERFACE!F245","v":{"$error":"#VALUE!"}}]
[{"$f":"(MIN(INTERFACE!AD$15,INTERFACE!E246))","v":0},{"$f":"MIN(INTERFACE!C$47,INTERFACE!F246)","v":{"$error":"#VALUE!"}},{"$f":"100-INTERFACE!B246","v":{"$error":"#VALUE!"}},null,{"$f":"INTERFACE!E245+12/1200","v":1.9500000000000015},{"$f":"((INTERFACE!C$11)/((10^-(INTERFACE!E246))+(INTERFACE!C$11)))*100","v":{"$error":"#VALUE!"}},{"$f":"100-INTERFACE!F246","v":{"$error":"#VALUE!"}}]
[{"$f":"(MIN(INTERFACE!AD$15,INTERFACE!E247))","v":0},{"$f":"MIN(INTERFACE!C$47,INTERFACE!F247)","v":{"$error":"#VALUE!"}},{"$f":"100-INTERFACE!B247","v":{"$error":"#VALUE!"}},null,{"$f":"INTERFACE!E246+12/1200","v":1.9600000000000015},{"$f":"((INTERFACE!C$11)/((10^-(INTERFACE!E247))+(INTERFACE!C$11)))*100","v":{"$error":"#VALUE!"}},{"$f":"100-INTERFACE!F247","v":{"$error":"#VALUE!"}}]
[{"$f":"(MIN(INTERFACE!AD$15,INTERFACE!E248))","v":0},{"$f":"MIN(INTERFACE!C$47,INTERFACE!F248)","v":{"$error":"#VALUE!"}},{"$f":"100-INTERFACE!B248","v":{"$error":"#VALUE!"}},null,{"$f":"INTERFACE!E247+12/1200","v":1.9700000000000015},{"$f":"((INTERFACE!C$11)/((10^-(INTERFACE!E248))+(INTERFACE!C$11)))*100","v":{"$error":"#VALUE!"}},{"$f":"100-INTERFACE!F248","v":{"$error":"#VALUE!"}}]
[{"$f":"(MIN(INTERFACE!AD$15,INTERFACE!E249))","v":0},{"$f":"MIN(INTERFACE!C$47,INTERFACE!F249)","v":{"$error":"#VALUE!"}},{"$f":"100-INTERFACE!B249","v":{"$error":"#VALUE!"}},null,{"$f":"INTERFACE!E248+12/1200","v":1.9800000000000015},{"$f":"((INTERFACE!C$11)/((10^-(INTERFACE!E249))+(INTERFACE!C$11)))*100","v":{"$error":"#VALUE!"}},{"$f":"100-INTERFACE!F249","v":{"$error":"#VALUE!"}}]
[{"$f":"(MIN(INTERFACE!AD$15,INTERFACE!E250))","v":0},{"$f":"MIN(INTERFACE!C$47,INTERFACE!F250)","v":{"$error":"#VALUE!"}},{"$f":"100-INTERFACE!B250","v":{"$error":"#VALUE!"}},null,{"$f":"INTERFACE!E249+12/1200","v":1.9900000000000015},{"$f":"((INTERFACE!C$11)/((10^-(INTERFACE!E250))+(INTERFACE!C$11)))*100","v":{"$error":"#VALUE!"}},{"$f":"100-INTERFACE!F250","v":{"$error":"#VALUE!"}}]
[{"$f":"(MIN(INTERFACE!AD$15,INTERFACE!E251))","v":0},{"$f":"MIN(INTERFACE!C$47,INTERFACE!F251)","v":{"$error":"#VALUE!"}},{"$f":"100-INTERFACE!B251","v":{"$error":"#VALUE!"}},null,{"$f":"INTERFACE!E250+12/1200","v":2.0000000000000013},{"$f":"((INTERFACE!C$11)/((10^-(INTERFACE!E251))+(INTERFACE!C$11)))*100","v":{"$error":"#VALUE!"}},{"$f":"100-INTERFACE!F251","v":{"$error":"#VALUE!"}}]
[{"$f":"(MIN(INTERFACE!AD$15,INTERFACE!E252))","v":0},{"$f":"MIN(INTERFACE!C$47,INTERFACE!F252)","v":{"$error":"#VALUE!"}},{"$f":"100-INTERFACE!B252","v":{"$error":"#VALUE!"}},null,{"$f":"INTERFACE!E251+12/1200","v":2.0100000000000011},{"$f":"((INTERFACE!C$11)/((10^-(INTERFACE!E252))+(INTERFACE!C$11)))*100","v":{"$error":"#VALUE!"}},{"$f":"100-INTERFACE!F252","v":{"$error":"#VALUE!"}}]
[{"$f":"(MIN(INTERFACE!AD$15,INTERFACE!E253))","v":0},{"$f":"MIN(INTERFACE!C$47,INTERFACE!F253)","v":{"$error":"#VALUE!"}},{"$f":"100-INTERFACE!B253","v":{"$error":"#VALUE!"}},null,{"$f":"INTERFACE!E252+12/1200","v":2.0200000000000009},{"$f":"((INTERFACE!C$11)/((10^-(INTERFACE!E253))+(INTERFACE!C$11)))*100","v":{"$error":"#VALUE!"}},{"$f":"100-INTERFACE!F253","v":{"$error":"#VALUE!"}}]
[{"$f":"(MIN(INTERFACE!AD$15,INTERFACE!E254))","v":0},{"$f":"MIN(INTERFACE!C$47,INTERFACE!F254)","v":{"$error":"#VALUE!"}},{"$f":"100-INTERFACE!B254","v":{"$error":"#VALUE!"}},null,{"$f":"INTERFACE!E253+12/1200","v":2.0300000000000007},{"$f":"((INTERFACE!C$11)/((10^-(INTERFACE!E254))+(INTERFACE!C$11)))*100","v":{"$error":"#VALUE!"}},{"$f":"100-INTERFACE!F254","v":{"$error":"#VALUE!"}}]
[{"$f":"(MIN(INTERFACE!AD$15,INTERFACE!E255))","v":0},{"$f":"MIN(INTERFACE!C$47,INTERFACE!F255)","v":{"$error":"#VALUE!"}},{"$f":"100-INTERFACE!B255","v":{"$error":"#VALUE!"}},null,{"$f":"INTERFACE!E254+12/1200","v":2.0400000000000005},{"$f":"((INTERFACE!C$11)/((10^-(INTERFACE!E255))+(INTERFACE!C$11)))*100","v":{"$error":"#VALUE!"}},{"$f":"100-INTERFACE!F255","v":{"$error":"#VALUE!"}}]
[{"$f":"(MIN(INTERFACE!AD$15,INTERFACE!E256))","v":0},{"$f":"MIN(INTERFACE!C$47,INTERFACE!F256)","v":{"$error":"#VALUE!"}},{"$f":"100-INTERFACE!B256","v":{"$error":"#VALUE!"}},null,{"$f":"INTERFACE!E255+12/1200","v":2.0500000000000003},{"$f":"((INTERFACE!C$11)/((10^-(INTERFACE!E256))+(INTERFACE!C$11)))*100","v":{"$error":"#VALUE!"}},{"$f":"100-INTERFACE!F256","v":{"$error":"#VALUE!"}}]
[{"$f":"(MIN(INTERFACE!AD$15,INTERFACE!E257))","v":0},{"$f":"MIN(INTERFACE!C$47,INTERFACE!F257)","v":{"$error":"#VALUE!"}},{"$f":"100-INTERFACE!B257","v":{"$error":"#VALUE!"}},null,{"$f":"INTERFACE!E256+12/1200","v":2.06},{"$f":"((INTERFACE!C$11)/((10^-(INTERFACE!E257))+(INTERFACE!C$11)))*100","v":{"$error":"#VALUE!"}},{"$f":"100-INTERFACE!F257","v":{"$error":"#VALUE!"}}]
[{"$f":"(MIN(INTERFACE!AD$15,INTERFACE!E258))","v":0},{"$f":"MIN(INTERFACE!C$47,INTERFACE!F258)","v":{"$error":"#VALUE!"}},{"$f":"100-INTERFACE!B258","v":{"$error":"#VALUE!"}},null,{"$f":"INTERFACE!E257+12/1200","v":2.0699999999999998},{"$f":"((INTERFACE!C$11)/((10^-(INTERFACE!E258))+(INTERFACE!C$11)))*100","v":{"$error":"#VALUE!"}},{"$f":"100-INTERFACE!F258","v":{"$error":"#VALUE!"}}]
[{"$f":"(MIN(INTERFACE!AD$15,INTERFACE!E259))","v":0},{"$f":"MIN(INTERFACE!C$47,INTERFACE!F259)","v":{"$error":"#VALUE!"}},{"$f":"100-INTERFACE!B259","v":{"$error":"#VALUE!"}},null,{"$f":"INTERFACE!E258+12/1200","v":2.0799999999999996},{"$f":"((INTERFACE!C$11)/((10^-(INTERFACE!E259))+(INTERFACE!C$11)))*100","v":{"$error":"#VALUE!"}},{"$f":"100-INTERFACE!F259","v":{"$error":"#VALUE!"}}]
[{"$f":"(MIN(INTERFACE!AD$15,INTERFACE!E260))","v":0},{"$f":"MIN(INTERFACE!C$47,INTERFACE!F260)","v":{"$error":"#VALUE!"}},{"$f":"100-INTERFACE!B260","v":{"$error":"#VALUE!"}},null,{"$f":"INTERFACE!E259+12/1200","v":2.0899999999999994},{"$f":"((INTERFACE!C$11)/((10^-(INTERFACE!E260))+(INTERFACE!C$11)))*100","v":{"$error":"#VALUE!"}},{"$f":"100-INTERFACE!F260","v":{"$error":"#VALUE!"}}]
[{"$f":"(MIN(INTERFACE!AD$15,INTERFACE!E261))","v":0},{"$f":"MIN(INTERFACE!C$47,INTERFACE!F261)","v":{"$error":"#VALUE!"}},{"$f":"100-INTERFACE!B261","v":{"$error":"#VALUE!"}},null,{"$f":"INTERFACE!E260+12/1200","v":2.0999999999999992},{"$f":"((INTERFACE!C$11)/((10^-(INTERFACE!E261))+(INTERFACE!C$11)))*100","v":{"$error":"#VALUE!"}},{"$f":"100-INTERFACE!F261","v":{"$error":"#VALUE!"}}]
[{"$f":"(MIN(INTERFACE!AD$15,INTERFACE!E262))","v":0},{"$f":"MIN(INTERFACE!C$47,INTERFACE!F262)","v":{"$error":"#VALUE!"}},{"$f":"100-INTERFACE!B262","v":{"$error":"#VALUE!"}},null,{"$f":"INTERFACE!E261+12/1200","v":2.109999999999999},{"$f":"((INTERFACE!C$11)/((10^-(INTERFACE!E262))+(INTERFACE!C$11)))*100","v":{"$error":"#VALUE!"}},{"$f":"100-INTERFACE!F262","v":{"$error":"#VALUE!"}}]
[{"$f":"(MIN(INTERFACE!AD$15,INTERFACE!E263))","v":0},{"$f":"MIN(INTERFACE!C$47,INTERFACE!F263)","v":{"$error":"#VALUE!"}},{"$f":"100-INTERFACE!B263","v":{"$error":"#VALUE!"}},null,{"$f":"INTERFACE!E262+12/1200","v":2.1199999999999988},{"$f":"((INTERFACE!C$11)/((10^-(INTERFACE!E263))+(INTERFACE!C$11)))*100","v":{"$error":"#VALUE!"}},{"$f":"100-INTERFACE!F263","v":{"$error":"#VALUE!"}}]
[{"$f":"(MIN(INTERFACE!AD$15,INTERFACE!E264))","v":0},{"$f":"MIN(INTERFACE!C$47,INTERFACE!F264)","v":{"$error":"#VALUE!"}},{"$f":"100-INTERFACE!B264","v":{"$error":"#VALUE!"}},null,{"$f":"INTERFACE!E263+12/1200","v":2.1299999999999986},{"$f":"((INTERFACE!C$11)/((10^-(INTERFACE!E264))+(INTERFACE!C$11)))*100","v":{"$error":"#VALUE!"}},{"$f":"100-INTERFACE!F264","v":{"$error":"#VALUE!"}}]
[{"$f":"(MIN(INTERFACE!AD$15,INTERFACE!E265))","v":0},{"$f":"MIN(INTERFACE!C$47,INTERFACE!F265)","v":{"$error":"#VALUE!"}},{"$f":"100-INTERFACE!B265","v":{"$error":"#VALUE!"}},null,{"$f":"INTERFACE!E264+12/1200","v":2.1399999999999983},{"$f":"((INTERFACE!C$11)/((10^-(INTERFACE!E265))+(INTERFACE!C$11)))*100","v":{"$error":"#VALUE!"}},{"$f":"100-INTERFACE!F265","v":{"$error":"#VALUE!"}}]
[{"$f":"(MIN(INTERFACE!AD$15,INTERFACE!E266))","v":0},{"$f":"MIN(INTERFACE!C$47,INTERFACE!F266)","v":{"$error":"#VALUE!"}},{"$f":"100-INTERFACE!B266","v":{"$error":"#VALUE!"}},null,{"$f":"INTERFACE!E265+12/1200","v":2.1499999999999981},{"$f":"((INTERFACE!C$11)/((10^-(INTERFACE!E266))+(INTERFACE!C$11)))*100","v":{"$error":"#VALUE!"}},{"$f":"100-INTERFACE!F266","v":{"$error":"#VALUE!"}}]
[{"$f":"(MIN(INTERFACE!AD$15,INTERFACE!E267))","v":0},{"$f":"MIN(INTERFACE!C$47,INTERFACE!F267)","v":{"$error":"#VALUE!"}},{"$f":"100-INTERFACE!B267","v":{"$error":"#VALUE!"}},null,{"$f":"INTERFACE!E266+12/1200","v":2.1599999999999979},{"$f":"((INTERFACE!C$11)/((10^-(INTERFACE!E267))+(INTERFACE!C$11)))*100","v":{"$error":"#VALUE!"}},{"$f":"100-INTERFACE!F267","v":{"$error":"#VALUE!"}}]
[{"$f":"(MIN(INTERFACE!AD$15,INTERFACE!E268))","v":0},{"$f":"MIN(INTERFACE!C$47,INTERFACE!F268)","v":{"$error":"#VALUE!"}},{"$f":"100-INTERFACE!B268","v":{"$error":"#VALUE!"}},null,{"$f":"INTERFACE!E267+12/1200","v":2.1699999999999977},{"$f":"((INTERFACE!C$11)/((10^-(INTERFACE!E268))+(INTERFACE!C$11)))*100","v":{"$error":"#VALUE!"}},{"$f":"100-INTERFACE!F268","v":{"$error":"#VALUE!"}}]
[{"$f":"(MIN(INTERFACE!AD$15,INTERFACE!E269))","v":0},{"$f":"MIN(INTERFACE!C$47,INTERFACE!F269)","v":{"$error":"#VALUE!"}},{"$f":"100-INTERFACE!B269","v":{"$error":"#VALUE!"}},null,{"$f":"INTERFACE!E268+12/1200","v":2.1799999999999975},{"$f":"((INTERFACE!C$11)/((10^-(INTERFACE!E269))+(INTERFACE!C$11)))*100","v":{"$error":"#VALUE!"}},{"$f":"100-INTERFACE!F269","v":{"$error":"#VALUE!"}}]
[{"$f":"(MIN(INTERFACE!AD$15,INTERFACE!E270))","v":0},{"$f":"MIN(INTERFACE!C$47,INTERFACE!F270)","v":{"$error":"#VALUE!"}},{"$f":"100-INTERFACE!B270","v":{"$error":"#VALUE!"}},null,{"$f":"INTERFACE!E269+12/1200","v":2.1899999999999973},{"$f":"((INTERFACE!C$11)/((10^-(INTERFACE!E270))+(INTERFACE!C$11)))*100","v":{"$error":"#VALUE!"}},{"$f":"100-INTERFACE!F270","v":{"$error":"#VALUE!"}}]
[{"$f":"(MIN(INTERFACE!AD$15,INTERFACE!E271))","v":0},{"$f":"MIN(INTERFACE!C$47,INTERFACE!F271)","v":{"$error":"#VALUE!"}},{"$f":"100-INTERFACE!B271","v":{"$error":"#VALUE!"}},null,{"$f":"INTERFACE!E270+12/1200","v":2.1999999999999971},{"$f":"((INTERFACE!C$11)/((10^-(INTERFACE!E271))+(INTERFACE!C$11)))*100","v":{"$error":"#VALUE!"}},{"$f":"100-INTERFACE!F271","v":{"$error":"#VALUE!"}}]
[{"$f":"(MIN(INTERFACE!AD$15,INTERFACE!E272))","v":0},{"$f":"MIN(INTERFACE!C$47,INTERFACE!F272)","v":{"$error":"#VALUE!"}},{"$f":"100-INTERFACE!B272","v":{"$error":"#VALUE!"}},null,{"$f":"INTERFACE!E271+12/1200","v":2.2099999999999969},{"$f":"((INTERFACE!C$11)/((10^-(INTERFACE!E272))+(INTERFACE!C$11)))*100","v":{"$error":"#VALUE!"}},{"$f":"100-INTERFACE!F272","v":{"$error":"#VALUE!"}}]
[{"$f":"(MIN(INTERFACE!AD$15,INTERFACE!E273))","v":0},{"$f":"MIN(INTERFACE!C$47,INTERFACE!F273)","v":{"$error":"#VALUE!"}},{"$f":"100-INTERFACE!B273","v":{"$error":"#VALUE!"}},null,{"$f":"INTERFACE!E272+12/1200","v":2.2199999999999966},{"$f":"((INTERFACE!C$11)/((10^-(INTERFACE!E273))+(INTERFACE!C$11)))*100","v":{"$error":"#VALUE!"}},{"$f":"100-INTERFACE!F273","v":{"$error":"#VALUE!"}}]
[{"$f":"(MIN(INTERFACE!AD$15,INTERFACE!E274))","v":0},{"$f":"MIN(INTERFACE!C$47,INTERFACE!F274)","v":{"$error":"#VALUE!"}},{"$f":"100-INTERFACE!B274","v":{"$error":"#VALUE!"}},null,{"$f":"INTERFACE!E273+12/1200","v":2.2299999999999964},{"$f":"((INTERFACE!C$11)/((10^-(INTERFACE!E274))+(INTERFACE!C$11)))*100","v":{"$error":"#VALUE!"}},{"$f":"100-INTERFACE!F274","v":{"$error":"#VALUE!"}}]
[{"$f":"(MIN(INTERFACE!AD$15,INTERFACE!E275))","v":0},{"$f":"MIN(INTERFACE!C$47,INTERFACE!F275)","v":{"$error":"#VALUE!"}},{"$f":"100-INTERFACE!B275","v":{"$error":"#VALUE!"}},null,{"$f":"INTERFACE!E274+12/1200","v":2.2399999999999962},{"$f":"((INTERFACE!C$11)/((10^-(INTERFACE!E275))+(INTERFACE!C$11)))*100","v":{"$error":"#VALUE!"}},{"$f":"100-INTERFACE!F275","v":{"$error":"#VALUE!"}}]
[{"$f":"(MIN(INTERFACE!AD$15,INTERFACE!E276))","v":0},{"$f":"MIN(INTERFACE!C$47,INTERFACE!F276)","v":{"$error":"#VALUE!"}},{"$f":"100-INTERFACE!B276","v":{"$error":"#VALUE!"}},null,{"$f":"INTERFACE!E275+12/1200","v":2.249999999999996},{"$f":"((INTERFACE!C$11)/((10^-(INTERFACE!E276))+(INTERFACE!C$11)))*100","v":{"$error":"#VALUE!"}},{"$f":"100-INTERFACE!F276","v":{"$error":"#VALUE!"}}]
[{"$f":"(MIN(INTERFACE!AD$15,INTERFACE!E277))","v":0},{"$f":"MIN(INTERFACE!C$47,INTERFACE!F277)","v":{"$error":"#VALUE!"}},{"$f":"100-INTERFACE!B277","v":{"$error":"#VALUE!"}},null,{"$f":"INTERFACE!E276+12/1200","v":2.2599999999999958},{"$f":"((INTERFACE!C$11)/((10^-(INTERFACE!E277))+(INTERFACE!C$11)))*100","v":{"$error":"#VALUE!"}},{"$f":"100-INTERFACE!F277","v":{"$error":"#VALUE!"}}]
[{"$f":"(MIN(INTERFACE!AD$15,INTERFACE!E278))","v":0},{"$f":"MIN(INTERFACE!C$47,INTERFACE!F278)","v":{"$error":"#VALUE!"}},{"$f":"100-INTERFACE!B278","v":{"$error":"#VALUE!"}},null,{"$f":"INTERFACE!E277+12/1200","v":2.2699999999999956},{"$f":"((INTERFACE!C$11)/((10^-(INTERFACE!E278))+(INTERFACE!C$11)))*100","v":{"$error":"#VALUE!"}},{"$f":"100-INTERFACE!F278","v":{"$error":"#VALUE!"}}]
[{"$f":"(MIN(INTERFACE!AD$15,INTERFACE!E279))","v":0},{"$f":"MIN(INTERFACE!C$47,INTERFACE!F279)","v":{"$error":"#VALUE!"}},{"$f":"100-INTERFACE!B279","v":{"$error":"#VALUE!"}},null,{"$f":"INTERFACE!E278+12/1200","v":2.2799999999999954},{"$f":"((INTERFACE!C$11)/((10^-(INTERFACE!E279))+(INTERFACE!C$11)))*100","v":{"$error":"#VALUE!"}},{"$f":"100-INTERFACE!F279","v":{"$error":"#VALUE!"}}]
[{"$f":"(MIN(INTERFACE!AD$15,INTERFACE!E280))","v":0},{"$f":"MIN(INTERFACE!C$47,INTERFACE!F280)","v":{"$error":"#VALUE!"}},{"$f":"100-INTERFACE!B280","v":{"$error":"#VALUE!"}},null,{"$f":"INTERFACE!E279+12/1200","v":2.2899999999999952},{"$f":"((INTERFACE!C$11)/((10^-(INTERFACE!E280))+(INTERFACE!C$11)))*100","v":{"$error":"#VALUE!"}},{"$f":"100-INTERFACE!F280","v":{"$error":"#VALUE!"}}]
[{"$f":"(MIN(INTERFACE!AD$15,INTERFACE!E281))","v":0},{"$f":"MIN(INTERFACE!C$47,INTERFACE!F281)","v":{"$error":"#VALUE!"}},{"$f":"100-INTERFACE!B281","v":{"$error":"#VALUE!"}},null,{"$f":"INTERFACE!E280+12/1200","v":2.2999999999999949},{"$f":"((INTERFACE!C$11)/((10^-(INTERFACE!E281))+(INTERFACE!C$11)))*100","v":{"$error":"#VALUE!"}},{"$f":"100-INTERFACE!F281","v":{"$error":"#VALUE!"}}]
[{"$f":"(MIN(INTERFACE!AD$15,INTERFACE!E282))","v":0},{"$f":"MIN(INTERFACE!C$47,INTERFACE!F282)","v":{"$error":"#VALUE!"}},{"$f":"100-INTERFACE!B282","v":{"$error":"#VALUE!"}},null,{"$f":"INTERFACE!E281+12/1200","v":2.3099999999999947},{"$f":"((INTERFACE!C$11)/((10^-(INTERFACE!E282))+(INTERFACE!C$11)))*100","v":{"$error":"#VALUE!"}},{"$f":"100-INTERFACE!F282","v":{"$error":"#VALUE!"}}]
[{"$f":"(MIN(INTERFACE!AD$15,INTERFACE!E283))","v":0},{"$f":"MIN(INTERFACE!C$47,INTERFACE!F283)","v":{"$error":"#VALUE!"}},{"$f":"100-INTERFACE!B283","v":{"$error":"#VALUE!"}},null,{"$f":"INTERFACE!E282+12/1200","v":2.3199999999999945},{"$f":"((INTERFACE!C$11)/((10^-(INTERFACE!E283))+(INTERFACE!C$11)))*100","v":{"$error":"#VALUE!"}},{"$f":"100-INTERFACE!F283","v":{"$error":"#VALUE!"}}]
[{"$f":"(MIN(INTERFACE!AD$15,INTERFACE!E284))","v":0},{"$f":"MIN(INTERFACE!C$47,INTERFACE!F284)","v":{"$error":"#VALUE!"}},{"$f":"100-INTERFACE!B284","v":{"$error":"#VALUE!"}},null,{"$f":"INTERFACE!E283+12/1200","v":2.3299999999999943},{"$f":"((INTERFACE!C$11)/((10^-(INTERFACE!E284))+(INTERFACE!C$11)))*100","v":{"$error":"#VALUE!"}},{"$f":"100-INTERFACE!F284","v":{"$error":"#VALUE!"}}]
[{"$f":"(MIN(INTERFACE!AD$15,INTERFACE!E285))","v":0},{"$f":"MIN(INTERFACE!C$47,INTERFACE!F285)","v":{"$error":"#VALUE!"}},{"$f":"100-INTERFACE!B285","v":{"$error":"#VALUE!"}},null,{"$f":"INTERFACE!E284+12/1200","v":2.3399999999999941},{"$f":"((INTERFACE!C$11)/((10^-(INTERFACE!E285))+(INTERFACE!C$11)))*100","v":{"$error":"#VALUE!"}},{"$f":"100-INTERFACE!F285","v":{"$error":"#VALUE!"}}]
[{"$f":"(MIN(INTERFACE!AD$15,INTERFACE!E286))","v":0},{"$f":"MIN(INTERFACE!C$47,INTERFACE!F286)","v":{"$error":"#VALUE!"}},{"$f":"100-INTERFACE!B286","v":{"$error":"#VALUE!"}},null,{"$f":"INTERFACE!E285+12/1200","v":2.3499999999999939},{"$f":"((INTERFACE!C$11)/((10^-(INTERFACE!E286))+(INTERFACE!C$11)))*100","v":{"$error":"#VALUE!"}},{"$f":"100-INTERFACE!F286","v":{"$error":"#VALUE!"}}]
[{"$f":"(MIN(INTERFACE!AD$15,INTERFACE!E287))","v":0},{"$f":"MIN(INTERFACE!C$47,INTERFACE!F287)","v":{"$error":"#VALUE!"}},{"$f":"100-INTERFACE!B287","v":{"$error":"#VALUE!"}},null,{"$f":"INTERFACE!E286+12/1200","v":2.3599999999999937},{"$f":"((INTERFACE!C$11)/((10^-(INTERFACE!E287))+(INTERFACE!C$11)))*100","v":{"$error":"#VALUE!"}},{"$f":"100-INTERFACE!F287","v":{"$error":"#VALUE!"}}]
[{"$f":"(MIN(INTERFACE!AD$15,INTERFACE!E288))","v":0},{"$f":"MIN(INTERFACE!C$47,INTERFACE!F288)","v":{"$error":"#VALUE!"}},{"$f":"100-INTERFACE!B288","v":{"$error":"#VALUE!"}},null,{"$f":"INTERFACE!E287+12/1200","v":2.3699999999999934},{"$f":"((INTERFACE!C$11)/((10^-(INTERFACE!E288))+(INTERFACE!C$11)))*100","v":{"$error":"#VALUE!"}},{"$f":"100-INTERFACE!F288","v":{"$error":"#VALUE!"}}]
[{"$f":"(MIN(INTERFACE!AD$15,INTERFACE!E289))","v":0},{"$f":"MIN(INTERFACE!C$47,INTERFACE!F289)","v":{"$error":"#VALUE!"}},{"$f":"100-INTERFACE!B289","v":{"$error":"#VALUE!"}},null,{"$f":"INTERFACE!E288+12/1200","v":2.3799999999999932},{"$f":"((INTERFACE!C$11)/((10^-(INTERFACE!E289))+(INTERFACE!C$11)))*100","v":{"$error":"#VALUE!"}},{"$f":"100-INTERFACE!F289","v":{"$error":"#VALUE!"}}]
[{"$f":"(MIN(INTERFACE!AD$15,INTERFACE!E290))","v":0},{"$f":"MIN(INTERFACE!C$47,INTERFACE!F290)","v":{"$error":"#VALUE!"}},{"$f":"100-INTERFACE!B290","v":{"$error":"#VALUE!"}},null,{"$f":"INTERFACE!E289+12/1200","v":2.389999999999993},{"$f":"((INTERFACE!C$11)/((10^-(INTERFACE!E290))+(INTERFACE!C$11)))*100","v":{"$error":"#VALUE!"}},{"$f":"100-INTERFACE!F290","v":{"$error":"#VALUE!"}}]
[{"$f":"(MIN(INTERFACE!AD$15,INTERFACE!E291))","v":0},{"$f":"MIN(INTERFACE!C$47,INTERFACE!F291)","v":{"$error":"#VALUE!"}},{"$f":"100-INTERFACE!B291","v":{"$error":"#VALUE!"}},null,{"$f":"INTERFACE!E290+12/1200","v":2.3999999999999928},{"$f":"((INTERFACE!C$11)/((10^-(INTERFACE!E291))+(INTERFACE!C$11)))*100","v":{"$error":"#VALUE!"}},{"$f":"100-INTERFACE!F291","v":{"$error":"#VALUE!"}}]
[{"$f":"(MIN(INTERFACE!AD$15,INTERFACE!E292))","v":0},{"$f":"MIN(INTERFACE!C$47,INTERFACE!F292)","v":{"$error":"#VALUE!"}},{"$f":"100-INTERFACE!B292","v":{"$error":"#VALUE!"}},null,{"$f":"INTERFACE!E291+12/1200","v":2.4099999999999926},{"$f":"((INTERFACE!C$11)/((10^-(INTERFACE!E292))+(INTERFACE!C$11)))*100","v":{"$error":"#VALUE!"}},{"$f":"100-INTERFACE!F292","v":{"$error":"#VALUE!"}}]
[{"$f":"(MIN(INTERFACE!AD$15,INTERFACE!E293))","v":0},{"$f":"MIN(INTERFACE!C$47,INTERFACE!F293)","v":{"$error":"#VALUE!"}},{"$f":"100-INTERFACE!B293","v":{"$error":"#VALUE!"}},null,{"$f":"INTERFACE!E292+12/1200","v":2.4199999999999924},{"$f":"((INTERFACE!C$11)/((10^-(INTERFACE!E293))+(INTERFACE!C$11)))*100","v":{"$error":"#VALUE!"}},{"$f":"100-INTERFACE!F293","v":{"$error":"#VALUE!"}}]
[{"$f":"(MIN(INTERFACE!AD$15,INTERFACE!E294))","v":0},{"$f":"MIN(INTERFACE!C$47,INTERFACE!F294)","v":{"$error":"#VALUE!"}},{"$f":"100-INTERFACE!B294","v":{"$error":"#VALUE!"}},null,{"$f":"INTERFACE!E293+12/1200","v":2.4299999999999922},{"$f":"((INTERFACE!C$11)/((10^-(INTERFACE!E294))+(INTERFACE!C$11)))*100","v":{"$error":"#VALUE!"}},{"$f":"100-INTERFACE!F294","v":{"$error":"#VALUE!"}}]
[{"$f":"(MIN(INTERFACE!AD$15,INTERFACE!E295))","v":0},{"$f":"MIN(INTERFACE!C$47,INTERFACE!F295)","v":{"$error":"#VALUE!"}},{"$f":"100-INTERFACE!B295","v":{"$error":"#VALUE!"}},null,{"$f":"INTERFACE!E294+12/1200","v":2.439999999999992},{"$f":"((INTERFACE!C$11)/((10^-(INTERFACE!E295))+(INTERFACE!C$11)))*100","v":{"$error":"#VALUE!"}},{"$f":"100-INTERFACE!F295","v":{"$error":"#VALUE!"}}]
[{"$f":"(MIN(INTERFACE!AD$15,INTERFACE!E296))","v":0},{"$f":"MIN(INTERFACE!C$47,INTERFACE!F296)","v":{"$error":"#VALUE!"}},{"$f":"100-INTERFACE!B296","v":{"$error":"#VALUE!"}},null,{"$f":"INTERFACE!E295+12/1200","v":2.4499999999999917},{"$f":"((INTERFACE!C$11)/((10^-(INTERFACE!E296))+(INTERFACE!C$11)))*100","v":{"$error":"#VALUE!"}},{"$f":"100-INTERFACE!F296","v":{"$error":"#VALUE!"}}]
[{"$f":"(MIN(INTERFACE!AD$15,INTERFACE!E297))","v":0},{"$f":"MIN(INTERFACE!C$47,INTERFACE!F297)","v":{"$error":"#VALUE!"}},{"$f":"100-INTERFACE!B297","v":{"$error":"#VALUE!"}},null,{"$f":"INTERFACE!E296+12/1200","v":2.4599999999999915},{"$f":"((INTERFACE!C$11)/((10^-(INTERFACE!E297))+(INTERFACE!C$11)))*100","v":{"$error":"#VALUE!"}},{"$f":"100-INTERFACE!F297","v":{"$error":"#VALUE!"}}]
[{"$f":"(MIN(INTERFACE!AD$15,INTERFACE!E298))","v":0},{"$f":"MIN(INTERFACE!C$47,INTERFACE!F298)","v":{"$error":"#VALUE!"}},{"$f":"100-INTERFACE!B298","v":{"$error":"#VALUE!"}},null,{"$f":"INTERFACE!E297+12/1200","v":2.4699999999999913},{"$f":"((INTERFACE!C$11)/((10^-(INTERFACE!E298))+(INTERFACE!C$11)))*100","v":{"$error":"#VALUE!"}},{"$f":"100-INTERFACE!F298","v":{"$error":"#VALUE!"}}]
[{"$f":"(MIN(INTERFACE!AD$15,INTERFACE!E299))","v":0},{"$f":"MIN(INTERFACE!C$47,INTERFACE!F299)","v":{"$error":"#VALUE!"}},{"$f":"100-INTERFACE!B299","v":{"$error":"#VALUE!"}},null,{"$f":"INTERFACE!E298+12/1200","v":2.4799999999999911},{"$f":"((INTERFACE!C$11)/((10^-(INTERFACE!E299))+(INTERFACE!C$11)))*100","v":{"$error":"#VALUE!"}},{"$f":"100-INTERFACE!F299","v":{"$error":"#VALUE!"}}]
[{"$f":"(MIN(INTERFACE!AD$15,INTERFACE!E300))","v":0},{"$f":"MIN(INTERFACE!C$47,INTERFACE!F300)","v":{"$error":"#VALUE!"}},{"$f":"100-INTERFACE!B300","v":{"$error":"#VALUE!"}},null,{"$f":"INTERFACE!E299+12/1200","v":2.4899999999999909},{"$f":"((INTERFACE!C$11)/((10^-(INTERFACE!E300))+(INTERFACE!C$11)))*100","v":{"$error":"#VALUE!"}},{"$f":"100-INTERFACE!F300","v":{"$error":"#VALUE!"}}]
[{"$f":"(MIN(INTERFACE!AD$15,INTERFACE!E301))","v":0},{"$f":"MIN(INTERFACE!C$47,INTERFACE!F301)","v":{"$error":"#VALUE!"}},{"$f":"100-INTERFACE!B301","v":{"$error":"#VALUE!"}},null,{"$f":"INTERFACE!E300+12/1200","v":2.4999999999999907},{"$f":"((INTERFACE!C$11)/((10^-(INTERFACE!E301))+(INTERFACE!C$11)))*100","v":{"$error":"#VALUE!"}},{"$f":"100-INTERFACE!F301","v":{"$error":"#VALUE!"}}]
[{"$f":"(MIN(INTERFACE!AD$15,INTERFACE!E302))","v":0},{"$f":"MIN(INTERFACE!C$47,INTERFACE!F302)","v":{"$error":"#VALUE!"}},{"$f":"100-INTERFACE!B302","v":{"$error":"#VALUE!"}},null,{"$f":"INTERFACE!E301+12/1200","v":2.5099999999999905},{"$f":"((INTERFACE!C$11)/((10^-(INTERFACE!E302))+(INTERFACE!C$11)))*100","v":{"$error":"#VALUE!"}},{"$f":"100-INTERFACE!F302","v":{"$error":"#VALUE!"}}]
[{"$f":"(MIN(INTERFACE!AD$15,INTERFACE!E303))","v":0},{"$f":"MIN(INTERFACE!C$47,INTERFACE!F303)","v":{"$error":"#VALUE!"}},{"$f":"100-INTERFACE!B303","v":{"$error":"#VALUE!"}},null,{"$f":"INTERFACE!E302+12/1200","v":2.5199999999999902},{"$f":"((INTERFACE!C$11)/((10^-(INTERFACE!E303))+(INTERFACE!C$11)))*100","v":{"$error":"#VALUE!"}},{"$f":"100-INTERFACE!F303","v":{"$error":"#VALUE!"}}]
[{"$f":"(MIN(INTERFACE!AD$15,INTERFACE!E304))","v":0},{"$f":"MIN(INTERFACE!C$47,INTERFACE!F304)","v":{"$error":"#VALUE!"}},{"$f":"100-INTERFACE!B304","v":{"$error":"#VALUE!"}},null,{"$f":"INTERFACE!E303+12/1200","v":2.52999999999999},{"$f":"((INTERFACE!C$11)/((10^-(INTERFACE!E304))+(INTERFACE!C$11)))*100","v":{"$error":"#VALUE!"}},{"$f":"100-INTERFACE!F304","v":{"$error":"#VALUE!"}}]
[{"$f":"(MIN(INTERFACE!AD$15,INTERFACE!E305))","v":0},{"$f":"MIN(INTERFACE!C$47,INTERFACE!F305)","v":{"$error":"#VALUE!"}},{"$f":"100-INTERFACE!B305","v":{"$error":"#VALUE!"}},null,{"$f":"INTERFACE!E304+12/1200","v":2.5399999999999898},{"$f":"((INTERFACE!C$11)/((10^-(INTERFACE!E305))+(INTERFACE!C$11)))*100","v":{"$error":"#VALUE!"}},{"$f":"100-INTERFACE!F305","v":{"$error":"#VALUE!"}}]
[{"$f":"(MIN(INTERFACE!AD$15,INTERFACE!E306))","v":0},{"$f":"MIN(INTERFACE!C$47,INTERFACE!F306)","v":{"$error":"#VALUE!"}},{"$f":"100-INTERFACE!B306","v":{"$error":"#VALUE!"}},null,{"$f":"INTERFACE!E305+12/1200","v":2.5499999999999896},{"$f":"((INTERFACE!C$11)/((10^-(INTERFACE!E306))+(INTERFACE!C$11)))*100","v":{"$error":"#VALUE!"}},{"$f":"100-INTERFACE!F306","v":{"$error":"#VALUE!"}}]
[{"$f":"(MIN(INTERFACE!AD$15,INTERFACE!E307))","v":0},{"$f":"MIN(INTERFACE!C$47,INTERFACE!F307)","v":{"$error":"#VALUE!"}},{"$f":"100-INTERFACE!B307","v":{"$error":"#VALUE!"}},null,{"$f":"INTERFACE!E306+12/1200","v":2.5599999999999894},{"$f":"((INTERFACE!C$11)/((10^-(INTERFACE!E307))+(INTERFACE!C$11)))*100","v":{"$error":"#VALUE!"}},{"$f":"100-INTERFACE!F307","v":{"$error":"#VALUE!"}}]
[{"$f":"(MIN(INTERFACE!AD$15,INTERFACE!E308))","v":0},{"$f":"MIN(INTERFACE!C$47,INTERFACE!F308)","v":{"$error":"#VALUE!"}},{"$f":"100-INTERFACE!B308","v":{"$error":"#VALUE!"}},null,{"$f":"INTERFACE!E307+12/1200","v":2.5699999999999892},{"$f":"((INTERFACE!C$11)/((10^-(INTERFACE!E308))+(INTERFACE!C$11)))*100","v":{"$error":"#VALUE!"}},{"$f":"100-INTERFACE!F308","v":{"$error":"#VALUE!"}}]
[{"$f":"(MIN(INTERFACE!AD$15,INTERFACE!E309))","v":0},{"$f":"MIN(INTERFACE!C$47,INTERFACE!F309)","v":{"$error":"#VALUE!"}},{"$f":"100-INTERFACE!B309","v":{"$error":"#VALUE!"}},null,{"$f":"INTERFACE!E308+12/1200","v":2.579999999999989},{"$f":"((INTERFACE!C$11)/((10^-(INTERFACE!E309))+(INTERFACE!C$11)))*100","v":{"$error":"#VALUE!"}},{"$f":"100-INTERFACE!F309","v":{"$error":"#VALUE!"}}]
[{"$f":"(MIN(INTERFACE!AD$15,INTERFACE!E310))","v":0},{"$f":"MIN(INTERFACE!C$47,INTERFACE!F310)","v":{"$error":"#VALUE!"}},{"$f":"100-INTERFACE!B310","v":{"$error":"#VALUE!"}},null,{"$f":"INTERFACE!E309+12/1200","v":2.5899999999999888},{"$f":"((INTERFACE!C$11)/((10^-(INTERFACE!E310))+(INTERFACE!C$11)))*100","v":{"$error":"#VALUE!"}},{"$f":"100-INTERFACE!F310","v":{"$error":"#VALUE!"}}]
[{"$f":"(MIN(INTERFACE!AD$15,INTERFACE!E311))","v":0},{"$f":"MIN(INTERFACE!C$47,INTERFACE!F311)","v":{"$error":"#VALUE!"}},{"$f":"100-INTERFACE!B311","v":{"$error":"#VALUE!"}},null,{"$f":"INTERFACE!E310+12/1200","v":2.5999999999999885},{"$f":"((INTERFACE!C$11)/((10^-(INTERFACE!E311))+(INTERFACE!C$11)))*100","v":{"$error":"#VALUE!"}},{"$f":"100-INTERFACE!F311","v":{"$error":"#VALUE!"}}]
[{"$f":"(MIN(INTERFACE!AD$15,INTERFACE!E312))","v":0},{"$f":"MIN(INTERFACE!C$47,INTERFACE!F312)","v":{"$error":"#VALUE!"}},{"$f":"100-INTERFACE!B312","v":{"$error":"#VALUE!"}},null,{"$f":"INTERFACE!E311+12/1200","v":2.6099999999999883},{"$f":"((INTERFACE!C$11)/((10^-(INTERFACE!E312))+(INTERFACE!C$11)))*100","v":{"$error":"#VALUE!"}},{"$f":"100-INTERFACE!F312","v":{"$error":"#VALUE!"}}]
[{"$f":"(MIN(INTERFACE!AD$15,INTERFACE!E313))","v":0},{"$f":"MIN(INTERFACE!C$47,INTERFACE!F313)","v":{"$error":"#VALUE!"}},{"$f":"100-INTERFACE!B313","v":{"$error":"#VALUE!"}},null,{"$f":"INTERFACE!E312+12/1200","v":2.6199999999999881},{"$f":"((INTERFACE!C$11)/((10^-(INTERFACE!E313))+(INTERFACE!C$11)))*100","v":{"$error":"#VALUE!"}},{"$f":"100-INTERFACE!F313","v":{"$error":"#VALUE!"}}]
[{"$f":"(MIN(INTERFACE!AD$15,INTERFACE!E314))","v":0},{"$f":"MIN(INTERFACE!C$47,INTERFACE!F314)","v":{"$error":"#VALUE!"}},{"$f":"100-INTERFACE!B314","v":{"$error":"#VALUE!"}},null,{"$f":"INTERFACE!E313+12/1200","v":2.6299999999999879},{"$f":"((INTERFACE!C$11)/((10^-(INTERFACE!E314))+(INTERFACE!C$11)))*100","v":{"$error":"#VALUE!"}},{"$f":"100-INTERFACE!F314","v":{"$error":"#VALUE!"}}]
[{"$f":"(MIN(INTERFACE!AD$15,INTERFACE!E315))","v":0},{"$f":"MIN(INTERFACE!C$47,INTERFACE!F315)","v":{"$error":"#VALUE!"}},{"$f":"100-INTERFACE!B315","v":{"$error":"#VALUE!"}},null,{"$f":"INTERFACE!E314+12/1200","v":2.6399999999999877},{"$f":"((INTERFACE!C$11)/((10^-(INTERFACE!E315))+(INTERFACE!C$11)))*100","v":{"$error":"#VALUE!"}},{"$f":"100-INTERFACE!F315","v":{"$error":"#VALUE!"}}]
[{"$f":"(MIN(INTERFACE!AD$15,INTERFACE!E316))","v":0},{"$f":"MIN(INTERFACE!C$47,INTERFACE!F316)","v":{"$error":"#VALUE!"}},{"$f":"100-INTERFACE!B316","v":{"$error":"#VALUE!"}},null,{"$f":"INTERFACE!E315+12/1200","v":2.6499999999999875},{"$f":"((INTERFACE!C$11)/((10^-(INTERFACE!E316))+(INTERFACE!C$11)))*100","v":{"$error":"#VALUE!"}},{"$f":"100-INTERFACE!F316","v":{"$error":"#VALUE!"}}]
[{"$f":"(MIN(INTERFACE!AD$15,INTERFACE!E317))","v":0},{"$f":"MIN(INTERFACE!C$47,INTERFACE!F317)","v":{"$error":"#VALUE!"}},{"$f":"100-INTERFACE!B317","v":{"$error":"#VALUE!"}},null,{"$f":"INTERFACE!E316+12/1200","v":2.6599999999999873},{"$f":"((INTERFACE!C$11)/((10^-(INTERFACE!E317))+(INTERFACE!C$11)))*100","v":{"$error":"#VALUE!"}},{"$f":"100-INTERFACE!F317","v":{"$error":"#VALUE!"}}]
[{"$f":"(MIN(INTERFACE!AD$15,INTERFACE!E318))","v":0},{"$f":"MIN(INTERFACE!C$47,INTERFACE!F318)","v":{"$error":"#VALUE!"}},{"$f":"100-INTERFACE!B318","v":{"$error":"#VALUE!"}},null,{"$f":"INTERFACE!E317+12/1200","v":2.6699999999999871},{"$f":"((INTERFACE!C$11)/((10^-(INTERFACE!E318))+(INTERFACE!C$11)))*100","v":{"$error":"#VALUE!"}},{"$f":"100-INTERFACE!F318","v":{"$error":"#VALUE!"}}]
[{"$f":"(MIN(INTERFACE!AD$15,INTERFACE!E319))","v":0},{"$f":"MIN(INTERFACE!C$47,INTERFACE!F319)","v":{"$error":"#VALUE!"}},{"$f":"100-INTERFACE!B319","v":{"$error":"#VALUE!"}},null,{"$f":"INTERFACE!E318+12/1200","v":2.6799999999999868},{"$f":"((INTERFACE!C$11)/((10^-(INTERFACE!E319))+(INTERFACE!C$11)))*100","v":{"$error":"#VALUE!"}},{"$f":"100-INTERFACE!F319","v":{"$error":"#VALUE!"}}]
[{"$f":"(MIN(INTERFACE!AD$15,INTERFACE!E320))","v":0},{"$f":"MIN(INTERFACE!C$47,INTERFACE!F320)","v":{"$error":"#VALUE!"}},{"$f":"100-INTERFACE!B320","v":{"$error":"#VALUE!"}},null,{"$f":"INTERFACE!E319+12/1200","v":2.6899999999999866},{"$f":"((INTERFACE!C$11)/((10^-(INTERFACE!E320))+(INTERFACE!C$11)))*100","v":{"$error":"#VALUE!"}},{"$f":"100-INTERFACE!F320","v":{"$error":"#VALUE!"}}]
[{"$f":"(MIN(INTERFACE!AD$15,INTERFACE!E321))","v":0},{"$f":"MIN(INTERFACE!C$47,INTERFACE!F321)","v":{"$error":"#VALUE!"}},{"$f":"100-INTERFACE!B321","v":{"$error":"#VALUE!"}},null,{"$f":"INTERFACE!E320+12/1200","v":2.6999999999999864},{"$f":"((INTERFACE!C$11)/((10^-(INTERFACE!E321))+(INTERFACE!C$11)))*100","v":{"$error":"#VALUE!"}},{"$f":"100-INTERFACE!F321","v":{"$error":"#VALUE!"}}]
[{"$f":"(MIN(INTERFACE!AD$15,INTERFACE!E322))","v":0},{"$f":"MIN(INTERFACE!C$47,INTERFACE!F322)","v":{"$error":"#VALUE!"}},{"$f":"100-INTERFACE!B322","v":{"$error":"#VALUE!"}},null,{"$f":"INTERFACE!E321+12/1200","v":2.7099999999999862},{"$f":"((INTERFACE!C$11)/((10^-(INTERFACE!E322))+(INTERFACE!C$11)))*100","v":{"$error":"#VALUE!"}},{"$f":"100-INTERFACE!F322","v":{"$error":"#VALUE!"}}]
[{"$f":"(MIN(INTERFACE!AD$15,INTERFACE!E323))","v":0},{"$f":"MIN(INTERFACE!C$47,INTERFACE!F323)","v":{"$error":"#VALUE!"}},{"$f":"100-INTERFACE!B323","v":{"$error":"#VALUE!"}},null,{"$f":"INTERFACE!E322+12/1200","v":2.719999999999986},{"$f":"((INTERFACE!C$11)/((10^-(INTERFACE!E323))+(INTERFACE!C$11)))*100","v":{"$error":"#VALUE!"}},{"$f":"100-INTERFACE!F323","v":{"$error":"#VALUE!"}}]
[{"$f":"(MIN(INTERFACE!AD$15,INTERFACE!E324))","v":0},{"$f":"MIN(INTERFACE!C$47,INTERFACE!F324)","v":{"$error":"#VALUE!"}},{"$f":"100-INTERFACE!B324","v":{"$error":"#VALUE!"}},null,{"$f":"INTERFACE!E323+12/1200","v":2.7299999999999858},{"$f":"((INTERFACE!C$11)/((10^-(INTERFACE!E324))+(INTERFACE!C$11)))*100","v":{"$error":"#VALUE!"}},{"$f":"100-INTERFACE!F324","v":{"$error":"#VALUE!"}}]
[{"$f":"(MIN(INTERFACE!AD$15,INTERFACE!E325))","v":0},{"$f":"MIN(INTERFACE!C$47,INTERFACE!F325)","v":{"$error":"#VALUE!"}},{"$f":"100-INTERFACE!B325","v":{"$error":"#VALUE!"}},null,{"$f":"INTERFACE!E324+12/1200","v":2.7399999999999856},{"$f":"((INTERFACE!C$11)/((10^-(INTERFACE!E325))+(INTERFACE!C$11)))*100","v":{"$error":"#VALUE!"}},{"$f":"100-INTERFACE!F325","v":{"$error":"#VALUE!"}}]
[{"$f":"(MIN(INTERFACE!AD$15,INTERFACE!E326))","v":0},{"$f":"MIN(INTERFACE!C$47,INTERFACE!F326)","v":{"$error":"#VALUE!"}},{"$f":"100-INTERFACE!B326","v":{"$error":"#VALUE!"}},null,{"$f":"INTERFACE!E325+12/1200","v":2.7499999999999853},{"$f":"((INTERFACE!C$11)/((10^-(INTERFACE!E326))+(INTERFACE!C$11)))*100","v":{"$error":"#VALUE!"}},{"$f":"100-INTERFACE!F326","v":{"$error":"#VALUE!"}}]
[{"$f":"(MIN(INTERFACE!AD$15,INTERFACE!E327))","v":0},{"$f":"MIN(INTERFACE!C$47,INTERFACE!F327)","v":{"$error":"#VALUE!"}},{"$f":"100-INTERFACE!B327","v":{"$error":"#VALUE!"}},null,{"$f":"INTERFACE!E326+12/1200","v":2.7599999999999851},{"$f":"((INTERFACE!C$11)/((10^-(INTERFACE!E327))+(INTERFACE!C$11)))*100","v":{"$error":"#VALUE!"}},{"$f":"100-INTERFACE!F327","v":{"$error":"#VALUE!"}}]
[{"$f":"(MIN(INTERFACE!AD$15,INTERFACE!E328))","v":0},{"$f":"MIN(INTERFACE!C$47,INTERFACE!F328)","v":{"$error":"#VALUE!"}},{"$f":"100-INTERFACE!B328","v":{"$error":"#VALUE!"}},null,{"$f":"INTERFACE!E327+12/1200","v":2.7699999999999849},{"$f":"((INTERFACE!C$11)/((10^-(INTERFACE!E328))+(INTERFACE!C$11)))*100","v":{"$error":"#VALUE!"}},{"$f":"100-INTERFACE!F328","v":{"$error":"#VALUE!"}}]
[{"$f":"(MIN(INTERFACE!AD$15,INTERFACE!E329))","v":0},{"$f":"MIN(INTERFACE!C$47,INTERFACE!F329)","v":{"$error":"#VALUE!"}},{"$f":"100-INTERFACE!B329","v":{"$error":"#VALUE!"}},null,{"$f":"INTERFACE!E328+12/1200","v":2.7799999999999847},{"$f":"((INTERFACE!C$11)/((10^-(INTERFACE!E329))+(INTERFACE!C$11)))*100","v":{"$error":"#VALUE!"}},{"$f":"100-INTERFACE!F329","v":{"$error":"#VALUE!"}}]
[{"$f":"(MIN(INTERFACE!AD$15,INTERFACE!E330))","v":0},{"$f":"MIN(INTERFACE!C$47,INTERFACE!F330)","v":{"$error":"#VALUE!"}},{"$f":"100-INTERFACE!B330","v":{"$error":"#VALUE!"}},null,{"$f":"INTERFACE!E329+12/1200","v":2.7899999999999845},{"$f":"((INTERFACE!C$11)/((10^-(INTERFACE!E330))+(INTERFACE!C$11)))*100","v":{"$error":"#VALUE!"}},{"$f":"100-INTERFACE!F330","v":{"$error":"#VALUE!"}}]
[{"$f":"(MIN(INTERFACE!AD$15,INTERFACE!E331))","v":0},{"$f":"MIN(INTERFACE!C$47,INTERFACE!F331)","v":{"$error":"#VALUE!"}},{"$f":"100-INTERFACE!B331","v":{"$error":"#VALUE!"}},null,{"$f":"INTERFACE!E330+12/1200","v":2.7999999999999843},{"$f":"((INTERFACE!C$11)/((10^-(INTERFACE!E331))+(INTERFACE!C$11)))*100","v":{"$error":"#VALUE!"}},{"$f":"100-INTERFACE!F331","v":{"$error":"#VALUE!"}}]
[{"$f":"(MIN(INTERFACE!AD$15,INTERFACE!E332))","v":0},{"$f":"MIN(INTERFACE!C$47,INTERFACE!F332)","v":{"$error":"#VALUE!"}},{"$f":"100-INTERFACE!B332","v":{"$error":"#VALUE!"}},null,{"$f":"INTERFACE!E331+12/1200","v":2.8099999999999841},{"$f":"((INTERFACE!C$11)/((10^-(INTERFACE!E332))+(INTERFACE!C$11)))*100","v":{"$error":"#VALUE!"}},{"$f":"100-INTERFACE!F332","v":{"$error":"#VALUE!"}}]
[{"$f":"(MIN(INTERFACE!AD$15,INTERFACE!E333))","v":0},{"$f":"MIN(INTERFACE!C$47,INTERFACE!F333)","v":{"$error":"#VALUE!"}},{"$f":"100-INTERFACE!B333","v":{"$error":"#VALUE!"}},null,{"$f":"INTERFACE!E332+12/1200","v":2.8199999999999839},{"$f":"((INTERFACE!C$11)/((10^-(INTERFACE!E333))+(INTERFACE!C$11)))*100","v":{"$error":"#VALUE!"}},{"$f":"100-INTERFACE!F333","v":{"$error":"#VALUE!"}}]
[{"$f":"(MIN(INTERFACE!AD$15,INTERFACE!E334))","v":0},{"$f":"MIN(INTERFACE!C$47,INTERFACE!F334)","v":{"$error":"#VALUE!"}},{"$f":"100-INTERFACE!B334","v":{"$error":"#VALUE!"}},null,{"$f":"INTERFACE!E333+12/1200","v":2.8299999999999836},{"$f":"((INTERFACE!C$11)/((10^-(INTERFACE!E334))+(INTERFACE!C$11)))*100","v":{"$error":"#VALUE!"}},{"$f":"100-INTERFACE!F334","v":{"$error":"#VALUE!"}}]
[{"$f":"(MIN(INTERFACE!AD$15,INTERFACE!E335))","v":0},{"$f":"MIN(INTERFACE!C$47,INTERFACE!F335)","v":{"$error":"#VALUE!"}},{"$f":"100-INTERFACE!B335","v":{"$error":"#VALUE!"}},null,{"$f":"INTERFACE!E334+12/1200","v":2.8399999999999834},{"$f":"((INTERFACE!C$11)/((10^-(INTERFACE!E335))+(INTERFACE!C$11)))*100","v":{"$error":"#VALUE!"}},{"$f":"100-INTERFACE!F335","v":{"$error":"#VALUE!"}}]
[{"$f":"(MIN(INTERFACE!AD$15,INTERFACE!E336))","v":0},{"$f":"MIN(INTERFACE!C$47,INTERFACE!F336)","v":{"$error":"#VALUE!"}},{"$f":"100-INTERFACE!B336","v":{"$error":"#VALUE!"}},null,{"$f":"INTERFACE!E335+12/1200","v":2.8499999999999832},{"$f":"((INTERFACE!C$11)/((10^-(INTERFACE!E336))+(INTERFACE!C$11)))*100","v":{"$error":"#VALUE!"}},{"$f":"100-INTERFACE!F336","v":{"$error":"#VALUE!"}}]
[{"$f":"(MIN(INTERFACE!AD$15,INTERFACE!E337))","v":0},{"$f":"MIN(INTERFACE!C$47,INTERFACE!F337)","v":{"$error":"#VALUE!"}},{"$f":"100-INTERFACE!B337","v":{"$error":"#VALUE!"}},null,{"$f":"INTERFACE!E336+12/1200","v":2.859999999999983},{"$f":"((INTERFACE!C$11)/((10^-(INTERFACE!E337))+(INTERFACE!C$11)))*100","v":{"$error":"#VALUE!"}},{"$f":"100-INTERFACE!F337","v":{"$error":"#VALUE!"}}]
[{"$f":"(MIN(INTERFACE!AD$15,INTERFACE!E338))","v":0},{"$f":"MIN(INTERFACE!C$47,INTERFACE!F338)","v":{"$error":"#VALUE!"}},{"$f":"100-INTERFACE!B338","v":{"$error":"#VALUE!"}},null,{"$f":"INTERFACE!E337+12/1200","v":2.8699999999999828},{"$f":"((INTERFACE!C$11)/((10^-(INTERFACE!E338))+(INTERFACE!C$11)))*100","v":{"$error":"#VALUE!"}},{"$f":"100-INTERFACE!F338","v":{"$error":"#VALUE!"}}]
[{"$f":"(MIN(INTERFACE!AD$15,INTERFACE!E339))","v":0},{"$f":"MIN(INTERFACE!C$47,INTERFACE!F339)","v":{"$error":"#VALUE!"}},{"$f":"100-INTERFACE!B339","v":{"$error":"#VALUE!"}},null,{"$f":"INTERFACE!E338+12/1200","v":2.8799999999999826},{"$f":"((INTERFACE!C$11)/((10^-(INTERFACE!E339))+(INTERFACE!C$11)))*100","v":{"$error":"#VALUE!"}},{"$f":"100-INTERFACE!F339","v":{"$error":"#VALUE!"}}]
[{"$f":"(MIN(INTERFACE!AD$15,INTERFACE!E340))","v":0},{"$f":"MIN(INTERFACE!C$47,INTERFACE!F340)","v":{"$error":"#VALUE!"}},{"$f":"100-INTERFACE!B340","v":{"$error":"#VALUE!"}},null,{"$f":"INTERFACE!E339+12/1200","v":2.8899999999999824},{"$f":"((INTERFACE!C$11)/((10^-(INTERFACE!E340))+(INTERFACE!C$11)))*100","v":{"$error":"#VALUE!"}},{"$f":"100-INTERFACE!F340","v":{"$error":"#VALUE!"}}]
[{"$f":"(MIN(INTERFACE!AD$15,INTERFACE!E341))","v":0},{"$f":"MIN(INTERFACE!C$47,INTERFACE!F341)","v":{"$error":"#VALUE!"}},{"$f":"100-INTERFACE!B341","v":{"$error":"#VALUE!"}},null,{"$f":"INTERFACE!E340+12/1200","v":2.8999999999999821},{"$f":"((INTERFACE!C$11)/((10^-(INTERFACE!E341))+(INTERFACE!C$11)))*100","v":{"$error":"#VALUE!"}},{"$f":"100-INTERFACE!F341","v":{"$error":"#VALUE!"}}]
[{"$f":"(MIN(INTERFACE!AD$15,INTERFACE!E342))","v":0},{"$f":"MIN(INTERFACE!C$47,INTERFACE!F342)","v":{"$error":"#VALUE!"}},{"$f":"100-INTERFACE!B342","v":{"$error":"#VALUE!"}},null,{"$f":"INTERFACE!E341+12/1200","v":2.9099999999999819},{"$f":"((INTERFACE!C$11)/((10^-(INTERFACE!E342))+(INTERFACE!C$11)))*100","v":{"$error":"#VALUE!"}},{"$f":"100-INTERFACE!F342","v":{"$error":"#VALUE!"}}]
[{"$f":"(MIN(INTERFACE!AD$15,INTERFACE!E343))","v":0},{"$f":"MIN(INTERFACE!C$47,INTERFACE!F343)","v":{"$error":"#VALUE!"}},{"$f":"100-INTERFACE!B343","v":{"$error":"#VALUE!"}},null,{"$f":"INTERFACE!E342+12/1200","v":2.9199999999999817},{"$f":"((INTERFACE!C$11)/((10^-(INTERFACE!E343))+(INTERFACE!C$11)))*100","v":{"$error":"#VALUE!"}},{"$f":"100-INTERFACE!F343","v":{"$error":"#VALUE!"}}]
[{"$f":"(MIN(INTERFACE!AD$15,INTERFACE!E344))","v":0},{"$f":"MIN(INTERFACE!C$47,INTERFACE!F344)","v":{"$error":"#VALUE!"}},{"$f":"100-INTERFACE!B344","v":{"$error":"#VALUE!"}},null,{"$f":"INTERFACE!E343+12/1200","v":2.9299999999999815},{"$f":"((INTERFACE!C$11)/((10^-(INTERFACE!E344))+(INTERFACE!C$11)))*100","v":{"$error":"#VALUE!"}},{"$f":"100-INTERFACE!F344","v":{"$error":"#VALUE!"}}]
[{"$f":"(MIN(INTERFACE!AD$15,INTERFACE!E345))","v":0},{"$f":"MIN(INTERFACE!C$47,INTERFACE!F345)","v":{"$error":"#VALUE!"}},{"$f":"100-INTERFACE!B345","v":{"$error":"#VALUE!"}},null,{"$f":"INTERFACE!E344+12/1200","v":2.9399999999999813},{"$f":"((INTERFACE!C$11)/((10^-(INTERFACE!E345))+(INTERFACE!C$11)))*100","v":{"$error":"#VALUE!"}},{"$f":"100-INTERFACE!F345","v":{"$error":"#VALUE!"}}]
[{"$f":"(MIN(INTERFACE!AD$15,INTERFACE!E346))","v":0},{"$f":"MIN(INTERFACE!C$47,INTERFACE!F346)","v":{"$error":"#VALUE!"}},{"$f":"100-INTERFACE!B346","v":{"$error":"#VALUE!"}},null,{"$f":"INTERFACE!E345+12/1200","v":2.9499999999999811},{"$f":"((INTERFACE!C$11)/((10^-(INTERFACE!E346))+(INTERFACE!C$11)))*100","v":{"$error":"#VALUE!"}},{"$f":"100-INTERFACE!F346","v":{"$error":"#VALUE!"}}]
[{"$f":"(MIN(INTERFACE!AD$15,INTERFACE!E347))","v":0},{"$f":"MIN(INTERFACE!C$47,INTERFACE!F347)","v":{"$error":"#VALUE!"}},{"$f":"100-INTERFACE!B347","v":{"$error":"#VALUE!"}},null,{"$f":"INTERFACE!E346+12/1200","v":2.9599999999999809},{"$f":"((INTERFACE!C$11)/((10^-(INTERFACE!E347))+(INTERFACE!C$11)))*100","v":{"$error":"#VALUE!"}},{"$f":"100-INTERFACE!F347","v":{"$error":"#VALUE!"}}]
[{"$f":"(MIN(INTERFACE!AD$15,INTERFACE!E348))","v":0},{"$f":"MIN(INTERFACE!C$47,INTERFACE!F348)","v":{"$error":"#VALUE!"}},{"$f":"100-INTERFACE!B348","v":{"$error":"#VALUE!"}},null,{"$f":"INTERFACE!E347+12/1200","v":2.9699999999999807},{"$f":"((INTERFACE!C$11)/((10^-(INTERFACE!E348))+(INTERFACE!C$11)))*100","v":{"$error":"#VALUE!"}},{"$f":"100-INTERFACE!F348","v":{"$error":"#VALUE!"}}]
[{"$f":"(MIN(INTERFACE!AD$15,INTERFACE!E349))","v":0},{"$f":"MIN(INTERFACE!C$47,INTERFACE!F349)","v":{"$error":"#VALUE!"}},{"$f":"100-INTERFACE!B349","v":{"$error":"#VALUE!"}},null,{"$f":"INTERFACE!E348+12/1200","v":2.9799999999999804},{"$f":"((INTERFACE!C$11)/((10^-(INTERFACE!E349))+(INTERFACE!C$11)))*100","v":{"$error":"#VALUE!"}},{"$f":"100-INTERFACE!F349","v":{"$error":"#VALUE!"}}]
[{"$f":"(MIN(INTERFACE!AD$15,INTERFACE!E350))","v":0},{"$f":"MIN(INTERFACE!C$47,INTERFACE!F350)","v":{"$error":"#VALUE!"}},{"$f":"100-INTERFACE!B350","v":{"$error":"#VALUE!"}},null,{"$f":"INTERFACE!E349+12/1200","v":2.9899999999999802},{"$f":"((INTERFACE!C$11)/((10^-(INTERFACE!E350))+(INTERFACE!C$11)))*100","v":{"$error":"#VALUE!"}},{"$f":"100-INTERFACE!F350","v":{"$error":"#VALUE!"}}]
[{"$f":"(MIN(INTERFACE!AD$15,INTERFACE!E351))","v":0},{"$f":"MIN(INTERFACE!C$47,INTERFACE!F351)","v":{"$error":"#VALUE!"}},{"$f":"100-INTERFACE!B351","v":{"$error":"#VALUE!"}},null,{"$f":"INTERFACE!E350+12/1200","v":2.99999999999998},{"$f":"((INTERFACE!C$11)/((10^-(INTERFACE!E351))+(INTERFACE!C$11)))*100","v":{"$error":"#VALUE!"}},{"$f":"100-INTERFACE!F351","v":{"$error":"#VALUE!"}}]
[{"$f":"(MIN(INTERFACE!AD$15,INTERFACE!E352))","v":0},{"$f":"MIN(INTERFACE!C$47,INTERFACE!F352)","v":{"$error":"#VALUE!"}},{"$f":"100-INTERFACE!B352","v":{"$error":"#VALUE!"}},null,{"$f":"INTERFACE!E351+12/1200","v":3.0099999999999798},{"$f":"((INTERFACE!C$11)/((10^-(INTERFACE!E352))+(INTERFACE!C$11)))*100","v":{"$error":"#VALUE!"}},{"$f":"100-INTERFACE!F352","v":{"$error":"#VALUE!"}}]
[{"$f":"(MIN(INTERFACE!AD$15,INTERFACE!E353))","v":0},{"$f":"MIN(INTERFACE!C$47,INTERFACE!F353)","v":{"$error":"#VALUE!"}},{"$f":"100-INTERFACE!B353","v":{"$error":"#VALUE!"}},null,{"$f":"INTERFACE!E352+12/1200","v":3.0199999999999796},{"$f":"((INTERFACE!C$11)/((10^-(INTERFACE!E353))+(INTERFACE!C$11)))*100","v":{"$error":"#VALUE!"}},{"$f":"100-INTERFACE!F353","v":{"$error":"#VALUE!"}}]
[{"$f":"(MIN(INTERFACE!AD$15,INTERFACE!E354))","v":0},{"$f":"MIN(INTERFACE!C$47,INTERFACE!F354)","v":{"$error":"#VALUE!"}},{"$f":"100-INTERFACE!B354","v":{"$error":"#VALUE!"}},null,{"$f":"INTERFACE!E353+12/1200","v":3.0299999999999794},{"$f":"((INTERFACE!C$11)/((10^-(INTERFACE!E354))+(INTERFACE!C$11)))*100","v":{"$error":"#VALUE!"}},{"$f":"100-INTERFACE!F354","v":{"$error":"#VALUE!"}}]
[{"$f":"(MIN(INTERFACE!AD$15,INTERFACE!E355))","v":0},{"$f":"MIN(INTERFACE!C$47,INTERFACE!F355)","v":{"$error":"#VALUE!"}},{"$f":"100-INTERFACE!B355","v":{"$error":"#VALUE!"}},null,{"$f":"INTERFACE!E354+12/1200","v":3.0399999999999792},{"$f":"((INTERFACE!C$11)/((10^-(INTERFACE!E355))+(INTERFACE!C$11)))*100","v":{"$error":"#VALUE!"}},{"$f":"100-INTERFACE!F355","v":{"$error":"#VALUE!"}}]
[{"$f":"(MIN(INTERFACE!AD$15,INTERFACE!E356))","v":0},{"$f":"MIN(INTERFACE!C$47,INTERFACE!F356)","v":{"$error":"#VALUE!"}},{"$f":"100-INTERFACE!B356","v":{"$error":"#VALUE!"}},null,{"$f":"INTERFACE!E355+12/1200","v":3.049999999999979},{"$f":"((INTERFACE!C$11)/((10^-(INTERFACE!E356))+(INTERFACE!C$11)))*100","v":{"$error":"#VALUE!"}},{"$f":"100-INTERFACE!F356","v":{"$error":"#VALUE!"}}]
[{"$f":"(MIN(INTERFACE!AD$15,INTERFACE!E357))","v":0},{"$f":"MIN(INTERFACE!C$47,INTERFACE!F357)","v":{"$error":"#VALUE!"}},{"$f":"100-INTERFACE!B357","v":{"$error":"#VALUE!"}},null,{"$f":"INTERFACE!E356+12/1200","v":3.0599999999999787},{"$f":"((INTERFACE!C$11)/((10^-(INTERFACE!E357))+(INTERFACE!C$11)))*100","v":{"$error":"#VALUE!"}},{"$f":"100-INTERFACE!F357","v":{"$error":"#VALUE!"}}]
[{"$f":"(MIN(INTERFACE!AD$15,INTERFACE!E358))","v":0},{"$f":"MIN(INTERFACE!C$47,INTERFACE!F358)","v":{"$error":"#VALUE!"}},{"$f":"100-INTERFACE!B358","v":{"$error":"#VALUE!"}},null,{"$f":"INTERFACE!E357+12/1200","v":3.0699999999999785},{"$f":"((INTERFACE!C$11)/((10^-(INTERFACE!E358))+(INTERFACE!C$11)))*100","v":{"$error":"#VALUE!"}},{"$f":"100-INTERFACE!F358","v":{"$error":"#VALUE!"}}]
[{"$f":"(MIN(INTERFACE!AD$15,INTERFACE!E359))","v":0},{"$f":"MIN(INTERFACE!C$47,INTERFACE!F359)","v":{"$error":"#VALUE!"}},{"$f":"100-INTERFACE!B359","v":{"$error":"#VALUE!"}},null,{"$f":"INTERFACE!E358+12/1200","v":3.0799999999999783},{"$f":"((INTERFACE!C$11)/((10^-(INTERFACE!E359))+(INTERFACE!C$11)))*100","v":{"$error":"#VALUE!"}},{"$f":"100-INTERFACE!F359","v":{"$error":"#VALUE!"}}]
[{"$f":"(MIN(INTERFACE!AD$15,INTERFACE!E360))","v":0},{"$f":"MIN(INTERFACE!C$47,INTERFACE!F360)","v":{"$error":"#VALUE!"}},{"$f":"100-INTERFACE!B360","v":{"$error":"#VALUE!"}},null,{"$f":"INTERFACE!E359+12/1200","v":3.0899999999999781},{"$f":"((INTERFACE!C$11)/((10^-(INTERFACE!E360))+(INTERFACE!C$11)))*100","v":{"$error":"#VALUE!"}},{"$f":"100-INTERFACE!F360","v":{"$error":"#VALUE!"}}]
[{"$f":"(MIN(INTERFACE!AD$15,INTERFACE!E361))","v":0},{"$f":"MIN(INTERFACE!C$47,INTERFACE!F361)","v":{"$error":"#VALUE!"}},{"$f":"100-INTERFACE!B361","v":{"$error":"#VALUE!"}},null,{"$f":"INTERFACE!E360+12/1200","v":3.0999999999999779},{"$f":"((INTERFACE!C$11)/((10^-(INTERFACE!E361))+(INTERFACE!C$11)))*100","v":{"$error":"#VALUE!"}},{"$f":"100-INTERFACE!F361","v":{"$error":"#VALUE!"}}]
[{"$f":"(MIN(INTERFACE!AD$15,INTERFACE!E362))","v":0},{"$f":"MIN(INTERFACE!C$47,INTERFACE!F362)","v":{"$error":"#VALUE!"}},{"$f":"100-INTERFACE!B362","v":{"$error":"#VALUE!"}},null,{"$f":"INTERFACE!E361+12/1200","v":3.1099999999999777},{"$f":"((INTERFACE!C$11)/((10^-(INTERFACE!E362))+(INTERFACE!C$11)))*100","v":{"$error":"#VALUE!"}},{"$f":"100-INTERFACE!F362","v":{"$error":"#VALUE!"}}]
[{"$f":"(MIN(INTERFACE!AD$15,INTERFACE!E363))","v":0},{"$f":"MIN(INTERFACE!C$47,INTERFACE!F363)","v":{"$error":"#VALUE!"}},{"$f":"100-INTERFACE!B363","v":{"$error":"#VALUE!"}},null,{"$f":"INTERFACE!E362+12/1200","v":3.1199999999999775},{"$f":"((INTERFACE!C$11)/((10^-(INTERFACE!E363))+(INTERFACE!C$11)))*100","v":{"$error":"#VALUE!"}},{"$f":"100-INTERFACE!F363","v":{"$error":"#VALUE!"}}]
[{"$f":"(MIN(INTERFACE!AD$15,INTERFACE!E364))","v":0},{"$f":"MIN(INTERFACE!C$47,INTERFACE!F364)","v":{"$error":"#VALUE!"}},{"$f":"100-INTERFACE!B364","v":{"$error":"#VALUE!"}},null,{"$f":"INTERFACE!E363+12/1200","v":3.1299999999999772},{"$f":"((INTERFACE!C$11)/((10^-(INTERFACE!E364))+(INTERFACE!C$11)))*100","v":{"$error":"#VALUE!"}},{"$f":"100-INTERFACE!F364","v":{"$error":"#VALUE!"}}]
[{"$f":"(MIN(INTERFACE!AD$15,INTERFACE!E365))","v":0},{"$f":"MIN(INTERFACE!C$47,INTERFACE!F365)","v":{"$error":"#VALUE!"}},{"$f":"100-INTERFACE!B365","v":{"$error":"#VALUE!"}},null,{"$f":"INTERFACE!E364+12/1200","v":3.139999999999977},{"$f":"((INTERFACE!C$11)/((10^-(INTERFACE!E365))+(INTERFACE!C$11)))*100","v":{"$error":"#VALUE!"}},{"$f":"100-INTERFACE!F365","v":{"$error":"#VALUE!"}}]
[{"$f":"(MIN(INTERFACE!AD$15,INTERFACE!E366))","v":0},{"$f":"MIN(INTERFACE!C$47,INTERFACE!F366)","v":{"$error":"#VALUE!"}},{"$f":"100-INTERFACE!B366","v":{"$error":"#VALUE!"}},null,{"$f":"INTERFACE!E365+12/1200","v":3.1499999999999768},{"$f":"((INTERFACE!C$11)/((10^-(INTERFACE!E366))+(INTERFACE!C$11)))*100","v":{"$error":"#VALUE!"}},{"$f":"100-INTERFACE!F366","v":{"$error":"#VALUE!"}}]
[{"$f":"(MIN(INTERFACE!AD$15,INTERFACE!E367))","v":0},{"$f":"MIN(INTERFACE!C$47,INTERFACE!F367)","v":{"$error":"#VALUE!"}},{"$f":"100-INTERFACE!B367","v":{"$error":"#VALUE!"}},null,{"$f":"INTERFACE!E366+12/1200","v":3.1599999999999766},{"$f":"((INTERFACE!C$11)/((10^-(INTERFACE!E367))+(INTERFACE!C$11)))*100","v":{"$error":"#VALUE!"}},{"$f":"100-INTERFACE!F367","v":{"$error":"#VALUE!"}}]
[{"$f":"(MIN(INTERFACE!AD$15,INTERFACE!E368))","v":0},{"$f":"MIN(INTERFACE!C$47,INTERFACE!F368)","v":{"$error":"#VALUE!"}},{"$f":"100-INTERFACE!B368","v":{"$error":"#VALUE!"}},null,{"$f":"INTERFACE!E367+12/1200","v":3.1699999999999764},{"$f":"((INTERFACE!C$11)/((10^-(INTERFACE!E368))+(INTERFACE!C$11)))*100","v":{"$error":"#VALUE!"}},{"$f":"100-INTERFACE!F368","v":{"$error":"#VALUE!"}}]
[{"$f":"(MIN(INTERFACE!AD$15,INTERFACE!E369))","v":0},{"$f":"MIN(INTERFACE!C$47,INTERFACE!F369)","v":{"$error":"#VALUE!"}},{"$f":"100-INTERFACE!B369","v":{"$error":"#VALUE!"}},null,{"$f":"INTERFACE!E368+12/1200","v":3.1799999999999762},{"$f":"((INTERFACE!C$11)/((10^-(INTERFACE!E369))+(INTERFACE!C$11)))*100","v":{"$error":"#VALUE!"}},{"$f":"100-INTERFACE!F369","v":{"$error":"#VALUE!"}}]
[{"$f":"(MIN(INTERFACE!AD$15,INTERFACE!E370))","v":0},{"$f":"MIN(INTERFACE!C$47,INTERFACE!F370)","v":{"$error":"#VALUE!"}},{"$f":"100-INTERFACE!B370","v":{"$error":"#VALUE!"}},null,{"$f":"INTERFACE!E369+12/1200","v":3.189999999999976},{"$f":"((INTERFACE!C$11)/((10^-(INTERFACE!E370))+(INTERFACE!C$11)))*100","v":{"$error":"#VALUE!"}},{"$f":"100-INTERFACE!F370","v":{"$error":"#VALUE!"}}]
[{"$f":"(MIN(INTERFACE!AD$15,INTERFACE!E371))","v":0},{"$f":"MIN(INTERFACE!C$47,INTERFACE!F371)","v":{"$error":"#VALUE!"}},{"$f":"100-INTERFACE!B371","v":{"$error":"#VALUE!"}},null,{"$f":"INTERFACE!E370+12/1200","v":3.1999999999999758},{"$f":"((INTERFACE!C$11)/((10^-(INTERFACE!E371))+(INTERFACE!C$11)))*100","v":{"$error":"#VALUE!"}},{"$f":"100-INTERFACE!F371","v":{"$error":"#VALUE!"}}]
[{"$f":"(MIN(INTERFACE!AD$15,INTERFACE!E372))","v":0},{"$f":"MIN(INTERFACE!C$47,INTERFACE!F372)","v":{"$error":"#VALUE!"}},{"$f":"100-INTERFACE!B372","v":{"$error":"#VALUE!"}},null,{"$f":"INTERFACE!E371+12/1200","v":3.2099999999999755},{"$f":"((INTERFACE!C$11)/((10^-(INTERFACE!E372))+(INTERFACE!C$11)))*100","v":{"$error":"#VALUE!"}},{"$f":"100-INTERFACE!F372","v":{"$error":"#VALUE!"}}]
[{"$f":"(MIN(INTERFACE!AD$15,INTERFACE!E373))","v":0},{"$f":"MIN(INTERFACE!C$47,INTERFACE!F373)","v":{"$error":"#VALUE!"}},{"$f":"100-INTERFACE!B373","v":{"$error":"#VALUE!"}},null,{"$f":"INTERFACE!E372+12/1200","v":3.2199999999999753},{"$f":"((INTERFACE!C$11)/((10^-(INTERFACE!E373))+(INTERFACE!C$11)))*100","v":{"$error":"#VALUE!"}},{"$f":"100-INTERFACE!F373","v":{"$error":"#VALUE!"}}]
[{"$f":"(MIN(INTERFACE!AD$15,INTERFACE!E374))","v":0},{"$f":"MIN(INTERFACE!C$47,INTERFACE!F374)","v":{"$error":"#VALUE!"}},{"$f":"100-INTERFACE!B374","v":{"$error":"#VALUE!"}},null,{"$f":"INTERFACE!E373+12/1200","v":3.2299999999999751},{"$f":"((INTERFACE!C$11)/((10^-(INTERFACE!E374))+(INTERFACE!C$11)))*100","v":{"$error":"#VALUE!"}},{"$f":"100-INTERFACE!F374","v":{"$error":"#VALUE!"}}]
[{"$f":"(MIN(INTERFACE!AD$15,INTERFACE!E375))","v":0},{"$f":"MIN(INTERFACE!C$47,INTERFACE!F375)","v":{"$error":"#VALUE!"}},{"$f":"100-INTERFACE!B375","v":{"$error":"#VALUE!"}},null,{"$f":"INTERFACE!E374+12/1200","v":3.2399999999999749},{"$f":"((INTERFACE!C$11)/((10^-(INTERFACE!E375))+(INTERFACE!C$11)))*100","v":{"$error":"#VALUE!"}},{"$f":"100-INTERFACE!F375","v":{"$error":"#VALUE!"}}]
[{"$f":"(MIN(INTERFACE!AD$15,INTERFACE!E376))","v":0},{"$f":"MIN(INTERFACE!C$47,INTERFACE!F376)","v":{"$error":"#VALUE!"}},{"$f":"100-INTERFACE!B376","v":{"$error":"#VALUE!"}},null,{"$f":"INTERFACE!E375+12/1200","v":3.2499999999999747},{"$f":"((INTERFACE!C$11)/((10^-(INTERFACE!E376))+(INTERFACE!C$11)))*100","v":{"$error":"#VALUE!"}},{"$f":"100-INTERFACE!F376","v":{"$error":"#VALUE!"}}]
[{"$f":"(MIN(INTERFACE!AD$15,INTERFACE!E377))","v":0},{"$f":"MIN(INTERFACE!C$47,INTERFACE!F377)","v":{"$error":"#VALUE!"}},{"$f":"100-INTERFACE!B377","v":{"$error":"#VALUE!"}},null,{"$f":"INTERFACE!E376+12/1200","v":3.2599999999999745},{"$f":"((INTERFACE!C$11)/((10^-(INTERFACE!E377))+(INTERFACE!C$11)))*100","v":{"$error":"#VALUE!"}},{"$f":"100-INTERFACE!F377","v":{"$error":"#VALUE!"}}]
[{"$f":"(MIN(INTERFACE!AD$15,INTERFACE!E378))","v":0},{"$f":"MIN(INTERFACE!C$47,INTERFACE!F378)","v":{"$error":"#VALUE!"}},{"$f":"100-INTERFACE!B378","v":{"$error":"#VALUE!"}},null,{"$f":"INTERFACE!E377+12/1200","v":3.2699999999999743},{"$f":"((INTERFACE!C$11)/((10^-(INTERFACE!E378))+(INTERFACE!C$11)))*100","v":{"$error":"#VALUE!"}},{"$f":"100-INTERFACE!F378","v":{"$error":"#VALUE!"}}]
[{"$f":"(MIN(INTERFACE!AD$15,INTERFACE!E379))","v":0},{"$f":"MIN(INTERFACE!C$47,INTERFACE!F379)","v":{"$error":"#VALUE!"}},{"$f":"100-INTERFACE!B379","v":{"$error":"#VALUE!"}},null,{"$f":"INTERFACE!E378+12/1200","v":3.279999999999974},{"$f":"((INTERFACE!C$11)/((10^-(INTERFACE!E379))+(INTERFACE!C$11)))*100","v":{"$error":"#VALUE!"}},{"$f":"100-INTERFACE!F379","v":{"$error":"#VALUE!"}}]
[{"$f":"(MIN(INTERFACE!AD$15,INTERFACE!E380))","v":0},{"$f":"MIN(INTERFACE!C$47,INTERFACE!F380)","v":{"$error":"#VALUE!"}},{"$f":"100-INTERFACE!B380","v":{"$error":"#VALUE!"}},null,{"$f":"INTERFACE!E379+12/1200","v":3.2899999999999738},{"$f":"((INTERFACE!C$11)/((10^-(INTERFACE!E380))+(INTERFACE!C$11)))*100","v":{"$error":"#VALUE!"}},{"$f":"100-INTERFACE!F380","v":{"$error":"#VALUE!"}}]
[{"$f":"(MIN(INTERFACE!AD$15,INTERFACE!E381))","v":0},{"$f":"MIN(INTERFACE!C$47,INTERFACE!F381)","v":{"$error":"#VALUE!"}},{"$f":"100-INTERFACE!B381","v":{"$error":"#VALUE!"}},null,{"$f":"INTERFACE!E380+12/1200","v":3.2999999999999736},{"$f":"((INTERFACE!C$11)/((10^-(INTERFACE!E381))+(INTERFACE!C$11)))*100","v":{"$error":"#VALUE!"}},{"$f":"100-INTERFACE!F381","v":{"$error":"#VALUE!"}}]
[{"$f":"(MIN(INTERFACE!AD$15,INTERFACE!E382))","v":0},{"$f":"MIN(INTERFACE!C$47,INTERFACE!F382)","v":{"$error":"#VALUE!"}},{"$f":"100-INTERFACE!B382","v":{"$error":"#VALUE!"}},null,{"$f":"INTERFACE!E381+12/1200","v":3.3099999999999734},{"$f":"((INTERFACE!C$11)/((10^-(INTERFACE!E382))+(INTERFACE!C$11)))*100","v":{"$error":"#VALUE!"}},{"$f":"100-INTERFACE!F382","v":{"$error":"#VALUE!"}}]
[{"$f":"(MIN(INTERFACE!AD$15,INTERFACE!E383))","v":0},{"$f":"MIN(INTERFACE!C$47,INTERFACE!F383)","v":{"$error":"#VALUE!"}},{"$f":"100-INTERFACE!B383","v":{"$error":"#VALUE!"}},null,{"$f":"INTERFACE!E382+12/1200","v":3.3199999999999732},{"$f":"((INTERFACE!C$11)/((10^-(INTERFACE!E383))+(INTERFACE!C$11)))*100","v":{"$error":"#VALUE!"}},{"$f":"100-INTERFACE!F383","v":{"$error":"#VALUE!"}}]
[{"$f":"(MIN(INTERFACE!AD$15,INTERFACE!E384))","v":0},{"$f":"MIN(INTERFACE!C$47,INTERFACE!F384)","v":{"$error":"#VALUE!"}},{"$f":"100-INTERFACE!B384","v":{"$error":"#VALUE!"}},null,{"$f":"INTERFACE!E383+12/1200","v":3.329999999999973},{"$f":"((INTERFACE!C$11)/((10^-(INTERFACE!E384))+(INTERFACE!C$11)))*100","v":{"$error":"#VALUE!"}},{"$f":"100-INTERFACE!F384","v":{"$error":"#VALUE!"}}]
[{"$f":"(MIN(INTERFACE!AD$15,INTERFACE!E385))","v":0},{"$f":"MIN(INTERFACE!C$47,INTERFACE!F385)","v":{"$error":"#VALUE!"}},{"$f":"100-INTERFACE!B385","v":{"$error":"#VALUE!"}},null,{"$f":"INTERFACE!E384+12/1200","v":3.3399999999999728},{"$f":"((INTERFACE!C$11)/((10^-(INTERFACE!E385))+(INTERFACE!C$11)))*100","v":{"$error":"#VALUE!"}},{"$f":"100-INTERFACE!F385","v":{"$error":"#VALUE!"}}]
[{"$f":"(MIN(INTERFACE!AD$15,INTERFACE!E386))","v":0},{"$f":"MIN(INTERFACE!C$47,INTERFACE!F386)","v":{"$error":"#VALUE!"}},{"$f":"100-INTERFACE!B386","v":{"$error":"#VALUE!"}},null,{"$f":"INTERFACE!E385+12/1200","v":3.3499999999999726},{"$f":"((INTERFACE!C$11)/((10^-(INTERFACE!E386))+(INTERFACE!C$11)))*100","v":{"$error":"#VALUE!"}},{"$f":"100-INTERFACE!F386","v":{"$error":"#VALUE!"}}]
[{"$f":"(MIN(INTERFACE!AD$15,INTERFACE!E387))","v":0},{"$f":"MIN(INTERFACE!C$47,INTERFACE!F387)","v":{"$error":"#VALUE!"}},{"$f":"100-INTERFACE!B387","v":{"$error":"#VALUE!"}},null,{"$f":"INTERFACE!E386+12/1200","v":3.3599999999999723},{"$f":"((INTERFACE!C$11)/((10^-(INTERFACE!E387))+(INTERFACE!C$11)))*100","v":{"$error":"#VALUE!"}},{"$f":"100-INTERFACE!F387","v":{"$error":"#VALUE!"}}]
[{"$f":"(MIN(INTERFACE!AD$15,INTERFACE!E388))","v":0},{"$f":"MIN(INTERFACE!C$47,INTERFACE!F388)","v":{"$error":"#VALUE!"}},{"$f":"100-INTERFACE!B388","v":{"$error":"#VALUE!"}},null,{"$f":"INTERFACE!E387+12/1200","v":3.3699999999999721},{"$f":"((INTERFACE!C$11)/((10^-(INTERFACE!E388))+(INTERFACE!C$11)))*100","v":{"$error":"#VALUE!"}},{"$f":"100-INTERFACE!F388","v":{"$error":"#VALUE!"}}]
[{"$f":"(MIN(INTERFACE!AD$15,INTERFACE!E389))","v":0},{"$f":"MIN(INTERFACE!C$47,INTERFACE!F389)","v":{"$error":"#VALUE!"}},{"$f":"100-INTERFACE!B389","v":{"$error":"#VALUE!"}},null,{"$f":"INTERFACE!E388+12/1200","v":3.3799999999999719},{"$f":"((INTERFACE!C$11)/((10^-(INTERFACE!E389))+(INTERFACE!C$11)))*100","v":{"$error":"#VALUE!"}},{"$f":"100-INTERFACE!F389","v":{"$error":"#VALUE!"}}]
[{"$f":"(MIN(INTERFACE!AD$15,INTERFACE!E390))","v":0},{"$f":"MIN(INTERFACE!C$47,INTERFACE!F390)","v":{"$error":"#VALUE!"}},{"$f":"100-INTERFACE!B390","v":{"$error":"#VALUE!"}},null,{"$f":"INTERFACE!E389+12/1200","v":3.3899999999999717},{"$f":"((INTERFACE!C$11)/((10^-(INTERFACE!E390))+(INTERFACE!C$11)))*100","v":{"$error":"#VALUE!"}},{"$f":"100-INTERFACE!F390","v":{"$error":"#VALUE!"}}]
[{"$f":"(MIN(INTERFACE!AD$15,INTERFACE!E391))","v":0},{"$f":"MIN(INTERFACE!C$47,INTERFACE!F391)","v":{"$error":"#VALUE!"}},{"$f":"100-INTERFACE!B391","v":{"$error":"#VALUE!"}},null,{"$f":"INTERFACE!E390+12/1200","v":3.3999999999999715},{"$f":"((INTERFACE!C$11)/((10^-(INTERFACE!E391))+(INTERFACE!C$11)))*100","v":{"$error":"#VALUE!"}},{"$f":"100-INTERFACE!F391","v":{"$error":"#VALUE!"}}]
[{"$f":"(MIN(INTERFACE!AD$15,INTERFACE!E392))","v":0},{"$f":"MIN(INTERFACE!C$47,INTERFACE!F392)","v":{"$error":"#VALUE!"}},{"$f":"100-INTERFACE!B392","v":{"$error":"#VALUE!"}},null,{"$f":"INTERFACE!E391+12/1200","v":3.4099999999999713},{"$f":"((INTERFACE!C$11)/((10^-(INTERFACE!E392))+(INTERFACE!C$11)))*100","v":{"$error":"#VALUE!"}},{"$f":"100-INTERFACE!F392","v":{"$error":"#VALUE!"}}]
[{"$f":"(MIN(INTERFACE!AD$15,INTERFACE!E393))","v":0},{"$f":"MIN(INTERFACE!C$47,INTERFACE!F393)","v":{"$error":"#VALUE!"}},{"$f":"100-INTERFACE!B393","v":{"$error":"#VALUE!"}},null,{"$f":"INTERFACE!E392+12/1200","v":3.4199999999999711},{"$f":"((INTERFACE!C$11)/((10^-(INTERFACE!E393))+(INTERFACE!C$11)))*100","v":{"$error":"#VALUE!"}},{"$f":"100-INTERFACE!F393","v":{"$error":"#VALUE!"}}]
[{"$f":"(MIN(INTERFACE!AD$15,INTERFACE!E394))","v":0},{"$f":"MIN(INTERFACE!C$47,INTERFACE!F394)","v":{"$error":"#VALUE!"}},{"$f":"100-INTERFACE!B394","v":{"$error":"#VALUE!"}},null,{"$f":"INTERFACE!E393+12/1200","v":3.4299999999999708},{"$f":"((INTERFACE!C$11)/((10^-(INTERFACE!E394))+(INTERFACE!C$11)))*100","v":{"$error":"#VALUE!"}},{"$f":"100-INTERFACE!F394","v":{"$error":"#VALUE!"}}]
[{"$f":"(MIN(INTERFACE!AD$15,INTERFACE!E395))","v":0},{"$f":"MIN(INTERFACE!C$47,INTERFACE!F395)","v":{"$error":"#VALUE!"}},{"$f":"100-INTERFACE!B395","v":{"$error":"#VALUE!"}},null,{"$f":"INTERFACE!E394+12/1200","v":3.4399999999999706},{"$f":"((INTERFACE!C$11)/((10^-(INTERFACE!E395))+(INTERFACE!C$11)))*100","v":{"$error":"#VALUE!"}},{"$f":"100-INTERFACE!F395","v":{"$error":"#VALUE!"}}]
[{"$f":"(MIN(INTERFACE!AD$15,INTERFACE!E396))","v":0},{"$f":"MIN(INTERFACE!C$47,INTERFACE!F396)","v":{"$error":"#VALUE!"}},{"$f":"100-INTERFACE!B396","v":{"$error":"#VALUE!"}},null,{"$f":"INTERFACE!E395+12/1200","v":3.4499999999999704},{"$f":"((INTERFACE!C$11)/((10^-(INTERFACE!E396))+(INTERFACE!C$11)))*100","v":{"$error":"#VALUE!"}},{"$f":"100-INTERFACE!F396","v":{"$error":"#VALUE!"}}]
[{"$f":"(MIN(INTERFACE!AD$15,INTERFACE!E397))","v":0},{"$f":"MIN(INTERFACE!C$47,INTERFACE!F397)","v":{"$error":"#VALUE!"}},{"$f":"100-INTERFACE!B397","v":{"$error":"#VALUE!"}},null,{"$f":"INTERFACE!E396+12/1200","v":3.4599999999999702},{"$f":"((INTERFACE!C$11)/((10^-(INTERFACE!E397))+(INTERFACE!C$11)))*100","v":{"$error":"#VALUE!"}},{"$f":"100-INTERFACE!F397","v":{"$error":"#VALUE!"}}]
[{"$f":"(MIN(INTERFACE!AD$15,INTERFACE!E398))","v":0},{"$f":"MIN(INTERFACE!C$47,INTERFACE!F398)","v":{"$error":"#VALUE!"}},{"$f":"100-INTERFACE!B398","v":{"$error":"#VALUE!"}},null,{"$f":"INTERFACE!E397+12/1200","v":3.46999999999997},{"$f":"((INTERFACE!C$11)/((10^-(INTERFACE!E398))+(INTERFACE!C$11)))*100","v":{"$error":"#VALUE!"}},{"$f":"100-INTERFACE!F398","v":{"$error":"#VALUE!"}}]
[{"$f":"(MIN(INTERFACE!AD$15,INTERFACE!E399))","v":0},{"$f":"MIN(INTERFACE!C$47,INTERFACE!F399)","v":{"$error":"#VALUE!"}},{"$f":"100-INTERFACE!B399","v":{"$error":"#VALUE!"}},null,{"$f":"INTERFACE!E398+12/1200","v":3.4799999999999698},{"$f":"((INTERFACE!C$11)/((10^-(INTERFACE!E399))+(INTERFACE!C$11)))*100","v":{"$error":"#VALUE!"}},{"$f":"100-INTERFACE!F399","v":{"$error":"#VALUE!"}}]
[{"$f":"(MIN(INTERFACE!AD$15,INTERFACE!E400))","v":0},{"$f":"MIN(INTERFACE!C$47,INTERFACE!F400)","v":{"$error":"#VALUE!"}},{"$f":"100-INTERFACE!B400","v":{"$error":"#VALUE!"}},null,{"$f":"INTERFACE!E399+12/1200","v":3.4899999999999696},{"$f":"((INTERFACE!C$11)/((10^-(INTERFACE!E400))+(INTERFACE!C$11)))*100","v":{"$error":"#VALUE!"}},{"$f":"100-INTERFACE!F400","v":{"$error":"#VALUE!"}}]
[{"$f":"(MIN(INTERFACE!AD$15,INTERFACE!E401))","v":0},{"$f":"MIN(INTERFACE!C$47,INTERFACE!F401)","v":{"$error":"#VALUE!"}},{"$f":"100-INTERFACE!B401","v":{"$error":"#VALUE!"}},null,{"$f":"INTERFACE!E400+12/1200","v":3.4999999999999694},{"$f":"((INTERFACE!C$11)/((10^-(INTERFACE!E401))+(INTERFACE!C$11)))*100","v":{"$error":"#VALUE!"}},{"$f":"100-INTERFACE!F401","v":{"$error":"#VALUE!"}}]
[{"$f":"(MIN(INTERFACE!AD$15,INTERFACE!E402))","v":0},{"$f":"MIN(INTERFACE!C$47,INTERFACE!F402)","v":{"$error":"#VALUE!"}},{"$f":"100-INTERFACE!B402","v":{"$error":"#VALUE!"}},null,{"$f":"INTERFACE!E401+12/1200","v":3.5099999999999691},{"$f":"((INTERFACE!C$11)/((10^-(INTERFACE!E402))+(INTERFACE!C$11)))*100","v":{"$error":"#VALUE!"}},{"$f":"100-INTERFACE!F402","v":{"$error":"#VALUE!"}}]
[{"$f":"(MIN(INTERFACE!AD$15,INTERFACE!E403))","v":0},{"$f":"MIN(INTERFACE!C$47,INTERFACE!F403)","v":{"$error":"#VALUE!"}},{"$f":"100-INTERFACE!B403","v":{"$error":"#VALUE!"}},null,{"$f":"INTERFACE!E402+12/1200","v":3.5199999999999689},{"$f":"((INTERFACE!C$11)/((10^-(INTERFACE!E403))+(INTERFACE!C$11)))*100","v":{"$error":"#VALUE!"}},{"$f":"100-INTERFACE!F403","v":{"$error":"#VALUE!"}}]
[{"$f":"(MIN(INTERFACE!AD$15,INTERFACE!E404))","v":0},{"$f":"MIN(INTERFACE!C$47,INTERFACE!F404)","v":{"$error":"#VALUE!"}},{"$f":"100-INTERFACE!B404","v":{"$error":"#VALUE!"}},null,{"$f":"INTERFACE!E403+12/1200","v":3.5299999999999687},{"$f":"((INTERFACE!C$11)/((10^-(INTERFACE!E404))+(INTERFACE!C$11)))*100","v":{"$error":"#VALUE!"}},{"$f":"100-INTERFACE!F404","v":{"$error":"#VALUE!"}}]
[{"$f":"(MIN(INTERFACE!AD$15,INTERFACE!E405))","v":0},{"$f":"MIN(INTERFACE!C$47,INTERFACE!F405)","v":{"$error":"#VALUE!"}},{"$f":"100-INTERFACE!B405","v":{"$error":"#VALUE!"}},null,{"$f":"INTERFACE!E404+12/1200","v":3.5399999999999685},{"$f":"((INTERFACE!C$11)/((10^-(INTERFACE!E405))+(INTERFACE!C$11)))*100","v":{"$error":"#VALUE!"}},{"$f":"100-INTERFACE!F405","v":{"$error":"#VALUE!"}}]
[{"$f":"(MIN(INTERFACE!AD$15,INTERFACE!E406))","v":0},{"$f":"MIN(INTERFACE!C$47,INTERFACE!F406)","v":{"$error":"#VALUE!"}},{"$f":"100-INTERFACE!B406","v":{"$error":"#VALUE!"}},null,{"$f":"INTERFACE!E405+12/1200","v":3.5499999999999683},{"$f":"((INTERFACE!C$11)/((10^-(INTERFACE!E406))+(INTERFACE!C$11)))*100","v":{"$error":"#VALUE!"}},{"$f":"100-INTERFACE!F406","v":{"$error":"#VALUE!"}}]
[{"$f":"(MIN(INTERFACE!AD$15,INTERFACE!E407))","v":0},{"$f":"MIN(INTERFACE!C$47,INTERFACE!F407)","v":{"$error":"#VALUE!"}},{"$f":"100-INTERFACE!B407","v":{"$error":"#VALUE!"}},null,{"$f":"INTERFACE!E406+12/1200","v":3.5599999999999681},{"$f":"((INTERFACE!C$11)/((10^-(INTERFACE!E407))+(INTERFACE!C$11)))*100","v":{"$error":"#VALUE!"}},{"$f":"100-INTERFACE!F407","v":{"$error":"#VALUE!"}}]
[{"$f":"(MIN(INTERFACE!AD$15,INTERFACE!E408))","v":0},{"$f":"MIN(INTERFACE!C$47,INTERFACE!F408)","v":{"$error":"#VALUE!"}},{"$f":"100-INTERFACE!B408","v":{"$error":"#VALUE!"}},null,{"$f":"INTERFACE!E407+12/1200","v":3.5699999999999679},{"$f":"((INTERFACE!C$11)/((10^-(INTERFACE!E408))+(INTERFACE!C$11)))*100","v":{"$error":"#VALUE!"}},{"$f":"100-INTERFACE!F408","v":{"$error":"#VALUE!"}}]
[{"$f":"(MIN(INTERFACE!AD$15,INTERFACE!E409))","v":0},{"$f":"MIN(INTERFACE!C$47,INTERFACE!F409)","v":{"$error":"#VALUE!"}},{"$f":"100-INTERFACE!B409","v":{"$error":"#VALUE!"}},null,{"$f":"INTERFACE!E408+12/1200","v":3.5799999999999677},{"$f":"((INTERFACE!C$11)/((10^-(INTERFACE!E409))+(INTERFACE!C$11)))*100","v":{"$error":"#VALUE!"}},{"$f":"100-INTERFACE!F409","v":{"$error":"#VALUE!"}}]
[{"$f":"(MIN(INTERFACE!AD$15,INTERFACE!E410))","v":0},{"$f":"MIN(INTERFACE!C$47,INTERFACE!F410)","v":{"$error":"#VALUE!"}},{"$f":"100-INTERFACE!B410","v":{"$error":"#VALUE!"}},null,{"$f":"INTERFACE!E409+12/1200","v":3.5899999999999674},{"$f":"((INTERFACE!C$11)/((10^-(INTERFACE!E410))+(INTERFACE!C$11)))*100","v":{"$error":"#VALUE!"}},{"$f":"100-INTERFACE!F410","v":{"$error":"#VALUE!"}}]
[{"$f":"(MIN(INTERFACE!AD$15,INTERFACE!E411))","v":0},{"$f":"MIN(INTERFACE!C$47,INTERFACE!F411)","v":{"$error":"#VALUE!"}},{"$f":"100-INTERFACE!B411","v":{"$error":"#VALUE!"}},null,{"$f":"INTERFACE!E410+12/1200","v":3.5999999999999672},{"$f":"((INTERFACE!C$11)/((10^-(INTERFACE!E411))+(INTERFACE!C$11)))*100","v":{"$error":"#VALUE!"}},{"$f":"100-INTERFACE!F411","v":{"$error":"#VALUE!"}}]
[{"$f":"(MIN(INTERFACE!AD$15,INTERFACE!E412))","v":0},{"$f":"MIN(INTERFACE!C$47,INTERFACE!F412)","v":{"$error":"#VALUE!"}},{"$f":"100-INTERFACE!B412","v":{"$error":"#VALUE!"}},null,{"$f":"INTERFACE!E411+12/1200","v":3.609999999999967},{"$f":"((INTERFACE!C$11)/((10^-(INTERFACE!E412))+(INTERFACE!C$11)))*100","v":{"$error":"#VALUE!"}},{"$f":"100-INTERFACE!F412","v":{"$error":"#VALUE!"}}]
[{"$f":"(MIN(INTERFACE!AD$15,INTERFACE!E413))","v":0},{"$f":"MIN(INTERFACE!C$47,INTERFACE!F413)","v":{"$error":"#VALUE!"}},{"$f":"100-INTERFACE!B413","v":{"$error":"#VALUE!"}},null,{"$f":"INTERFACE!E412+12/1200","v":3.6199999999999668},{"$f":"((INTERFACE!C$11)/((10^-(INTERFACE!E413))+(INTERFACE!C$11)))*100","v":{"$error":"#VALUE!"}},{"$f":"100-INTERFACE!F413","v":{"$error":"#VALUE!"}}]
[{"$f":"(MIN(INTERFACE!AD$15,INTERFACE!E414))","v":0},{"$f":"MIN(INTERFACE!C$47,INTERFACE!F414)","v":{"$error":"#VALUE!"}},{"$f":"100-INTERFACE!B414","v":{"$error":"#VALUE!"}},null,{"$f":"INTERFACE!E413+12/1200","v":3.6299999999999666},{"$f":"((INTERFACE!C$11)/((10^-(INTERFACE!E414))+(INTERFACE!C$11)))*100","v":{"$error":"#VALUE!"}},{"$f":"100-INTERFACE!F414","v":{"$error":"#VALUE!"}}]
[{"$f":"(MIN(INTERFACE!AD$15,INTERFACE!E415))","v":0},{"$f":"MIN(INTERFACE!C$47,INTERFACE!F415)","v":{"$error":"#VALUE!"}},{"$f":"100-INTERFACE!B415","v":{"$error":"#VALUE!"}},null,{"$f":"INTERFACE!E414+12/1200","v":3.6399999999999664},{"$f":"((INTERFACE!C$11)/((10^-(INTERFACE!E415))+(INTERFACE!C$11)))*100","v":{"$error":"#VALUE!"}},{"$f":"100-INTERFACE!F415","v":{"$error":"#VALUE!"}}]
[{"$f":"(MIN(INTERFACE!AD$15,INTERFACE!E416))","v":0},{"$f":"MIN(INTERFACE!C$47,INTERFACE!F416)","v":{"$error":"#VALUE!"}},{"$f":"100-INTERFACE!B416","v":{"$error":"#VALUE!"}},null,{"$f":"INTERFACE!E415+12/1200","v":3.6499999999999662},{"$f":"((INTERFACE!C$11)/((10^-(INTERFACE!E416))+(INTERFACE!C$11)))*100","v":{"$error":"#VALUE!"}},{"$f":"100-INTERFACE!F416","v":{"$error":"#VALUE!"}}]
[{"$f":"(MIN(INTERFACE!AD$15,INTERFACE!E417))","v":0},{"$f":"MIN(INTERFACE!C$47,INTERFACE!F417)","v":{"$error":"#VALUE!"}},{"$f":"100-INTERFACE!B417","v":{"$error":"#VALUE!"}},null,{"$f":"INTERFACE!E416+12/1200","v":3.6599999999999659},{"$f":"((INTERFACE!C$11)/((10^-(INTERFACE!E417))+(INTERFACE!C$11)))*100","v":{"$error":"#VALUE!"}},{"$f":"100-INTERFACE!F417","v":{"$error":"#VALUE!"}}]
[{"$f":"(MIN(INTERFACE!AD$15,INTERFACE!E418))","v":0},{"$f":"MIN(INTERFACE!C$47,INTERFACE!F418)","v":{"$error":"#VALUE!"}},{"$f":"100-INTERFACE!B418","v":{"$error":"#VALUE!"}},null,{"$f":"INTERFACE!E417+12/1200","v":3.6699999999999657},{"$f":"((INTERFACE!C$11)/((10^-(INTERFACE!E418))+(INTERFACE!C$11)))*100","v":{"$error":"#VALUE!"}},{"$f":"100-INTERFACE!F418","v":{"$error":"#VALUE!"}}]
[{"$f":"(MIN(INTERFACE!AD$15,INTERFACE!E419))","v":0},{"$f":"MIN(INTERFACE!C$47,INTERFACE!F419)","v":{"$error":"#VALUE!"}},{"$f":"100-INTERFACE!B419","v":{"$error":"#VALUE!"}},null,{"$f":"INTERFACE!E418+12/1200","v":3.6799999999999655},{"$f":"((INTERFACE!C$11)/((10^-(INTERFACE!E419))+(INTERFACE!C$11)))*100","v":{"$error":"#VALUE!"}},{"$f":"100-INTERFACE!F419","v":{"$error":"#VALUE!"}}]
[{"$f":"(MIN(INTERFACE!AD$15,INTERFACE!E420))","v":0},{"$f":"MIN(INTERFACE!C$47,INTERFACE!F420)","v":{"$error":"#VALUE!"}},{"$f":"100-INTERFACE!B420","v":{"$error":"#VALUE!"}},null,{"$f":"INTERFACE!E419+12/1200","v":3.6899999999999653},{"$f":"((INTERFACE!C$11)/((10^-(INTERFACE!E420))+(INTERFACE!C$11)))*100","v":{"$error":"#VALUE!"}},{"$f":"100-INTERFACE!F420","v":{"$error":"#VALUE!"}}]
[{"$f":"(MIN(INTERFACE!AD$15,INTERFACE!E421))","v":0},{"$f":"MIN(INTERFACE!C$47,INTERFACE!F421)","v":{"$error":"#VALUE!"}},{"$f":"100-INTERFACE!B421","v":{"$error":"#VALUE!"}},null,{"$f":"INTERFACE!E420+12/1200","v":3.6999999999999651},{"$f":"((INTERFACE!C$11)/((10^-(INTERFACE!E421))+(INTERFACE!C$11)))*100","v":{"$error":"#VALUE!"}},{"$f":"100-INTERFACE!F421","v":{"$error":"#VALUE!"}}]
[{"$f":"(MIN(INTERFACE!AD$15,INTERFACE!E422))","v":0},{"$f":"MIN(INTERFACE!C$47,INTERFACE!F422)","v":{"$error":"#VALUE!"}},{"$f":"100-INTERFACE!B422","v":{"$error":"#VALUE!"}},null,{"$f":"INTERFACE!E421+12/1200","v":3.7099999999999649},{"$f":"((INTERFACE!C$11)/((10^-(INTERFACE!E422))+(INTERFACE!C$11)))*100","v":{"$error":"#VALUE!"}},{"$f":"100-INTERFACE!F422","v":{"$error":"#VALUE!"}}]
[{"$f":"(MIN(INTERFACE!AD$15,INTERFACE!E423))","v":0},{"$f":"MIN(INTERFACE!C$47,INTERFACE!F423)","v":{"$error":"#VALUE!"}},{"$f":"100-INTERFACE!B423","v":{"$error":"#VALUE!"}},null,{"$f":"INTERFACE!E422+12/1200","v":3.7199999999999647},{"$f":"((INTERFACE!C$11)/((10^-(INTERFACE!E423))+(INTERFACE!C$11)))*100","v":{"$error":"#VALUE!"}},{"$f":"100-INTERFACE!F423","v":{"$error":"#VALUE!"}}]
[{"$f":"(MIN(INTERFACE!AD$15,INTERFACE!E424))","v":0},{"$f":"MIN(INTERFACE!C$47,INTERFACE!F424)","v":{"$error":"#VALUE!"}},{"$f":"100-INTERFACE!B424","v":{"$error":"#VALUE!"}},null,{"$f":"INTERFACE!E423+12/1200","v":3.7299999999999645},{"$f":"((INTERFACE!C$11)/((10^-(INTERFACE!E424))+(INTERFACE!C$11)))*100","v":{"$error":"#VALUE!"}},{"$f":"100-INTERFACE!F424","v":{"$error":"#VALUE!"}}]
[{"$f":"(MIN(INTERFACE!AD$15,INTERFACE!E425))","v":0},{"$f":"MIN(INTERFACE!C$47,INTERFACE!F425)","v":{"$error":"#VALUE!"}},{"$f":"100-INTERFACE!B425","v":{"$error":"#VALUE!"}},null,{"$f":"INTERFACE!E424+12/1200","v":3.7399999999999642},{"$f":"((INTERFACE!C$11)/((10^-(INTERFACE!E425))+(INTERFACE!C$11)))*100","v":{"$error":"#VALUE!"}},{"$f":"100-INTERFACE!F425","v":{"$error":"#VALUE!"}}]
[{"$f":"(MIN(INTERFACE!AD$15,INTERFACE!E426))","v":0},{"$f":"MIN(INTERFACE!C$47,INTERFACE!F426)","v":{"$error":"#VALUE!"}},{"$f":"100-INTERFACE!B426","v":{"$error":"#VALUE!"}},null,{"$f":"INTERFACE!E425+12/1200","v":3.749999999999964},{"$f":"((INTERFACE!C$11)/((10^-(INTERFACE!E426))+(INTERFACE!C$11)))*100","v":{"$error":"#VALUE!"}},{"$f":"100-INTERFACE!F426","v":{"$error":"#VALUE!"}}]
[{"$f":"(MIN(INTERFACE!AD$15,INTERFACE!E427))","v":0},{"$f":"MIN(INTERFACE!C$47,INTERFACE!F427)","v":{"$error":"#VALUE!"}},{"$f":"100-INTERFACE!B427","v":{"$error":"#VALUE!"}},null,{"$f":"INTERFACE!E426+12/1200","v":3.7599999999999638},{"$f":"((INTERFACE!C$11)/((10^-(INTERFACE!E427))+(INTERFACE!C$11)))*100","v":{"$error":"#VALUE!"}},{"$f":"100-INTERFACE!F427","v":{"$error":"#VALUE!"}}]
[{"$f":"(MIN(INTERFACE!AD$15,INTERFACE!E428))","v":0},{"$f":"MIN(INTERFACE!C$47,INTERFACE!F428)","v":{"$error":"#VALUE!"}},{"$f":"100-INTERFACE!B428","v":{"$error":"#VALUE!"}},null,{"$f":"INTERFACE!E427+12/1200","v":3.7699999999999636},{"$f":"((INTERFACE!C$11)/((10^-(INTERFACE!E428))+(INTERFACE!C$11)))*100","v":{"$error":"#VALUE!"}},{"$f":"100-INTERFACE!F428","v":{"$error":"#VALUE!"}}]
[{"$f":"(MIN(INTERFACE!AD$15,INTERFACE!E429))","v":0},{"$f":"MIN(INTERFACE!C$47,INTERFACE!F429)","v":{"$error":"#VALUE!"}},{"$f":"100-INTERFACE!B429","v":{"$error":"#VALUE!"}},null,{"$f":"INTERFACE!E428+12/1200","v":3.7799999999999634},{"$f":"((INTERFACE!C$11)/((10^-(INTERFACE!E429))+(INTERFACE!C$11)))*100","v":{"$error":"#VALUE!"}},{"$f":"100-INTERFACE!F429","v":{"$error":"#VALUE!"}}]
[{"$f":"(MIN(INTERFACE!AD$15,INTERFACE!E430))","v":0},{"$f":"MIN(INTERFACE!C$47,INTERFACE!F430)","v":{"$error":"#VALUE!"}},{"$f":"100-INTERFACE!B430","v":{"$error":"#VALUE!"}},null,{"$f":"INTERFACE!E429+12/1200","v":3.7899999999999632},{"$f":"((INTERFACE!C$11)/((10^-(INTERFACE!E430))+(INTERFACE!C$11)))*100","v":{"$error":"#VALUE!"}},{"$f":"100-INTERFACE!F430","v":{"$error":"#VALUE!"}}]
[{"$f":"(MIN(INTERFACE!AD$15,INTERFACE!E431))","v":0},{"$f":"MIN(INTERFACE!C$47,INTERFACE!F431)","v":{"$error":"#VALUE!"}},{"$f":"100-INTERFACE!B431","v":{"$error":"#VALUE!"}},null,{"$f":"INTERFACE!E430+12/1200","v":3.799999999999963},{"$f":"((INTERFACE!C$11)/((10^-(INTERFACE!E431))+(INTERFACE!C$11)))*100","v":{"$error":"#VALUE!"}},{"$f":"100-INTERFACE!F431","v":{"$error":"#VALUE!"}}]
[{"$f":"(MIN(INTERFACE!AD$15,INTERFACE!E432))","v":0},{"$f":"MIN(INTERFACE!C$47,INTERFACE!F432)","v":{"$error":"#VALUE!"}},{"$f":"100-INTERFACE!B432","v":{"$error":"#VALUE!"}},null,{"$f":"INTERFACE!E431+12/1200","v":3.8099999999999627},{"$f":"((INTERFACE!C$11)/((10^-(INTERFACE!E432))+(INTERFACE!C$11)))*100","v":{"$error":"#VALUE!"}},{"$f":"100-INTERFACE!F432","v":{"$error":"#VALUE!"}}]
[{"$f":"(MIN(INTERFACE!AD$15,INTERFACE!E433))","v":0},{"$f":"MIN(INTERFACE!C$47,INTERFACE!F433)","v":{"$error":"#VALUE!"}},{"$f":"100-INTERFACE!B433","v":{"$error":"#VALUE!"}},null,{"$f":"INTERFACE!E432+12/1200","v":3.8199999999999625},{"$f":"((INTERFACE!C$11)/((10^-(INTERFACE!E433))+(INTERFACE!C$11)))*100","v":{"$error":"#VALUE!"}},{"$f":"100-INTERFACE!F433","v":{"$error":"#VALUE!"}}]
[{"$f":"(MIN(INTERFACE!AD$15,INTERFACE!E434))","v":0},{"$f":"MIN(INTERFACE!C$47,INTERFACE!F434)","v":{"$error":"#VALUE!"}},{"$f":"100-INTERFACE!B434","v":{"$error":"#VALUE!"}},null,{"$f":"INTERFACE!E433+12/1200","v":3.8299999999999623},{"$f":"((INTERFACE!C$11)/((10^-(INTERFACE!E434))+(INTERFACE!C$11)))*100","v":{"$error":"#VALUE!"}},{"$f":"100-INTERFACE!F434","v":{"$error":"#VALUE!"}}]
[{"$f":"(MIN(INTERFACE!AD$15,INTERFACE!E435))","v":0},{"$f":"MIN(INTERFACE!C$47,INTERFACE!F435)","v":{"$error":"#VALUE!"}},{"$f":"100-INTERFACE!B435","v":{"$error":"#VALUE!"}},null,{"$f":"INTERFACE!E434+12/1200","v":3.8399999999999621},{"$f":"((INTERFACE!C$11)/((10^-(INTERFACE!E435))+(INTERFACE!C$11)))*100","v":{"$error":"#VALUE!"}},{"$f":"100-INTERFACE!F435","v":{"$error":"#VALUE!"}}]
[{"$f":"(MIN(INTERFACE!AD$15,INTERFACE!E436))","v":0},{"$f":"MIN(INTERFACE!C$47,INTERFACE!F436)","v":{"$error":"#VALUE!"}},{"$f":"100-INTERFACE!B436","v":{"$error":"#VALUE!"}},null,{"$f":"INTERFACE!E435+12/1200","v":3.8499999999999619},{"$f":"((INTERFACE!C$11)/((10^-(INTERFACE!E436))+(INTERFACE!C$11)))*100","v":{"$error":"#VALUE!"}},{"$f":"100-INTERFACE!F436","v":{"$error":"#VALUE!"}}]
[{"$f":"(MIN(INTERFACE!AD$15,INTERFACE!E437))","v":0},{"$f":"MIN(INTERFACE!C$47,INTERFACE!F437)","v":{"$error":"#VALUE!"}},{"$f":"100-INTERFACE!B437","v":{"$error":"#VALUE!"}},null,{"$f":"INTERFACE!E436+12/1200","v":3.8599999999999617},{"$f":"((INTERFACE!C$11)/((10^-(INTERFACE!E437))+(INTERFACE!C$11)))*100","v":{"$error":"#VALUE!"}},{"$f":"100-INTERFACE!F437","v":{"$error":"#VALUE!"}}]
[{"$f":"(MIN(INTERFACE!AD$15,INTERFACE!E438))","v":0},{"$f":"MIN(INTERFACE!C$47,INTERFACE!F438)","v":{"$error":"#VALUE!"}},{"$f":"100-INTERFACE!B438","v":{"$error":"#VALUE!"}},null,{"$f":"INTERFACE!E437+12/1200","v":3.8699999999999615},{"$f":"((INTERFACE!C$11)/((10^-(INTERFACE!E438))+(INTERFACE!C$11)))*100","v":{"$error":"#VALUE!"}},{"$f":"100-INTERFACE!F438","v":{"$error":"#VALUE!"}}]
[{"$f":"(MIN(INTERFACE!AD$15,INTERFACE!E439))","v":0},{"$f":"MIN(INTERFACE!C$47,INTERFACE!F439)","v":{"$error":"#VALUE!"}},{"$f":"100-INTERFACE!B439","v":{"$error":"#VALUE!"}},null,{"$f":"INTERFACE!E438+12/1200","v":3.8799999999999613},{"$f":"((INTERFACE!C$11)/((10^-(INTERFACE!E439))+(INTERFACE!C$11)))*100","v":{"$error":"#VALUE!"}},{"$f":"100-INTERFACE!F439","v":{"$error":"#VALUE!"}}]
[{"$f":"(MIN(INTERFACE!AD$15,INTERFACE!E440))","v":0},{"$f":"MIN(INTERFACE!C$47,INTERFACE!F440)","v":{"$error":"#VALUE!"}},{"$f":"100-INTERFACE!B440","v":{"$error":"#VALUE!"}},null,{"$f":"INTERFACE!E439+12/1200","v":3.889999999999961},{"$f":"((INTERFACE!C$11)/((10^-(INTERFACE!E440))+(INTERFACE!C$11)))*100","v":{"$error":"#VALUE!"}},{"$f":"100-INTERFACE!F440","v":{"$error":"#VALUE!"}}]
[{"$f":"(MIN(INTERFACE!AD$15,INTERFACE!E441))","v":0},{"$f":"MIN(INTERFACE!C$47,INTERFACE!F441)","v":{"$error":"#VALUE!"}},{"$f":"100-INTERFACE!B441","v":{"$error":"#VALUE!"}},null,{"$f":"INTERFACE!E440+12/1200","v":3.8999999999999608},{"$f":"((INTERFACE!C$11)/((10^-(INTERFACE!E441))+(INTERFACE!C$11)))*100","v":{"$error":"#VALUE!"}},{"$f":"100-INTERFACE!F441","v":{"$error":"#VALUE!"}}]
[{"$f":"(MIN(INTERFACE!AD$15,INTERFACE!E442))","v":0},{"$f":"MIN(INTERFACE!C$47,INTERFACE!F442)","v":{"$error":"#VALUE!"}},{"$f":"100-INTERFACE!B442","v":{"$error":"#VALUE!"}},null,{"$f":"INTERFACE!E441+12/1200","v":3.9099999999999606},{"$f":"((INTERFACE!C$11)/((10^-(INTERFACE!E442))+(INTERFACE!C$11)))*100","v":{"$error":"#VALUE!"}},{"$f":"100-INTERFACE!F442","v":{"$error":"#VALUE!"}}]
[{"$f":"(MIN(INTERFACE!AD$15,INTERFACE!E443))","v":0},{"$f":"MIN(INTERFACE!C$47,INTERFACE!F443)","v":{"$error":"#VALUE!"}},{"$f":"100-INTERFACE!B443","v":{"$error":"#VALUE!"}},null,{"$f":"INTERFACE!E442+12/1200","v":3.9199999999999604},{"$f":"((INTERFACE!C$11)/((10^-(INTERFACE!E443))+(INTERFACE!C$11)))*100","v":{"$error":"#VALUE!"}},{"$f":"100-INTERFACE!F443","v":{"$error":"#VALUE!"}}]
[{"$f":"(MIN(INTERFACE!AD$15,INTERFACE!E444))","v":0},{"$f":"MIN(INTERFACE!C$47,INTERFACE!F444)","v":{"$error":"#VALUE!"}},{"$f":"100-INTERFACE!B444","v":{"$error":"#VALUE!"}},null,{"$f":"INTERFACE!E443+12/1200","v":3.9299999999999602},{"$f":"((INTERFACE!C$11)/((10^-(INTERFACE!E444))+(INTERFACE!C$11)))*100","v":{"$error":"#VALUE!"}},{"$f":"100-INTERFACE!F444","v":{"$error":"#VALUE!"}}]
[{"$f":"(MIN(INTERFACE!AD$15,INTERFACE!E445))","v":0},{"$f":"MIN(INTERFACE!C$47,INTERFACE!F445)","v":{"$error":"#VALUE!"}},{"$f":"100-INTERFACE!B445","v":{"$error":"#VALUE!"}},null,{"$f":"INTERFACE!E444+12/1200","v":3.93999999999996},{"$f":"((INTERFACE!C$11)/((10^-(INTERFACE!E445))+(INTERFACE!C$11)))*100","v":{"$error":"#VALUE!"}},{"$f":"100-INTERFACE!F445","v":{"$error":"#VALUE!"}}]
[{"$f":"(MIN(INTERFACE!AD$15,INTERFACE!E446))","v":0},{"$f":"MIN(INTERFACE!C$47,INTERFACE!F446)","v":{"$error":"#VALUE!"}},{"$f":"100-INTERFACE!B446","v":{"$error":"#VALUE!"}},null,{"$f":"INTERFACE!E445+12/1200","v":3.9499999999999598},{"$f":"((INTERFACE!C$11)/((10^-(INTERFACE!E446))+(INTERFACE!C$11)))*100","v":{"$error":"#VALUE!"}},{"$f":"100-INTERFACE!F446","v":{"$error":"#VALUE!"}}]
[{"$f":"(MIN(INTERFACE!AD$15,INTERFACE!E447))","v":0},{"$f":"MIN(INTERFACE!C$47,INTERFACE!F447)","v":{"$error":"#VALUE!"}},{"$f":"100-INTERFACE!B447","v":{"$error":"#VALUE!"}},null,{"$f":"INTERFACE!E446+12/1200","v":3.9599999999999596},{"$f":"((INTERFACE!C$11)/((10^-(INTERFACE!E447))+(INTERFACE!C$11)))*100","v":{"$error":"#VALUE!"}},{"$f":"100-INTERFACE!F447","v":{"$error":"#VALUE!"}}]
[{"$f":"(MIN(INTERFACE!AD$15,INTERFACE!E448))","v":0},{"$f":"MIN(INTERFACE!C$47,INTERFACE!F448)","v":{"$error":"#VALUE!"}},{"$f":"100-INTERFACE!B448","v":{"$error":"#VALUE!"}},null,{"$f":"INTERFACE!E447+12/1200","v":3.9699999999999593},{"$f":"((INTERFACE!C$11)/((10^-(INTERFACE!E448))+(INTERFACE!C$11)))*100","v":{"$error":"#VALUE!"}},{"$f":"100-INTERFACE!F448","v":{"$error":"#VALUE!"}}]
[{"$f":"(MIN(INTERFACE!AD$15,INTERFACE!E449))","v":0},{"$f":"MIN(INTERFACE!C$47,INTERFACE!F449)","v":{"$error":"#VALUE!"}},{"$f":"100-INTERFACE!B449","v":{"$error":"#VALUE!"}},null,{"$f":"INTERFACE!E448+12/1200","v":3.9799999999999591},{"$f":"((INTERFACE!C$11)/((10^-(INTERFACE!E449))+(INTERFACE!C$11)))*100","v":{"$error":"#VALUE!"}},{"$f":"100-INTERFACE!F449","v":{"$error":"#VALUE!"}}]
[{"$f":"(MIN(INTERFACE!AD$15,INTERFACE!E450))","v":0},{"$f":"MIN(INTERFACE!C$47,INTERFACE!F450)","v":{"$error":"#VALUE!"}},{"$f":"100-INTERFACE!B450","v":{"$error":"#VALUE!"}},null,{"$f":"INTERFACE!E449+12/1200","v":3.9899999999999589},{"$f":"((INTERFACE!C$11)/((10^-(INTERFACE!E450))+(INTERFACE!C$11)))*100","v":{"$error":"#VALUE!"}},{"$f":"100-INTERFACE!F450","v":{"$error":"#VALUE!"}}]
[{"$f":"(MIN(INTERFACE!AD$15,INTERFACE!E451))","v":0},{"$f":"MIN(INTERFACE!C$47,INTERFACE!F451)","v":{"$error":"#VALUE!"}},{"$f":"100-INTERFACE!B451","v":{"$error":"#VALUE!"}},null,{"$f":"INTERFACE!E450+12/1200","v":3.9999999999999587},{"$f":"((INTERFACE!C$11)/((10^-(INTERFACE!E451))+(INTERFACE!C$11)))*100","v":{"$error":"#VALUE!"}},{"$f":"100-INTERFACE!F451","v":{"$error":"#VALUE!"}}]
[{"$f":"(MIN(INTERFACE!AD$15,INTERFACE!E452))","v":0},{"$f":"MIN(INTERFACE!C$47,INTERFACE!F452)","v":{"$error":"#VALUE!"}},{"$f":"100-INTERFACE!B452","v":{"$error":"#VALUE!"}},null,{"$f":"INTERFACE!E451+12/1200","v":4.0099999999999589},{"$f":"((INTERFACE!C$11)/((10^-(INTERFACE!E452))+(INTERFACE!C$11)))*100","v":{"$error":"#VALUE!"}},{"$f":"100-INTERFACE!F452","v":{"$error":"#VALUE!"}}]
[{"$f":"(MIN(INTERFACE!AD$15,INTERFACE!E453))","v":0},{"$f":"MIN(INTERFACE!C$47,INTERFACE!F453)","v":{"$error":"#VALUE!"}},{"$f":"100-INTERFACE!B453","v":{"$error":"#VALUE!"}},null,{"$f":"INTERFACE!E452+12/1200","v":4.0199999999999587},{"$f":"((INTERFACE!C$11)/((10^-(INTERFACE!E453))+(INTERFACE!C$11)))*100","v":{"$error":"#VALUE!"}},{"$f":"100-INTERFACE!F453","v":{"$error":"#VALUE!"}}]
[{"$f":"(MIN(INTERFACE!AD$15,INTERFACE!E454))","v":0},{"$f":"MIN(INTERFACE!C$47,INTERFACE!F454)","v":{"$error":"#VALUE!"}},{"$f":"100-INTERFACE!B454","v":{"$error":"#VALUE!"}},null,{"$f":"INTERFACE!E453+12/1200","v":4.0299999999999585},{"$f":"((INTERFACE!C$11)/((10^-(INTERFACE!E454))+(INTERFACE!C$11)))*100","v":{"$error":"#VALUE!"}},{"$f":"100-INTERFACE!F454","v":{"$error":"#VALUE!"}}]
[{"$f":"(MIN(INTERFACE!AD$15,INTERFACE!E455))","v":0},{"$f":"MIN(INTERFACE!C$47,INTERFACE!F455)","v":{"$error":"#VALUE!"}},{"$f":"100-INTERFACE!B455","v":{"$error":"#VALUE!"}},null,{"$f":"INTERFACE!E454+12/1200","v":4.0399999999999583},{"$f":"((INTERFACE!C$11)/((10^-(INTERFACE!E455))+(INTERFACE!C$11)))*100","v":{"$error":"#VALUE!"}},{"$f":"100-INTERFACE!F455","v":{"$error":"#VALUE!"}}]
[{"$f":"(MIN(INTERFACE!AD$15,INTERFACE!E456))","v":0},{"$f":"MIN(INTERFACE!C$47,INTERFACE!F456)","v":{"$error":"#VALUE!"}},{"$f":"100-INTERFACE!B456","v":{"$error":"#VALUE!"}},null,{"$f":"INTERFACE!E455+12/1200","v":4.0499999999999581},{"$f":"((INTERFACE!C$11)/((10^-(INTERFACE!E456))+(INTERFACE!C$11)))*100","v":{"$error":"#VALUE!"}},{"$f":"100-INTERFACE!F456","v":{"$error":"#VALUE!"}}]
[{"$f":"(MIN(INTERFACE!AD$15,INTERFACE!E457))","v":0},{"$f":"MIN(INTERFACE!C$47,INTERFACE!F457)","v":{"$error":"#VALUE!"}},{"$f":"100-INTERFACE!B457","v":{"$error":"#VALUE!"}},null,{"$f":"INTERFACE!E456+12/1200","v":4.0599999999999579},{"$f":"((INTERFACE!C$11)/((10^-(INTERFACE!E457))+(INTERFACE!C$11)))*100","v":{"$error":"#VALUE!"}},{"$f":"100-INTERFACE!F457","v":{"$error":"#VALUE!"}}]
[{"$f":"(MIN(INTERFACE!AD$15,INTERFACE!E458))","v":0},{"$f":"MIN(INTERFACE!C$47,INTERFACE!F458)","v":{"$error":"#VALUE!"}},{"$f":"100-INTERFACE!B458","v":{"$error":"#VALUE!"}},null,{"$f":"INTERFACE!E457+12/1200","v":4.0699999999999577},{"$f":"((INTERFACE!C$11)/((10^-(INTERFACE!E458))+(INTERFACE!C$11)))*100","v":{"$error":"#VALUE!"}},{"$f":"100-INTERFACE!F458","v":{"$error":"#VALUE!"}}]
[{"$f":"(MIN(INTERFACE!AD$15,INTERFACE!E459))","v":0},{"$f":"MIN(INTERFACE!C$47,INTERFACE!F459)","v":{"$error":"#VALUE!"}},{"$f":"100-INTERFACE!B459","v":{"$error":"#VALUE!"}},null,{"$f":"INTERFACE!E458+12/1200","v":4.0799999999999574},{"$f":"((INTERFACE!C$11)/((10^-(INTERFACE!E459))+(INTERFACE!C$11)))*100","v":{"$error":"#VALUE!"}},{"$f":"100-INTERFACE!F459","v":{"$error":"#VALUE!"}}]
[{"$f":"(MIN(INTERFACE!AD$15,INTERFACE!E460))","v":0},{"$f":"MIN(INTERFACE!C$47,INTERFACE!F460)","v":{"$error":"#VALUE!"}},{"$f":"100-INTERFACE!B460","v":{"$error":"#VALUE!"}},null,{"$f":"INTERFACE!E459+12/1200","v":4.0899999999999572},{"$f":"((INTERFACE!C$11)/((10^-(INTERFACE!E460))+(INTERFACE!C$11)))*100","v":{"$error":"#VALUE!"}},{"$f":"100-INTERFACE!F460","v":{"$error":"#VALUE!"}}]
[{"$f":"(MIN(INTERFACE!AD$15,INTERFACE!E461))","v":0},{"$f":"MIN(INTERFACE!C$47,INTERFACE!F461)","v":{"$error":"#VALUE!"}},{"$f":"100-INTERFACE!B461","v":{"$error":"#VALUE!"}},null,{"$f":"INTERFACE!E460+12/1200","v":4.099999999999957},{"$f":"((INTERFACE!C$11)/((10^-(INTERFACE!E461))+(INTERFACE!C$11)))*100","v":{"$error":"#VALUE!"}},{"$f":"100-INTERFACE!F461","v":{"$error":"#VALUE!"}}]
[{"$f":"(MIN(INTERFACE!AD$15,INTERFACE!E462))","v":0},{"$f":"MIN(INTERFACE!C$47,INTERFACE!F462)","v":{"$error":"#VALUE!"}},{"$f":"100-INTERFACE!B462","v":{"$error":"#VALUE!"}},null,{"$f":"INTERFACE!E461+12/1200","v":4.1099999999999568},{"$f":"((INTERFACE!C$11)/((10^-(INTERFACE!E462))+(INTERFACE!C$11)))*100","v":{"$error":"#VALUE!"}},{"$f":"100-INTERFACE!F462","v":{"$error":"#VALUE!"}}]
[{"$f":"(MIN(INTERFACE!AD$15,INTERFACE!E463))","v":0},{"$f":"MIN(INTERFACE!C$47,INTERFACE!F463)","v":{"$error":"#VALUE!"}},{"$f":"100-INTERFACE!B463","v":{"$error":"#VALUE!"}},null,{"$f":"INTERFACE!E462+12/1200","v":4.1199999999999566},{"$f":"((INTERFACE!C$11)/((10^-(INTERFACE!E463))+(INTERFACE!C$11)))*100","v":{"$error":"#VALUE!"}},{"$f":"100-INTERFACE!F463","v":{"$error":"#VALUE!"}}]
[{"$f":"(MIN(INTERFACE!AD$15,INTERFACE!E464))","v":0},{"$f":"MIN(INTERFACE!C$47,INTERFACE!F464)","v":{"$error":"#VALUE!"}},{"$f":"100-INTERFACE!B464","v":{"$error":"#VALUE!"}},null,{"$f":"INTERFACE!E463+12/1200","v":4.1299999999999564},{"$f":"((INTERFACE!C$11)/((10^-(INTERFACE!E464))+(INTERFACE!C$11)))*100","v":{"$error":"#VALUE!"}},{"$f":"100-INTERFACE!F464","v":{"$error":"#VALUE!"}}]
[{"$f":"(MIN(INTERFACE!AD$15,INTERFACE!E465))","v":0},{"$f":"MIN(INTERFACE!C$47,INTERFACE!F465)","v":{"$error":"#VALUE!"}},{"$f":"100-INTERFACE!B465","v":{"$error":"#VALUE!"}},null,{"$f":"INTERFACE!E464+12/1200","v":4.1399999999999562},{"$f":"((INTERFACE!C$11)/((10^-(INTERFACE!E465))+(INTERFACE!C$11)))*100","v":{"$error":"#VALUE!"}},{"$f":"100-INTERFACE!F465","v":{"$error":"#VALUE!"}}]
[{"$f":"(MIN(INTERFACE!AD$15,INTERFACE!E466))","v":0},{"$f":"MIN(INTERFACE!C$47,INTERFACE!F466)","v":{"$error":"#VALUE!"}},{"$f":"100-INTERFACE!B466","v":{"$error":"#VALUE!"}},null,{"$f":"INTERFACE!E465+12/1200","v":4.1499999999999559},{"$f":"((INTERFACE!C$11)/((10^-(INTERFACE!E466))+(INTERFACE!C$11)))*100","v":{"$error":"#VALUE!"}},{"$f":"100-INTERFACE!F466","v":{"$error":"#VALUE!"}}]
[{"$f":"(MIN(INTERFACE!AD$15,INTERFACE!E467))","v":0},{"$f":"MIN(INTERFACE!C$47,INTERFACE!F467)","v":{"$error":"#VALUE!"}},{"$f":"100-INTERFACE!B467","v":{"$error":"#VALUE!"}},null,{"$f":"INTERFACE!E466+12/1200","v":4.1599999999999557},{"$f":"((INTERFACE!C$11)/((10^-(INTERFACE!E467))+(INTERFACE!C$11)))*100","v":{"$error":"#VALUE!"}},{"$f":"100-INTERFACE!F467","v":{"$error":"#VALUE!"}}]
[{"$f":"(MIN(INTERFACE!AD$15,INTERFACE!E468))","v":0},{"$f":"MIN(INTERFACE!C$47,INTERFACE!F468)","v":{"$error":"#VALUE!"}},{"$f":"100-INTERFACE!B468","v":{"$error":"#VALUE!"}},null,{"$f":"INTERFACE!E467+12/1200","v":4.1699999999999555},{"$f":"((INTERFACE!C$11)/((10^-(INTERFACE!E468))+(INTERFACE!C$11)))*100","v":{"$error":"#VALUE!"}},{"$f":"100-INTERFACE!F468","v":{"$error":"#VALUE!"}}]
[{"$f":"(MIN(INTERFACE!AD$15,INTERFACE!E469))","v":0},{"$f":"MIN(INTERFACE!C$47,INTERFACE!F469)","v":{"$error":"#VALUE!"}},{"$f":"100-INTERFACE!B469","v":{"$error":"#VALUE!"}},null,{"$f":"INTERFACE!E468+12/1200","v":4.1799999999999553},{"$f":"((INTERFACE!C$11)/((10^-(INTERFACE!E469))+(INTERFACE!C$11)))*100","v":{"$error":"#VALUE!"}},{"$f":"100-INTERFACE!F469","v":{"$error":"#VALUE!"}}]
[{"$f":"(MIN(INTERFACE!AD$15,INTERFACE!E470))","v":0},{"$f":"MIN(INTERFACE!C$47,INTERFACE!F470)","v":{"$error":"#VALUE!"}},{"$f":"100-INTERFACE!B470","v":{"$error":"#VALUE!"}},null,{"$f":"INTERFACE!E469+12/1200","v":4.1899999999999551},{"$f":"((INTERFACE!C$11)/((10^-(INTERFACE!E470))+(INTERFACE!C$11)))*100","v":{"$error":"#VALUE!"}},{"$f":"100-INTERFACE!F470","v":{"$error":"#VALUE!"}}]
[{"$f":"(MIN(INTERFACE!AD$15,INTERFACE!E471))","v":0},{"$f":"MIN(INTERFACE!C$47,INTERFACE!F471)","v":{"$error":"#VALUE!"}},{"$f":"100-INTERFACE!B471","v":{"$error":"#VALUE!"}},null,{"$f":"INTERFACE!E470+12/1200","v":4.1999999999999549},{"$f":"((INTERFACE!C$11)/((10^-(INTERFACE!E471))+(INTERFACE!C$11)))*100","v":{"$error":"#VALUE!"}},{"$f":"100-INTERFACE!F471","v":{"$error":"#VALUE!"}}]
[{"$f":"(MIN(INTERFACE!AD$15,INTERFACE!E472))","v":0},{"$f":"MIN(INTERFACE!C$47,INTERFACE!F472)","v":{"$error":"#VALUE!"}},{"$f":"100-INTERFACE!B472","v":{"$error":"#VALUE!"}},null,{"$f":"INTERFACE!E471+12/1200","v":4.2099999999999547},{"$f":"((INTERFACE!C$11)/((10^-(INTERFACE!E472))+(INTERFACE!C$11)))*100","v":{"$error":"#VALUE!"}},{"$f":"100-INTERFACE!F472","v":{"$error":"#VALUE!"}}]
[{"$f":"(MIN(INTERFACE!AD$15,INTERFACE!E473))","v":0},{"$f":"MIN(INTERFACE!C$47,INTERFACE!F473)","v":{"$error":"#VALUE!"}},{"$f":"100-INTERFACE!B473","v":{"$error":"#VALUE!"}},null,{"$f":"INTERFACE!E472+12/1200","v":4.2199999999999545},{"$f":"((INTERFACE!C$11)/((10^-(INTERFACE!E473))+(INTERFACE!C$11)))*100","v":{"$error":"#VALUE!"}},{"$f":"100-INTERFACE!F473","v":{"$error":"#VALUE!"}}]
[{"$f":"(MIN(INTERFACE!AD$15,INTERFACE!E474))","v":0},{"$f":"MIN(INTERFACE!C$47,INTERFACE!F474)","v":{"$error":"#VALUE!"}},{"$f":"100-INTERFACE!B474","v":{"$error":"#VALUE!"}},null,{"$f":"INTERFACE!E473+12/1200","v":4.2299999999999542},{"$f":"((INTERFACE!C$11)/((10^-(INTERFACE!E474))+(INTERFACE!C$11)))*100","v":{"$error":"#VALUE!"}},{"$f":"100-INTERFACE!F474","v":{"$error":"#VALUE!"}}]
[{"$f":"(MIN(INTERFACE!AD$15,INTERFACE!E475))","v":0},{"$f":"MIN(INTERFACE!C$47,INTERFACE!F475)","v":{"$error":"#VALUE!"}},{"$f":"100-INTERFACE!B475","v":{"$error":"#VALUE!"}},null,{"$f":"INTERFACE!E474+12/1200","v":4.239999999999954},{"$f":"((INTERFACE!C$11)/((10^-(INTERFACE!E475))+(INTERFACE!C$11)))*100","v":{"$error":"#VALUE!"}},{"$f":"100-INTERFACE!F475","v":{"$error":"#VALUE!"}}]
[{"$f":"(MIN(INTERFACE!AD$15,INTERFACE!E476))","v":0},{"$f":"MIN(INTERFACE!C$47,INTERFACE!F476)","v":{"$error":"#VALUE!"}},{"$f":"100-INTERFACE!B476","v":{"$error":"#VALUE!"}},null,{"$f":"INTERFACE!E475+12/1200","v":4.2499999999999538},{"$f":"((INTERFACE!C$11)/((10^-(INTERFACE!E476))+(INTERFACE!C$11)))*100","v":{"$error":"#VALUE!"}},{"$f":"100-INTERFACE!F476","v":{"$error":"#VALUE!"}}]
[{"$f":"(MIN(INTERFACE!AD$15,INTERFACE!E477))","v":0},{"$f":"MIN(INTERFACE!C$47,INTERFACE!F477)","v":{"$error":"#VALUE!"}},{"$f":"100-INTERFACE!B477","v":{"$error":"#VALUE!"}},null,{"$f":"INTERFACE!E476+12/1200","v":4.2599999999999536},{"$f":"((INTERFACE!C$11)/((10^-(INTERFACE!E477))+(INTERFACE!C$11)))*100","v":{"$error":"#VALUE!"}},{"$f":"100-INTERFACE!F477","v":{"$error":"#VALUE!"}}]
[{"$f":"(MIN(INTERFACE!AD$15,INTERFACE!E478))","v":0},{"$f":"MIN(INTERFACE!C$47,INTERFACE!F478)","v":{"$error":"#VALUE!"}},{"$f":"100-INTERFACE!B478","v":{"$error":"#VALUE!"}},null,{"$f":"INTERFACE!E477+12/1200","v":4.2699999999999534},{"$f":"((INTERFACE!C$11)/((10^-(INTERFACE!E478))+(INTERFACE!C$11)))*100","v":{"$error":"#VALUE!"}},{"$f":"100-INTERFACE!F478","v":{"$error":"#VALUE!"}}]
[{"$f":"(MIN(INTERFACE!AD$15,INTERFACE!E479))","v":0},{"$f":"MIN(INTERFACE!C$47,INTERFACE!F479)","v":{"$error":"#VALUE!"}},{"$f":"100-INTERFACE!B479","v":{"$error":"#VALUE!"}},null,{"$f":"INTERFACE!E478+12/1200","v":4.2799999999999532},{"$f":"((INTERFACE!C$11)/((10^-(INTERFACE!E479))+(INTERFACE!C$11)))*100","v":{"$error":"#VALUE!"}},{"$f":"100-INTERFACE!F479","v":{"$error":"#VALUE!"}}]
[{"$f":"(MIN(INTERFACE!AD$15,INTERFACE!E480))","v":0},{"$f":"MIN(INTERFACE!C$47,INTERFACE!F480)","v":{"$error":"#VALUE!"}},{"$f":"100-INTERFACE!B480","v":{"$error":"#VALUE!"}},null,{"$f":"INTERFACE!E479+12/1200","v":4.289999999999953},{"$f":"((INTERFACE!C$11)/((10^-(INTERFACE!E480))+(INTERFACE!C$11)))*100","v":{"$error":"#VALUE!"}},{"$f":"100-INTERFACE!F480","v":{"$error":"#VALUE!"}}]
[{"$f":"(MIN(INTERFACE!AD$15,INTERFACE!E481))","v":0},{"$f":"MIN(INTERFACE!C$47,INTERFACE!F481)","v":{"$error":"#VALUE!"}},{"$f":"100-INTERFACE!B481","v":{"$error":"#VALUE!"}},null,{"$f":"INTERFACE!E480+12/1200","v":4.2999999999999527},{"$f":"((INTERFACE!C$11)/((10^-(INTERFACE!E481))+(INTERFACE!C$11)))*100","v":{"$error":"#VALUE!"}},{"$f":"100-INTERFACE!F481","v":{"$error":"#VALUE!"}}]
[{"$f":"(MIN(INTERFACE!AD$15,INTERFACE!E482))","v":0},{"$f":"MIN(INTERFACE!C$47,INTERFACE!F482)","v":{"$error":"#VALUE!"}},{"$f":"100-INTERFACE!B482","v":{"$error":"#VALUE!"}},null,{"$f":"INTERFACE!E481+12/1200","v":4.3099999999999525},{"$f":"((INTERFACE!C$11)/((10^-(INTERFACE!E482))+(INTERFACE!C$11)))*100","v":{"$error":"#VALUE!"}},{"$f":"100-INTERFACE!F482","v":{"$error":"#VALUE!"}}]
[{"$f":"(MIN(INTERFACE!AD$15,INTERFACE!E483))","v":0},{"$f":"MIN(INTERFACE!C$47,INTERFACE!F483)","v":{"$error":"#VALUE!"}},{"$f":"100-INTERFACE!B483","v":{"$error":"#VALUE!"}},null,{"$f":"INTERFACE!E482+12/1200","v":4.3199999999999523},{"$f":"((INTERFACE!C$11)/((10^-(INTERFACE!E483))+(INTERFACE!C$11)))*100","v":{"$error":"#VALUE!"}},{"$f":"100-INTERFACE!F483","v":{"$error":"#VALUE!"}}]
[{"$f":"(MIN(INTERFACE!AD$15,INTERFACE!E484))","v":0},{"$f":"MIN(INTERFACE!C$47,INTERFACE!F484)","v":{"$error":"#VALUE!"}},{"$f":"100-INTERFACE!B484","v":{"$error":"#VALUE!"}},null,{"$f":"INTERFACE!E483+12/1200","v":4.3299999999999521},{"$f":"((INTERFACE!C$11)/((10^-(INTERFACE!E484))+(INTERFACE!C$11)))*100","v":{"$error":"#VALUE!"}},{"$f":"100-INTERFACE!F484","v":{"$error":"#VALUE!"}}]
[{"$f":"(MIN(INTERFACE!AD$15,INTERFACE!E485))","v":0},{"$f":"MIN(INTERFACE!C$47,INTERFACE!F485)","v":{"$error":"#VALUE!"}},{"$f":"100-INTERFACE!B485","v":{"$error":"#VALUE!"}},null,{"$f":"INTERFACE!E484+12/1200","v":4.3399999999999519},{"$f":"((INTERFACE!C$11)/((10^-(INTERFACE!E485))+(INTERFACE!C$11)))*100","v":{"$error":"#VALUE!"}},{"$f":"100-INTERFACE!F485","v":{"$error":"#VALUE!"}}]
[{"$f":"(MIN(INTERFACE!AD$15,INTERFACE!E486))","v":0},{"$f":"MIN(INTERFACE!C$47,INTERFACE!F486)","v":{"$error":"#VALUE!"}},{"$f":"100-INTERFACE!B486","v":{"$error":"#VALUE!"}},null,{"$f":"INTERFACE!E485+12/1200","v":4.3499999999999517},{"$f":"((INTERFACE!C$11)/((10^-(INTERFACE!E486))+(INTERFACE!C$11)))*100","v":{"$error":"#VALUE!"}},{"$f":"100-INTERFACE!F486","v":{"$error":"#VALUE!"}}]
[{"$f":"(MIN(INTERFACE!AD$15,INTERFACE!E487))","v":0},{"$f":"MIN(INTERFACE!C$47,INTERFACE!F487)","v":{"$error":"#VALUE!"}},{"$f":"100-INTERFACE!B487","v":{"$error":"#VALUE!"}},null,{"$f":"INTERFACE!E486+12/1200","v":4.3599999999999515},{"$f":"((INTERFACE!C$11)/((10^-(INTERFACE!E487))+(INTERFACE!C$11)))*100","v":{"$error":"#VALUE!"}},{"$f":"100-INTERFACE!F487","v":{"$error":"#VALUE!"}}]
[{"$f":"(MIN(INTERFACE!AD$15,INTERFACE!E488))","v":0},{"$f":"MIN(INTERFACE!C$47,INTERFACE!F488)","v":{"$error":"#VALUE!"}},{"$f":"100-INTERFACE!B488","v":{"$error":"#VALUE!"}},null,{"$f":"INTERFACE!E487+12/1200","v":4.3699999999999513},{"$f":"((INTERFACE!C$11)/((10^-(INTERFACE!E488))+(INTERFACE!C$11)))*100","v":{"$error":"#VALUE!"}},{"$f":"100-INTERFACE!F488","v":{"$error":"#VALUE!"}}]
[{"$f":"(MIN(INTERFACE!AD$15,INTERFACE!E489))","v":0},{"$f":"MIN(INTERFACE!C$47,INTERFACE!F489)","v":{"$error":"#VALUE!"}},{"$f":"100-INTERFACE!B489","v":{"$error":"#VALUE!"}},null,{"$f":"INTERFACE!E488+12/1200","v":4.379999999999951},{"$f":"((INTERFACE!C$11)/((10^-(INTERFACE!E489))+(INTERFACE!C$11)))*100","v":{"$error":"#VALUE!"}},{"$f":"100-INTERFACE!F489","v":{"$error":"#VALUE!"}}]
[{"$f":"(MIN(INTERFACE!AD$15,INTERFACE!E490))","v":0},{"$f":"MIN(INTERFACE!C$47,INTERFACE!F490)","v":{"$error":"#VALUE!"}},{"$f":"100-INTERFACE!B490","v":{"$error":"#VALUE!"}},null,{"$f":"INTERFACE!E489+12/1200","v":4.3899999999999508},{"$f":"((INTERFACE!C$11)/((10^-(INTERFACE!E490))+(INTERFACE!C$11)))*100","v":{"$error":"#VALUE!"}},{"$f":"100-INTERFACE!F490","v":{"$error":"#VALUE!"}}]
[{"$f":"(MIN(INTERFACE!AD$15,INTERFACE!E491))","v":0},{"$f":"MIN(INTERFACE!C$47,INTERFACE!F491)","v":{"$error":"#VALUE!"}},{"$f":"100-INTERFACE!B491","v":{"$error":"#VALUE!"}},null,{"$f":"INTERFACE!E490+12/1200","v":4.3999999999999506},{"$f":"((INTERFACE!C$11)/((10^-(INTERFACE!E491))+(INTERFACE!C$11)))*100","v":{"$error":"#VALUE!"}},{"$f":"100-INTERFACE!F491","v":{"$error":"#VALUE!"}}]
[{"$f":"(MIN(INTERFACE!AD$15,INTERFACE!E492))","v":0},{"$f":"MIN(INTERFACE!C$47,INTERFACE!F492)","v":{"$error":"#VALUE!"}},{"$f":"100-INTERFACE!B492","v":{"$error":"#VALUE!"}},null,{"$f":"INTERFACE!E491+12/1200","v":4.4099999999999504},{"$f":"((INTERFACE!C$11)/((10^-(INTERFACE!E492))+(INTERFACE!C$11)))*100","v":{"$error":"#VALUE!"}},{"$f":"100-INTERFACE!F492","v":{"$error":"#VALUE!"}}]
[{"$f":"(MIN(INTERFACE!AD$15,INTERFACE!E493))","v":0},{"$f":"MIN(INTERFACE!C$47,INTERFACE!F493)","v":{"$error":"#VALUE!"}},{"$f":"100-INTERFACE!B493","v":{"$error":"#VALUE!"}},null,{"$f":"INTERFACE!E492+12/1200","v":4.4199999999999502},{"$f":"((INTERFACE!C$11)/((10^-(INTERFACE!E493))+(INTERFACE!C$11)))*100","v":{"$error":"#VALUE!"}},{"$f":"100-INTERFACE!F493","v":{"$error":"#VALUE!"}}]
[{"$f":"(MIN(INTERFACE!AD$15,INTERFACE!E494))","v":0},{"$f":"MIN(INTERFACE!C$47,INTERFACE!F494)","v":{"$error":"#VALUE!"}},{"$f":"100-INTERFACE!B494","v":{"$error":"#VALUE!"}},null,{"$f":"INTERFACE!E493+12/1200","v":4.42999999999995},{"$f":"((INTERFACE!C$11)/((10^-(INTERFACE!E494))+(INTERFACE!C$11)))*100","v":{"$error":"#VALUE!"}},{"$f":"100-INTERFACE!F494","v":{"$error":"#VALUE!"}}]
[{"$f":"(MIN(INTERFACE!AD$15,INTERFACE!E495))","v":0},{"$f":"MIN(INTERFACE!C$47,INTERFACE!F495)","v":{"$error":"#VALUE!"}},{"$f":"100-INTERFACE!B495","v":{"$error":"#VALUE!"}},null,{"$f":"INTERFACE!E494+12/1200","v":4.4399999999999498},{"$f":"((INTERFACE!C$11)/((10^-(INTERFACE!E495))+(INTERFACE!C$11)))*100","v":{"$error":"#VALUE!"}},{"$f":"100-INTERFACE!F495","v":{"$error":"#VALUE!"}}]
[{"$f":"(MIN(INTERFACE!AD$15,INTERFACE!E496))","v":0},{"$f":"MIN(INTERFACE!C$47,INTERFACE!F496)","v":{"$error":"#VALUE!"}},{"$f":"100-INTERFACE!B496","v":{"$error":"#VALUE!"}},null,{"$f":"INTERFACE!E495+12/1200","v":4.4499999999999496},{"$f":"((INTERFACE!C$11)/((10^-(INTERFACE!E496))+(INTERFACE!C$11)))*100","v":{"$error":"#VALUE!"}},{"$f":"100-INTERFACE!F496","v":{"$error":"#VALUE!"}}]
[{"$f":"(MIN(INTERFACE!AD$15,INTERFACE!E497))","v":0},{"$f":"MIN(INTERFACE!C$47,INTERFACE!F497)","v":{"$error":"#VALUE!"}},{"$f":"100-INTERFACE!B497","v":{"$error":"#VALUE!"}},null,{"$f":"INTERFACE!E496+12/1200","v":4.4599999999999493},{"$f":"((INTERFACE!C$11)/((10^-(INTERFACE!E497))+(INTERFACE!C$11)))*100","v":{"$error":"#VALUE!"}},{"$f":"100-INTERFACE!F497","v":{"$error":"#VALUE!"}}]
[{"$f":"(MIN(INTERFACE!AD$15,INTERFACE!E498))","v":0},{"$f":"MIN(INTERFACE!C$47,INTERFACE!F498)","v":{"$error":"#VALUE!"}},{"$f":"100-INTERFACE!B498","v":{"$error":"#VALUE!"}},null,{"$f":"INTERFACE!E497+12/1200","v":4.4699999999999491},{"$f":"((INTERFACE!C$11)/((10^-(INTERFACE!E498))+(INTERFACE!C$11)))*100","v":{"$error":"#VALUE!"}},{"$f":"100-INTERFACE!F498","v":{"$error":"#VALUE!"}}]
[{"$f":"(MIN(INTERFACE!AD$15,INTERFACE!E499))","v":0},{"$f":"MIN(INTERFACE!C$47,INTERFACE!F499)","v":{"$error":"#VALUE!"}},{"$f":"100-INTERFACE!B499","v":{"$error":"#VALUE!"}},null,{"$f":"INTERFACE!E498+12/1200","v":4.4799999999999489},{"$f":"((INTERFACE!C$11)/((10^-(INTERFACE!E499))+(INTERFACE!C$11)))*100","v":{"$error":"#VALUE!"}},{"$f":"100-INTERFACE!F499","v":{"$error":"#VALUE!"}}]
[{"$f":"(MIN(INTERFACE!AD$15,INTERFACE!E500))","v":0},{"$f":"MIN(INTERFACE!C$47,INTERFACE!F500)","v":{"$error":"#VALUE!"}},{"$f":"100-INTERFACE!B500","v":{"$error":"#VALUE!"}},null,{"$f":"INTERFACE!E499+12/1200","v":4.4899999999999487},{"$f":"((INTERFACE!C$11)/((10^-(INTERFACE!E500))+(INTERFACE!C$11)))*100","v":{"$error":"#VALUE!"}},{"$f":"100-INTERFACE!F500","v":{"$error":"#VALUE!"}}]
[{"$f":"(MIN(INTERFACE!AD$15,INTERFACE!E501))","v":0},{"$f":"MIN(INTERFACE!C$47,INTERFACE!F501)","v":{"$error":"#VALUE!"}},{"$f":"100-INTERFACE!B501","v":{"$error":"#VALUE!"}},null,{"$f":"INTERFACE!E500+12/1200","v":4.4999999999999485},{"$f":"((INTERFACE!C$11)/((10^-(INTERFACE!E501))+(INTERFACE!C$11)))*100","v":{"$error":"#VALUE!"}},{"$f":"100-INTERFACE!F501","v":{"$error":"#VALUE!"}}]
[{"$f":"(MIN(INTERFACE!AD$15,INTERFACE!E502))","v":0},{"$f":"MIN(INTERFACE!C$47,INTERFACE!F502)","v":{"$error":"#VALUE!"}},{"$f":"100-INTERFACE!B502","v":{"$error":"#VALUE!"}},null,{"$f":"INTERFACE!E501+12/1200","v":4.5099999999999483},{"$f":"((INTERFACE!C$11)/((10^-(INTERFACE!E502))+(INTERFACE!C$11)))*100","v":{"$error":"#VALUE!"}},{"$f":"100-INTERFACE!F502","v":{"$error":"#VALUE!"}}]
[{"$f":"(MIN(INTERFACE!AD$15,INTERFACE!E503))","v":0},{"$f":"MIN(INTERFACE!C$47,INTERFACE!F503)","v":{"$error":"#VALUE!"}},{"$f":"100-INTERFACE!B503","v":{"$error":"#VALUE!"}},null,{"$f":"INTERFACE!E502+12/1200","v":4.5199999999999481},{"$f":"((INTERFACE!C$11)/((10^-(INTERFACE!E503))+(INTERFACE!C$11)))*100","v":{"$error":"#VALUE!"}},{"$f":"100-INTERFACE!F503","v":{"$error":"#VALUE!"}}]
[{"$f":"(MIN(INTERFACE!AD$15,INTERFACE!E504))","v":0},{"$f":"MIN(INTERFACE!C$47,INTERFACE!F504)","v":{"$error":"#VALUE!"}},{"$f":"100-INTERFACE!B504","v":{"$error":"#VALUE!"}},null,{"$f":"INTERFACE!E503+12/1200","v":4.5299999999999478},{"$f":"((INTERFACE!C$11)/((10^-(INTERFACE!E504))+(INTERFACE!C$11)))*100","v":{"$error":"#VALUE!"}},{"$f":"100-INTERFACE!F504","v":{"$error":"#VALUE!"}}]
[{"$f":"(MIN(INTERFACE!AD$15,INTERFACE!E505))","v":0},{"$f":"MIN(INTERFACE!C$47,INTERFACE!F505)","v":{"$error":"#VALUE!"}},{"$f":"100-INTERFACE!B505","v":{"$error":"#VALUE!"}},null,{"$f":"INTERFACE!E504+12/1200","v":4.5399999999999476},{"$f":"((INTERFACE!C$11)/((10^-(INTERFACE!E505))+(INTERFACE!C$11)))*100","v":{"$error":"#VALUE!"}},{"$f":"100-INTERFACE!F505","v":{"$error":"#VALUE!"}}]
[{"$f":"(MIN(INTERFACE!AD$15,INTERFACE!E506))","v":0},{"$f":"MIN(INTERFACE!C$47,INTERFACE!F506)","v":{"$error":"#VALUE!"}},{"$f":"100-INTERFACE!B506","v":{"$error":"#VALUE!"}},null,{"$f":"INTERFACE!E505+12/1200","v":4.5499999999999474},{"$f":"((INTERFACE!C$11)/((10^-(INTERFACE!E506))+(INTERFACE!C$11)))*100","v":{"$error":"#VALUE!"}},{"$f":"100-INTERFACE!F506","v":{"$error":"#VALUE!"}}]
[{"$f":"(MIN(INTERFACE!AD$15,INTERFACE!E507))","v":0},{"$f":"MIN(INTERFACE!C$47,INTERFACE!F507)","v":{"$error":"#VALUE!"}},{"$f":"100-INTERFACE!B507","v":{"$error":"#VALUE!"}},null,{"$f":"INTERFACE!E506+12/1200","v":4.5599999999999472},{"$f":"((INTERFACE!C$11)/((10^-(INTERFACE!E507))+(INTERFACE!C$11)))*100","v":{"$error":"#VALUE!"}},{"$f":"100-INTERFACE!F507","v":{"$error":"#VALUE!"}}]
[{"$f":"(MIN(INTERFACE!AD$15,INTERFACE!E508))","v":0},{"$f":"MIN(INTERFACE!C$47,INTERFACE!F508)","v":{"$error":"#VALUE!"}},{"$f":"100-INTERFACE!B508","v":{"$error":"#VALUE!"}},null,{"$f":"INTERFACE!E507+12/1200","v":4.569999999999947},{"$f":"((INTERFACE!C$11)/((10^-(INTERFACE!E508))+(INTERFACE!C$11)))*100","v":{"$error":"#VALUE!"}},{"$f":"100-INTERFACE!F508","v":{"$error":"#VALUE!"}}]
[{"$f":"(MIN(INTERFACE!AD$15,INTERFACE!E509))","v":0},{"$f":"MIN(INTERFACE!C$47,INTERFACE!F509)","v":{"$error":"#VALUE!"}},{"$f":"100-INTERFACE!B509","v":{"$error":"#VALUE!"}},null,{"$f":"INTERFACE!E508+12/1200","v":4.5799999999999468},{"$f":"((INTERFACE!C$11)/((10^-(INTERFACE!E509))+(INTERFACE!C$11)))*100","v":{"$error":"#VALUE!"}},{"$f":"100-INTERFACE!F509","v":{"$error":"#VALUE!"}}]
[{"$f":"(MIN(INTERFACE!AD$15,INTERFACE!E510))","v":0},{"$f":"MIN(INTERFACE!C$47,INTERFACE!F510)","v":{"$error":"#VALUE!"}},{"$f":"100-INTERFACE!B510","v":{"$error":"#VALUE!"}},null,{"$f":"INTERFACE!E509+12/1200","v":4.5899999999999466},{"$f":"((INTERFACE!C$11)/((10^-(INTERFACE!E510))+(INTERFACE!C$11)))*100","v":{"$error":"#VALUE!"}},{"$f":"100-INTERFACE!F510","v":{"$error":"#VALUE!"}}]
[{"$f":"(MIN(INTERFACE!AD$15,INTERFACE!E511))","v":0},{"$f":"MIN(INTERFACE!C$47,INTERFACE!F511)","v":{"$error":"#VALUE!"}},{"$f":"100-INTERFACE!B511","v":{"$error":"#VALUE!"}},null,{"$f":"INTERFACE!E510+12/1200","v":4.5999999999999464},{"$f":"((INTERFACE!C$11)/((10^-(INTERFACE!E511))+(INTERFACE!C$11)))*100","v":{"$error":"#VALUE!"}},{"$f":"100-INTERFACE!F511","v":{"$error":"#VALUE!"}}]
[{"$f":"(MIN(INTERFACE!AD$15,INTERFACE!E512))","v":0},{"$f":"MIN(INTERFACE!C$47,INTERFACE!F512)","v":{"$error":"#VALUE!"}},{"$f":"100-INTERFACE!B512","v":{"$error":"#VALUE!"}},null,{"$f":"INTERFACE!E511+12/1200","v":4.6099999999999461},{"$f":"((INTERFACE!C$11)/((10^-(INTERFACE!E512))+(INTERFACE!C$11)))*100","v":{"$error":"#VALUE!"}},{"$f":"100-INTERFACE!F512","v":{"$error":"#VALUE!"}}]
[{"$f":"(MIN(INTERFACE!AD$15,INTERFACE!E513))","v":0},{"$f":"MIN(INTERFACE!C$47,INTERFACE!F513)","v":{"$error":"#VALUE!"}},{"$f":"100-INTERFACE!B513","v":{"$error":"#VALUE!"}},null,{"$f":"INTERFACE!E512+12/1200","v":4.6199999999999459},{"$f":"((INTERFACE!C$11)/((10^-(INTERFACE!E513))+(INTERFACE!C$11)))*100","v":{"$error":"#VALUE!"}},{"$f":"100-INTERFACE!F513","v":{"$error":"#VALUE!"}}]
[{"$f":"(MIN(INTERFACE!AD$15,INTERFACE!E514))","v":0},{"$f":"MIN(INTERFACE!C$47,INTERFACE!F514)","v":{"$error":"#VALUE!"}},{"$f":"100-INTERFACE!B514","v":{"$error":"#VALUE!"}},null,{"$f":"INTERFACE!E513+12/1200","v":4.6299999999999457},{"$f":"((INTERFACE!C$11)/((10^-(INTERFACE!E514))+(INTERFACE!C$11)))*100","v":{"$error":"#VALUE!"}},{"$f":"100-INTERFACE!F514","v":{"$error":"#VALUE!"}}]
[{"$f":"(MIN(INTERFACE!AD$15,INTERFACE!E515))","v":0},{"$f":"MIN(INTERFACE!C$47,INTERFACE!F515)","v":{"$error":"#VALUE!"}},{"$f":"100-INTERFACE!B515","v":{"$error":"#VALUE!"}},null,{"$f":"INTERFACE!E514+12/1200","v":4.6399999999999455},{"$f":"((INTERFACE!C$11)/((10^-(INTERFACE!E515))+(INTERFACE!C$11)))*100","v":{"$error":"#VALUE!"}},{"$f":"100-INTERFACE!F515","v":{"$error":"#VALUE!"}}]
[{"$f":"(MIN(INTERFACE!AD$15,INTERFACE!E516))","v":0},{"$f":"MIN(INTERFACE!C$47,INTERFACE!F516)","v":{"$error":"#VALUE!"}},{"$f":"100-INTERFACE!B516","v":{"$error":"#VALUE!"}},null,{"$f":"INTERFACE!E515+12/1200","v":4.6499999999999453},{"$f":"((INTERFACE!C$11)/((10^-(INTERFACE!E516))+(INTERFACE!C$11)))*100","v":{"$error":"#VALUE!"}},{"$f":"100-INTERFACE!F516","v":{"$error":"#VALUE!"}}]
[{"$f":"(MIN(INTERFACE!AD$15,INTERFACE!E517))","v":0},{"$f":"MIN(INTERFACE!C$47,INTERFACE!F517)","v":{"$error":"#VALUE!"}},{"$f":"100-INTERFACE!B517","v":{"$error":"#VALUE!"}},null,{"$f":"INTERFACE!E516+12/1200","v":4.6599999999999451},{"$f":"((INTERFACE!C$11)/((10^-(INTERFACE!E517))+(INTERFACE!C$11)))*100","v":{"$error":"#VALUE!"}},{"$f":"100-INTERFACE!F517","v":{"$error":"#VALUE!"}}]
[{"$f":"(MIN(INTERFACE!AD$15,INTERFACE!E518))","v":0},{"$f":"MIN(INTERFACE!C$47,INTERFACE!F518)","v":{"$error":"#VALUE!"}},{"$f":"100-INTERFACE!B518","v":{"$error":"#VALUE!"}},null,{"$f":"INTERFACE!E517+12/1200","v":4.6699999999999449},{"$f":"((INTERFACE!C$11)/((10^-(INTERFACE!E518))+(INTERFACE!C$11)))*100","v":{"$error":"#VALUE!"}},{"$f":"100-INTERFACE!F518","v":{"$error":"#VALUE!"}}]
[{"$f":"(MIN(INTERFACE!AD$15,INTERFACE!E519))","v":0},{"$f":"MIN(INTERFACE!C$47,INTERFACE!F519)","v":{"$error":"#VALUE!"}},{"$f":"100-INTERFACE!B519","v":{"$error":"#VALUE!"}},null,{"$f":"INTERFACE!E518+12/1200","v":4.6799999999999446},{"$f":"((INTERFACE!C$11)/((10^-(INTERFACE!E519))+(INTERFACE!C$11)))*100","v":{"$error":"#VALUE!"}},{"$f":"100-INTERFACE!F519","v":{"$error":"#VALUE!"}}]
[{"$f":"(MIN(INTERFACE!AD$15,INTERFACE!E520))","v":0},{"$f":"MIN(INTERFACE!C$47,INTERFACE!F520)","v":{"$error":"#VALUE!"}},{"$f":"100-INTERFACE!B520","v":{"$error":"#VALUE!"}},null,{"$f":"INTERFACE!E519+12/1200","v":4.6899999999999444},{"$f":"((INTERFACE!C$11)/((10^-(INTERFACE!E520))+(INTERFACE!C$11)))*100","v":{"$error":"#VALUE!"}},{"$f":"100-INTERFACE!F520","v":{"$error":"#VALUE!"}}]
[{"$f":"(MIN(INTERFACE!AD$15,INTERFACE!E521))","v":0},{"$f":"MIN(INTERFACE!C$47,INTERFACE!F521)","v":{"$error":"#VALUE!"}},{"$f":"100-INTERFACE!B521","v":{"$error":"#VALUE!"}},null,{"$f":"INTERFACE!E520+12/1200","v":4.6999999999999442},{"$f":"((INTERFACE!C$11)/((10^-(INTERFACE!E521))+(INTERFACE!C$11)))*100","v":{"$error":"#VALUE!"}},{"$f":"100-INTERFACE!F521","v":{"$error":"#VALUE!"}}]
[{"$f":"(MIN(INTERFACE!AD$15,INTERFACE!E522))","v":0},{"$f":"MIN(INTERFACE!C$47,INTERFACE!F522)","v":{"$error":"#VALUE!"}},{"$f":"100-INTERFACE!B522","v":{"$error":"#VALUE!"}},null,{"$f":"INTERFACE!E521+12/1200","v":4.709999999999944},{"$f":"((INTERFACE!C$11)/((10^-(INTERFACE!E522))+(INTERFACE!C$11)))*100","v":{"$error":"#VALUE!"}},{"$f":"100-INTERFACE!F522","v":{"$error":"#VALUE!"}}]
[{"$f":"(MIN(INTERFACE!AD$15,INTERFACE!E523))","v":0},{"$f":"MIN(INTERFACE!C$47,INTERFACE!F523)","v":{"$error":"#VALUE!"}},{"$f":"100-INTERFACE!B523","v":{"$error":"#VALUE!"}},null,{"$f":"INTERFACE!E522+12/1200","v":4.7199999999999438},{"$f":"((INTERFACE!C$11)/((10^-(INTERFACE!E523))+(INTERFACE!C$11)))*100","v":{"$error":"#VALUE!"}},{"$f":"100-INTERFACE!F523","v":{"$error":"#VALUE!"}}]
[{"$f":"(MIN(INTERFACE!AD$15,INTERFACE!E524))","v":0},{"$f":"MIN(INTERFACE!C$47,INTERFACE!F524)","v":{"$error":"#VALUE!"}},{"$f":"100-INTERFACE!B524","v":{"$error":"#VALUE!"}},null,{"$f":"INTERFACE!E523+12/1200","v":4.7299999999999436},{"$f":"((INTERFACE!C$11)/((10^-(INTERFACE!E524))+(INTERFACE!C$11)))*100","v":{"$error":"#VALUE!"}},{"$f":"100-INTERFACE!F524","v":{"$error":"#VALUE!"}}]
[{"$f":"(MIN(INTERFACE!AD$15,INTERFACE!E525))","v":0},{"$f":"MIN(INTERFACE!C$47,INTERFACE!F525)","v":{"$error":"#VALUE!"}},{"$f":"100-INTERFACE!B525","v":{"$error":"#VALUE!"}},null,{"$f":"INTERFACE!E524+12/1200","v":4.7399999999999434},{"$f":"((INTERFACE!C$11)/((10^-(INTERFACE!E525))+(INTERFACE!C$11)))*100","v":{"$error":"#VALUE!"}},{"$f":"100-INTERFACE!F525","v":{"$error":"#VALUE!"}}]
[{"$f":"(MIN(INTERFACE!AD$15,INTERFACE!E526))","v":0},{"$f":"MIN(INTERFACE!C$47,INTERFACE!F526)","v":{"$error":"#VALUE!"}},{"$f":"100-INTERFACE!B526","v":{"$error":"#VALUE!"}},null,{"$f":"INTERFACE!E525+12/1200","v":4.7499999999999432},{"$f":"((INTERFACE!C$11)/((10^-(INTERFACE!E526))+(INTERFACE!C$11)))*100","v":{"$error":"#VALUE!"}},{"$f":"100-INTERFACE!F526","v":{"$error":"#VALUE!"}}]
[{"$f":"(MIN(INTERFACE!AD$15,INTERFACE!E527))","v":0},{"$f":"MIN(INTERFACE!C$47,INTERFACE!F527)","v":{"$error":"#VALUE!"}},{"$f":"100-INTERFACE!B527","v":{"$error":"#VALUE!"}},null,{"$f":"INTERFACE!E526+12/1200","v":4.7599999999999429},{"$f":"((INTERFACE!C$11)/((10^-(INTERFACE!E527))+(INTERFACE!C$11)))*100","v":{"$error":"#VALUE!"}},{"$f":"100-INTERFACE!F527","v":{"$error":"#VALUE!"}}]
[{"$f":"(MIN(INTERFACE!AD$15,INTERFACE!E528))","v":0},{"$f":"MIN(INTERFACE!C$47,INTERFACE!F528)","v":{"$error":"#VALUE!"}},{"$f":"100-INTERFACE!B528","v":{"$error":"#VALUE!"}},null,{"$f":"INTERFACE!E527+12/1200","v":4.7699999999999427},{"$f":"((INTERFACE!C$11)/((10^-(INTERFACE!E528))+(INTERFACE!C$11)))*100","v":{"$error":"#VALUE!"}},{"$f":"100-INTERFACE!F528","v":{"$error":"#VALUE!"}}]
[{"$f":"(MIN(INTERFACE!AD$15,INTERFACE!E529))","v":0},{"$f":"MIN(INTERFACE!C$47,INTERFACE!F529)","v":{"$error":"#VALUE!"}},{"$f":"100-INTERFACE!B529","v":{"$error":"#VALUE!"}},null,{"$f":"INTERFACE!E528+12/1200","v":4.7799999999999425},{"$f":"((INTERFACE!C$11)/((10^-(INTERFACE!E529))+(INTERFACE!C$11)))*100","v":{"$error":"#VALUE!"}},{"$f":"100-INTERFACE!F529","v":{"$error":"#VALUE!"}}]
[{"$f":"(MIN(INTERFACE!AD$15,INTERFACE!E530))","v":0},{"$f":"MIN(INTERFACE!C$47,INTERFACE!F530)","v":{"$error":"#VALUE!"}},{"$f":"100-INTERFACE!B530","v":{"$error":"#VALUE!"}},null,{"$f":"INTERFACE!E529+12/1200","v":4.7899999999999423},{"$f":"((INTERFACE!C$11)/((10^-(INTERFACE!E530))+(INTERFACE!C$11)))*100","v":{"$error":"#VALUE!"}},{"$f":"100-INTERFACE!F530","v":{"$error":"#VALUE!"}}]
[{"$f":"(MIN(INTERFACE!AD$15,INTERFACE!E531))","v":0},{"$f":"MIN(INTERFACE!C$47,INTERFACE!F531)","v":{"$error":"#VALUE!"}},{"$f":"100-INTERFACE!B531","v":{"$error":"#VALUE!"}},null,{"$f":"INTERFACE!E530+12/1200","v":4.7999999999999421},{"$f":"((INTERFACE!C$11)/((10^-(INTERFACE!E531))+(INTERFACE!C$11)))*100","v":{"$error":"#VALUE!"}},{"$f":"100-INTERFACE!F531","v":{"$error":"#VALUE!"}}]
[{"$f":"(MIN(INTERFACE!AD$15,INTERFACE!E532))","v":0},{"$f":"MIN(INTERFACE!C$47,INTERFACE!F532)","v":{"$error":"#VALUE!"}},{"$f":"100-INTERFACE!B532","v":{"$error":"#VALUE!"}},null,{"$f":"INTERFACE!E531+12/1200","v":4.8099999999999419},{"$f":"((INTERFACE!C$11)/((10^-(INTERFACE!E532))+(INTERFACE!C$11)))*100","v":{"$error":"#VALUE!"}},{"$f":"100-INTERFACE!F532","v":{"$error":"#VALUE!"}}]
[{"$f":"(MIN(INTERFACE!AD$15,INTERFACE!E533))","v":0},{"$f":"MIN(INTERFACE!C$47,INTERFACE!F533)","v":{"$error":"#VALUE!"}},{"$f":"100-INTERFACE!B533","v":{"$error":"#VALUE!"}},null,{"$f":"INTERFACE!E532+12/1200","v":4.8199999999999417},{"$f":"((INTERFACE!C$11)/((10^-(INTERFACE!E533))+(INTERFACE!C$11)))*100","v":{"$error":"#VALUE!"}},{"$f":"100-INTERFACE!F533","v":{"$error":"#VALUE!"}}]
[{"$f":"(MIN(INTERFACE!AD$15,INTERFACE!E534))","v":0},{"$f":"MIN(INTERFACE!C$47,INTERFACE!F534)","v":{"$error":"#VALUE!"}},{"$f":"100-INTERFACE!B534","v":{"$error":"#VALUE!"}},null,{"$f":"INTERFACE!E533+12/1200","v":4.8299999999999415},{"$f":"((INTERFACE!C$11)/((10^-(INTERFACE!E534))+(INTERFACE!C$11)))*100","v":{"$error":"#VALUE!"}},{"$f":"100-INTERFACE!F534","v":{"$error":"#VALUE!"}}]
[{"$f":"(MIN(INTERFACE!AD$15,INTERFACE!E535))","v":0},{"$f":"MIN(INTERFACE!C$47,INTERFACE!F535)","v":{"$error":"#VALUE!"}},{"$f":"100-INTERFACE!B535","v":{"$error":"#VALUE!"}},null,{"$f":"INTERFACE!E534+12/1200","v":4.8399999999999412},{"$f":"((INTERFACE!C$11)/((10^-(INTERFACE!E535))+(INTERFACE!C$11)))*100","v":{"$error":"#VALUE!"}},{"$f":"100-INTERFACE!F535","v":{"$error":"#VALUE!"}}]
[{"$f":"(MIN(INTERFACE!AD$15,INTERFACE!E536))","v":0},{"$f":"MIN(INTERFACE!C$47,INTERFACE!F536)","v":{"$error":"#VALUE!"}},{"$f":"100-INTERFACE!B536","v":{"$error":"#VALUE!"}},null,{"$f":"INTERFACE!E535+12/1200","v":4.849999999999941},{"$f":"((INTERFACE!C$11)/((10^-(INTERFACE!E536))+(INTERFACE!C$11)))*100","v":{"$error":"#VALUE!"}},{"$f":"100-INTERFACE!F536","v":{"$error":"#VALUE!"}}]
[{"$f":"(MIN(INTERFACE!AD$15,INTERFACE!E537))","v":0},{"$f":"MIN(INTERFACE!C$47,INTERFACE!F537)","v":{"$error":"#VALUE!"}},{"$f":"100-INTERFACE!B537","v":{"$error":"#VALUE!"}},null,{"$f":"INTERFACE!E536+12/1200","v":4.8599999999999408},{"$f":"((INTERFACE!C$11)/((10^-(INTERFACE!E537))+(INTERFACE!C$11)))*100","v":{"$error":"#VALUE!"}},{"$f":"100-INTERFACE!F537","v":{"$error":"#VALUE!"}}]
[{"$f":"(MIN(INTERFACE!AD$15,INTERFACE!E538))","v":0},{"$f":"MIN(INTERFACE!C$47,INTERFACE!F538)","v":{"$error":"#VALUE!"}},{"$f":"100-INTERFACE!B538","v":{"$error":"#VALUE!"}},null,{"$f":"INTERFACE!E537+12/1200","v":4.8699999999999406},{"$f":"((INTERFACE!C$11)/((10^-(INTERFACE!E538))+(INTERFACE!C$11)))*100","v":{"$error":"#VALUE!"}},{"$f":"100-INTERFACE!F538","v":{"$error":"#VALUE!"}}]
[{"$f":"(MIN(INTERFACE!AD$15,INTERFACE!E539))","v":0},{"$f":"MIN(INTERFACE!C$47,INTERFACE!F539)","v":{"$error":"#VALUE!"}},{"$f":"100-INTERFACE!B539","v":{"$error":"#VALUE!"}},null,{"$f":"INTERFACE!E538+12/1200","v":4.8799999999999404},{"$f":"((INTERFACE!C$11)/((10^-(INTERFACE!E539))+(INTERFACE!C$11)))*100","v":{"$error":"#VALUE!"}},{"$f":"100-INTERFACE!F539","v":{"$error":"#VALUE!"}}]
[{"$f":"(MIN(INTERFACE!AD$15,INTERFACE!E540))","v":0},{"$f":"MIN(INTERFACE!C$47,INTERFACE!F540)","v":{"$error":"#VALUE!"}},{"$f":"100-INTERFACE!B540","v":{"$error":"#VALUE!"}},null,{"$f":"INTERFACE!E539+12/1200","v":4.8899999999999402},{"$f":"((INTERFACE!C$11)/((10^-(INTERFACE!E540))+(INTERFACE!C$11)))*100","v":{"$error":"#VALUE!"}},{"$f":"100-INTERFACE!F540","v":{"$error":"#VALUE!"}}]
[{"$f":"(MIN(INTERFACE!AD$15,INTERFACE!E541))","v":0},{"$f":"MIN(INTERFACE!C$47,INTERFACE!F541)","v":{"$error":"#VALUE!"}},{"$f":"100-INTERFACE!B541","v":{"$error":"#VALUE!"}},null,{"$f":"INTERFACE!E540+12/1200","v":4.89999999999994},{"$f":"((INTERFACE!C$11)/((10^-(INTERFACE!E541))+(INTERFACE!C$11)))*100","v":{"$error":"#VALUE!"}},{"$f":"100-INTERFACE!F541","v":{"$error":"#VALUE!"}}]
[{"$f":"(MIN(INTERFACE!AD$15,INTERFACE!E542))","v":0},{"$f":"MIN(INTERFACE!C$47,INTERFACE!F542)","v":{"$error":"#VALUE!"}},{"$f":"100-INTERFACE!B542","v":{"$error":"#VALUE!"}},null,{"$f":"INTERFACE!E541+12/1200","v":4.9099999999999397},{"$f":"((INTERFACE!C$11)/((10^-(INTERFACE!E542))+(INTERFACE!C$11)))*100","v":{"$error":"#VALUE!"}},{"$f":"100-INTERFACE!F542","v":{"$error":"#VALUE!"}}]
[{"$f":"(MIN(INTERFACE!AD$15,INTERFACE!E543))","v":0},{"$f":"MIN(INTERFACE!C$47,INTERFACE!F543)","v":{"$error":"#VALUE!"}},{"$f":"100-INTERFACE!B543","v":{"$error":"#VALUE!"}},null,{"$f":"INTERFACE!E542+12/1200","v":4.9199999999999395},{"$f":"((INTERFACE!C$11)/((10^-(INTERFACE!E543))+(INTERFACE!C$11)))*100","v":{"$error":"#VALUE!"}},{"$f":"100-INTERFACE!F543","v":{"$error":"#VALUE!"}}]
[{"$f":"(MIN(INTERFACE!AD$15,INTERFACE!E544))","v":0},{"$f":"MIN(INTERFACE!C$47,INTERFACE!F544)","v":{"$error":"#VALUE!"}},{"$f":"100-INTERFACE!B544","v":{"$error":"#VALUE!"}},null,{"$f":"INTERFACE!E543+12/1200","v":4.9299999999999393},{"$f":"((INTERFACE!C$11)/((10^-(INTERFACE!E544))+(INTERFACE!C$11)))*100","v":{"$error":"#VALUE!"}},{"$f":"100-INTERFACE!F544","v":{"$error":"#VALUE!"}}]
[{"$f":"(MIN(INTERFACE!AD$15,INTERFACE!E545))","v":0},{"$f":"MIN(INTERFACE!C$47,INTERFACE!F545)","v":{"$error":"#VALUE!"}},{"$f":"100-INTERFACE!B545","v":{"$error":"#VALUE!"}},null,{"$f":"INTERFACE!E544+12/1200","v":4.9399999999999391},{"$f":"((INTERFACE!C$11)/((10^-(INTERFACE!E545))+(INTERFACE!C$11)))*100","v":{"$error":"#VALUE!"}},{"$f":"100-INTERFACE!F545","v":{"$error":"#VALUE!"}}]
[{"$f":"(MIN(INTERFACE!AD$15,INTERFACE!E546))","v":0},{"$f":"MIN(INTERFACE!C$47,INTERFACE!F546)","v":{"$error":"#VALUE!"}},{"$f":"100-INTERFACE!B546","v":{"$error":"#VALUE!"}},null,{"$f":"INTERFACE!E545+12/1200","v":4.9499999999999389},{"$f":"((INTERFACE!C$11)/((10^-(INTERFACE!E546))+(INTERFACE!C$11)))*100","v":{"$error":"#VALUE!"}},{"$f":"100-INTERFACE!F546","v":{"$error":"#VALUE!"}}]
[{"$f":"(MIN(INTERFACE!AD$15,INTERFACE!E547))","v":0},{"$f":"MIN(INTERFACE!C$47,INTERFACE!F547)","v":{"$error":"#VALUE!"}},{"$f":"100-INTERFACE!B547","v":{"$error":"#VALUE!"}},null,{"$f":"INTERFACE!E546+12/1200","v":4.9599999999999387},{"$f":"((INTERFACE!C$11)/((10^-(INTERFACE!E547))+(INTERFACE!C$11)))*100","v":{"$error":"#VALUE!"}},{"$f":"100-INTERFACE!F547","v":{"$error":"#VALUE!"}}]
[{"$f":"(MIN(INTERFACE!AD$15,INTERFACE!E548))","v":0},{"$f":"MIN(INTERFACE!C$47,INTERFACE!F548)","v":{"$error":"#VALUE!"}},{"$f":"100-INTERFACE!B548","v":{"$error":"#VALUE!"}},null,{"$f":"INTERFACE!E547+12/1200","v":4.9699999999999385},{"$f":"((INTERFACE!C$11)/((10^-(INTERFACE!E548))+(INTERFACE!C$11)))*100","v":{"$error":"#VALUE!"}},{"$f":"100-INTERFACE!F548","v":{"$error":"#VALUE!"}}]
[{"$f":"(MIN(INTERFACE!AD$15,INTERFACE!E549))","v":0},{"$f":"MIN(INTERFACE!C$47,INTERFACE!F549)","v":{"$error":"#VALUE!"}},{"$f":"100-INTERFACE!B549","v":{"$error":"#VALUE!"}},null,{"$f":"INTERFACE!E548+12/1200","v":4.9799999999999383},{"$f":"((INTERFACE!C$11)/((10^-(INTERFACE!E549))+(INTERFACE!C$11)))*100","v":{"$error":"#VALUE!"}},{"$f":"100-INTERFACE!F549","v":{"$error":"#VALUE!"}}]
[{"$f":"(MIN(INTERFACE!AD$15,INTERFACE!E550))","v":0},{"$f":"MIN(INTERFACE!C$47,INTERFACE!F550)","v":{"$error":"#VALUE!"}},{"$f":"100-INTERFACE!B550","v":{"$error":"#VALUE!"}},null,{"$f":"INTERFACE!E549+12/1200","v":4.989999999999938},{"$f":"((INTERFACE!C$11)/((10^-(INTERFACE!E550))+(INTERFACE!C$11)))*100","v":{"$error":"#VALUE!"}},{"$f":"100-INTERFACE!F550","v":{"$error":"#VALUE!"}}]
[{"$f":"(MIN(INTERFACE!AD$15,INTERFACE!E551))","v":0},{"$f":"MIN(INTERFACE!C$47,INTERFACE!F551)","v":{"$error":"#VALUE!"}},{"$f":"100-INTERFACE!B551","v":{"$error":"#VALUE!"}},null,{"$f":"INTERFACE!E550+12/1200","v":4.9999999999999378},{"$f":"((INTERFACE!C$11)/((10^-(INTERFACE!E551))+(INTERFACE!C$11)))*100","v":{"$error":"#VALUE!"}},{"$f":"100-INTERFACE!F551","v":{"$error":"#VALUE!"}}]
[{"$f":"(MIN(INTERFACE!AD$15,INTERFACE!E552))","v":0},{"$f":"MIN(INTERFACE!C$47,INTERFACE!F552)","v":{"$error":"#VALUE!"}},{"$f":"100-INTERFACE!B552","v":{"$error":"#VALUE!"}},null,{"$f":"INTERFACE!E551+12/1200","v":5.0099999999999376},{"$f":"((INTERFACE!C$11)/((10^-(INTERFACE!E552))+(INTERFACE!C$11)))*100","v":{"$error":"#VALUE!"}},{"$f":"100-INTERFACE!F552","v":{"$error":"#VALUE!"}}]
[{"$f":"(MIN(INTERFACE!AD$15,INTERFACE!E553))","v":0},{"$f":"MIN(INTERFACE!C$47,INTERFACE!F553)","v":{"$error":"#VALUE!"}},{"$f":"100-INTERFACE!B553","v":{"$error":"#VALUE!"}},null,{"$f":"INTERFACE!E552+12/1200","v":5.0199999999999374},{"$f":"((INTERFACE!C$11)/((10^-(INTERFACE!E553))+(INTERFACE!C$11)))*100","v":{"$error":"#VALUE!"}},{"$f":"100-INTERFACE!F553","v":{"$error":"#VALUE!"}}]
[{"$f":"(MIN(INTERFACE!AD$15,INTERFACE!E554))","v":0},{"$f":"MIN(INTERFACE!C$47,INTERFACE!F554)","v":{"$error":"#VALUE!"}},{"$f":"100-INTERFACE!B554","v":{"$error":"#VALUE!"}},null,{"$f":"INTERFACE!E553+12/1200","v":5.0299999999999372},{"$f":"((INTERFACE!C$11)/((10^-(INTERFACE!E554))+(INTERFACE!C$11)))*100","v":{"$error":"#VALUE!"}},{"$f":"100-INTERFACE!F554","v":{"$error":"#VALUE!"}}]
[{"$f":"(MIN(INTERFACE!AD$15,INTERFACE!E555))","v":0},{"$f":"MIN(INTERFACE!C$47,INTERFACE!F555)","v":{"$error":"#VALUE!"}},{"$f":"100-INTERFACE!B555","v":{"$error":"#VALUE!"}},null,{"$f":"INTERFACE!E554+12/1200","v":5.039999999999937},{"$f":"((INTERFACE!C$11)/((10^-(INTERFACE!E555))+(INTERFACE!C$11)))*100","v":{"$error":"#VALUE!"}},{"$f":"100-INTERFACE!F555","v":{"$error":"#VALUE!"}}]
[{"$f":"(MIN(INTERFACE!AD$15,INTERFACE!E556))","v":0},{"$f":"MIN(INTERFACE!C$47,INTERFACE!F556)","v":{"$error":"#VALUE!"}},{"$f":"100-INTERFACE!B556","v":{"$error":"#VALUE!"}},null,{"$f":"INTERFACE!E555+12/1200","v":5.0499999999999368},{"$f":"((INTERFACE!C$11)/((10^-(INTERFACE!E556))+(INTERFACE!C$11)))*100","v":{"$error":"#VALUE!"}},{"$f":"100-INTERFACE!F556","v":{"$error":"#VALUE!"}}]
[{"$f":"(MIN(INTERFACE!AD$15,INTERFACE!E557))","v":0},{"$f":"MIN(INTERFACE!C$47,INTERFACE!F557)","v":{"$error":"#VALUE!"}},{"$f":"100-INTERFACE!B557","v":{"$error":"#VALUE!"}},null,{"$f":"INTERFACE!E556+12/1200","v":5.0599999999999365},{"$f":"((INTERFACE!C$11)/((10^-(INTERFACE!E557))+(INTERFACE!C$11)))*100","v":{"$error":"#VALUE!"}},{"$f":"100-INTERFACE!F557","v":{"$error":"#VALUE!"}}]
[{"$f":"(MIN(INTERFACE!AD$15,INTERFACE!E558))","v":0},{"$f":"MIN(INTERFACE!C$47,INTERFACE!F558)","v":{"$error":"#VALUE!"}},{"$f":"100-INTERFACE!B558","v":{"$error":"#VALUE!"}},null,{"$f":"INTERFACE!E557+12/1200","v":5.0699999999999363},{"$f":"((INTERFACE!C$11)/((10^-(INTERFACE!E558))+(INTERFACE!C$11)))*100","v":{"$error":"#VALUE!"}},{"$f":"100-INTERFACE!F558","v":{"$error":"#VALUE!"}}]
[{"$f":"(MIN(INTERFACE!AD$15,INTERFACE!E559))","v":0},{"$f":"MIN(INTERFACE!C$47,INTERFACE!F559)","v":{"$error":"#VALUE!"}},{"$f":"100-INTERFACE!B559","v":{"$error":"#VALUE!"}},null,{"$f":"INTERFACE!E558+12/1200","v":5.0799999999999361},{"$f":"((INTERFACE!C$11)/((10^-(INTERFACE!E559))+(INTERFACE!C$11)))*100","v":{"$error":"#VALUE!"}},{"$f":"100-INTERFACE!F559","v":{"$error":"#VALUE!"}}]
[{"$f":"(MIN(INTERFACE!AD$15,INTERFACE!E560))","v":0},{"$f":"MIN(INTERFACE!C$47,INTERFACE!F560)","v":{"$error":"#VALUE!"}},{"$f":"100-INTERFACE!B560","v":{"$error":"#VALUE!"}},null,{"$f":"INTERFACE!E559+12/1200","v":5.0899999999999359},{"$f":"((INTERFACE!C$11)/((10^-(INTERFACE!E560))+(INTERFACE!C$11)))*100","v":{"$error":"#VALUE!"}},{"$f":"100-INTERFACE!F560","v":{"$error":"#VALUE!"}}]
[{"$f":"(MIN(INTERFACE!AD$15,INTERFACE!E561))","v":0},{"$f":"MIN(INTERFACE!C$47,INTERFACE!F561)","v":{"$error":"#VALUE!"}},{"$f":"100-INTERFACE!B561","v":{"$error":"#VALUE!"}},null,{"$f":"INTERFACE!E560+12/1200","v":5.0999999999999357},{"$f":"((INTERFACE!C$11)/((10^-(INTERFACE!E561))+(INTERFACE!C$11)))*100","v":{"$error":"#VALUE!"}},{"$f":"100-INTERFACE!F561","v":{"$error":"#VALUE!"}}]
[{"$f":"(MIN(INTERFACE!AD$15,INTERFACE!E562))","v":0},{"$f":"MIN(INTERFACE!C$47,INTERFACE!F562)","v":{"$error":"#VALUE!"}},{"$f":"100-INTERFACE!B562","v":{"$error":"#VALUE!"}},null,{"$f":"INTERFACE!E561+12/1200","v":5.1099999999999355},{"$f":"((INTERFACE!C$11)/((10^-(INTERFACE!E562))+(INTERFACE!C$11)))*100","v":{"$error":"#VALUE!"}},{"$f":"100-INTERFACE!F562","v":{"$error":"#VALUE!"}}]
[{"$f":"(MIN(INTERFACE!AD$15,INTERFACE!E563))","v":0},{"$f":"MIN(INTERFACE!C$47,INTERFACE!F563)","v":{"$error":"#VALUE!"}},{"$f":"100-INTERFACE!B563","v":{"$error":"#VALUE!"}},null,{"$f":"INTERFACE!E562+12/1200","v":5.1199999999999353},{"$f":"((INTERFACE!C$11)/((10^-(INTERFACE!E563))+(INTERFACE!C$11)))*100","v":{"$error":"#VALUE!"}},{"$f":"100-INTERFACE!F563","v":{"$error":"#VALUE!"}}]
[{"$f":"(MIN(INTERFACE!AD$15,INTERFACE!E564))","v":0},{"$f":"MIN(INTERFACE!C$47,INTERFACE!F564)","v":{"$error":"#VALUE!"}},{"$f":"100-INTERFACE!B564","v":{"$error":"#VALUE!"}},null,{"$f":"INTERFACE!E563+12/1200","v":5.1299999999999351},{"$f":"((INTERFACE!C$11)/((10^-(INTERFACE!E564))+(INTERFACE!C$11)))*100","v":{"$error":"#VALUE!"}},{"$f":"100-INTERFACE!F564","v":{"$error":"#VALUE!"}}]
[{"$f":"(MIN(INTERFACE!AD$15,INTERFACE!E565))","v":0},{"$f":"MIN(INTERFACE!C$47,INTERFACE!F565)","v":{"$error":"#VALUE!"}},{"$f":"100-INTERFACE!B565","v":{"$error":"#VALUE!"}},null,{"$f":"INTERFACE!E564+12/1200","v":5.1399999999999348},{"$f":"((INTERFACE!C$11)/((10^-(INTERFACE!E565))+(INTERFACE!C$11)))*100","v":{"$error":"#VALUE!"}},{"$f":"100-INTERFACE!F565","v":{"$error":"#VALUE!"}}]
[{"$f":"(MIN(INTERFACE!AD$15,INTERFACE!E566))","v":0},{"$f":"MIN(INTERFACE!C$47,INTERFACE!F566)","v":{"$error":"#VALUE!"}},{"$f":"100-INTERFACE!B566","v":{"$error":"#VALUE!"}},null,{"$f":"INTERFACE!E565+12/1200","v":5.1499999999999346},{"$f":"((INTERFACE!C$11)/((10^-(INTERFACE!E566))+(INTERFACE!C$11)))*100","v":{"$error":"#VALUE!"}},{"$f":"100-INTERFACE!F566","v":{"$error":"#VALUE!"}}]
[{"$f":"(MIN(INTERFACE!AD$15,INTERFACE!E567))","v":0},{"$f":"MIN(INTERFACE!C$47,INTERFACE!F567)","v":{"$error":"#VALUE!"}},{"$f":"100-INTERFACE!B567","v":{"$error":"#VALUE!"}},null,{"$f":"INTERFACE!E566+12/1200","v":5.1599999999999344},{"$f":"((INTERFACE!C$11)/((10^-(INTERFACE!E567))+(INTERFACE!C$11)))*100","v":{"$error":"#VALUE!"}},{"$f":"100-INTERFACE!F567","v":{"$error":"#VALUE!"}}]
[{"$f":"(MIN(INTERFACE!AD$15,INTERFACE!E568))","v":0},{"$f":"MIN(INTERFACE!C$47,INTERFACE!F568)","v":{"$error":"#VALUE!"}},{"$f":"100-INTERFACE!B568","v":{"$error":"#VALUE!"}},null,{"$f":"INTERFACE!E567+12/1200","v":5.1699999999999342},{"$f":"((INTERFACE!C$11)/((10^-(INTERFACE!E568))+(INTERFACE!C$11)))*100","v":{"$error":"#VALUE!"}},{"$f":"100-INTERFACE!F568","v":{"$error":"#VALUE!"}}]
[{"$f":"(MIN(INTERFACE!AD$15,INTERFACE!E569))","v":0},{"$f":"MIN(INTERFACE!C$47,INTERFACE!F569)","v":{"$error":"#VALUE!"}},{"$f":"100-INTERFACE!B569","v":{"$error":"#VALUE!"}},null,{"$f":"INTERFACE!E568+12/1200","v":5.179999999999934},{"$f":"((INTERFACE!C$11)/((10^-(INTERFACE!E569))+(INTERFACE!C$11)))*100","v":{"$error":"#VALUE!"}},{"$f":"100-INTERFACE!F569","v":{"$error":"#VALUE!"}}]
[{"$f":"(MIN(INTERFACE!AD$15,INTERFACE!E570))","v":0},{"$f":"MIN(INTERFACE!C$47,INTERFACE!F570)","v":{"$error":"#VALUE!"}},{"$f":"100-INTERFACE!B570","v":{"$error":"#VALUE!"}},null,{"$f":"INTERFACE!E569+12/1200","v":5.1899999999999338},{"$f":"((INTERFACE!C$11)/((10^-(INTERFACE!E570))+(INTERFACE!C$11)))*100","v":{"$error":"#VALUE!"}},{"$f":"100-INTERFACE!F570","v":{"$error":"#VALUE!"}}]
[{"$f":"(MIN(INTERFACE!AD$15,INTERFACE!E571))","v":0},{"$f":"MIN(INTERFACE!C$47,INTERFACE!F571)","v":{"$error":"#VALUE!"}},{"$f":"100-INTERFACE!B571","v":{"$error":"#VALUE!"}},null,{"$f":"INTERFACE!E570+12/1200","v":5.1999999999999336},{"$f":"((INTERFACE!C$11)/((10^-(INTERFACE!E571))+(INTERFACE!C$11)))*100","v":{"$error":"#VALUE!"}},{"$f":"100-INTERFACE!F571","v":{"$error":"#VALUE!"}}]
[{"$f":"(MIN(INTERFACE!AD$15,INTERFACE!E572))","v":0},{"$f":"MIN(INTERFACE!C$47,INTERFACE!F572)","v":{"$error":"#VALUE!"}},{"$f":"100-INTERFACE!B572","v":{"$error":"#VALUE!"}},null,{"$f":"INTERFACE!E571+12/1200","v":5.2099999999999334},{"$f":"((INTERFACE!C$11)/((10^-(INTERFACE!E572))+(INTERFACE!C$11)))*100","v":{"$error":"#VALUE!"}},{"$f":"100-INTERFACE!F572","v":{"$error":"#VALUE!"}}]
[{"$f":"(MIN(INTERFACE!AD$15,INTERFACE!E573))","v":0},{"$f":"MIN(INTERFACE!C$47,INTERFACE!F573)","v":{"$error":"#VALUE!"}},{"$f":"100-INTERFACE!B573","v":{"$error":"#VALUE!"}},null,{"$f":"INTERFACE!E572+12/1200","v":5.2199999999999331},{"$f":"((INTERFACE!C$11)/((10^-(INTERFACE!E573))+(INTERFACE!C$11)))*100","v":{"$error":"#VALUE!"}},{"$f":"100-INTERFACE!F573","v":{"$error":"#VALUE!"}}]
[{"$f":"(MIN(INTERFACE!AD$15,INTERFACE!E574))","v":0},{"$f":"MIN(INTERFACE!C$47,INTERFACE!F574)","v":{"$error":"#VALUE!"}},{"$f":"100-INTERFACE!B574","v":{"$error":"#VALUE!"}},null,{"$f":"INTERFACE!E573+12/1200","v":5.2299999999999329},{"$f":"((INTERFACE!C$11)/((10^-(INTERFACE!E574))+(INTERFACE!C$11)))*100","v":{"$error":"#VALUE!"}},{"$f":"100-INTERFACE!F574","v":{"$error":"#VALUE!"}}]
[{"$f":"(MIN(INTERFACE!AD$15,INTERFACE!E575))","v":0},{"$f":"MIN(INTERFACE!C$47,INTERFACE!F575)","v":{"$error":"#VALUE!"}},{"$f":"100-INTERFACE!B575","v":{"$error":"#VALUE!"}},null,{"$f":"INTERFACE!E574+12/1200","v":5.2399999999999327},{"$f":"((INTERFACE!C$11)/((10^-(INTERFACE!E575))+(INTERFACE!C$11)))*100","v":{"$error":"#VALUE!"}},{"$f":"100-INTERFACE!F575","v":{"$error":"#VALUE!"}}]
[{"$f":"(MIN(INTERFACE!AD$15,INTERFACE!E576))","v":0},{"$f":"MIN(INTERFACE!C$47,INTERFACE!F576)","v":{"$error":"#VALUE!"}},{"$f":"100-INTERFACE!B576","v":{"$error":"#VALUE!"}},null,{"$f":"INTERFACE!E575+12/1200","v":5.2499999999999325},{"$f":"((INTERFACE!C$11)/((10^-(INTERFACE!E576))+(INTERFACE!C$11)))*100","v":{"$error":"#VALUE!"}},{"$f":"100-INTERFACE!F576","v":{"$error":"#VALUE!"}}]
[{"$f":"(MIN(INTERFACE!AD$15,INTERFACE!E577))","v":0},{"$f":"MIN(INTERFACE!C$47,INTERFACE!F577)","v":{"$error":"#VALUE!"}},{"$f":"100-INTERFACE!B577","v":{"$error":"#VALUE!"}},null,{"$f":"INTERFACE!E576+12/1200","v":5.2599999999999323},{"$f":"((INTERFACE!C$11)/((10^-(INTERFACE!E577))+(INTERFACE!C$11)))*100","v":{"$error":"#VALUE!"}},{"$f":"100-INTERFACE!F577","v":{"$error":"#VALUE!"}}]
[{"$f":"(MIN(INTERFACE!AD$15,INTERFACE!E578))","v":0},{"$f":"MIN(INTERFACE!C$47,INTERFACE!F578)","v":{"$error":"#VALUE!"}},{"$f":"100-INTERFACE!B578","v":{"$error":"#VALUE!"}},null,{"$f":"INTERFACE!E577+12/1200","v":5.2699999999999321},{"$f":"((INTERFACE!C$11)/((10^-(INTERFACE!E578))+(INTERFACE!C$11)))*100","v":{"$error":"#VALUE!"}},{"$f":"100-INTERFACE!F578","v":{"$error":"#VALUE!"}}]
[{"$f":"(MIN(INTERFACE!AD$15,INTERFACE!E579))","v":0},{"$f":"MIN(INTERFACE!C$47,INTERFACE!F579)","v":{"$error":"#VALUE!"}},{"$f":"100-INTERFACE!B579","v":{"$error":"#VALUE!"}},null,{"$f":"INTERFACE!E578+12/1200","v":5.2799999999999319},{"$f":"((INTERFACE!C$11)/((10^-(INTERFACE!E579))+(INTERFACE!C$11)))*100","v":{"$error":"#VALUE!"}},{"$f":"100-INTERFACE!F579","v":{"$error":"#VALUE!"}}]
[{"$f":"(MIN(INTERFACE!AD$15,INTERFACE!E580))","v":0},{"$f":"MIN(INTERFACE!C$47,INTERFACE!F580)","v":{"$error":"#VALUE!"}},{"$f":"100-INTERFACE!B580","v":{"$error":"#VALUE!"}},null,{"$f":"INTERFACE!E579+12/1200","v":5.2899999999999316},{"$f":"((INTERFACE!C$11)/((10^-(INTERFACE!E580))+(INTERFACE!C$11)))*100","v":{"$error":"#VALUE!"}},{"$f":"100-INTERFACE!F580","v":{"$error":"#VALUE!"}}]
[{"$f":"(MIN(INTERFACE!AD$15,INTERFACE!E581))","v":0},{"$f":"MIN(INTERFACE!C$47,INTERFACE!F581)","v":{"$error":"#VALUE!"}},{"$f":"100-INTERFACE!B581","v":{"$error":"#VALUE!"}},null,{"$f":"INTERFACE!E580+12/1200","v":5.2999999999999314},{"$f":"((INTERFACE!C$11)/((10^-(INTERFACE!E581))+(INTERFACE!C$11)))*100","v":{"$error":"#VALUE!"}},{"$f":"100-INTERFACE!F581","v":{"$error":"#VALUE!"}}]
[{"$f":"(MIN(INTERFACE!AD$15,INTERFACE!E582))","v":0},{"$f":"MIN(INTERFACE!C$47,INTERFACE!F582)","v":{"$error":"#VALUE!"}},{"$f":"100-INTERFACE!B582","v":{"$error":"#VALUE!"}},null,{"$f":"INTERFACE!E581+12/1200","v":5.3099999999999312},{"$f":"((INTERFACE!C$11)/((10^-(INTERFACE!E582))+(INTERFACE!C$11)))*100","v":{"$error":"#VALUE!"}},{"$f":"100-INTERFACE!F582","v":{"$error":"#VALUE!"}}]
[{"$f":"(MIN(INTERFACE!AD$15,INTERFACE!E583))","v":0},{"$f":"MIN(INTERFACE!C$47,INTERFACE!F583)","v":{"$error":"#VALUE!"}},{"$f":"100-INTERFACE!B583","v":{"$error":"#VALUE!"}},null,{"$f":"INTERFACE!E582+12/1200","v":5.319999999999931},{"$f":"((INTERFACE!C$11)/((10^-(INTERFACE!E583))+(INTERFACE!C$11)))*100","v":{"$error":"#VALUE!"}},{"$f":"100-INTERFACE!F583","v":{"$error":"#VALUE!"}}]
[{"$f":"(MIN(INTERFACE!AD$15,INTERFACE!E584))","v":0},{"$f":"MIN(INTERFACE!C$47,INTERFACE!F584)","v":{"$error":"#VALUE!"}},{"$f":"100-INTERFACE!B584","v":{"$error":"#VALUE!"}},null,{"$f":"INTERFACE!E583+12/1200","v":5.3299999999999308},{"$f":"((INTERFACE!C$11)/((10^-(INTERFACE!E584))+(INTERFACE!C$11)))*100","v":{"$error":"#VALUE!"}},{"$f":"100-INTERFACE!F584","v":{"$error":"#VALUE!"}}]
[{"$f":"(MIN(INTERFACE!AD$15,INTERFACE!E585))","v":0},{"$f":"MIN(INTERFACE!C$47,INTERFACE!F585)","v":{"$error":"#VALUE!"}},{"$f":"100-INTERFACE!B585","v":{"$error":"#VALUE!"}},null,{"$f":"INTERFACE!E584+12/1200","v":5.3399999999999306},{"$f":"((INTERFACE!C$11)/((10^-(INTERFACE!E585))+(INTERFACE!C$11)))*100","v":{"$error":"#VALUE!"}},{"$f":"100-INTERFACE!F585","v":{"$error":"#VALUE!"}}]
[{"$f":"(MIN(INTERFACE!AD$15,INTERFACE!E586))","v":0},{"$f":"MIN(INTERFACE!C$47,INTERFACE!F586)","v":{"$error":"#VALUE!"}},{"$f":"100-INTERFACE!B586","v":{"$error":"#VALUE!"}},null,{"$f":"INTERFACE!E585+12/1200","v":5.3499999999999304},{"$f":"((INTERFACE!C$11)/((10^-(INTERFACE!E586))+(INTERFACE!C$11)))*100","v":{"$error":"#VALUE!"}},{"$f":"100-INTERFACE!F586","v":{"$error":"#VALUE!"}}]
[{"$f":"(MIN(INTERFACE!AD$15,INTERFACE!E587))","v":0},{"$f":"MIN(INTERFACE!C$47,INTERFACE!F587)","v":{"$error":"#VALUE!"}},{"$f":"100-INTERFACE!B587","v":{"$error":"#VALUE!"}},null,{"$f":"INTERFACE!E586+12/1200","v":5.3599999999999302},{"$f":"((INTERFACE!C$11)/((10^-(INTERFACE!E587))+(INTERFACE!C$11)))*100","v":{"$error":"#VALUE!"}},{"$f":"100-INTERFACE!F587","v":{"$error":"#VALUE!"}}]
[{"$f":"(MIN(INTERFACE!AD$15,INTERFACE!E588))","v":0},{"$f":"MIN(INTERFACE!C$47,INTERFACE!F588)","v":{"$error":"#VALUE!"}},{"$f":"100-INTERFACE!B588","v":{"$error":"#VALUE!"}},null,{"$f":"INTERFACE!E587+12/1200","v":5.3699999999999299},{"$f":"((INTERFACE!C$11)/((10^-(INTERFACE!E588))+(INTERFACE!C$11)))*100","v":{"$error":"#VALUE!"}},{"$f":"100-INTERFACE!F588","v":{"$error":"#VALUE!"}}]
[{"$f":"(MIN(INTERFACE!AD$15,INTERFACE!E589))","v":0},{"$f":"MIN(INTERFACE!C$47,INTERFACE!F589)","v":{"$error":"#VALUE!"}},{"$f":"100-INTERFACE!B589","v":{"$error":"#VALUE!"}},null,{"$f":"INTERFACE!E588+12/1200","v":5.3799999999999297},{"$f":"((INTERFACE!C$11)/((10^-(INTERFACE!E589))+(INTERFACE!C$11)))*100","v":{"$error":"#VALUE!"}},{"$f":"100-INTERFACE!F589","v":{"$error":"#VALUE!"}}]
[{"$f":"(MIN(INTERFACE!AD$15,INTERFACE!E590))","v":0},{"$f":"MIN(INTERFACE!C$47,INTERFACE!F590)","v":{"$error":"#VALUE!"}},{"$f":"100-INTERFACE!B590","v":{"$error":"#VALUE!"}},null,{"$f":"INTERFACE!E589+12/1200","v":5.3899999999999295},{"$f":"((INTERFACE!C$11)/((10^-(INTERFACE!E590))+(INTERFACE!C$11)))*100","v":{"$error":"#VALUE!"}},{"$f":"100-INTERFACE!F590","v":{"$error":"#VALUE!"}}]
[{"$f":"(MIN(INTERFACE!AD$15,INTERFACE!E591))","v":0},{"$f":"MIN(INTERFACE!C$47,INTERFACE!F591)","v":{"$error":"#VALUE!"}},{"$f":"100-INTERFACE!B591","v":{"$error":"#VALUE!"}},null,{"$f":"INTERFACE!E590+12/1200","v":5.3999999999999293},{"$f":"((INTERFACE!C$11)/((10^-(INTERFACE!E591))+(INTERFACE!C$11)))*100","v":{"$error":"#VALUE!"}},{"$f":"100-INTERFACE!F591","v":{"$error":"#VALUE!"}}]
[{"$f":"(MIN(INTERFACE!AD$15,INTERFACE!E592))","v":0},{"$f":"MIN(INTERFACE!C$47,INTERFACE!F592)","v":{"$error":"#VALUE!"}},{"$f":"100-INTERFACE!B592","v":{"$error":"#VALUE!"}},null,{"$f":"INTERFACE!E591+12/1200","v":5.4099999999999291},{"$f":"((INTERFACE!C$11)/((10^-(INTERFACE!E592))+(INTERFACE!C$11)))*100","v":{"$error":"#VALUE!"}},{"$f":"100-INTERFACE!F592","v":{"$error":"#VALUE!"}}]
[{"$f":"(MIN(INTERFACE!AD$15,INTERFACE!E593))","v":0},{"$f":"MIN(INTERFACE!C$47,INTERFACE!F593)","v":{"$error":"#VALUE!"}},{"$f":"100-INTERFACE!B593","v":{"$error":"#VALUE!"}},null,{"$f":"INTERFACE!E592+12/1200","v":5.4199999999999289},{"$f":"((INTERFACE!C$11)/((10^-(INTERFACE!E593))+(INTERFACE!C$11)))*100","v":{"$error":"#VALUE!"}},{"$f":"100-INTERFACE!F593","v":{"$error":"#VALUE!"}}]
[{"$f":"(MIN(INTERFACE!AD$15,INTERFACE!E594))","v":0},{"$f":"MIN(INTERFACE!C$47,INTERFACE!F594)","v":{"$error":"#VALUE!"}},{"$f":"100-INTERFACE!B594","v":{"$error":"#VALUE!"}},null,{"$f":"INTERFACE!E593+12/1200","v":5.4299999999999287},{"$f":"((INTERFACE!C$11)/((10^-(INTERFACE!E594))+(INTERFACE!C$11)))*100","v":{"$error":"#VALUE!"}},{"$f":"100-INTERFACE!F594","v":{"$error":"#VALUE!"}}]
[{"$f":"(MIN(INTERFACE!AD$15,INTERFACE!E595))","v":0},{"$f":"MIN(INTERFACE!C$47,INTERFACE!F595)","v":{"$error":"#VALUE!"}},{"$f":"100-INTERFACE!B595","v":{"$error":"#VALUE!"}},null,{"$f":"INTERFACE!E594+12/1200","v":5.4399999999999284},{"$f":"((INTERFACE!C$11)/((10^-(INTERFACE!E595))+(INTERFACE!C$11)))*100","v":{"$error":"#VALUE!"}},{"$f":"100-INTERFACE!F595","v":{"$error":"#VALUE!"}}]
[{"$f":"(MIN(INTERFACE!AD$15,INTERFACE!E596))","v":0},{"$f":"MIN(INTERFACE!C$47,INTERFACE!F596)","v":{"$error":"#VALUE!"}},{"$f":"100-INTERFACE!B596","v":{"$error":"#VALUE!"}},null,{"$f":"INTERFACE!E595+12/1200","v":5.4499999999999282},{"$f":"((INTERFACE!C$11)/((10^-(INTERFACE!E596))+(INTERFACE!C$11)))*100","v":{"$error":"#VALUE!"}},{"$f":"100-INTERFACE!F596","v":{"$error":"#VALUE!"}}]
[{"$f":"(MIN(INTERFACE!AD$15,INTERFACE!E597))","v":0},{"$f":"MIN(INTERFACE!C$47,INTERFACE!F597)","v":{"$error":"#VALUE!"}},{"$f":"100-INTERFACE!B597","v":{"$error":"#VALUE!"}},null,{"$f":"INTERFACE!E596+12/1200","v":5.459999999999928},{"$f":"((INTERFACE!C$11)/((10^-(INTERFACE!E597))+(INTERFACE!C$11)))*100","v":{"$error":"#VALUE!"}},{"$f":"100-INTERFACE!F597","v":{"$error":"#VALUE!"}}]
[{"$f":"(MIN(INTERFACE!AD$15,INTERFACE!E598))","v":0},{"$f":"MIN(INTERFACE!C$47,INTERFACE!F598)","v":{"$error":"#VALUE!"}},{"$f":"100-INTERFACE!B598","v":{"$error":"#VALUE!"}},null,{"$f":"INTERFACE!E597+12/1200","v":5.4699999999999278},{"$f":"((INTERFACE!C$11)/((10^-(INTERFACE!E598))+(INTERFACE!C$11)))*100","v":{"$error":"#VALUE!"}},{"$f":"100-INTERFACE!F598","v":{"$error":"#VALUE!"}}]
[{"$f":"(MIN(INTERFACE!AD$15,INTERFACE!E599))","v":0},{"$f":"MIN(INTERFACE!C$47,INTERFACE!F599)","v":{"$error":"#VALUE!"}},{"$f":"100-INTERFACE!B599","v":{"$error":"#VALUE!"}},null,{"$f":"INTERFACE!E598+12/1200","v":5.4799999999999276},{"$f":"((INTERFACE!C$11)/((10^-(INTERFACE!E599))+(INTERFACE!C$11)))*100","v":{"$error":"#VALUE!"}},{"$f":"100-INTERFACE!F599","v":{"$error":"#VALUE!"}}]
[{"$f":"(MIN(INTERFACE!AD$15,INTERFACE!E600))","v":0},{"$f":"MIN(INTERFACE!C$47,INTERFACE!F600)","v":{"$error":"#VALUE!"}},{"$f":"100-INTERFACE!B600","v":{"$error":"#VALUE!"}},null,{"$f":"INTERFACE!E599+12/1200","v":5.4899999999999274},{"$f":"((INTERFACE!C$11)/((10^-(INTERFACE!E600))+(INTERFACE!C$11)))*100","v":{"$error":"#VALUE!"}},{"$f":"100-INTERFACE!F600","v":{"$error":"#VALUE!"}}]
[{"$f":"(MIN(INTERFACE!AD$15,INTERFACE!E601))","v":0},{"$f":"MIN(INTERFACE!C$47,INTERFACE!F601)","v":{"$error":"#VALUE!"}},{"$f":"100-INTERFACE!B601","v":{"$error":"#VALUE!"}},null,{"$f":"INTERFACE!E600+12/1200","v":5.4999999999999272},{"$f":"((INTERFACE!C$11)/((10^-(INTERFACE!E601))+(INTERFACE!C$11)))*100","v":{"$error":"#VALUE!"}},{"$f":"100-INTERFACE!F601","v":{"$error":"#VALUE!"}}]
[{"$f":"(MIN(INTERFACE!AD$15,INTERFACE!E602))","v":0},{"$f":"MIN(INTERFACE!C$47,INTERFACE!F602)","v":{"$error":"#VALUE!"}},{"$f":"100-INTERFACE!B602","v":{"$error":"#VALUE!"}},null,{"$f":"INTERFACE!E601+12/1200","v":5.509999999999927},{"$f":"((INTERFACE!C$11)/((10^-(INTERFACE!E602))+(INTERFACE!C$11)))*100","v":{"$error":"#VALUE!"}},{"$f":"100-INTERFACE!F602","v":{"$error":"#VALUE!"}}]
[{"$f":"(MIN(INTERFACE!AD$15,INTERFACE!E603))","v":0},{"$f":"MIN(INTERFACE!C$47,INTERFACE!F603)","v":{"$error":"#VALUE!"}},{"$f":"100-INTERFACE!B603","v":{"$error":"#VALUE!"}},null,{"$f":"INTERFACE!E602+12/1200","v":5.5199999999999267},{"$f":"((INTERFACE!C$11)/((10^-(INTERFACE!E603))+(INTERFACE!C$11)))*100","v":{"$error":"#VALUE!"}},{"$f":"100-INTERFACE!F603","v":{"$error":"#VALUE!"}}]
[{"$f":"(MIN(INTERFACE!AD$15,INTERFACE!E604))","v":0},{"$f":"MIN(INTERFACE!C$47,INTERFACE!F604)","v":{"$error":"#VALUE!"}},{"$f":"100-INTERFACE!B604","v":{"$error":"#VALUE!"}},null,{"$f":"INTERFACE!E603+12/1200","v":5.5299999999999265},{"$f":"((INTERFACE!C$11)/((10^-(INTERFACE!E604))+(INTERFACE!C$11)))*100","v":{"$error":"#VALUE!"}},{"$f":"100-INTERFACE!F604","v":{"$error":"#VALUE!"}}]
[{"$f":"(MIN(INTERFACE!AD$15,INTERFACE!E605))","v":0},{"$f":"MIN(INTERFACE!C$47,INTERFACE!F605)","v":{"$error":"#VALUE!"}},{"$f":"100-INTERFACE!B605","v":{"$error":"#VALUE!"}},null,{"$f":"INTERFACE!E604+12/1200","v":5.5399999999999263},{"$f":"((INTERFACE!C$11)/((10^-(INTERFACE!E605))+(INTERFACE!C$11)))*100","v":{"$error":"#VALUE!"}},{"$f":"100-INTERFACE!F605","v":{"$error":"#VALUE!"}}]
[{"$f":"(MIN(INTERFACE!AD$15,INTERFACE!E606))","v":0},{"$f":"MIN(INTERFACE!C$47,INTERFACE!F606)","v":{"$error":"#VALUE!"}},{"$f":"100-INTERFACE!B606","v":{"$error":"#VALUE!"}},null,{"$f":"INTERFACE!E605+12/1200","v":5.5499999999999261},{"$f":"((INTERFACE!C$11)/((10^-(INTERFACE!E606))+(INTERFACE!C$11)))*100","v":{"$error":"#VALUE!"}},{"$f":"100-INTERFACE!F606","v":{"$error":"#VALUE!"}}]
[{"$f":"(MIN(INTERFACE!AD$15,INTERFACE!E607))","v":0},{"$f":"MIN(INTERFACE!C$47,INTERFACE!F607)","v":{"$error":"#VALUE!"}},{"$f":"100-INTERFACE!B607","v":{"$error":"#VALUE!"}},null,{"$f":"INTERFACE!E606+12/1200","v":5.5599999999999259},{"$f":"((INTERFACE!C$11)/((10^-(INTERFACE!E607))+(INTERFACE!C$11)))*100","v":{"$error":"#VALUE!"}},{"$f":"100-INTERFACE!F607","v":{"$error":"#VALUE!"}}]
[{"$f":"(MIN(INTERFACE!AD$15,INTERFACE!E608))","v":0},{"$f":"MIN(INTERFACE!C$47,INTERFACE!F608)","v":{"$error":"#VALUE!"}},{"$f":"100-INTERFACE!B608","v":{"$error":"#VALUE!"}},null,{"$f":"INTERFACE!E607+12/1200","v":5.5699999999999257},{"$f":"((INTERFACE!C$11)/((10^-(INTERFACE!E608))+(INTERFACE!C$11)))*100","v":{"$error":"#VALUE!"}},{"$f":"100-INTERFACE!F608","v":{"$error":"#VALUE!"}}]
[{"$f":"(MIN(INTERFACE!AD$15,INTERFACE!E609))","v":0},{"$f":"MIN(INTERFACE!C$47,INTERFACE!F609)","v":{"$error":"#VALUE!"}},{"$f":"100-INTERFACE!B609","v":{"$error":"#VALUE!"}},null,{"$f":"INTERFACE!E608+12/1200","v":5.5799999999999255},{"$f":"((INTERFACE!C$11)/((10^-(INTERFACE!E609))+(INTERFACE!C$11)))*100","v":{"$error":"#VALUE!"}},{"$f":"100-INTERFACE!F609","v":{"$error":"#VALUE!"}}]
[{"$f":"(MIN(INTERFACE!AD$15,INTERFACE!E610))","v":0},{"$f":"MIN(INTERFACE!C$47,INTERFACE!F610)","v":{"$error":"#VALUE!"}},{"$f":"100-INTERFACE!B610","v":{"$error":"#VALUE!"}},null,{"$f":"INTERFACE!E609+12/1200","v":5.5899999999999253},{"$f":"((INTERFACE!C$11)/((10^-(INTERFACE!E610))+(INTERFACE!C$11)))*100","v":{"$error":"#VALUE!"}},{"$f":"100-INTERFACE!F610","v":{"$error":"#VALUE!"}}]
[{"$f":"(MIN(INTERFACE!AD$15,INTERFACE!E611))","v":0},{"$f":"MIN(INTERFACE!C$47,INTERFACE!F611)","v":{"$error":"#VALUE!"}},{"$f":"100-INTERFACE!B611","v":{"$error":"#VALUE!"}},null,{"$f":"INTERFACE!E610+12/1200","v":5.599999999999925},{"$f":"((INTERFACE!C$11)/((10^-(INTERFACE!E611))+(INTERFACE!C$11)))*100","v":{"$error":"#VALUE!"}},{"$f":"100-INTERFACE!F611","v":{"$error":"#VALUE!"}}]
[{"$f":"(MIN(INTERFACE!AD$15,INTERFACE!E612))","v":0},{"$f":"MIN(INTERFACE!C$47,INTERFACE!F612)","v":{"$error":"#VALUE!"}},{"$f":"100-INTERFACE!B612","v":{"$error":"#VALUE!"}},null,{"$f":"INTERFACE!E611+12/1200","v":5.6099999999999248},{"$f":"((INTERFACE!C$11)/((10^-(INTERFACE!E612))+(INTERFACE!C$11)))*100","v":{"$error":"#VALUE!"}},{"$f":"100-INTERFACE!F612","v":{"$error":"#VALUE!"}}]
[{"$f":"(MIN(INTERFACE!AD$15,INTERFACE!E613))","v":0},{"$f":"MIN(INTERFACE!C$47,INTERFACE!F613)","v":{"$error":"#VALUE!"}},{"$f":"100-INTERFACE!B613","v":{"$error":"#VALUE!"}},null,{"$f":"INTERFACE!E612+12/1200","v":5.6199999999999246},{"$f":"((INTERFACE!C$11)/((10^-(INTERFACE!E613))+(INTERFACE!C$11)))*100","v":{"$error":"#VALUE!"}},{"$f":"100-INTERFACE!F613","v":{"$error":"#VALUE!"}}]
[{"$f":"(MIN(INTERFACE!AD$15,INTERFACE!E614))","v":0},{"$f":"MIN(INTERFACE!C$47,INTERFACE!F614)","v":{"$error":"#VALUE!"}},{"$f":"100-INTERFACE!B614","v":{"$error":"#VALUE!"}},null,{"$f":"INTERFACE!E613+12/1200","v":5.6299999999999244},{"$f":"((INTERFACE!C$11)/((10^-(INTERFACE!E614))+(INTERFACE!C$11)))*100","v":{"$error":"#VALUE!"}},{"$f":"100-INTERFACE!F614","v":{"$error":"#VALUE!"}}]
[{"$f":"(MIN(INTERFACE!AD$15,INTERFACE!E615))","v":0},{"$f":"MIN(INTERFACE!C$47,INTERFACE!F615)","v":{"$error":"#VALUE!"}},{"$f":"100-INTERFACE!B615","v":{"$error":"#VALUE!"}},null,{"$f":"INTERFACE!E614+12/1200","v":5.6399999999999242},{"$f":"((INTERFACE!C$11)/((10^-(INTERFACE!E615))+(INTERFACE!C$11)))*100","v":{"$error":"#VALUE!"}},{"$f":"100-INTERFACE!F615","v":{"$error":"#VALUE!"}}]
[{"$f":"(MIN(INTERFACE!AD$15,INTERFACE!E616))","v":0},{"$f":"MIN(INTERFACE!C$47,INTERFACE!F616)","v":{"$error":"#VALUE!"}},{"$f":"100-INTERFACE!B616","v":{"$error":"#VALUE!"}},null,{"$f":"INTERFACE!E615+12/1200","v":5.649999999999924},{"$f":"((INTERFACE!C$11)/((10^-(INTERFACE!E616))+(INTERFACE!C$11)))*100","v":{"$error":"#VALUE!"}},{"$f":"100-INTERFACE!F616","v":{"$error":"#VALUE!"}}]
[{"$f":"(MIN(INTERFACE!AD$15,INTERFACE!E617))","v":0},{"$f":"MIN(INTERFACE!C$47,INTERFACE!F617)","v":{"$error":"#VALUE!"}},{"$f":"100-INTERFACE!B617","v":{"$error":"#VALUE!"}},null,{"$f":"INTERFACE!E616+12/1200","v":5.6599999999999238},{"$f":"((INTERFACE!C$11)/((10^-(INTERFACE!E617))+(INTERFACE!C$11)))*100","v":{"$error":"#VALUE!"}},{"$f":"100-INTERFACE!F617","v":{"$error":"#VALUE!"}}]
[{"$f":"(MIN(INTERFACE!AD$15,INTERFACE!E618))","v":0},{"$f":"MIN(INTERFACE!C$47,INTERFACE!F618)","v":{"$error":"#VALUE!"}},{"$f":"100-INTERFACE!B618","v":{"$error":"#VALUE!"}},null,{"$f":"INTERFACE!E617+12/1200","v":5.6699999999999235},{"$f":"((INTERFACE!C$11)/((10^-(INTERFACE!E618))+(INTERFACE!C$11)))*100","v":{"$error":"#VALUE!"}},{"$f":"100-INTERFACE!F618","v":{"$error":"#VALUE!"}}]
[{"$f":"(MIN(INTERFACE!AD$15,INTERFACE!E619))","v":0},{"$f":"MIN(INTERFACE!C$47,INTERFACE!F619)","v":{"$error":"#VALUE!"}},{"$f":"100-INTERFACE!B619","v":{"$error":"#VALUE!"}},null,{"$f":"INTERFACE!E618+12/1200","v":5.6799999999999233},{"$f":"((INTERFACE!C$11)/((10^-(INTERFACE!E619))+(INTERFACE!C$11)))*100","v":{"$error":"#VALUE!"}},{"$f":"100-INTERFACE!F619","v":{"$error":"#VALUE!"}}]
[{"$f":"(MIN(INTERFACE!AD$15,INTERFACE!E620))","v":0},{"$f":"MIN(INTERFACE!C$47,INTERFACE!F620)","v":{"$error":"#VALUE!"}},{"$f":"100-INTERFACE!B620","v":{"$error":"#VALUE!"}},null,{"$f":"INTERFACE!E619+12/1200","v":5.6899999999999231},{"$f":"((INTERFACE!C$11)/((10^-(INTERFACE!E620))+(INTERFACE!C$11)))*100","v":{"$error":"#VALUE!"}},{"$f":"100-INTERFACE!F620","v":{"$error":"#VALUE!"}}]
[{"$f":"(MIN(INTERFACE!AD$15,INTERFACE!E621))","v":0},{"$f":"MIN(INTERFACE!C$47,INTERFACE!F621)","v":{"$error":"#VALUE!"}},{"$f":"100-INTERFACE!B621","v":{"$error":"#VALUE!"}},null,{"$f":"INTERFACE!E620+12/1200","v":5.6999999999999229},{"$f":"((INTERFACE!C$11)/((10^-(INTERFACE!E621))+(INTERFACE!C$11)))*100","v":{"$error":"#VALUE!"}},{"$f":"100-INTERFACE!F621","v":{"$error":"#VALUE!"}}]
[{"$f":"(MIN(INTERFACE!AD$15,INTERFACE!E622))","v":0},{"$f":"MIN(INTERFACE!C$47,INTERFACE!F622)","v":{"$error":"#VALUE!"}},{"$f":"100-INTERFACE!B622","v":{"$error":"#VALUE!"}},null,{"$f":"INTERFACE!E621+12/1200","v":5.7099999999999227},{"$f":"((INTERFACE!C$11)/((10^-(INTERFACE!E622))+(INTERFACE!C$11)))*100","v":{"$error":"#VALUE!"}},{"$f":"100-INTERFACE!F622","v":{"$error":"#VALUE!"}}]
[{"$f":"(MIN(INTERFACE!AD$15,INTERFACE!E623))","v":0},{"$f":"MIN(INTERFACE!C$47,INTERFACE!F623)","v":{"$error":"#VALUE!"}},{"$f":"100-INTERFACE!B623","v":{"$error":"#VALUE!"}},null,{"$f":"INTERFACE!E622+12/1200","v":5.7199999999999225},{"$f":"((INTERFACE!C$11)/((10^-(INTERFACE!E623))+(INTERFACE!C$11)))*100","v":{"$error":"#VALUE!"}},{"$f":"100-INTERFACE!F623","v":{"$error":"#VALUE!"}}]
[{"$f":"(MIN(INTERFACE!AD$15,INTERFACE!E624))","v":0},{"$f":"MIN(INTERFACE!C$47,INTERFACE!F624)","v":{"$error":"#VALUE!"}},{"$f":"100-INTERFACE!B624","v":{"$error":"#VALUE!"}},null,{"$f":"INTERFACE!E623+12/1200","v":5.7299999999999223},{"$f":"((INTERFACE!C$11)/((10^-(INTERFACE!E624))+(INTERFACE!C$11)))*100","v":{"$error":"#VALUE!"}},{"$f":"100-INTERFACE!F624","v":{"$error":"#VALUE!"}}]
[{"$f":"(MIN(INTERFACE!AD$15,INTERFACE!E625))","v":0},{"$f":"MIN(INTERFACE!C$47,INTERFACE!F625)","v":{"$error":"#VALUE!"}},{"$f":"100-INTERFACE!B625","v":{"$error":"#VALUE!"}},null,{"$f":"INTERFACE!E624+12/1200","v":5.7399999999999221},{"$f":"((INTERFACE!C$11)/((10^-(INTERFACE!E625))+(INTERFACE!C$11)))*100","v":{"$error":"#VALUE!"}},{"$f":"100-INTERFACE!F625","v":{"$error":"#VALUE!"}}]
[{"$f":"(MIN(INTERFACE!AD$15,INTERFACE!E626))","v":0},{"$f":"MIN(INTERFACE!C$47,INTERFACE!F626)","v":{"$error":"#VALUE!"}},{"$f":"100-INTERFACE!B626","v":{"$error":"#VALUE!"}},null,{"$f":"INTERFACE!E625+12/1200","v":5.7499999999999218},{"$f":"((INTERFACE!C$11)/((10^-(INTERFACE!E626))+(INTERFACE!C$11)))*100","v":{"$error":"#VALUE!"}},{"$f":"100-INTERFACE!F626","v":{"$error":"#VALUE!"}}]
[{"$f":"(MIN(INTERFACE!AD$15,INTERFACE!E627))","v":0},{"$f":"MIN(INTERFACE!C$47,INTERFACE!F627)","v":{"$error":"#VALUE!"}},{"$f":"100-INTERFACE!B627","v":{"$error":"#VALUE!"}},null,{"$f":"INTERFACE!E626+12/1200","v":5.7599999999999216},{"$f":"((INTERFACE!C$11)/((10^-(INTERFACE!E627))+(INTERFACE!C$11)))*100","v":{"$error":"#VALUE!"}},{"$f":"100-INTERFACE!F627","v":{"$error":"#VALUE!"}}]
[{"$f":"(MIN(INTERFACE!AD$15,INTERFACE!E628))","v":0},{"$f":"MIN(INTERFACE!C$47,INTERFACE!F628)","v":{"$error":"#VALUE!"}},{"$f":"100-INTERFACE!B628","v":{"$error":"#VALUE!"}},null,{"$f":"INTERFACE!E627+12/1200","v":5.7699999999999214},{"$f":"((INTERFACE!C$11)/((10^-(INTERFACE!E628))+(INTERFACE!C$11)))*100","v":{"$error":"#VALUE!"}},{"$f":"100-INTERFACE!F628","v":{"$error":"#VALUE!"}}]
[{"$f":"(MIN(INTERFACE!AD$15,INTERFACE!E629))","v":0},{"$f":"MIN(INTERFACE!C$47,INTERFACE!F629)","v":{"$error":"#VALUE!"}},{"$f":"100-INTERFACE!B629","v":{"$error":"#VALUE!"}},null,{"$f":"INTERFACE!E628+12/1200","v":5.7799999999999212},{"$f":"((INTERFACE!C$11)/((10^-(INTERFACE!E629))+(INTERFACE!C$11)))*100","v":{"$error":"#VALUE!"}},{"$f":"100-INTERFACE!F629","v":{"$error":"#VALUE!"}}]
[{"$f":"(MIN(INTERFACE!AD$15,INTERFACE!E630))","v":0},{"$f":"MIN(INTERFACE!C$47,INTERFACE!F630)","v":{"$error":"#VALUE!"}},{"$f":"100-INTERFACE!B630","v":{"$error":"#VALUE!"}},null,{"$f":"INTERFACE!E629+12/1200","v":5.789999999999921},{"$f":"((INTERFACE!C$11)/((10^-(INTERFACE!E630))+(INTERFACE!C$11)))*100","v":{"$error":"#VALUE!"}},{"$f":"100-INTERFACE!F630","v":{"$error":"#VALUE!"}}]
[{"$f":"(MIN(INTERFACE!AD$15,INTERFACE!E631))","v":0},{"$f":"MIN(INTERFACE!C$47,INTERFACE!F631)","v":{"$error":"#VALUE!"}},{"$f":"100-INTERFACE!B631","v":{"$error":"#VALUE!"}},null,{"$f":"INTERFACE!E630+12/1200","v":5.7999999999999208},{"$f":"((INTERFACE!C$11)/((10^-(INTERFACE!E631))+(INTERFACE!C$11)))*100","v":{"$error":"#VALUE!"}},{"$f":"100-INTERFACE!F631","v":{"$error":"#VALUE!"}}]
[{"$f":"(MIN(INTERFACE!AD$15,INTERFACE!E632))","v":0},{"$f":"MIN(INTERFACE!C$47,INTERFACE!F632)","v":{"$error":"#VALUE!"}},{"$f":"100-INTERFACE!B632","v":{"$error":"#VALUE!"}},null,{"$f":"INTERFACE!E631+12/1200","v":5.8099999999999206},{"$f":"((INTERFACE!C$11)/((10^-(INTERFACE!E632))+(INTERFACE!C$11)))*100","v":{"$error":"#VALUE!"}},{"$f":"100-INTERFACE!F632","v":{"$error":"#VALUE!"}}]
[{"$f":"(MIN(INTERFACE!AD$15,INTERFACE!E633))","v":0},{"$f":"MIN(INTERFACE!C$47,INTERFACE!F633)","v":{"$error":"#VALUE!"}},{"$f":"100-INTERFACE!B633","v":{"$error":"#VALUE!"}},null,{"$f":"INTERFACE!E632+12/1200","v":5.8199999999999203},{"$f":"((INTERFACE!C$11)/((10^-(INTERFACE!E633))+(INTERFACE!C$11)))*100","v":{"$error":"#VALUE!"}},{"$f":"100-INTERFACE!F633","v":{"$error":"#VALUE!"}}]
[{"$f":"(MIN(INTERFACE!AD$15,INTERFACE!E634))","v":0},{"$f":"MIN(INTERFACE!C$47,INTERFACE!F634)","v":{"$error":"#VALUE!"}},{"$f":"100-INTERFACE!B634","v":{"$error":"#VALUE!"}},null,{"$f":"INTERFACE!E633+12/1200","v":5.8299999999999201},{"$f":"((INTERFACE!C$11)/((10^-(INTERFACE!E634))+(INTERFACE!C$11)))*100","v":{"$error":"#VALUE!"}},{"$f":"100-INTERFACE!F634","v":{"$error":"#VALUE!"}}]
[{"$f":"(MIN(INTERFACE!AD$15,INTERFACE!E635))","v":0},{"$f":"MIN(INTERFACE!C$47,INTERFACE!F635)","v":{"$error":"#VALUE!"}},{"$f":"100-INTERFACE!B635","v":{"$error":"#VALUE!"}},null,{"$f":"INTERFACE!E634+12/1200","v":5.8399999999999199},{"$f":"((INTERFACE!C$11)/((10^-(INTERFACE!E635))+(INTERFACE!C$11)))*100","v":{"$error":"#VALUE!"}},{"$f":"100-INTERFACE!F635","v":{"$error":"#VALUE!"}}]
[{"$f":"(MIN(INTERFACE!AD$15,INTERFACE!E636))","v":0},{"$f":"MIN(INTERFACE!C$47,INTERFACE!F636)","v":{"$error":"#VALUE!"}},{"$f":"100-INTERFACE!B636","v":{"$error":"#VALUE!"}},null,{"$f":"INTERFACE!E635+12/1200","v":5.8499999999999197},{"$f":"((INTERFACE!C$11)/((10^-(INTERFACE!E636))+(INTERFACE!C$11)))*100","v":{"$error":"#VALUE!"}},{"$f":"100-INTERFACE!F636","v":{"$error":"#VALUE!"}}]
[{"$f":"(MIN(INTERFACE!AD$15,INTERFACE!E637))","v":0},{"$f":"MIN(INTERFACE!C$47,INTERFACE!F637)","v":{"$error":"#VALUE!"}},{"$f":"100-INTERFACE!B637","v":{"$error":"#VALUE!"}},null,{"$f":"INTERFACE!E636+12/1200","v":5.8599999999999195},{"$f":"((INTERFACE!C$11)/((10^-(INTERFACE!E637))+(INTERFACE!C$11)))*100","v":{"$error":"#VALUE!"}},{"$f":"100-INTERFACE!F637","v":{"$error":"#VALUE!"}}]
[{"$f":"(MIN(INTERFACE!AD$15,INTERFACE!E638))","v":0},{"$f":"MIN(INTERFACE!C$47,INTERFACE!F638)","v":{"$error":"#VALUE!"}},{"$f":"100-INTERFACE!B638","v":{"$error":"#VALUE!"}},null,{"$f":"INTERFACE!E637+12/1200","v":5.8699999999999193},{"$f":"((INTERFACE!C$11)/((10^-(INTERFACE!E638))+(INTERFACE!C$11)))*100","v":{"$error":"#VALUE!"}},{"$f":"100-INTERFACE!F638","v":{"$error":"#VALUE!"}}]
[{"$f":"(MIN(INTERFACE!AD$15,INTERFACE!E639))","v":0},{"$f":"MIN(INTERFACE!C$47,INTERFACE!F639)","v":{"$error":"#VALUE!"}},{"$f":"100-INTERFACE!B639","v":{"$error":"#VALUE!"}},null,{"$f":"INTERFACE!E638+12/1200","v":5.8799999999999191},{"$f":"((INTERFACE!C$11)/((10^-(INTERFACE!E639))+(INTERFACE!C$11)))*100","v":{"$error":"#VALUE!"}},{"$f":"100-INTERFACE!F639","v":{"$error":"#VALUE!"}}]
[{"$f":"(MIN(INTERFACE!AD$15,INTERFACE!E640))","v":0},{"$f":"MIN(INTERFACE!C$47,INTERFACE!F640)","v":{"$error":"#VALUE!"}},{"$f":"100-INTERFACE!B640","v":{"$error":"#VALUE!"}},null,{"$f":"INTERFACE!E639+12/1200","v":5.8899999999999189},{"$f":"((INTERFACE!C$11)/((10^-(INTERFACE!E640))+(INTERFACE!C$11)))*100","v":{"$error":"#VALUE!"}},{"$f":"100-INTERFACE!F640","v":{"$error":"#VALUE!"}}]
[{"$f":"(MIN(INTERFACE!AD$15,INTERFACE!E641))","v":0},{"$f":"MIN(INTERFACE!C$47,INTERFACE!F641)","v":{"$error":"#VALUE!"}},{"$f":"100-INTERFACE!B641","v":{"$error":"#VALUE!"}},null,{"$f":"INTERFACE!E640+12/1200","v":5.8999999999999186},{"$f":"((INTERFACE!C$11)/((10^-(INTERFACE!E641))+(INTERFACE!C$11)))*100","v":{"$error":"#VALUE!"}},{"$f":"100-INTERFACE!F641","v":{"$error":"#VALUE!"}}]
[{"$f":"(MIN(INTERFACE!AD$15,INTERFACE!E642))","v":0},{"$f":"MIN(INTERFACE!C$47,INTERFACE!F642)","v":{"$error":"#VALUE!"}},{"$f":"100-INTERFACE!B642","v":{"$error":"#VALUE!"}},null,{"$f":"INTERFACE!E641+12/1200","v":5.9099999999999184},{"$f":"((INTERFACE!C$11)/((10^-(INTERFACE!E642))+(INTERFACE!C$11)))*100","v":{"$error":"#VALUE!"}},{"$f":"100-INTERFACE!F642","v":{"$error":"#VALUE!"}}]
[{"$f":"(MIN(INTERFACE!AD$15,INTERFACE!E643))","v":0},{"$f":"MIN(INTERFACE!C$47,INTERFACE!F643)","v":{"$error":"#VALUE!"}},{"$f":"100-INTERFACE!B643","v":{"$error":"#VALUE!"}},null,{"$f":"INTERFACE!E642+12/1200","v":5.9199999999999182},{"$f":"((INTERFACE!C$11)/((10^-(INTERFACE!E643))+(INTERFACE!C$11)))*100","v":{"$error":"#VALUE!"}},{"$f":"100-INTERFACE!F643","v":{"$error":"#VALUE!"}}]
[{"$f":"(MIN(INTERFACE!AD$15,INTERFACE!E644))","v":0},{"$f":"MIN(INTERFACE!C$47,INTERFACE!F644)","v":{"$error":"#VALUE!"}},{"$f":"100-INTERFACE!B644","v":{"$error":"#VALUE!"}},null,{"$f":"INTERFACE!E643+12/1200","v":5.929999999999918},{"$f":"((INTERFACE!C$11)/((10^-(INTERFACE!E644))+(INTERFACE!C$11)))*100","v":{"$error":"#VALUE!"}},{"$f":"100-INTERFACE!F644","v":{"$error":"#VALUE!"}}]
[{"$f":"(MIN(INTERFACE!AD$15,INTERFACE!E645))","v":0},{"$f":"MIN(INTERFACE!C$47,INTERFACE!F645)","v":{"$error":"#VALUE!"}},{"$f":"100-INTERFACE!B645","v":{"$error":"#VALUE!"}},null,{"$f":"INTERFACE!E644+12/1200","v":5.9399999999999178},{"$f":"((INTERFACE!C$11)/((10^-(INTERFACE!E645))+(INTERFACE!C$11)))*100","v":{"$error":"#VALUE!"}},{"$f":"100-INTERFACE!F645","v":{"$error":"#VALUE!"}}]
[{"$f":"(MIN(INTERFACE!AD$15,INTERFACE!E646))","v":0},{"$f":"MIN(INTERFACE!C$47,INTERFACE!F646)","v":{"$error":"#VALUE!"}},{"$f":"100-INTERFACE!B646","v":{"$error":"#VALUE!"}},null,{"$f":"INTERFACE!E645+12/1200","v":5.9499999999999176},{"$f":"((INTERFACE!C$11)/((10^-(INTERFACE!E646))+(INTERFACE!C$11)))*100","v":{"$error":"#VALUE!"}},{"$f":"100-INTERFACE!F646","v":{"$error":"#VALUE!"}}]
[{"$f":"(MIN(INTERFACE!AD$15,INTERFACE!E647))","v":0},{"$f":"MIN(INTERFACE!C$47,INTERFACE!F647)","v":{"$error":"#VALUE!"}},{"$f":"100-INTERFACE!B647","v":{"$error":"#VALUE!"}},null,{"$f":"INTERFACE!E646+12/1200","v":5.9599999999999174},{"$f":"((INTERFACE!C$11)/((10^-(INTERFACE!E647))+(INTERFACE!C$11)))*100","v":{"$error":"#VALUE!"}},{"$f":"100-INTERFACE!F647","v":{"$error":"#VALUE!"}}]
[{"$f":"(MIN(INTERFACE!AD$15,INTERFACE!E648))","v":0},{"$f":"MIN(INTERFACE!C$47,INTERFACE!F648)","v":{"$error":"#VALUE!"}},{"$f":"100-INTERFACE!B648","v":{"$error":"#VALUE!"}},null,{"$f":"INTERFACE!E647+12/1200","v":5.9699999999999172},{"$f":"((INTERFACE!C$11)/((10^-(INTERFACE!E648))+(INTERFACE!C$11)))*100","v":{"$error":"#VALUE!"}},{"$f":"100-INTERFACE!F648","v":{"$error":"#VALUE!"}}]
[{"$f":"(MIN(INTERFACE!AD$15,INTERFACE!E649))","v":0},{"$f":"MIN(INTERFACE!C$47,INTERFACE!F649)","v":{"$error":"#VALUE!"}},{"$f":"100-INTERFACE!B649","v":{"$error":"#VALUE!"}},null,{"$f":"INTERFACE!E648+12/1200","v":5.9799999999999169},{"$f":"((INTERFACE!C$11)/((10^-(INTERFACE!E649))+(INTERFACE!C$11)))*100","v":{"$error":"#VALUE!"}},{"$f":"100-INTERFACE!F649","v":{"$error":"#VALUE!"}}]
[{"$f":"(MIN(INTERFACE!AD$15,INTERFACE!E650))","v":0},{"$f":"MIN(INTERFACE!C$47,INTERFACE!F650)","v":{"$error":"#VALUE!"}},{"$f":"100-INTERFACE!B650","v":{"$error":"#VALUE!"}},null,{"$f":"INTERFACE!E649+12/1200","v":5.9899999999999167},{"$f":"((INTERFACE!C$11)/((10^-(INTERFACE!E650))+(INTERFACE!C$11)))*100","v":{"$error":"#VALUE!"}},{"$f":"100-INTERFACE!F650","v":{"$error":"#VALUE!"}}]
[{"$f":"(MIN(INTERFACE!AD$15,INTERFACE!E651))","v":0},{"$f":"MIN(INTERFACE!C$47,INTERFACE!F651)","v":{"$error":"#VALUE!"}},{"$f":"100-INTERFACE!B651","v":{"$error":"#VALUE!"}},null,{"$f":"INTERFACE!E650+12/1200","v":5.9999999999999165},{"$f":"((INTERFACE!C$11)/((10^-(INTERFACE!E651))+(INTERFACE!C$11)))*100","v":{"$error":"#VALUE!"}},{"$f":"100-INTERFACE!F651","v":{"$error":"#VALUE!"}}]
[{"$f":"(MIN(INTERFACE!AD$15,INTERFACE!E652))","v":0},{"$f":"MIN(INTERFACE!C$47,INTERFACE!F652)","v":{"$error":"#VALUE!"}},{"$f":"100-INTERFACE!B652","v":{"$error":"#VALUE!"}},null,{"$f":"INTERFACE!E651+12/1200","v":6.0099999999999163},{"$f":"((INTERFACE!C$11)/((10^-(INTERFACE!E652))+(INTERFACE!C$11)))*100","v":{"$error":"#VALUE!"}},{"$f":"100-INTERFACE!F652","v":{"$error":"#VALUE!"}}]
[{"$f":"(MIN(INTERFACE!AD$15,INTERFACE!E653))","v":0},{"$f":"MIN(INTERFACE!C$47,INTERFACE!F653)","v":{"$error":"#VALUE!"}},{"$f":"100-INTERFACE!B653","v":{"$error":"#VALUE!"}},null,{"$f":"INTERFACE!E652+12/1200","v":6.0199999999999161},{"$f":"((INTERFACE!C$11)/((10^-(INTERFACE!E653))+(INTERFACE!C$11)))*100","v":{"$error":"#VALUE!"}},{"$f":"100-INTERFACE!F653","v":{"$error":"#VALUE!"}}]
[{"$f":"(MIN(INTERFACE!AD$15,INTERFACE!E654))","v":0},{"$f":"MIN(INTERFACE!C$47,INTERFACE!F654)","v":{"$error":"#VALUE!"}},{"$f":"100-INTERFACE!B654","v":{"$error":"#VALUE!"}},null,{"$f":"INTERFACE!E653+12/1200","v":6.0299999999999159},{"$f":"((INTERFACE!C$11)/((10^-(INTERFACE!E654))+(INTERFACE!C$11)))*100","v":{"$error":"#VALUE!"}},{"$f":"100-INTERFACE!F654","v":{"$error":"#VALUE!"}}]
[{"$f":"(MIN(INTERFACE!AD$15,INTERFACE!E655))","v":0},{"$f":"MIN(INTERFACE!C$47,INTERFACE!F655)","v":{"$error":"#VALUE!"}},{"$f":"100-INTERFACE!B655","v":{"$error":"#VALUE!"}},null,{"$f":"INTERFACE!E654+12/1200","v":6.0399999999999157},{"$f":"((INTERFACE!C$11)/((10^-(INTERFACE!E655))+(INTERFACE!C$11)))*100","v":{"$error":"#VALUE!"}},{"$f":"100-INTERFACE!F655","v":{"$error":"#VALUE!"}}]
[{"$f":"(MIN(INTERFACE!AD$15,INTERFACE!E656))","v":0},{"$f":"MIN(INTERFACE!C$47,INTERFACE!F656)","v":{"$error":"#VALUE!"}},{"$f":"100-INTERFACE!B656","v":{"$error":"#VALUE!"}},null,{"$f":"INTERFACE!E655+12/1200","v":6.0499999999999154},{"$f":"((INTERFACE!C$11)/((10^-(INTERFACE!E656))+(INTERFACE!C$11)))*100","v":{"$error":"#VALUE!"}},{"$f":"100-INTERFACE!F656","v":{"$error":"#VALUE!"}}]
[{"$f":"(MIN(INTERFACE!AD$15,INTERFACE!E657))","v":0},{"$f":"MIN(INTERFACE!C$47,INTERFACE!F657)","v":{"$error":"#VALUE!"}},{"$f":"100-INTERFACE!B657","v":{"$error":"#VALUE!"}},null,{"$f":"INTERFACE!E656+12/1200","v":6.0599999999999152},{"$f":"((INTERFACE!C$11)/((10^-(INTERFACE!E657))+(INTERFACE!C$11)))*100","v":{"$error":"#VALUE!"}},{"$f":"100-INTERFACE!F657","v":{"$error":"#VALUE!"}}]
[{"$f":"(MIN(INTERFACE!AD$15,INTERFACE!E658))","v":0},{"$f":"MIN(INTERFACE!C$47,INTERFACE!F658)","v":{"$error":"#VALUE!"}},{"$f":"100-INTERFACE!B658","v":{"$error":"#VALUE!"}},null,{"$f":"INTERFACE!E657+12/1200","v":6.069999999999915},{"$f":"((INTERFACE!C$11)/((10^-(INTERFACE!E658))+(INTERFACE!C$11)))*100","v":{"$error":"#VALUE!"}},{"$f":"100-INTERFACE!F658","v":{"$error":"#VALUE!"}}]
[{"$f":"(MIN(INTERFACE!AD$15,INTERFACE!E659))","v":0},{"$f":"MIN(INTERFACE!C$47,INTERFACE!F659)","v":{"$error":"#VALUE!"}},{"$f":"100-INTERFACE!B659","v":{"$error":"#VALUE!"}},null,{"$f":"INTERFACE!E658+12/1200","v":6.0799999999999148},{"$f":"((INTERFACE!C$11)/((10^-(INTERFACE!E659))+(INTERFACE!C$11)))*100","v":{"$error":"#VALUE!"}},{"$f":"100-INTERFACE!F659","v":{"$error":"#VALUE!"}}]
[{"$f":"(MIN(INTERFACE!AD$15,INTERFACE!E660))","v":0},{"$f":"MIN(INTERFACE!C$47,INTERFACE!F660)","v":{"$error":"#VALUE!"}},{"$f":"100-INTERFACE!B660","v":{"$error":"#VALUE!"}},null,{"$f":"INTERFACE!E659+12/1200","v":6.0899999999999146},{"$f":"((INTERFACE!C$11)/((10^-(INTERFACE!E660))+(INTERFACE!C$11)))*100","v":{"$error":"#VALUE!"}},{"$f":"100-INTERFACE!F660","v":{"$error":"#VALUE!"}}]
[{"$f":"(MIN(INTERFACE!AD$15,INTERFACE!E661))","v":0},{"$f":"MIN(INTERFACE!C$47,INTERFACE!F661)","v":{"$error":"#VALUE!"}},{"$f":"100-INTERFACE!B661","v":{"$error":"#VALUE!"}},null,{"$f":"INTERFACE!E660+12/1200","v":6.0999999999999144},{"$f":"((INTERFACE!C$11)/((10^-(INTERFACE!E661))+(INTERFACE!C$11)))*100","v":{"$error":"#VALUE!"}},{"$f":"100-INTERFACE!F661","v":{"$error":"#VALUE!"}}]
[{"$f":"(MIN(INTERFACE!AD$15,INTERFACE!E662))","v":0},{"$f":"MIN(INTERFACE!C$47,INTERFACE!F662)","v":{"$error":"#VALUE!"}},{"$f":"100-INTERFACE!B662","v":{"$error":"#VALUE!"}},null,{"$f":"INTERFACE!E661+12/1200","v":6.1099999999999142},{"$f":"((INTERFACE!C$11)/((10^-(INTERFACE!E662))+(INTERFACE!C$11)))*100","v":{"$error":"#VALUE!"}},{"$f":"100-INTERFACE!F662","v":{"$error":"#VALUE!"}}]
[{"$f":"(MIN(INTERFACE!AD$15,INTERFACE!E663))","v":0},{"$f":"MIN(INTERFACE!C$47,INTERFACE!F663)","v":{"$error":"#VALUE!"}},{"$f":"100-INTERFACE!B663","v":{"$error":"#VALUE!"}},null,{"$f":"INTERFACE!E662+12/1200","v":6.119999999999914},{"$f":"((INTERFACE!C$11)/((10^-(INTERFACE!E663))+(INTERFACE!C$11)))*100","v":{"$error":"#VALUE!"}},{"$f":"100-INTERFACE!F663","v":{"$error":"#VALUE!"}}]
[{"$f":"(MIN(INTERFACE!AD$15,INTERFACE!E664))","v":0},{"$f":"MIN(INTERFACE!C$47,INTERFACE!F664)","v":{"$error":"#VALUE!"}},{"$f":"100-INTERFACE!B664","v":{"$error":"#VALUE!"}},null,{"$f":"INTERFACE!E663+12/1200","v":6.1299999999999137},{"$f":"((INTERFACE!C$11)/((10^-(INTERFACE!E664))+(INTERFACE!C$11)))*100","v":{"$error":"#VALUE!"}},{"$f":"100-INTERFACE!F664","v":{"$error":"#VALUE!"}}]
[{"$f":"(MIN(INTERFACE!AD$15,INTERFACE!E665))","v":0},{"$f":"MIN(INTERFACE!C$47,INTERFACE!F665)","v":{"$error":"#VALUE!"}},{"$f":"100-INTERFACE!B665","v":{"$error":"#VALUE!"}},null,{"$f":"INTERFACE!E664+12/1200","v":6.1399999999999135},{"$f":"((INTERFACE!C$11)/((10^-(INTERFACE!E665))+(INTERFACE!C$11)))*100","v":{"$error":"#VALUE!"}},{"$f":"100-INTERFACE!F665","v":{"$error":"#VALUE!"}}]
[{"$f":"(MIN(INTERFACE!AD$15,INTERFACE!E666))","v":0},{"$f":"MIN(INTERFACE!C$47,INTERFACE!F666)","v":{"$error":"#VALUE!"}},{"$f":"100-INTERFACE!B666","v":{"$error":"#VALUE!"}},null,{"$f":"INTERFACE!E665+12/1200","v":6.1499999999999133},{"$f":"((INTERFACE!C$11)/((10^-(INTERFACE!E666))+(INTERFACE!C$11)))*100","v":{"$error":"#VALUE!"}},{"$f":"100-INTERFACE!F666","v":{"$error":"#VALUE!"}}]
[{"$f":"(MIN(INTERFACE!AD$15,INTERFACE!E667))","v":0},{"$f":"MIN(INTERFACE!C$47,INTERFACE!F667)","v":{"$error":"#VALUE!"}},{"$f":"100-INTERFACE!B667","v":{"$error":"#VALUE!"}},null,{"$f":"INTERFACE!E666+12/1200","v":6.1599999999999131},{"$f":"((INTERFACE!C$11)/((10^-(INTERFACE!E667))+(INTERFACE!C$11)))*100","v":{"$error":"#VALUE!"}},{"$f":"100-INTERFACE!F667","v":{"$error":"#VALUE!"}}]
[{"$f":"(MIN(INTERFACE!AD$15,INTERFACE!E668))","v":0},{"$f":"MIN(INTERFACE!C$47,INTERFACE!F668)","v":{"$error":"#VALUE!"}},{"$f":"100-INTERFACE!B668","v":{"$error":"#VALUE!"}},null,{"$f":"INTERFACE!E667+12/1200","v":6.1699999999999129},{"$f":"((INTERFACE!C$11)/((10^-(INTERFACE!E668))+(INTERFACE!C$11)))*100","v":{"$error":"#VALUE!"}},{"$f":"100-INTERFACE!F668","v":{"$error":"#VALUE!"}}]
[{"$f":"(MIN(INTERFACE!AD$15,INTERFACE!E669))","v":0},{"$f":"MIN(INTERFACE!C$47,INTERFACE!F669)","v":{"$error":"#VALUE!"}},{"$f":"100-INTERFACE!B669","v":{"$error":"#VALUE!"}},null,{"$f":"INTERFACE!E668+12/1200","v":6.1799999999999127},{"$f":"((INTERFACE!C$11)/((10^-(INTERFACE!E669))+(INTERFACE!C$11)))*100","v":{"$error":"#VALUE!"}},{"$f":"100-INTERFACE!F669","v":{"$error":"#VALUE!"}}]
[{"$f":"(MIN(INTERFACE!AD$15,INTERFACE!E670))","v":0},{"$f":"MIN(INTERFACE!C$47,INTERFACE!F670)","v":{"$error":"#VALUE!"}},{"$f":"100-INTERFACE!B670","v":{"$error":"#VALUE!"}},null,{"$f":"INTERFACE!E669+12/1200","v":6.1899999999999125},{"$f":"((INTERFACE!C$11)/((10^-(INTERFACE!E670))+(INTERFACE!C$11)))*100","v":{"$error":"#VALUE!"}},{"$f":"100-INTERFACE!F670","v":{"$error":"#VALUE!"}}]
[{"$f":"(MIN(INTERFACE!AD$15,INTERFACE!E671))","v":0},{"$f":"MIN(INTERFACE!C$47,INTERFACE!F671)","v":{"$error":"#VALUE!"}},{"$f":"100-INTERFACE!B671","v":{"$error":"#VALUE!"}},null,{"$f":"INTERFACE!E670+12/1200","v":6.1999999999999122},{"$f":"((INTERFACE!C$11)/((10^-(INTERFACE!E671))+(INTERFACE!C$11)))*100","v":{"$error":"#VALUE!"}},{"$f":"100-INTERFACE!F671","v":{"$error":"#VALUE!"}}]
[{"$f":"(MIN(INTERFACE!AD$15,INTERFACE!E672))","v":0},{"$f":"MIN(INTERFACE!C$47,INTERFACE!F672)","v":{"$error":"#VALUE!"}},{"$f":"100-INTERFACE!B672","v":{"$error":"#VALUE!"}},null,{"$f":"INTERFACE!E671+12/1200","v":6.209999999999912},{"$f":"((INTERFACE!C$11)/((10^-(INTERFACE!E672))+(INTERFACE!C$11)))*100","v":{"$error":"#VALUE!"}},{"$f":"100-INTERFACE!F672","v":{"$error":"#VALUE!"}}]
[{"$f":"(MIN(INTERFACE!AD$15,INTERFACE!E673))","v":0},{"$f":"MIN(INTERFACE!C$47,INTERFACE!F673)","v":{"$error":"#VALUE!"}},{"$f":"100-INTERFACE!B673","v":{"$error":"#VALUE!"}},null,{"$f":"INTERFACE!E672+12/1200","v":6.2199999999999118},{"$f":"((INTERFACE!C$11)/((10^-(INTERFACE!E673))+(INTERFACE!C$11)))*100","v":{"$error":"#VALUE!"}},{"$f":"100-INTERFACE!F673","v":{"$error":"#VALUE!"}}]
[{"$f":"(MIN(INTERFACE!AD$15,INTERFACE!E674))","v":0},{"$f":"MIN(INTERFACE!C$47,INTERFACE!F674)","v":{"$error":"#VALUE!"}},{"$f":"100-INTERFACE!B674","v":{"$error":"#VALUE!"}},null,{"$f":"INTERFACE!E673+12/1200","v":6.2299999999999116},{"$f":"((INTERFACE!C$11)/((10^-(INTERFACE!E674))+(INTERFACE!C$11)))*100","v":{"$error":"#VALUE!"}},{"$f":"100-INTERFACE!F674","v":{"$error":"#VALUE!"}}]
[{"$f":"(MIN(INTERFACE!AD$15,INTERFACE!E675))","v":0},{"$f":"MIN(INTERFACE!C$47,INTERFACE!F675)","v":{"$error":"#VALUE!"}},{"$f":"100-INTERFACE!B675","v":{"$error":"#VALUE!"}},null,{"$f":"INTERFACE!E674+12/1200","v":6.2399999999999114},{"$f":"((INTERFACE!C$11)/((10^-(INTERFACE!E675))+(INTERFACE!C$11)))*100","v":{"$error":"#VALUE!"}},{"$f":"100-INTERFACE!F675","v":{"$error":"#VALUE!"}}]
[{"$f":"(MIN(INTERFACE!AD$15,INTERFACE!E676))","v":0},{"$f":"MIN(INTERFACE!C$47,INTERFACE!F676)","v":{"$error":"#VALUE!"}},{"$f":"100-INTERFACE!B676","v":{"$error":"#VALUE!"}},null,{"$f":"INTERFACE!E675+12/1200","v":6.2499999999999112},{"$f":"((INTERFACE!C$11)/((10^-(INTERFACE!E676))+(INTERFACE!C$11)))*100","v":{"$error":"#VALUE!"}},{"$f":"100-INTERFACE!F676","v":{"$error":"#VALUE!"}}]
[{"$f":"(MIN(INTERFACE!AD$15,INTERFACE!E677))","v":0},{"$f":"MIN(INTERFACE!C$47,INTERFACE!F677)","v":{"$error":"#VALUE!"}},{"$f":"100-INTERFACE!B677","v":{"$error":"#VALUE!"}},null,{"$f":"INTERFACE!E676+12/1200","v":6.259999999999911},{"$f":"((INTERFACE!C$11)/((10^-(INTERFACE!E677))+(INTERFACE!C$11)))*100","v":{"$error":"#VALUE!"}},{"$f":"100-INTERFACE!F677","v":{"$error":"#VALUE!"}}]
[{"$f":"(MIN(INTERFACE!AD$15,INTERFACE!E678))","v":0},{"$f":"MIN(INTERFACE!C$47,INTERFACE!F678)","v":{"$error":"#VALUE!"}},{"$f":"100-INTERFACE!B678","v":{"$error":"#VALUE!"}},null,{"$f":"INTERFACE!E677+12/1200","v":6.2699999999999108},{"$f":"((INTERFACE!C$11)/((10^-(INTERFACE!E678))+(INTERFACE!C$11)))*100","v":{"$error":"#VALUE!"}},{"$f":"100-INTERFACE!F678","v":{"$error":"#VALUE!"}}]
[{"$f":"(MIN(INTERFACE!AD$15,INTERFACE!E679))","v":0},{"$f":"MIN(INTERFACE!C$47,INTERFACE!F679)","v":{"$error":"#VALUE!"}},{"$f":"100-INTERFACE!B679","v":{"$error":"#VALUE!"}},null,{"$f":"INTERFACE!E678+12/1200","v":6.2799999999999105},{"$f":"((INTERFACE!C$11)/((10^-(INTERFACE!E679))+(INTERFACE!C$11)))*100","v":{"$error":"#VALUE!"}},{"$f":"100-INTERFACE!F679","v":{"$error":"#VALUE!"}}]
[{"$f":"(MIN(INTERFACE!AD$15,INTERFACE!E680))","v":0},{"$f":"MIN(INTERFACE!C$47,INTERFACE!F680)","v":{"$error":"#VALUE!"}},{"$f":"100-INTERFACE!B680","v":{"$error":"#VALUE!"}},null,{"$f":"INTERFACE!E679+12/1200","v":6.2899999999999103},{"$f":"((INTERFACE!C$11)/((10^-(INTERFACE!E680))+(INTERFACE!C$11)))*100","v":{"$error":"#VALUE!"}},{"$f":"100-INTERFACE!F680","v":{"$error":"#VALUE!"}}]
[{"$f":"(MIN(INTERFACE!AD$15,INTERFACE!E681))","v":0},{"$f":"MIN(INTERFACE!C$47,INTERFACE!F681)","v":{"$error":"#VALUE!"}},{"$f":"100-INTERFACE!B681","v":{"$error":"#VALUE!"}},null,{"$f":"INTERFACE!E680+12/1200","v":6.2999999999999101},{"$f":"((INTERFACE!C$11)/((10^-(INTERFACE!E681))+(INTERFACE!C$11)))*100","v":{"$error":"#VALUE!"}},{"$f":"100-INTERFACE!F681","v":{"$error":"#VALUE!"}}]
[{"$f":"(MIN(INTERFACE!AD$15,INTERFACE!E682))","v":0},{"$f":"MIN(INTERFACE!C$47,INTERFACE!F682)","v":{"$error":"#VALUE!"}},{"$f":"100-INTERFACE!B682","v":{"$error":"#VALUE!"}},null,{"$f":"INTERFACE!E681+12/1200","v":6.3099999999999099},{"$f":"((INTERFACE!C$11)/((10^-(INTERFACE!E682))+(INTERFACE!C$11)))*100","v":{"$error":"#VALUE!"}},{"$f":"100-INTERFACE!F682","v":{"$error":"#VALUE!"}}]
[{"$f":"(MIN(INTERFACE!AD$15,INTERFACE!E683))","v":0},{"$f":"MIN(INTERFACE!C$47,INTERFACE!F683)","v":{"$error":"#VALUE!"}},{"$f":"100-INTERFACE!B683","v":{"$error":"#VALUE!"}},null,{"$f":"INTERFACE!E682+12/1200","v":6.3199999999999097},{"$f":"((INTERFACE!C$11)/((10^-(INTERFACE!E683))+(INTERFACE!C$11)))*100","v":{"$error":"#VALUE!"}},{"$f":"100-INTERFACE!F683","v":{"$error":"#VALUE!"}}]
[{"$f":"(MIN(INTERFACE!AD$15,INTERFACE!E684))","v":0},{"$f":"MIN(INTERFACE!C$47,INTERFACE!F684)","v":{"$error":"#VALUE!"}},{"$f":"100-INTERFACE!B684","v":{"$error":"#VALUE!"}},null,{"$f":"INTERFACE!E683+12/1200","v":6.3299999999999095},{"$f":"((INTERFACE!C$11)/((10^-(INTERFACE!E684))+(INTERFACE!C$11)))*100","v":{"$error":"#VALUE!"}},{"$f":"100-INTERFACE!F684","v":{"$error":"#VALUE!"}}]
[{"$f":"(MIN(INTERFACE!AD$15,INTERFACE!E685))","v":0},{"$f":"MIN(INTERFACE!C$47,INTERFACE!F685)","v":{"$error":"#VALUE!"}},{"$f":"100-INTERFACE!B685","v":{"$error":"#VALUE!"}},null,{"$f":"INTERFACE!E684+12/1200","v":6.3399999999999093},{"$f":"((INTERFACE!C$11)/((10^-(INTERFACE!E685))+(INTERFACE!C$11)))*100","v":{"$error":"#VALUE!"}},{"$f":"100-INTERFACE!F685","v":{"$error":"#VALUE!"}}]
[{"$f":"(MIN(INTERFACE!AD$15,INTERFACE!E686))","v":0},{"$f":"MIN(INTERFACE!C$47,INTERFACE!F686)","v":{"$error":"#VALUE!"}},{"$f":"100-INTERFACE!B686","v":{"$error":"#VALUE!"}},null,{"$f":"INTERFACE!E685+12/1200","v":6.3499999999999091},{"$f":"((INTERFACE!C$11)/((10^-(INTERFACE!E686))+(INTERFACE!C$11)))*100","v":{"$error":"#VALUE!"}},{"$f":"100-INTERFACE!F686","v":{"$error":"#VALUE!"}}]
[{"$f":"(MIN(INTERFACE!AD$15,INTERFACE!E687))","v":0},{"$f":"MIN(INTERFACE!C$47,INTERFACE!F687)","v":{"$error":"#VALUE!"}},{"$f":"100-INTERFACE!B687","v":{"$error":"#VALUE!"}},null,{"$f":"INTERFACE!E686+12/1200","v":6.3599999999999088},{"$f":"((INTERFACE!C$11)/((10^-(INTERFACE!E687))+(INTERFACE!C$11)))*100","v":{"$error":"#VALUE!"}},{"$f":"100-INTERFACE!F687","v":{"$error":"#VALUE!"}}]
[{"$f":"(MIN(INTERFACE!AD$15,INTERFACE!E688))","v":0},{"$f":"MIN(INTERFACE!C$47,INTERFACE!F688)","v":{"$error":"#VALUE!"}},{"$f":"100-INTERFACE!B688","v":{"$error":"#VALUE!"}},null,{"$f":"INTERFACE!E687+12/1200","v":6.3699999999999086},{"$f":"((INTERFACE!C$11)/((10^-(INTERFACE!E688))+(INTERFACE!C$11)))*100","v":{"$error":"#VALUE!"}},{"$f":"100-INTERFACE!F688","v":{"$error":"#VALUE!"}}]
[{"$f":"(MIN(INTERFACE!AD$15,INTERFACE!E689))","v":0},{"$f":"MIN(INTERFACE!C$47,INTERFACE!F689)","v":{"$error":"#VALUE!"}},{"$f":"100-INTERFACE!B689","v":{"$error":"#VALUE!"}},null,{"$f":"INTERFACE!E688+12/1200","v":6.3799999999999084},{"$f":"((INTERFACE!C$11)/((10^-(INTERFACE!E689))+(INTERFACE!C$11)))*100","v":{"$error":"#VALUE!"}},{"$f":"100-INTERFACE!F689","v":{"$error":"#VALUE!"}}]
[{"$f":"(MIN(INTERFACE!AD$15,INTERFACE!E690))","v":0},{"$f":"MIN(INTERFACE!C$47,INTERFACE!F690)","v":{"$error":"#VALUE!"}},{"$f":"100-INTERFACE!B690","v":{"$error":"#VALUE!"}},null,{"$f":"INTERFACE!E689+12/1200","v":6.3899999999999082},{"$f":"((INTERFACE!C$11)/((10^-(INTERFACE!E690))+(INTERFACE!C$11)))*100","v":{"$error":"#VALUE!"}},{"$f":"100-INTERFACE!F690","v":{"$error":"#VALUE!"}}]
[{"$f":"(MIN(INTERFACE!AD$15,INTERFACE!E691))","v":0},{"$f":"MIN(INTERFACE!C$47,INTERFACE!F691)","v":{"$error":"#VALUE!"}},{"$f":"100-INTERFACE!B691","v":{"$error":"#VALUE!"}},null,{"$f":"INTERFACE!E690+12/1200","v":6.399999999999908},{"$f":"((INTERFACE!C$11)/((10^-(INTERFACE!E691))+(INTERFACE!C$11)))*100","v":{"$error":"#VALUE!"}},{"$f":"100-INTERFACE!F691","v":{"$error":"#VALUE!"}}]
[{"$f":"(MIN(INTERFACE!AD$15,INTERFACE!E692))","v":0},{"$f":"MIN(INTERFACE!C$47,INTERFACE!F692)","v":{"$error":"#VALUE!"}},{"$f":"100-INTERFACE!B692","v":{"$error":"#VALUE!"}},null,{"$f":"INTERFACE!E691+12/1200","v":6.4099999999999078},{"$f":"((INTERFACE!C$11)/((10^-(INTERFACE!E692))+(INTERFACE!C$11)))*100","v":{"$error":"#VALUE!"}},{"$f":"100-INTERFACE!F692","v":{"$error":"#VALUE!"}}]
[{"$f":"(MIN(INTERFACE!AD$15,INTERFACE!E693))","v":0},{"$f":"MIN(INTERFACE!C$47,INTERFACE!F693)","v":{"$error":"#VALUE!"}},{"$f":"100-INTERFACE!B693","v":{"$error":"#VALUE!"}},null,{"$f":"INTERFACE!E692+12/1200","v":6.4199999999999076},{"$f":"((INTERFACE!C$11)/((10^-(INTERFACE!E693))+(INTERFACE!C$11)))*100","v":{"$error":"#VALUE!"}},{"$f":"100-INTERFACE!F693","v":{"$error":"#VALUE!"}}]
[{"$f":"(MIN(INTERFACE!AD$15,INTERFACE!E694))","v":0},{"$f":"MIN(INTERFACE!C$47,INTERFACE!F694)","v":{"$error":"#VALUE!"}},{"$f":"100-INTERFACE!B694","v":{"$error":"#VALUE!"}},null,{"$f":"INTERFACE!E693+12/1200","v":6.4299999999999073},{"$f":"((INTERFACE!C$11)/((10^-(INTERFACE!E694))+(INTERFACE!C$11)))*100","v":{"$error":"#VALUE!"}},{"$f":"100-INTERFACE!F694","v":{"$error":"#VALUE!"}}]
[{"$f":"(MIN(INTERFACE!AD$15,INTERFACE!E695))","v":0},{"$f":"MIN(INTERFACE!C$47,INTERFACE!F695)","v":{"$error":"#VALUE!"}},{"$f":"100-INTERFACE!B695","v":{"$error":"#VALUE!"}},null,{"$f":"INTERFACE!E694+12/1200","v":6.4399999999999071},{"$f":"((INTERFACE!C$11)/((10^-(INTERFACE!E695))+(INTERFACE!C$11)))*100","v":{"$error":"#VALUE!"}},{"$f":"100-INTERFACE!F695","v":{"$error":"#VALUE!"}}]
[{"$f":"(MIN(INTERFACE!AD$15,INTERFACE!E696))","v":0},{"$f":"MIN(INTERFACE!C$47,INTERFACE!F696)","v":{"$error":"#VALUE!"}},{"$f":"100-INTERFACE!B696","v":{"$error":"#VALUE!"}},null,{"$f":"INTERFACE!E695+12/1200","v":6.4499999999999069},{"$f":"((INTERFACE!C$11)/((10^-(INTERFACE!E696))+(INTERFACE!C$11)))*100","v":{"$error":"#VALUE!"}},{"$f":"100-INTERFACE!F696","v":{"$error":"#VALUE!"}}]
[{"$f":"(MIN(INTERFACE!AD$15,INTERFACE!E697))","v":0},{"$f":"MIN(INTERFACE!C$47,INTERFACE!F697)","v":{"$error":"#VALUE!"}},{"$f":"100-INTERFACE!B697","v":{"$error":"#VALUE!"}},null,{"$f":"INTERFACE!E696+12/1200","v":6.4599999999999067},{"$f":"((INTERFACE!C$11)/((10^-(INTERFACE!E697))+(INTERFACE!C$11)))*100","v":{"$error":"#VALUE!"}},{"$f":"100-INTERFACE!F697","v":{"$error":"#VALUE!"}}]
[{"$f":"(MIN(INTERFACE!AD$15,INTERFACE!E698))","v":0},{"$f":"MIN(INTERFACE!C$47,INTERFACE!F698)","v":{"$error":"#VALUE!"}},{"$f":"100-INTERFACE!B698","v":{"$error":"#VALUE!"}},null,{"$f":"INTERFACE!E697+12/1200","v":6.4699999999999065},{"$f":"((INTERFACE!C$11)/((10^-(INTERFACE!E698))+(INTERFACE!C$11)))*100","v":{"$error":"#VALUE!"}},{"$f":"100-INTERFACE!F698","v":{"$error":"#VALUE!"}}]
[{"$f":"(MIN(INTERFACE!AD$15,INTERFACE!E699))","v":0},{"$f":"MIN(INTERFACE!C$47,INTERFACE!F699)","v":{"$error":"#VALUE!"}},{"$f":"100-INTERFACE!B699","v":{"$error":"#VALUE!"}},null,{"$f":"INTERFACE!E698+12/1200","v":6.4799999999999063},{"$f":"((INTERFACE!C$11)/((10^-(INTERFACE!E699))+(INTERFACE!C$11)))*100","v":{"$error":"#VALUE!"}},{"$f":"100-INTERFACE!F699","v":{"$error":"#VALUE!"}}]
[{"$f":"(MIN(INTERFACE!AD$15,INTERFACE!E700))","v":0},{"$f":"MIN(INTERFACE!C$47,INTERFACE!F700)","v":{"$error":"#VALUE!"}},{"$f":"100-INTERFACE!B700","v":{"$error":"#VALUE!"}},null,{"$f":"INTERFACE!E699+12/1200","v":6.4899999999999061},{"$f":"((INTERFACE!C$11)/((10^-(INTERFACE!E700))+(INTERFACE!C$11)))*100","v":{"$error":"#VALUE!"}},{"$f":"100-INTERFACE!F700","v":{"$error":"#VALUE!"}}]
[{"$f":"(MIN(INTERFACE!AD$15,INTERFACE!E701))","v":0},{"$f":"MIN(INTERFACE!C$47,INTERFACE!F701)","v":{"$error":"#VALUE!"}},{"$f":"100-INTERFACE!B701","v":{"$error":"#VALUE!"}},null,{"$f":"INTERFACE!E700+12/1200","v":6.4999999999999059},{"$f":"((INTERFACE!C$11)/((10^-(INTERFACE!E701))+(INTERFACE!C$11)))*100","v":{"$error":"#VALUE!"}},{"$f":"100-INTERFACE!F701","v":{"$error":"#VALUE!"}}]
[{"$f":"(MIN(INTERFACE!AD$15,INTERFACE!E702))","v":0},{"$f":"MIN(INTERFACE!C$47,INTERFACE!F702)","v":{"$error":"#VALUE!"}},{"$f":"100-INTERFACE!B702","v":{"$error":"#VALUE!"}},null,{"$f":"INTERFACE!E701+12/1200","v":6.5099999999999056},{"$f":"((INTERFACE!C$11)/((10^-(INTERFACE!E702))+(INTERFACE!C$11)))*100","v":{"$error":"#VALUE!"}},{"$f":"100-INTERFACE!F702","v":{"$error":"#VALUE!"}}]
[{"$f":"(MIN(INTERFACE!AD$15,INTERFACE!E703))","v":0},{"$f":"MIN(INTERFACE!C$47,INTERFACE!F703)","v":{"$error":"#VALUE!"}},{"$f":"100-INTERFACE!B703","v":{"$error":"#VALUE!"}},null,{"$f":"INTERFACE!E702+12/1200","v":6.5199999999999054},{"$f":"((INTERFACE!C$11)/((10^-(INTERFACE!E703))+(INTERFACE!C$11)))*100","v":{"$error":"#VALUE!"}},{"$f":"100-INTERFACE!F703","v":{"$error":"#VALUE!"}}]
[{"$f":"(MIN(INTERFACE!AD$15,INTERFACE!E704))","v":0},{"$f":"MIN(INTERFACE!C$47,INTERFACE!F704)","v":{"$error":"#VALUE!"}},{"$f":"100-INTERFACE!B704","v":{"$error":"#VALUE!"}},null,{"$f":"INTERFACE!E703+12/1200","v":6.5299999999999052},{"$f":"((INTERFACE!C$11)/((10^-(INTERFACE!E704))+(INTERFACE!C$11)))*100","v":{"$error":"#VALUE!"}},{"$f":"100-INTERFACE!F704","v":{"$error":"#VALUE!"}}]
[{"$f":"(MIN(INTERFACE!AD$15,INTERFACE!E705))","v":0},{"$f":"MIN(INTERFACE!C$47,INTERFACE!F705)","v":{"$error":"#VALUE!"}},{"$f":"100-INTERFACE!B705","v":{"$error":"#VALUE!"}},null,{"$f":"INTERFACE!E704+12/1200","v":6.539999999999905},{"$f":"((INTERFACE!C$11)/((10^-(INTERFACE!E705))+(INTERFACE!C$11)))*100","v":{"$error":"#VALUE!"}},{"$f":"100-INTERFACE!F705","v":{"$error":"#VALUE!"}}]
[{"$f":"(MIN(INTERFACE!AD$15,INTERFACE!E706))","v":0},{"$f":"MIN(INTERFACE!C$47,INTERFACE!F706)","v":{"$error":"#VALUE!"}},{"$f":"100-INTERFACE!B706","v":{"$error":"#VALUE!"}},null,{"$f":"INTERFACE!E705+12/1200","v":6.5499999999999048},{"$f":"((INTERFACE!C$11)/((10^-(INTERFACE!E706))+(INTERFACE!C$11)))*100","v":{"$error":"#VALUE!"}},{"$f":"100-INTERFACE!F706","v":{"$error":"#VALUE!"}}]
[{"$f":"(MIN(INTERFACE!AD$15,INTERFACE!E707))","v":0},{"$f":"MIN(INTERFACE!C$47,INTERFACE!F707)","v":{"$error":"#VALUE!"}},{"$f":"100-INTERFACE!B707","v":{"$error":"#VALUE!"}},null,{"$f":"INTERFACE!E706+12/1200","v":6.5599999999999046},{"$f":"((INTERFACE!C$11)/((10^-(INTERFACE!E707))+(INTERFACE!C$11)))*100","v":{"$error":"#VALUE!"}},{"$f":"100-INTERFACE!F707","v":{"$error":"#VALUE!"}}]
[{"$f":"(MIN(INTERFACE!AD$15,INTERFACE!E708))","v":0},{"$f":"MIN(INTERFACE!C$47,INTERFACE!F708)","v":{"$error":"#VALUE!"}},{"$f":"100-INTERFACE!B708","v":{"$error":"#VALUE!"}},null,{"$f":"INTERFACE!E707+12/1200","v":6.5699999999999044},{"$f":"((INTERFACE!C$11)/((10^-(INTERFACE!E708))+(INTERFACE!C$11)))*100","v":{"$error":"#VALUE!"}},{"$f":"100-INTERFACE!F708","v":{"$error":"#VALUE!"}}]
[{"$f":"(MIN(INTERFACE!AD$15,INTERFACE!E709))","v":0},{"$f":"MIN(INTERFACE!C$47,INTERFACE!F709)","v":{"$error":"#VALUE!"}},{"$f":"100-INTERFACE!B709","v":{"$error":"#VALUE!"}},null,{"$f":"INTERFACE!E708+12/1200","v":6.5799999999999041},{"$f":"((INTERFACE!C$11)/((10^-(INTERFACE!E709))+(INTERFACE!C$11)))*100","v":{"$error":"#VALUE!"}},{"$f":"100-INTERFACE!F709","v":{"$error":"#VALUE!"}}]
[{"$f":"(MIN(INTERFACE!AD$15,INTERFACE!E710))","v":0},{"$f":"MIN(INTERFACE!C$47,INTERFACE!F710)","v":{"$error":"#VALUE!"}},{"$f":"100-INTERFACE!B710","v":{"$error":"#VALUE!"}},null,{"$f":"INTERFACE!E709+12/1200","v":6.5899999999999039},{"$f":"((INTERFACE!C$11)/((10^-(INTERFACE!E710))+(INTERFACE!C$11)))*100","v":{"$error":"#VALUE!"}},{"$f":"100-INTERFACE!F710","v":{"$error":"#VALUE!"}}]
[{"$f":"(MIN(INTERFACE!AD$15,INTERFACE!E711))","v":0},{"$f":"MIN(INTERFACE!C$47,INTERFACE!F711)","v":{"$error":"#VALUE!"}},{"$f":"100-INTERFACE!B711","v":{"$error":"#VALUE!"}},null,{"$f":"INTERFACE!E710+12/1200","v":6.5999999999999037},{"$f":"((INTERFACE!C$11)/((10^-(INTERFACE!E711))+(INTERFACE!C$11)))*100","v":{"$error":"#VALUE!"}},{"$f":"100-INTERFACE!F711","v":{"$error":"#VALUE!"}}]
[{"$f":"(MIN(INTERFACE!AD$15,INTERFACE!E712))","v":0},{"$f":"MIN(INTERFACE!C$47,INTERFACE!F712)","v":{"$error":"#VALUE!"}},{"$f":"100-INTERFACE!B712","v":{"$error":"#VALUE!"}},null,{"$f":"INTERFACE!E711+12/1200","v":6.6099999999999035},{"$f":"((INTERFACE!C$11)/((10^-(INTERFACE!E712))+(INTERFACE!C$11)))*100","v":{"$error":"#VALUE!"}},{"$f":"100-INTERFACE!F712","v":{"$error":"#VALUE!"}}]
[{"$f":"(MIN(INTERFACE!AD$15,INTERFACE!E713))","v":0},{"$f":"MIN(INTERFACE!C$47,INTERFACE!F713)","v":{"$error":"#VALUE!"}},{"$f":"100-INTERFACE!B713","v":{"$error":"#VALUE!"}},null,{"$f":"INTERFACE!E712+12/1200","v":6.6199999999999033},{"$f":"((INTERFACE!C$11)/((10^-(INTERFACE!E713))+(INTERFACE!C$11)))*100","v":{"$error":"#VALUE!"}},{"$f":"100-INTERFACE!F713","v":{"$error":"#VALUE!"}}]
[{"$f":"(MIN(INTERFACE!AD$15,INTERFACE!E714))","v":0},{"$f":"MIN(INTERFACE!C$47,INTERFACE!F714)","v":{"$error":"#VALUE!"}},{"$f":"100-INTERFACE!B714","v":{"$error":"#VALUE!"}},null,{"$f":"INTERFACE!E713+12/1200","v":6.6299999999999031},{"$f":"((INTERFACE!C$11)/((10^-(INTERFACE!E714))+(INTERFACE!C$11)))*100","v":{"$error":"#VALUE!"}},{"$f":"100-INTERFACE!F714","v":{"$error":"#VALUE!"}}]
[{"$f":"(MIN(INTERFACE!AD$15,INTERFACE!E715))","v":0},{"$f":"MIN(INTERFACE!C$47,INTERFACE!F715)","v":{"$error":"#VALUE!"}},{"$f":"100-INTERFACE!B715","v":{"$error":"#VALUE!"}},null,{"$f":"INTERFACE!E714+12/1200","v":6.6399999999999029},{"$f":"((INTERFACE!C$11)/((10^-(INTERFACE!E715))+(INTERFACE!C$11)))*100","v":{"$error":"#VALUE!"}},{"$f":"100-INTERFACE!F715","v":{"$error":"#VALUE!"}}]
[{"$f":"(MIN(INTERFACE!AD$15,INTERFACE!E716))","v":0},{"$f":"MIN(INTERFACE!C$47,INTERFACE!F716)","v":{"$error":"#VALUE!"}},{"$f":"100-INTERFACE!B716","v":{"$error":"#VALUE!"}},null,{"$f":"INTERFACE!E715+12/1200","v":6.6499999999999027},{"$f":"((INTERFACE!C$11)/((10^-(INTERFACE!E716))+(INTERFACE!C$11)))*100","v":{"$error":"#VALUE!"}},{"$f":"100-INTERFACE!F716","v":{"$error":"#VALUE!"}}]
[{"$f":"(MIN(INTERFACE!AD$15,INTERFACE!E717))","v":0},{"$f":"MIN(INTERFACE!C$47,INTERFACE!F717)","v":{"$error":"#VALUE!"}},{"$f":"100-INTERFACE!B717","v":{"$error":"#VALUE!"}},null,{"$f":"INTERFACE!E716+12/1200","v":6.6599999999999024},{"$f":"((INTERFACE!C$11)/((10^-(INTERFACE!E717))+(INTERFACE!C$11)))*100","v":{"$error":"#VALUE!"}},{"$f":"100-INTERFACE!F717","v":{"$error":"#VALUE!"}}]
[{"$f":"(MIN(INTERFACE!AD$15,INTERFACE!E718))","v":0},{"$f":"MIN(INTERFACE!C$47,INTERFACE!F718)","v":{"$error":"#VALUE!"}},{"$f":"100-INTERFACE!B718","v":{"$error":"#VALUE!"}},null,{"$f":"INTERFACE!E717+12/1200","v":6.6699999999999022},{"$f":"((INTERFACE!C$11)/((10^-(INTERFACE!E718))+(INTERFACE!C$11)))*100","v":{"$error":"#VALUE!"}},{"$f":"100-INTERFACE!F718","v":{"$error":"#VALUE!"}}]
[{"$f":"(MIN(INTERFACE!AD$15,INTERFACE!E719))","v":0},{"$f":"MIN(INTERFACE!C$47,INTERFACE!F719)","v":{"$error":"#VALUE!"}},{"$f":"100-INTERFACE!B719","v":{"$error":"#VALUE!"}},null,{"$f":"INTERFACE!E718+12/1200","v":6.679999999999902},{"$f":"((INTERFACE!C$11)/((10^-(INTERFACE!E719))+(INTERFACE!C$11)))*100","v":{"$error":"#VALUE!"}},{"$f":"100-INTERFACE!F719","v":{"$error":"#VALUE!"}}]
[{"$f":"(MIN(INTERFACE!AD$15,INTERFACE!E720))","v":0},{"$f":"MIN(INTERFACE!C$47,INTERFACE!F720)","v":{"$error":"#VALUE!"}},{"$f":"100-INTERFACE!B720","v":{"$error":"#VALUE!"}},null,{"$f":"INTERFACE!E719+12/1200","v":6.6899999999999018},{"$f":"((INTERFACE!C$11)/((10^-(INTERFACE!E720))+(INTERFACE!C$11)))*100","v":{"$error":"#VALUE!"}},{"$f":"100-INTERFACE!F720","v":{"$error":"#VALUE!"}}]
[{"$f":"(MIN(INTERFACE!AD$15,INTERFACE!E721))","v":0},{"$f":"MIN(INTERFACE!C$47,INTERFACE!F721)","v":{"$error":"#VALUE!"}},{"$f":"100-INTERFACE!B721","v":{"$error":"#VALUE!"}},null,{"$f":"INTERFACE!E720+12/1200","v":6.6999999999999016},{"$f":"((INTERFACE!C$11)/((10^-(INTERFACE!E721))+(INTERFACE!C$11)))*100","v":{"$error":"#VALUE!"}},{"$f":"100-INTERFACE!F721","v":{"$error":"#VALUE!"}}]
[{"$f":"(MIN(INTERFACE!AD$15,INTERFACE!E722))","v":0},{"$f":"MIN(INTERFACE!C$47,INTERFACE!F722)","v":{"$error":"#VALUE!"}},{"$f":"100-INTERFACE!B722","v":{"$error":"#VALUE!"}},null,{"$f":"INTERFACE!E721+12/1200","v":6.7099999999999014},{"$f":"((INTERFACE!C$11)/((10^-(INTERFACE!E722))+(INTERFACE!C$11)))*100","v":{"$error":"#VALUE!"}},{"$f":"100-INTERFACE!F722","v":{"$error":"#VALUE!"}}]
[{"$f":"(MIN(INTERFACE!AD$15,INTERFACE!E723))","v":0},{"$f":"MIN(INTERFACE!C$47,INTERFACE!F723)","v":{"$error":"#VALUE!"}},{"$f":"100-INTERFACE!B723","v":{"$error":"#VALUE!"}},null,{"$f":"INTERFACE!E722+12/1200","v":6.7199999999999012},{"$f":"((INTERFACE!C$11)/((10^-(INTERFACE!E723))+(INTERFACE!C$11)))*100","v":{"$error":"#VALUE!"}},{"$f":"100-INTERFACE!F723","v":{"$error":"#VALUE!"}}]
[{"$f":"(MIN(INTERFACE!AD$15,INTERFACE!E724))","v":0},{"$f":"MIN(INTERFACE!C$47,INTERFACE!F724)","v":{"$error":"#VALUE!"}},{"$f":"100-INTERFACE!B724","v":{"$error":"#VALUE!"}},null,{"$f":"INTERFACE!E723+12/1200","v":6.729999999999901},{"$f":"((INTERFACE!C$11)/((10^-(INTERFACE!E724))+(INTERFACE!C$11)))*100","v":{"$error":"#VALUE!"}},{"$f":"100-INTERFACE!F724","v":{"$error":"#VALUE!"}}]
[{"$f":"(MIN(INTERFACE!AD$15,INTERFACE!E725))","v":0},{"$f":"MIN(INTERFACE!C$47,INTERFACE!F725)","v":{"$error":"#VALUE!"}},{"$f":"100-INTERFACE!B725","v":{"$error":"#VALUE!"}},null,{"$f":"INTERFACE!E724+12/1200","v":6.7399999999999007},{"$f":"((INTERFACE!C$11)/((10^-(INTERFACE!E725))+(INTERFACE!C$11)))*100","v":{"$error":"#VALUE!"}},{"$f":"100-INTERFACE!F725","v":{"$error":"#VALUE!"}}]
[{"$f":"(MIN(INTERFACE!AD$15,INTERFACE!E726))","v":0},{"$f":"MIN(INTERFACE!C$47,INTERFACE!F726)","v":{"$error":"#VALUE!"}},{"$f":"100-INTERFACE!B726","v":{"$error":"#VALUE!"}},null,{"$f":"INTERFACE!E725+12/1200","v":6.7499999999999005},{"$f":"((INTERFACE!C$11)/((10^-(INTERFACE!E726))+(INTERFACE!C$11)))*100","v":{"$error":"#VALUE!"}},{"$f":"100-INTERFACE!F726","v":{"$error":"#VALUE!"}}]
[{"$f":"(MIN(INTERFACE!AD$15,INTERFACE!E727))","v":0},{"$f":"MIN(INTERFACE!C$47,INTERFACE!F727)","v":{"$error":"#VALUE!"}},{"$f":"100-INTERFACE!B727","v":{"$error":"#VALUE!"}},null,{"$f":"INTERFACE!E726+12/1200","v":6.7599999999999003},{"$f":"((INTERFACE!C$11)/((10^-(INTERFACE!E727))+(INTERFACE!C$11)))*100","v":{"$error":"#VALUE!"}},{"$f":"100-INTERFACE!F727","v":{"$error":"#VALUE!"}}]
[{"$f":"(MIN(INTERFACE!AD$15,INTERFACE!E728))","v":0},{"$f":"MIN(INTERFACE!C$47,INTERFACE!F728)","v":{"$error":"#VALUE!"}},{"$f":"100-INTERFACE!B728","v":{"$error":"#VALUE!"}},null,{"$f":"INTERFACE!E727+12/1200","v":6.7699999999999001},{"$f":"((INTERFACE!C$11)/((10^-(INTERFACE!E728))+(INTERFACE!C$11)))*100","v":{"$error":"#VALUE!"}},{"$f":"100-INTERFACE!F728","v":{"$error":"#VALUE!"}}]
[{"$f":"(MIN(INTERFACE!AD$15,INTERFACE!E729))","v":0},{"$f":"MIN(INTERFACE!C$47,INTERFACE!F729)","v":{"$error":"#VALUE!"}},{"$f":"100-INTERFACE!B729","v":{"$error":"#VALUE!"}},null,{"$f":"INTERFACE!E728+12/1200","v":6.7799999999998999},{"$f":"((INTERFACE!C$11)/((10^-(INTERFACE!E729))+(INTERFACE!C$11)))*100","v":{"$error":"#VALUE!"}},{"$f":"100-INTERFACE!F729","v":{"$error":"#VALUE!"}}]
[{"$f":"(MIN(INTERFACE!AD$15,INTERFACE!E730))","v":0},{"$f":"MIN(INTERFACE!C$47,INTERFACE!F730)","v":{"$error":"#VALUE!"}},{"$f":"100-INTERFACE!B730","v":{"$error":"#VALUE!"}},null,{"$f":"INTERFACE!E729+12/1200","v":6.7899999999998997},{"$f":"((INTERFACE!C$11)/((10^-(INTERFACE!E730))+(INTERFACE!C$11)))*100","v":{"$error":"#VALUE!"}},{"$f":"100-INTERFACE!F730","v":{"$error":"#VALUE!"}}]
[{"$f":"(MIN(INTERFACE!AD$15,INTERFACE!E731))","v":0},{"$f":"MIN(INTERFACE!C$47,INTERFACE!F731)","v":{"$error":"#VALUE!"}},{"$f":"100-INTERFACE!B731","v":{"$error":"#VALUE!"}},null,{"$f":"INTERFACE!E730+12/1200","v":6.7999999999998995},{"$f":"((INTERFACE!C$11)/((10^-(INTERFACE!E731))+(INTERFACE!C$11)))*100","v":{"$error":"#VALUE!"}},{"$f":"100-INTERFACE!F731","v":{"$error":"#VALUE!"}}]
[{"$f":"(MIN(INTERFACE!AD$15,INTERFACE!E732))","v":0},{"$f":"MIN(INTERFACE!C$47,INTERFACE!F732)","v":{"$error":"#VALUE!"}},{"$f":"100-INTERFACE!B732","v":{"$error":"#VALUE!"}},null,{"$f":"INTERFACE!E731+12/1200","v":6.8099999999998992},{"$f":"((INTERFACE!C$11)/((10^-(INTERFACE!E732))+(INTERFACE!C$11)))*100","v":{"$error":"#VALUE!"}},{"$f":"100-INTERFACE!F732","v":{"$error":"#VALUE!"}}]
[{"$f":"(MIN(INTERFACE!AD$15,INTERFACE!E733))","v":0},{"$f":"MIN(INTERFACE!C$47,INTERFACE!F733)","v":{"$error":"#VALUE!"}},{"$f":"100-INTERFACE!B733","v":{"$error":"#VALUE!"}},null,{"$f":"INTERFACE!E732+12/1200","v":6.819999999999899},{"$f":"((INTERFACE!C$11)/((10^-(INTERFACE!E733))+(INTERFACE!C$11)))*100","v":{"$error":"#VALUE!"}},{"$f":"100-INTERFACE!F733","v":{"$error":"#VALUE!"}}]
[{"$f":"(MIN(INTERFACE!AD$15,INTERFACE!E734))","v":0},{"$f":"MIN(INTERFACE!C$47,INTERFACE!F734)","v":{"$error":"#VALUE!"}},{"$f":"100-INTERFACE!B734","v":{"$error":"#VALUE!"}},null,{"$f":"INTERFACE!E733+12/1200","v":6.8299999999998988},{"$f":"((INTERFACE!C$11)/((10^-(INTERFACE!E734))+(INTERFACE!C$11)))*100","v":{"$error":"#VALUE!"}},{"$f":"100-INTERFACE!F734","v":{"$error":"#VALUE!"}}]
[{"$f":"(MIN(INTERFACE!AD$15,INTERFACE!E735))","v":0},{"$f":"MIN(INTERFACE!C$47,INTERFACE!F735)","v":{"$error":"#VALUE!"}},{"$f":"100-INTERFACE!B735","v":{"$error":"#VALUE!"}},null,{"$f":"INTERFACE!E734+12/1200","v":6.8399999999998986},{"$f":"((INTERFACE!C$11)/((10^-(INTERFACE!E735))+(INTERFACE!C$11)))*100","v":{"$error":"#VALUE!"}},{"$f":"100-INTERFACE!F735","v":{"$error":"#VALUE!"}}]
[{"$f":"(MIN(INTERFACE!AD$15,INTERFACE!E736))","v":0},{"$f":"MIN(INTERFACE!C$47,INTERFACE!F736)","v":{"$error":"#VALUE!"}},{"$f":"100-INTERFACE!B736","v":{"$error":"#VALUE!"}},null,{"$f":"INTERFACE!E735+12/1200","v":6.8499999999998984},{"$f":"((INTERFACE!C$11)/((10^-(INTERFACE!E736))+(INTERFACE!C$11)))*100","v":{"$error":"#VALUE!"}},{"$f":"100-INTERFACE!F736","v":{"$error":"#VALUE!"}}]
[{"$f":"(MIN(INTERFACE!AD$15,INTERFACE!E737))","v":0},{"$f":"MIN(INTERFACE!C$47,INTERFACE!F737)","v":{"$error":"#VALUE!"}},{"$f":"100-INTERFACE!B737","v":{"$error":"#VALUE!"}},null,{"$f":"INTERFACE!E736+12/1200","v":6.8599999999998982},{"$f":"((INTERFACE!C$11)/((10^-(INTERFACE!E737))+(INTERFACE!C$11)))*100","v":{"$error":"#VALUE!"}},{"$f":"100-INTERFACE!F737","v":{"$error":"#VALUE!"}}]
[{"$f":"(MIN(INTERFACE!AD$15,INTERFACE!E738))","v":0},{"$f":"MIN(INTERFACE!C$47,INTERFACE!F738)","v":{"$error":"#VALUE!"}},{"$f":"100-INTERFACE!B738","v":{"$error":"#VALUE!"}},null,{"$f":"INTERFACE!E737+12/1200","v":6.869999999999898},{"$f":"((INTERFACE!C$11)/((10^-(INTERFACE!E738))+(INTERFACE!C$11)))*100","v":{"$error":"#VALUE!"}},{"$f":"100-INTERFACE!F738","v":{"$error":"#VALUE!"}}]
[{"$f":"(MIN(INTERFACE!AD$15,INTERFACE!E739))","v":0},{"$f":"MIN(INTERFACE!C$47,INTERFACE!F739)","v":{"$error":"#VALUE!"}},{"$f":"100-INTERFACE!B739","v":{"$error":"#VALUE!"}},null,{"$f":"INTERFACE!E738+12/1200","v":6.8799999999998978},{"$f":"((INTERFACE!C$11)/((10^-(INTERFACE!E739))+(INTERFACE!C$11)))*100","v":{"$error":"#VALUE!"}},{"$f":"100-INTERFACE!F739","v":{"$error":"#VALUE!"}}]
[{"$f":"(MIN(INTERFACE!AD$15,INTERFACE!E740))","v":0},{"$f":"MIN(INTERFACE!C$47,INTERFACE!F740)","v":{"$error":"#VALUE!"}},{"$f":"100-INTERFACE!B740","v":{"$error":"#VALUE!"}},null,{"$f":"INTERFACE!E739+12/1200","v":6.8899999999998975},{"$f":"((INTERFACE!C$11)/((10^-(INTERFACE!E740))+(INTERFACE!C$11)))*100","v":{"$error":"#VALUE!"}},{"$f":"100-INTERFACE!F740","v":{"$error":"#VALUE!"}}]
[{"$f":"(MIN(INTERFACE!AD$15,INTERFACE!E741))","v":0},{"$f":"MIN(INTERFACE!C$47,INTERFACE!F741)","v":{"$error":"#VALUE!"}},{"$f":"100-INTERFACE!B741","v":{"$error":"#VALUE!"}},null,{"$f":"INTERFACE!E740+12/1200","v":6.8999999999998973},{"$f":"((INTERFACE!C$11)/((10^-(INTERFACE!E741))+(INTERFACE!C$11)))*100","v":{"$error":"#VALUE!"}},{"$f":"100-INTERFACE!F741","v":{"$error":"#VALUE!"}}]
[{"$f":"(MIN(INTERFACE!AD$15,INTERFACE!E742))","v":0},{"$f":"MIN(INTERFACE!C$47,INTERFACE!F742)","v":{"$error":"#VALUE!"}},{"$f":"100-INTERFACE!B742","v":{"$error":"#VALUE!"}},null,{"$f":"INTERFACE!E741+12/1200","v":6.9099999999998971},{"$f":"((INTERFACE!C$11)/((10^-(INTERFACE!E742))+(INTERFACE!C$11)))*100","v":{"$error":"#VALUE!"}},{"$f":"100-INTERFACE!F742","v":{"$error":"#VALUE!"}}]
[{"$f":"(MIN(INTERFACE!AD$15,INTERFACE!E743))","v":0},{"$f":"MIN(INTERFACE!C$47,INTERFACE!F743)","v":{"$error":"#VALUE!"}},{"$f":"100-INTERFACE!B743","v":{"$error":"#VALUE!"}},null,{"$f":"INTERFACE!E742+12/1200","v":6.9199999999998969},{"$f":"((INTERFACE!C$11)/((10^-(INTERFACE!E743))+(INTERFACE!C$11)))*100","v":{"$error":"#VALUE!"}},{"$f":"100-INTERFACE!F743","v":{"$error":"#VALUE!"}}]
[{"$f":"(MIN(INTERFACE!AD$15,INTERFACE!E744))","v":0},{"$f":"MIN(INTERFACE!C$47,INTERFACE!F744)","v":{"$error":"#VALUE!"}},{"$f":"100-INTERFACE!B744","v":{"$error":"#VALUE!"}},null,{"$f":"INTERFACE!E743+12/1200","v":6.9299999999998967},{"$f":"((INTERFACE!C$11)/((10^-(INTERFACE!E744))+(INTERFACE!C$11)))*100","v":{"$error":"#VALUE!"}},{"$f":"100-INTERFACE!F744","v":{"$error":"#VALUE!"}}]
[{"$f":"(MIN(INTERFACE!AD$15,INTERFACE!E745))","v":0},{"$f":"MIN(INTERFACE!C$47,INTERFACE!F745)","v":{"$error":"#VALUE!"}},{"$f":"100-INTERFACE!B745","v":{"$error":"#VALUE!"}},null,{"$f":"INTERFACE!E744+12/1200","v":6.9399999999998965},{"$f":"((INTERFACE!C$11)/((10^-(INTERFACE!E745))+(INTERFACE!C$11)))*100","v":{"$error":"#VALUE!"}},{"$f":"100-INTERFACE!F745","v":{"$error":"#VALUE!"}}]
[{"$f":"(MIN(INTERFACE!AD$15,INTERFACE!E746))","v":0},{"$f":"MIN(INTERFACE!C$47,INTERFACE!F746)","v":{"$error":"#VALUE!"}},{"$f":"100-INTERFACE!B746","v":{"$error":"#VALUE!"}},null,{"$f":"INTERFACE!E745+12/1200","v":6.9499999999998963},{"$f":"((INTERFACE!C$11)/((10^-(INTERFACE!E746))+(INTERFACE!C$11)))*100","v":{"$error":"#VALUE!"}},{"$f":"100-INTERFACE!F746","v":{"$error":"#VALUE!"}}]
[{"$f":"(MIN(INTERFACE!AD$15,INTERFACE!E747))","v":0},{"$f":"MIN(INTERFACE!C$47,INTERFACE!F747)","v":{"$error":"#VALUE!"}},{"$f":"100-INTERFACE!B747","v":{"$error":"#VALUE!"}},null,{"$f":"INTERFACE!E746+12/1200","v":6.959999999999896},{"$f":"((INTERFACE!C$11)/((10^-(INTERFACE!E747))+(INTERFACE!C$11)))*100","v":{"$error":"#VALUE!"}},{"$f":"100-INTERFACE!F747","v":{"$error":"#VALUE!"}}]
[{"$f":"(MIN(INTERFACE!AD$15,INTERFACE!E748))","v":0},{"$f":"MIN(INTERFACE!C$47,INTERFACE!F748)","v":{"$error":"#VALUE!"}},{"$f":"100-INTERFACE!B748","v":{"$error":"#VALUE!"}},null,{"$f":"INTERFACE!E747+12/1200","v":6.9699999999998958},{"$f":"((INTERFACE!C$11)/((10^-(INTERFACE!E748))+(INTERFACE!C$11)))*100","v":{"$error":"#VALUE!"}},{"$f":"100-INTERFACE!F748","v":{"$error":"#VALUE!"}}]
[{"$f":"(MIN(INTERFACE!AD$15,INTERFACE!E749))","v":0},{"$f":"MIN(INTERFACE!C$47,INTERFACE!F749)","v":{"$error":"#VALUE!"}},{"$f":"100-INTERFACE!B749","v":{"$error":"#VALUE!"}},null,{"$f":"INTERFACE!E748+12/1200","v":6.9799999999998956},{"$f":"((INTERFACE!C$11)/((10^-(INTERFACE!E749))+(INTERFACE!C$11)))*100","v":{"$error":"#VALUE!"}},{"$f":"100-INTERFACE!F749","v":{"$error":"#VALUE!"}}]
[{"$f":"(MIN(INTERFACE!AD$15,INTERFACE!E750))","v":0},{"$f":"MIN(INTERFACE!C$47,INTERFACE!F750)","v":{"$error":"#VALUE!"}},{"$f":"100-INTERFACE!B750","v":{"$error":"#VALUE!"}},null,{"$f":"INTERFACE!E749+12/1200","v":6.9899999999998954},{"$f":"((INTERFACE!C$11)/((10^-(INTERFACE!E750))+(INTERFACE!C$11)))*100","v":{"$error":"#VALUE!"}},{"$f":"100-INTERFACE!F750","v":{"$error":"#VALUE!"}}]
[{"$f":"(MIN(INTERFACE!AD$15,INTERFACE!E751))","v":0},{"$f":"MIN(INTERFACE!C$47,INTERFACE!F751)","v":{"$error":"#VALUE!"}},{"$f":"100-INTERFACE!B751","v":{"$error":"#VALUE!"}},null,{"$f":"INTERFACE!E750+12/1200","v":6.9999999999998952},{"$f":"((INTERFACE!C$11)/((10^-(INTERFACE!E751))+(INTERFACE!C$11)))*100","v":{"$error":"#VALUE!"}},{"$f":"100-INTERFACE!F751","v":{"$error":"#VALUE!"}}]
[{"$f":"(MIN(INTERFACE!AD$15,INTERFACE!E752))","v":0},{"$f":"MIN(INTERFACE!C$47,INTERFACE!F752)","v":{"$error":"#VALUE!"}},{"$f":"100-INTERFACE!B752","v":{"$error":"#VALUE!"}},null,{"$f":"INTERFACE!E751+12/1200","v":7.009999999999895},{"$f":"((INTERFACE!C$11)/((10^-(INTERFACE!E752))+(INTERFACE!C$11)))*100","v":{"$error":"#VALUE!"}},{"$f":"100-INTERFACE!F752","v":{"$error":"#VALUE!"}}]
[{"$f":"(MIN(INTERFACE!AD$15,INTERFACE!E753))","v":0},{"$f":"MIN(INTERFACE!C$47,INTERFACE!F753)","v":{"$error":"#VALUE!"}},{"$f":"100-INTERFACE!B753","v":{"$error":"#VALUE!"}},null,{"$f":"INTERFACE!E752+12/1200","v":7.0199999999998948},{"$f":"((INTERFACE!C$11)/((10^-(INTERFACE!E753))+(INTERFACE!C$11)))*100","v":{"$error":"#VALUE!"}},{"$f":"100-INTERFACE!F753","v":{"$error":"#VALUE!"}}]
[{"$f":"(MIN(INTERFACE!AD$15,INTERFACE!E754))","v":0},{"$f":"MIN(INTERFACE!C$47,INTERFACE!F754)","v":{"$error":"#VALUE!"}},{"$f":"100-INTERFACE!B754","v":{"$error":"#VALUE!"}},null,{"$f":"INTERFACE!E753+12/1200","v":7.0299999999998946},{"$f":"((INTERFACE!C$11)/((10^-(INTERFACE!E754))+(INTERFACE!C$11)))*100","v":{"$error":"#VALUE!"}},{"$f":"100-INTERFACE!F754","v":{"$error":"#VALUE!"}}]
[{"$f":"(MIN(INTERFACE!AD$15,INTERFACE!E755))","v":0},{"$f":"MIN(INTERFACE!C$47,INTERFACE!F755)","v":{"$error":"#VALUE!"}},{"$f":"100-INTERFACE!B755","v":{"$error":"#VALUE!"}},null,{"$f":"INTERFACE!E754+12/1200","v":7.0399999999998943},{"$f":"((INTERFACE!C$11)/((10^-(INTERFACE!E755))+(INTERFACE!C$11)))*100","v":{"$error":"#VALUE!"}},{"$f":"100-INTERFACE!F755","v":{"$error":"#VALUE!"}}]
[{"$f":"(MIN(INTERFACE!AD$15,INTERFACE!E756))","v":0},{"$f":"MIN(INTERFACE!C$47,INTERFACE!F756)","v":{"$error":"#VALUE!"}},{"$f":"100-INTERFACE!B756","v":{"$error":"#VALUE!"}},null,{"$f":"INTERFACE!E755+12/1200","v":7.0499999999998941},{"$f":"((INTERFACE!C$11)/((10^-(INTERFACE!E756))+(INTERFACE!C$11)))*100","v":{"$error":"#VALUE!"}},{"$f":"100-INTERFACE!F756","v":{"$error":"#VALUE!"}}]
[{"$f":"(MIN(INTERFACE!AD$15,INTERFACE!E757))","v":0},{"$f":"MIN(INTERFACE!C$47,INTERFACE!F757)","v":{"$error":"#VALUE!"}},{"$f":"100-INTERFACE!B757","v":{"$error":"#VALUE!"}},null,{"$f":"INTERFACE!E756+12/1200","v":7.0599999999998939},{"$f":"((INTERFACE!C$11)/((10^-(INTERFACE!E757))+(INTERFACE!C$11)))*100","v":{"$error":"#VALUE!"}},{"$f":"100-INTERFACE!F757","v":{"$error":"#VALUE!"}}]
[{"$f":"(MIN(INTERFACE!AD$15,INTERFACE!E758))","v":0},{"$f":"MIN(INTERFACE!C$47,INTERFACE!F758)","v":{"$error":"#VALUE!"}},{"$f":"100-INTERFACE!B758","v":{"$error":"#VALUE!"}},null,{"$f":"INTERFACE!E757+12/1200","v":7.0699999999998937},{"$f":"((INTERFACE!C$11)/((10^-(INTERFACE!E758))+(INTERFACE!C$11)))*100","v":{"$error":"#VALUE!"}},{"$f":"100-INTERFACE!F758","v":{"$error":"#VALUE!"}}]
[{"$f":"(MIN(INTERFACE!AD$15,INTERFACE!E759))","v":0},{"$f":"MIN(INTERFACE!C$47,INTERFACE!F759)","v":{"$error":"#VALUE!"}},{"$f":"100-INTERFACE!B759","v":{"$error":"#VALUE!"}},null,{"$f":"INTERFACE!E758+12/1200","v":7.0799999999998935},{"$f":"((INTERFACE!C$11)/((10^-(INTERFACE!E759))+(INTERFACE!C$11)))*100","v":{"$error":"#VALUE!"}},{"$f":"100-INTERFACE!F759","v":{"$error":"#VALUE!"}}]
[{"$f":"(MIN(INTERFACE!AD$15,INTERFACE!E760))","v":0},{"$f":"MIN(INTERFACE!C$47,INTERFACE!F760)","v":{"$error":"#VALUE!"}},{"$f":"100-INTERFACE!B760","v":{"$error":"#VALUE!"}},null,{"$f":"INTERFACE!E759+12/1200","v":7.0899999999998933},{"$f":"((INTERFACE!C$11)/((10^-(INTERFACE!E760))+(INTERFACE!C$11)))*100","v":{"$error":"#VALUE!"}},{"$f":"100-INTERFACE!F760","v":{"$error":"#VALUE!"}}]
[{"$f":"(MIN(INTERFACE!AD$15,INTERFACE!E761))","v":0},{"$f":"MIN(INTERFACE!C$47,INTERFACE!F761)","v":{"$error":"#VALUE!"}},{"$f":"100-INTERFACE!B761","v":{"$error":"#VALUE!"}},null,{"$f":"INTERFACE!E760+12/1200","v":7.0999999999998931},{"$f":"((INTERFACE!C$11)/((10^-(INTERFACE!E761))+(INTERFACE!C$11)))*100","v":{"$error":"#VALUE!"}},{"$f":"100-INTERFACE!F761","v":{"$error":"#VALUE!"}}]
[{"$f":"(MIN(INTERFACE!AD$15,INTERFACE!E762))","v":0},{"$f":"MIN(INTERFACE!C$47,INTERFACE!F762)","v":{"$error":"#VALUE!"}},{"$f":"100-INTERFACE!B762","v":{"$error":"#VALUE!"}},null,{"$f":"INTERFACE!E761+12/1200","v":7.1099999999998929},{"$f":"((INTERFACE!C$11)/((10^-(INTERFACE!E762))+(INTERFACE!C$11)))*100","v":{"$error":"#VALUE!"}},{"$f":"100-INTERFACE!F762","v":{"$error":"#VALUE!"}}]
[{"$f":"(MIN(INTERFACE!AD$15,INTERFACE!E763))","v":0},{"$f":"MIN(INTERFACE!C$47,INTERFACE!F763)","v":{"$error":"#VALUE!"}},{"$f":"100-INTERFACE!B763","v":{"$error":"#VALUE!"}},null,{"$f":"INTERFACE!E762+12/1200","v":7.1199999999998926},{"$f":"((INTERFACE!C$11)/((10^-(INTERFACE!E763))+(INTERFACE!C$11)))*100","v":{"$error":"#VALUE!"}},{"$f":"100-INTERFACE!F763","v":{"$error":"#VALUE!"}}]
[{"$f":"(MIN(INTERFACE!AD$15,INTERFACE!E764))","v":0},{"$f":"MIN(INTERFACE!C$47,INTERFACE!F764)","v":{"$error":"#VALUE!"}},{"$f":"100-INTERFACE!B764","v":{"$error":"#VALUE!"}},null,{"$f":"INTERFACE!E763+12/1200","v":7.1299999999998924},{"$f":"((INTERFACE!C$11)/((10^-(INTERFACE!E764))+(INTERFACE!C$11)))*100","v":{"$error":"#VALUE!"}},{"$f":"100-INTERFACE!F764","v":{"$error":"#VALUE!"}}]
[{"$f":"(MIN(INTERFACE!AD$15,INTERFACE!E765))","v":0},{"$f":"MIN(INTERFACE!C$47,INTERFACE!F765)","v":{"$error":"#VALUE!"}},{"$f":"100-INTERFACE!B765","v":{"$error":"#VALUE!"}},null,{"$f":"INTERFACE!E764+12/1200","v":7.1399999999998922},{"$f":"((INTERFACE!C$11)/((10^-(INTERFACE!E765))+(INTERFACE!C$11)))*100","v":{"$error":"#VALUE!"}},{"$f":"100-INTERFACE!F765","v":{"$error":"#VALUE!"}}]
[{"$f":"(MIN(INTERFACE!AD$15,INTERFACE!E766))","v":0},{"$f":"MIN(INTERFACE!C$47,INTERFACE!F766)","v":{"$error":"#VALUE!"}},{"$f":"100-INTERFACE!B766","v":{"$error":"#VALUE!"}},null,{"$f":"INTERFACE!E765+12/1200","v":7.149999999999892},{"$f":"((INTERFACE!C$11)/((10^-(INTERFACE!E766))+(INTERFACE!C$11)))*100","v":{"$error":"#VALUE!"}},{"$f":"100-INTERFACE!F766","v":{"$error":"#VALUE!"}}]
[{"$f":"(MIN(INTERFACE!AD$15,INTERFACE!E767))","v":0},{"$f":"MIN(INTERFACE!C$47,INTERFACE!F767)","v":{"$error":"#VALUE!"}},{"$f":"100-INTERFACE!B767","v":{"$error":"#VALUE!"}},null,{"$f":"INTERFACE!E766+12/1200","v":7.1599999999998918},{"$f":"((INTERFACE!C$11)/((10^-(INTERFACE!E767))+(INTERFACE!C$11)))*100","v":{"$error":"#VALUE!"}},{"$f":"100-INTERFACE!F767","v":{"$error":"#VALUE!"}}]
[{"$f":"(MIN(INTERFACE!AD$15,INTERFACE!E768))","v":0},{"$f":"MIN(INTERFACE!C$47,INTERFACE!F768)","v":{"$error":"#VALUE!"}},{"$f":"100-INTERFACE!B768","v":{"$error":"#VALUE!"}},null,{"$f":"INTERFACE!E767+12/1200","v":7.1699999999998916},{"$f":"((INTERFACE!C$11)/((10^-(INTERFACE!E768))+(INTERFACE!C$11)))*100","v":{"$error":"#VALUE!"}},{"$f":"100-INTERFACE!F768","v":{"$error":"#VALUE!"}}]
[{"$f":"(MIN(INTERFACE!AD$15,INTERFACE!E769))","v":0},{"$f":"MIN(INTERFACE!C$47,INTERFACE!F769)","v":{"$error":"#VALUE!"}},{"$f":"100-INTERFACE!B769","v":{"$error":"#VALUE!"}},null,{"$f":"INTERFACE!E768+12/1200","v":7.1799999999998914},{"$f":"((INTERFACE!C$11)/((10^-(INTERFACE!E769))+(INTERFACE!C$11)))*100","v":{"$error":"#VALUE!"}},{"$f":"100-INTERFACE!F769","v":{"$error":"#VALUE!"}}]
[{"$f":"(MIN(INTERFACE!AD$15,INTERFACE!E770))","v":0},{"$f":"MIN(INTERFACE!C$47,INTERFACE!F770)","v":{"$error":"#VALUE!"}},{"$f":"100-INTERFACE!B770","v":{"$error":"#VALUE!"}},null,{"$f":"INTERFACE!E769+12/1200","v":7.1899999999998911},{"$f":"((INTERFACE!C$11)/((10^-(INTERFACE!E770))+(INTERFACE!C$11)))*100","v":{"$error":"#VALUE!"}},{"$f":"100-INTERFACE!F770","v":{"$error":"#VALUE!"}}]
[{"$f":"(MIN(INTERFACE!AD$15,INTERFACE!E771))","v":0},{"$f":"MIN(INTERFACE!C$47,INTERFACE!F771)","v":{"$error":"#VALUE!"}},{"$f":"100-INTERFACE!B771","v":{"$error":"#VALUE!"}},null,{"$f":"INTERFACE!E770+12/1200","v":7.1999999999998909},{"$f":"((INTERFACE!C$11)/((10^-(INTERFACE!E771))+(INTERFACE!C$11)))*100","v":{"$error":"#VALUE!"}},{"$f":"100-INTERFACE!F771","v":{"$error":"#VALUE!"}}]
[{"$f":"(MIN(INTERFACE!AD$15,INTERFACE!E772))","v":0},{"$f":"MIN(INTERFACE!C$47,INTERFACE!F772)","v":{"$error":"#VALUE!"}},{"$f":"100-INTERFACE!B772","v":{"$error":"#VALUE!"}},null,{"$f":"INTERFACE!E771+12/1200","v":7.2099999999998907},{"$f":"((INTERFACE!C$11)/((10^-(INTERFACE!E772))+(INTERFACE!C$11)))*100","v":{"$error":"#VALUE!"}},{"$f":"100-INTERFACE!F772","v":{"$error":"#VALUE!"}}]
[{"$f":"(MIN(INTERFACE!AD$15,INTERFACE!E773))","v":0},{"$f":"MIN(INTERFACE!C$47,INTERFACE!F773)","v":{"$error":"#VALUE!"}},{"$f":"100-INTERFACE!B773","v":{"$error":"#VALUE!"}},null,{"$f":"INTERFACE!E772+12/1200","v":7.2199999999998905},{"$f":"((INTERFACE!C$11)/((10^-(INTERFACE!E773))+(INTERFACE!C$11)))*100","v":{"$error":"#VALUE!"}},{"$f":"100-INTERFACE!F773","v":{"$error":"#VALUE!"}}]
[{"$f":"(MIN(INTERFACE!AD$15,INTERFACE!E774))","v":0},{"$f":"MIN(INTERFACE!C$47,INTERFACE!F774)","v":{"$error":"#VALUE!"}},{"$f":"100-INTERFACE!B774","v":{"$error":"#VALUE!"}},null,{"$f":"INTERFACE!E773+12/1200","v":7.2299999999998903},{"$f":"((INTERFACE!C$11)/((10^-(INTERFACE!E774))+(INTERFACE!C$11)))*100","v":{"$error":"#VALUE!"}},{"$f":"100-INTERFACE!F774","v":{"$error":"#VALUE!"}}]
[{"$f":"(MIN(INTERFACE!AD$15,INTERFACE!E775))","v":0},{"$f":"MIN(INTERFACE!C$47,INTERFACE!F775)","v":{"$error":"#VALUE!"}},{"$f":"100-INTERFACE!B775","v":{"$error":"#VALUE!"}},null,{"$f":"INTERFACE!E774+12/1200","v":7.2399999999998901},{"$f":"((INTERFACE!C$11)/((10^-(INTERFACE!E775))+(INTERFACE!C$11)))*100","v":{"$error":"#VALUE!"}},{"$f":"100-INTERFACE!F775","v":{"$error":"#VALUE!"}}]
[{"$f":"(MIN(INTERFACE!AD$15,INTERFACE!E776))","v":0},{"$f":"MIN(INTERFACE!C$47,INTERFACE!F776)","v":{"$error":"#VALUE!"}},{"$f":"100-INTERFACE!B776","v":{"$error":"#VALUE!"}},null,{"$f":"INTERFACE!E775+12/1200","v":7.2499999999998899},{"$f":"((INTERFACE!C$11)/((10^-(INTERFACE!E776))+(INTERFACE!C$11)))*100","v":{"$error":"#VALUE!"}},{"$f":"100-INTERFACE!F776","v":{"$error":"#VALUE!"}}]
[{"$f":"(MIN(INTERFACE!AD$15,INTERFACE!E777))","v":0},{"$f":"MIN(INTERFACE!C$47,INTERFACE!F777)","v":{"$error":"#VALUE!"}},{"$f":"100-INTERFACE!B777","v":{"$error":"#VALUE!"}},null,{"$f":"INTERFACE!E776+12/1200","v":7.2599999999998897},{"$f":"((INTERFACE!C$11)/((10^-(INTERFACE!E777))+(INTERFACE!C$11)))*100","v":{"$error":"#VALUE!"}},{"$f":"100-INTERFACE!F777","v":{"$error":"#VALUE!"}}]
[{"$f":"(MIN(INTERFACE!AD$15,INTERFACE!E778))","v":0},{"$f":"MIN(INTERFACE!C$47,INTERFACE!F778)","v":{"$error":"#VALUE!"}},{"$f":"100-INTERFACE!B778","v":{"$error":"#VALUE!"}},null,{"$f":"INTERFACE!E777+12/1200","v":7.2699999999998894},{"$f":"((INTERFACE!C$11)/((10^-(INTERFACE!E778))+(INTERFACE!C$11)))*100","v":{"$error":"#VALUE!"}},{"$f":"100-INTERFACE!F778","v":{"$error":"#VALUE!"}}]
[{"$f":"(MIN(INTERFACE!AD$15,INTERFACE!E779))","v":0},{"$f":"MIN(INTERFACE!C$47,INTERFACE!F779)","v":{"$error":"#VALUE!"}},{"$f":"100-INTERFACE!B779","v":{"$error":"#VALUE!"}},null,{"$f":"INTERFACE!E778+12/1200","v":7.2799999999998892},{"$f":"((INTERFACE!C$11)/((10^-(INTERFACE!E779))+(INTERFACE!C$11)))*100","v":{"$error":"#VALUE!"}},{"$f":"100-INTERFACE!F779","v":{"$error":"#VALUE!"}}]
[{"$f":"(MIN(INTERFACE!AD$15,INTERFACE!E780))","v":0},{"$f":"MIN(INTERFACE!C$47,INTERFACE!F780)","v":{"$error":"#VALUE!"}},{"$f":"100-INTERFACE!B780","v":{"$error":"#VALUE!"}},null,{"$f":"INTERFACE!E779+12/1200","v":7.289999999999889},{"$f":"((INTERFACE!C$11)/((10^-(INTERFACE!E780))+(INTERFACE!C$11)))*100","v":{"$error":"#VALUE!"}},{"$f":"100-INTERFACE!F780","v":{"$error":"#VALUE!"}}]
[{"$f":"(MIN(INTERFACE!AD$15,INTERFACE!E781))","v":0},{"$f":"MIN(INTERFACE!C$47,INTERFACE!F781)","v":{"$error":"#VALUE!"}},{"$f":"100-INTERFACE!B781","v":{"$error":"#VALUE!"}},null,{"$f":"INTERFACE!E780+12/1200","v":7.2999999999998888},{"$f":"((INTERFACE!C$11)/((10^-(INTERFACE!E781))+(INTERFACE!C$11)))*100","v":{"$error":"#VALUE!"}},{"$f":"100-INTERFACE!F781","v":{"$error":"#VALUE!"}}]
[{"$f":"(MIN(INTERFACE!AD$15,INTERFACE!E782))","v":0},{"$f":"MIN(INTERFACE!C$47,INTERFACE!F782)","v":{"$error":"#VALUE!"}},{"$f":"100-INTERFACE!B782","v":{"$error":"#VALUE!"}},null,{"$f":"INTERFACE!E781+12/1200","v":7.3099999999998886},{"$f":"((INTERFACE!C$11)/((10^-(INTERFACE!E782))+(INTERFACE!C$11)))*100","v":{"$error":"#VALUE!"}},{"$f":"100-INTERFACE!F782","v":{"$error":"#VALUE!"}}]
[{"$f":"(MIN(INTERFACE!AD$15,INTERFACE!E783))","v":0},{"$f":"MIN(INTERFACE!C$47,INTERFACE!F783)","v":{"$error":"#VALUE!"}},{"$f":"100-INTERFACE!B783","v":{"$error":"#VALUE!"}},null,{"$f":"INTERFACE!E782+12/1200","v":7.3199999999998884},{"$f":"((INTERFACE!C$11)/((10^-(INTERFACE!E783))+(INTERFACE!C$11)))*100","v":{"$error":"#VALUE!"}},{"$f":"100-INTERFACE!F783","v":{"$error":"#VALUE!"}}]
[{"$f":"(MIN(INTERFACE!AD$15,INTERFACE!E784))","v":0},{"$f":"MIN(INTERFACE!C$47,INTERFACE!F784)","v":{"$error":"#VALUE!"}},{"$f":"100-INTERFACE!B784","v":{"$error":"#VALUE!"}},null,{"$f":"INTERFACE!E783+12/1200","v":7.3299999999998882},{"$f":"((INTERFACE!C$11)/((10^-(INTERFACE!E784))+(INTERFACE!C$11)))*100","v":{"$error":"#VALUE!"}},{"$f":"100-INTERFACE!F784","v":{"$error":"#VALUE!"}}]
[{"$f":"(MIN(INTERFACE!AD$15,INTERFACE!E785))","v":0},{"$f":"MIN(INTERFACE!C$47,INTERFACE!F785)","v":{"$error":"#VALUE!"}},{"$f":"100-INTERFACE!B785","v":{"$error":"#VALUE!"}},null,{"$f":"INTERFACE!E784+12/1200","v":7.3399999999998879},{"$f":"((INTERFACE!C$11)/((10^-(INTERFACE!E785))+(INTERFACE!C$11)))*100","v":{"$error":"#VALUE!"}},{"$f":"100-INTERFACE!F785","v":{"$error":"#VALUE!"}}]
[{"$f":"(MIN(INTERFACE!AD$15,INTERFACE!E786))","v":0},{"$f":"MIN(INTERFACE!C$47,INTERFACE!F786)","v":{"$error":"#VALUE!"}},{"$f":"100-INTERFACE!B786","v":{"$error":"#VALUE!"}},null,{"$f":"INTERFACE!E785+12/1200","v":7.3499999999998877},{"$f":"((INTERFACE!C$11)/((10^-(INTERFACE!E786))+(INTERFACE!C$11)))*100","v":{"$error":"#VALUE!"}},{"$f":"100-INTERFACE!F786","v":{"$error":"#VALUE!"}}]
[{"$f":"(MIN(INTERFACE!AD$15,INTERFACE!E787))","v":0},{"$f":"MIN(INTERFACE!C$47,INTERFACE!F787)","v":{"$error":"#VALUE!"}},{"$f":"100-INTERFACE!B787","v":{"$error":"#VALUE!"}},null,{"$f":"INTERFACE!E786+12/1200","v":7.3599999999998875},{"$f":"((INTERFACE!C$11)/((10^-(INTERFACE!E787))+(INTERFACE!C$11)))*100","v":{"$error":"#VALUE!"}},{"$f":"100-INTERFACE!F787","v":{"$error":"#VALUE!"}}]
[{"$f":"(MIN(INTERFACE!AD$15,INTERFACE!E788))","v":0},{"$f":"MIN(INTERFACE!C$47,INTERFACE!F788)","v":{"$error":"#VALUE!"}},{"$f":"100-INTERFACE!B788","v":{"$error":"#VALUE!"}},null,{"$f":"INTERFACE!E787+12/1200","v":7.3699999999998873},{"$f":"((INTERFACE!C$11)/((10^-(INTERFACE!E788))+(INTERFACE!C$11)))*100","v":{"$error":"#VALUE!"}},{"$f":"100-INTERFACE!F788","v":{"$error":"#VALUE!"}}]
[{"$f":"(MIN(INTERFACE!AD$15,INTERFACE!E789))","v":0},{"$f":"MIN(INTERFACE!C$47,INTERFACE!F789)","v":{"$error":"#VALUE!"}},{"$f":"100-INTERFACE!B789","v":{"$error":"#VALUE!"}},null,{"$f":"INTERFACE!E788+12/1200","v":7.3799999999998871},{"$f":"((INTERFACE!C$11)/((10^-(INTERFACE!E789))+(INTERFACE!C$11)))*100","v":{"$error":"#VALUE!"}},{"$f":"100-INTERFACE!F789","v":{"$error":"#VALUE!"}}]
[{"$f":"(MIN(INTERFACE!AD$15,INTERFACE!E790))","v":0},{"$f":"MIN(INTERFACE!C$47,INTERFACE!F790)","v":{"$error":"#VALUE!"}},{"$f":"100-INTERFACE!B790","v":{"$error":"#VALUE!"}},null,{"$f":"INTERFACE!E789+12/1200","v":7.3899999999998869},{"$f":"((INTERFACE!C$11)/((10^-(INTERFACE!E790))+(INTERFACE!C$11)))*100","v":{"$error":"#VALUE!"}},{"$f":"100-INTERFACE!F790","v":{"$error":"#VALUE!"}}]
[{"$f":"(MIN(INTERFACE!AD$15,INTERFACE!E791))","v":0},{"$f":"MIN(INTERFACE!C$47,INTERFACE!F791)","v":{"$error":"#VALUE!"}},{"$f":"100-INTERFACE!B791","v":{"$error":"#VALUE!"}},null,{"$f":"INTERFACE!E790+12/1200","v":7.3999999999998867},{"$f":"((INTERFACE!C$11)/((10^-(INTERFACE!E791))+(INTERFACE!C$11)))*100","v":{"$error":"#VALUE!"}},{"$f":"100-INTERFACE!F791","v":{"$error":"#VALUE!"}}]
[{"$f":"(MIN(INTERFACE!AD$15,INTERFACE!E792))","v":0},{"$f":"MIN(INTERFACE!C$47,INTERFACE!F792)","v":{"$error":"#VALUE!"}},{"$f":"100-INTERFACE!B792","v":{"$error":"#VALUE!"}},null,{"$f":"INTERFACE!E791+12/1200","v":7.4099999999998865},{"$f":"((INTERFACE!C$11)/((10^-(INTERFACE!E792))+(INTERFACE!C$11)))*100","v":{"$error":"#VALUE!"}},{"$f":"100-INTERFACE!F792","v":{"$error":"#VALUE!"}}]
[{"$f":"(MIN(INTERFACE!AD$15,INTERFACE!E793))","v":0},{"$f":"MIN(INTERFACE!C$47,INTERFACE!F793)","v":{"$error":"#VALUE!"}},{"$f":"100-INTERFACE!B793","v":{"$error":"#VALUE!"}},null,{"$f":"INTERFACE!E792+12/1200","v":7.4199999999998862},{"$f":"((INTERFACE!C$11)/((10^-(INTERFACE!E793))+(INTERFACE!C$11)))*100","v":{"$error":"#VALUE!"}},{"$f":"100-INTERFACE!F793","v":{"$error":"#VALUE!"}}]
[{"$f":"(MIN(INTERFACE!AD$15,INTERFACE!E794))","v":0},{"$f":"MIN(INTERFACE!C$47,INTERFACE!F794)","v":{"$error":"#VALUE!"}},{"$f":"100-INTERFACE!B794","v":{"$error":"#VALUE!"}},null,{"$f":"INTERFACE!E793+12/1200","v":7.429999999999886},{"$f":"((INTERFACE!C$11)/((10^-(INTERFACE!E794))+(INTERFACE!C$11)))*100","v":{"$error":"#VALUE!"}},{"$f":"100-INTERFACE!F794","v":{"$error":"#VALUE!"}}]
[{"$f":"(MIN(INTERFACE!AD$15,INTERFACE!E795))","v":0},{"$f":"MIN(INTERFACE!C$47,INTERFACE!F795)","v":{"$error":"#VALUE!"}},{"$f":"100-INTERFACE!B795","v":{"$error":"#VALUE!"}},null,{"$f":"INTERFACE!E794+12/1200","v":7.4399999999998858},{"$f":"((INTERFACE!C$11)/((10^-(INTERFACE!E795))+(INTERFACE!C$11)))*100","v":{"$error":"#VALUE!"}},{"$f":"100-INTERFACE!F795","v":{"$error":"#VALUE!"}}]
[{"$f":"(MIN(INTERFACE!AD$15,INTERFACE!E796))","v":0},{"$f":"MIN(INTERFACE!C$47,INTERFACE!F796)","v":{"$error":"#VALUE!"}},{"$f":"100-INTERFACE!B796","v":{"$error":"#VALUE!"}},null,{"$f":"INTERFACE!E795+12/1200","v":7.4499999999998856},{"$f":"((INTERFACE!C$11)/((10^-(INTERFACE!E796))+(INTERFACE!C$11)))*100","v":{"$error":"#VALUE!"}},{"$f":"100-INTERFACE!F796","v":{"$error":"#VALUE!"}}]
[{"$f":"(MIN(INTERFACE!AD$15,INTERFACE!E797))","v":0},{"$f":"MIN(INTERFACE!C$47,INTERFACE!F797)","v":{"$error":"#VALUE!"}},{"$f":"100-INTERFACE!B797","v":{"$error":"#VALUE!"}},null,{"$f":"INTERFACE!E796+12/1200","v":7.4599999999998854},{"$f":"((INTERFACE!C$11)/((10^-(INTERFACE!E797))+(INTERFACE!C$11)))*100","v":{"$error":"#VALUE!"}},{"$f":"100-INTERFACE!F797","v":{"$error":"#VALUE!"}}]
[{"$f":"(MIN(INTERFACE!AD$15,INTERFACE!E798))","v":0},{"$f":"MIN(INTERFACE!C$47,INTERFACE!F798)","v":{"$error":"#VALUE!"}},{"$f":"100-INTERFACE!B798","v":{"$error":"#VALUE!"}},null,{"$f":"INTERFACE!E797+12/1200","v":7.4699999999998852},{"$f":"((INTERFACE!C$11)/((10^-(INTERFACE!E798))+(INTERFACE!C$11)))*100","v":{"$error":"#VALUE!"}},{"$f":"100-INTERFACE!F798","v":{"$error":"#VALUE!"}}]
[{"$f":"(MIN(INTERFACE!AD$15,INTERFACE!E799))","v":0},{"$f":"MIN(INTERFACE!C$47,INTERFACE!F799)","v":{"$error":"#VALUE!"}},{"$f":"100-INTERFACE!B799","v":{"$error":"#VALUE!"}},null,{"$f":"INTERFACE!E798+12/1200","v":7.479999999999885},{"$f":"((INTERFACE!C$11)/((10^-(INTERFACE!E799))+(INTERFACE!C$11)))*100","v":{"$error":"#VALUE!"}},{"$f":"100-INTERFACE!F799","v":{"$error":"#VALUE!"}}]
[{"$f":"(MIN(INTERFACE!AD$15,INTERFACE!E800))","v":0},{"$f":"MIN(INTERFACE!C$47,INTERFACE!F800)","v":{"$error":"#VALUE!"}},{"$f":"100-INTERFACE!B800","v":{"$error":"#VALUE!"}},null,{"$f":"INTERFACE!E799+12/1200","v":7.4899999999998847},{"$f":"((INTERFACE!C$11)/((10^-(INTERFACE!E800))+(INTERFACE!C$11)))*100","v":{"$error":"#VALUE!"}},{"$f":"100-INTERFACE!F800","v":{"$error":"#VALUE!"}}]
[{"$f":"(MIN(INTERFACE!AD$15,INTERFACE!E801))","v":0},{"$f":"MIN(INTERFACE!C$47,INTERFACE!F801)","v":{"$error":"#VALUE!"}},{"$f":"100-INTERFACE!B801","v":{"$error":"#VALUE!"}},null,{"$f":"INTERFACE!E800+12/1200","v":7.4999999999998845},{"$f":"((INTERFACE!C$11)/((10^-(INTERFACE!E801))+(INTERFACE!C$11)))*100","v":{"$error":"#VALUE!"}},{"$f":"100-INTERFACE!F801","v":{"$error":"#VALUE!"}}]
[{"$f":"(MIN(INTERFACE!AD$15,INTERFACE!E802))","v":0},{"$f":"MIN(INTERFACE!C$47,INTERFACE!F802)","v":{"$error":"#VALUE!"}},{"$f":"100-INTERFACE!B802","v":{"$error":"#VALUE!"}},null,{"$f":"INTERFACE!E801+12/1200","v":7.5099999999998843},{"$f":"((INTERFACE!C$11)/((10^-(INTERFACE!E802))+(INTERFACE!C$11)))*100","v":{"$error":"#VALUE!"}},{"$f":"100-INTERFACE!F802","v":{"$error":"#VALUE!"}}]
[{"$f":"(MIN(INTERFACE!AD$15,INTERFACE!E803))","v":0},{"$f":"MIN(INTERFACE!C$47,INTERFACE!F803)","v":{"$error":"#VALUE!"}},{"$f":"100-INTERFACE!B803","v":{"$error":"#VALUE!"}},null,{"$f":"INTERFACE!E802+12/1200","v":7.5199999999998841},{"$f":"((INTERFACE!C$11)/((10^-(INTERFACE!E803))+(INTERFACE!C$11)))*100","v":{"$error":"#VALUE!"}},{"$f":"100-INTERFACE!F803","v":{"$error":"#VALUE!"}}]
[{"$f":"(MIN(INTERFACE!AD$15,INTERFACE!E804))","v":0},{"$f":"MIN(INTERFACE!C$47,INTERFACE!F804)","v":{"$error":"#VALUE!"}},{"$f":"100-INTERFACE!B804","v":{"$error":"#VALUE!"}},null,{"$f":"INTERFACE!E803+12/1200","v":7.5299999999998839},{"$f":"((INTERFACE!C$11)/((10^-(INTERFACE!E804))+(INTERFACE!C$11)))*100","v":{"$error":"#VALUE!"}},{"$f":"100-INTERFACE!F804","v":{"$error":"#VALUE!"}}]
[{"$f":"(MIN(INTERFACE!AD$15,INTERFACE!E805))","v":0},{"$f":"MIN(INTERFACE!C$47,INTERFACE!F805)","v":{"$error":"#VALUE!"}},{"$f":"100-INTERFACE!B805","v":{"$error":"#VALUE!"}},null,{"$f":"INTERFACE!E804+12/1200","v":7.5399999999998837},{"$f":"((INTERFACE!C$11)/((10^-(INTERFACE!E805))+(INTERFACE!C$11)))*100","v":{"$error":"#VALUE!"}},{"$f":"100-INTERFACE!F805","v":{"$error":"#VALUE!"}}]
[{"$f":"(MIN(INTERFACE!AD$15,INTERFACE!E806))","v":0},{"$f":"MIN(INTERFACE!C$47,INTERFACE!F806)","v":{"$error":"#VALUE!"}},{"$f":"100-INTERFACE!B806","v":{"$error":"#VALUE!"}},null,{"$f":"INTERFACE!E805+12/1200","v":7.5499999999998835},{"$f":"((INTERFACE!C$11)/((10^-(INTERFACE!E806))+(INTERFACE!C$11)))*100","v":{"$error":"#VALUE!"}},{"$f":"100-INTERFACE!F806","v":{"$error":"#VALUE!"}}]
[{"$f":"(MIN(INTERFACE!AD$15,INTERFACE!E807))","v":0},{"$f":"MIN(INTERFACE!C$47,INTERFACE!F807)","v":{"$error":"#VALUE!"}},{"$f":"100-INTERFACE!B807","v":{"$error":"#VALUE!"}},null,{"$f":"INTERFACE!E806+12/1200","v":7.5599999999998833},{"$f":"((INTERFACE!C$11)/((10^-(INTERFACE!E807))+(INTERFACE!C$11)))*100","v":{"$error":"#VALUE!"}},{"$f":"100-INTERFACE!F807","v":{"$error":"#VALUE!"}}]
[{"$f":"(MIN(INTERFACE!AD$15,INTERFACE!E808))","v":0},{"$f":"MIN(INTERFACE!C$47,INTERFACE!F808)","v":{"$error":"#VALUE!"}},{"$f":"100-INTERFACE!B808","v":{"$error":"#VALUE!"}},null,{"$f":"INTERFACE!E807+12/1200","v":7.569999999999883},{"$f":"((INTERFACE!C$11)/((10^-(INTERFACE!E808))+(INTERFACE!C$11)))*100","v":{"$error":"#VALUE!"}},{"$f":"100-INTERFACE!F808","v":{"$error":"#VALUE!"}}]
[{"$f":"(MIN(INTERFACE!AD$15,INTERFACE!E809))","v":0},{"$f":"MIN(INTERFACE!C$47,INTERFACE!F809)","v":{"$error":"#VALUE!"}},{"$f":"100-INTERFACE!B809","v":{"$error":"#VALUE!"}},null,{"$f":"INTERFACE!E808+12/1200","v":7.5799999999998828},{"$f":"((INTERFACE!C$11)/((10^-(INTERFACE!E809))+(INTERFACE!C$11)))*100","v":{"$error":"#VALUE!"}},{"$f":"100-INTERFACE!F809","v":{"$error":"#VALUE!"}}]
[{"$f":"(MIN(INTERFACE!AD$15,INTERFACE!E810))","v":0},{"$f":"MIN(INTERFACE!C$47,INTERFACE!F810)","v":{"$error":"#VALUE!"}},{"$f":"100-INTERFACE!B810","v":{"$error":"#VALUE!"}},null,{"$f":"INTERFACE!E809+12/1200","v":7.5899999999998826},{"$f":"((INTERFACE!C$11)/((10^-(INTERFACE!E810))+(INTERFACE!C$11)))*100","v":{"$error":"#VALUE!"}},{"$f":"100-INTERFACE!F810","v":{"$error":"#VALUE!"}}]
[{"$f":"(MIN(INTERFACE!AD$15,INTERFACE!E811))","v":0},{"$f":"MIN(INTERFACE!C$47,INTERFACE!F811)","v":{"$error":"#VALUE!"}},{"$f":"100-INTERFACE!B811","v":{"$error":"#VALUE!"}},null,{"$f":"INTERFACE!E810+12/1200","v":7.5999999999998824},{"$f":"((INTERFACE!C$11)/((10^-(INTERFACE!E811))+(INTERFACE!C$11)))*100","v":{"$error":"#VALUE!"}},{"$f":"100-INTERFACE!F811","v":{"$error":"#VALUE!"}}]
[{"$f":"(MIN(INTERFACE!AD$15,INTERFACE!E812))","v":0},{"$f":"MIN(INTERFACE!C$47,INTERFACE!F812)","v":{"$error":"#VALUE!"}},{"$f":"100-INTERFACE!B812","v":{"$error":"#VALUE!"}},null,{"$f":"INTERFACE!E811+12/1200","v":7.6099999999998822},{"$f":"((INTERFACE!C$11)/((10^-(INTERFACE!E812))+(INTERFACE!C$11)))*100","v":{"$error":"#VALUE!"}},{"$f":"100-INTERFACE!F812","v":{"$error":"#VALUE!"}}]
[{"$f":"(MIN(INTERFACE!AD$15,INTERFACE!E813))","v":0},{"$f":"MIN(INTERFACE!C$47,INTERFACE!F813)","v":{"$error":"#VALUE!"}},{"$f":"100-INTERFACE!B813","v":{"$error":"#VALUE!"}},null,{"$f":"INTERFACE!E812+12/1200","v":7.619999999999882},{"$f":"((INTERFACE!C$11)/((10^-(INTERFACE!E813))+(INTERFACE!C$11)))*100","v":{"$error":"#VALUE!"}},{"$f":"100-INTERFACE!F813","v":{"$error":"#VALUE!"}}]
[{"$f":"(MIN(INTERFACE!AD$15,INTERFACE!E814))","v":0},{"$f":"MIN(INTERFACE!C$47,INTERFACE!F814)","v":{"$error":"#VALUE!"}},{"$f":"100-INTERFACE!B814","v":{"$error":"#VALUE!"}},null,{"$f":"INTERFACE!E813+12/1200","v":7.6299999999998818},{"$f":"((INTERFACE!C$11)/((10^-(INTERFACE!E814))+(INTERFACE!C$11)))*100","v":{"$error":"#VALUE!"}},{"$f":"100-INTERFACE!F814","v":{"$error":"#VALUE!"}}]
[{"$f":"(MIN(INTERFACE!AD$15,INTERFACE!E815))","v":0},{"$f":"MIN(INTERFACE!C$47,INTERFACE!F815)","v":{"$error":"#VALUE!"}},{"$f":"100-INTERFACE!B815","v":{"$error":"#VALUE!"}},null,{"$f":"INTERFACE!E814+12/1200","v":7.6399999999998816},{"$f":"((INTERFACE!C$11)/((10^-(INTERFACE!E815))+(INTERFACE!C$11)))*100","v":{"$error":"#VALUE!"}},{"$f":"100-INTERFACE!F815","v":{"$error":"#VALUE!"}}]
[{"$f":"(MIN(INTERFACE!AD$15,INTERFACE!E816))","v":0},{"$f":"MIN(INTERFACE!C$47,INTERFACE!F816)","v":{"$error":"#VALUE!"}},{"$f":"100-INTERFACE!B816","v":{"$error":"#VALUE!"}},null,{"$f":"INTERFACE!E815+12/1200","v":7.6499999999998813},{"$f":"((INTERFACE!C$11)/((10^-(INTERFACE!E816))+(INTERFACE!C$11)))*100","v":{"$error":"#VALUE!"}},{"$f":"100-INTERFACE!F816","v":{"$error":"#VALUE!"}}]
[{"$f":"(MIN(INTERFACE!AD$15,INTERFACE!E817))","v":0},{"$f":"MIN(INTERFACE!C$47,INTERFACE!F817)","v":{"$error":"#VALUE!"}},{"$f":"100-INTERFACE!B817","v":{"$error":"#VALUE!"}},null,{"$f":"INTERFACE!E816+12/1200","v":7.6599999999998811},{"$f":"((INTERFACE!C$11)/((10^-(INTERFACE!E817))+(INTERFACE!C$11)))*100","v":{"$error":"#VALUE!"}},{"$f":"100-INTERFACE!F817","v":{"$error":"#VALUE!"}}]
[{"$f":"(MIN(INTERFACE!AD$15,INTERFACE!E818))","v":0},{"$f":"MIN(INTERFACE!C$47,INTERFACE!F818)","v":{"$error":"#VALUE!"}},{"$f":"100-INTERFACE!B818","v":{"$error":"#VALUE!"}},null,{"$f":"INTERFACE!E817+12/1200","v":7.6699999999998809},{"$f":"((INTERFACE!C$11)/((10^-(INTERFACE!E818))+(INTERFACE!C$11)))*100","v":{"$error":"#VALUE!"}},{"$f":"100-INTERFACE!F818","v":{"$error":"#VALUE!"}}]
[{"$f":"(MIN(INTERFACE!AD$15,INTERFACE!E819))","v":0},{"$f":"MIN(INTERFACE!C$47,INTERFACE!F819)","v":{"$error":"#VALUE!"}},{"$f":"100-INTERFACE!B819","v":{"$error":"#VALUE!"}},null,{"$f":"INTERFACE!E818+12/1200","v":7.6799999999998807},{"$f":"((INTERFACE!C$11)/((10^-(INTERFACE!E819))+(INTERFACE!C$11)))*100","v":{"$error":"#VALUE!"}},{"$f":"100-INTERFACE!F819","v":{"$error":"#VALUE!"}}]
[{"$f":"(MIN(INTERFACE!AD$15,INTERFACE!E820))","v":0},{"$f":"MIN(INTERFACE!C$47,INTERFACE!F820)","v":{"$error":"#VALUE!"}},{"$f":"100-INTERFACE!B820","v":{"$error":"#VALUE!"}},null,{"$f":"INTERFACE!E819+12/1200","v":7.6899999999998805},{"$f":"((INTERFACE!C$11)/((10^-(INTERFACE!E820))+(INTERFACE!C$11)))*100","v":{"$error":"#VALUE!"}},{"$f":"100-INTERFACE!F820","v":{"$error":"#VALUE!"}}]
[{"$f":"(MIN(INTERFACE!AD$15,INTERFACE!E821))","v":0},{"$f":"MIN(INTERFACE!C$47,INTERFACE!F821)","v":{"$error":"#VALUE!"}},{"$f":"100-INTERFACE!B821","v":{"$error":"#VALUE!"}},null,{"$f":"INTERFACE!E820+12/1200","v":7.6999999999998803},{"$f":"((INTERFACE!C$11)/((10^-(INTERFACE!E821))+(INTERFACE!C$11)))*100","v":{"$error":"#VALUE!"}},{"$f":"100-INTERFACE!F821","v":{"$error":"#VALUE!"}}]
[{"$f":"(MIN(INTERFACE!AD$15,INTERFACE!E822))","v":0},{"$f":"MIN(INTERFACE!C$47,INTERFACE!F822)","v":{"$error":"#VALUE!"}},{"$f":"100-INTERFACE!B822","v":{"$error":"#VALUE!"}},null,{"$f":"INTERFACE!E821+12/1200","v":7.7099999999998801},{"$f":"((INTERFACE!C$11)/((10^-(INTERFACE!E822))+(INTERFACE!C$11)))*100","v":{"$error":"#VALUE!"}},{"$f":"100-INTERFACE!F822","v":{"$error":"#VALUE!"}}]
[{"$f":"(MIN(INTERFACE!AD$15,INTERFACE!E823))","v":0},{"$f":"MIN(INTERFACE!C$47,INTERFACE!F823)","v":{"$error":"#VALUE!"}},{"$f":"100-INTERFACE!B823","v":{"$error":"#VALUE!"}},null,{"$f":"INTERFACE!E822+12/1200","v":7.7199999999998798},{"$f":"((INTERFACE!C$11)/((10^-(INTERFACE!E823))+(INTERFACE!C$11)))*100","v":{"$error":"#VALUE!"}},{"$f":"100-INTERFACE!F823","v":{"$error":"#VALUE!"}}]
[{"$f":"(MIN(INTERFACE!AD$15,INTERFACE!E824))","v":0},{"$f":"MIN(INTERFACE!C$47,INTERFACE!F824)","v":{"$error":"#VALUE!"}},{"$f":"100-INTERFACE!B824","v":{"$error":"#VALUE!"}},null,{"$f":"INTERFACE!E823+12/1200","v":7.7299999999998796},{"$f":"((INTERFACE!C$11)/((10^-(INTERFACE!E824))+(INTERFACE!C$11)))*100","v":{"$error":"#VALUE!"}},{"$f":"100-INTERFACE!F824","v":{"$error":"#VALUE!"}}]
[{"$f":"(MIN(INTERFACE!AD$15,INTERFACE!E825))","v":0},{"$f":"MIN(INTERFACE!C$47,INTERFACE!F825)","v":{"$error":"#VALUE!"}},{"$f":"100-INTERFACE!B825","v":{"$error":"#VALUE!"}},null,{"$f":"INTERFACE!E824+12/1200","v":7.7399999999998794},{"$f":"((INTERFACE!C$11)/((10^-(INTERFACE!E825))+(INTERFACE!C$11)))*100","v":{"$error":"#VALUE!"}},{"$f":"100-INTERFACE!F825","v":{"$error":"#VALUE!"}}]
[{"$f":"(MIN(INTERFACE!AD$15,INTERFACE!E826))","v":0},{"$f":"MIN(INTERFACE!C$47,INTERFACE!F826)","v":{"$error":"#VALUE!"}},{"$f":"100-INTERFACE!B826","v":{"$error":"#VALUE!"}},null,{"$f":"INTERFACE!E825+12/1200","v":7.7499999999998792},{"$f":"((INTERFACE!C$11)/((10^-(INTERFACE!E826))+(INTERFACE!C$11)))*100","v":{"$error":"#VALUE!"}},{"$f":"100-INTERFACE!F826","v":{"$error":"#VALUE!"}}]
[{"$f":"(MIN(INTERFACE!AD$15,INTERFACE!E827))","v":0},{"$f":"MIN(INTERFACE!C$47,INTERFACE!F827)","v":{"$error":"#VALUE!"}},{"$f":"100-INTERFACE!B827","v":{"$error":"#VALUE!"}},null,{"$f":"INTERFACE!E826+12/1200","v":7.759999999999879},{"$f":"((INTERFACE!C$11)/((10^-(INTERFACE!E827))+(INTERFACE!C$11)))*100","v":{"$error":"#VALUE!"}},{"$f":"100-INTERFACE!F827","v":{"$error":"#VALUE!"}}]
[{"$f":"(MIN(INTERFACE!AD$15,INTERFACE!E828))","v":0},{"$f":"MIN(INTERFACE!C$47,INTERFACE!F828)","v":{"$error":"#VALUE!"}},{"$f":"100-INTERFACE!B828","v":{"$error":"#VALUE!"}},null,{"$f":"INTERFACE!E827+12/1200","v":7.7699999999998788},{"$f":"((INTERFACE!C$11)/((10^-(INTERFACE!E828))+(INTERFACE!C$11)))*100","v":{"$error":"#VALUE!"}},{"$f":"100-INTERFACE!F828","v":{"$error":"#VALUE!"}}]
[{"$f":"(MIN(INTERFACE!AD$15,INTERFACE!E829))","v":0},{"$f":"MIN(INTERFACE!C$47,INTERFACE!F829)","v":{"$error":"#VALUE!"}},{"$f":"100-INTERFACE!B829","v":{"$error":"#VALUE!"}},null,{"$f":"INTERFACE!E828+12/1200","v":7.7799999999998786},{"$f":"((INTERFACE!C$11)/((10^-(INTERFACE!E829))+(INTERFACE!C$11)))*100","v":{"$error":"#VALUE!"}},{"$f":"100-INTERFACE!F829","v":{"$error":"#VALUE!"}}]
[{"$f":"(MIN(INTERFACE!AD$15,INTERFACE!E830))","v":0},{"$f":"MIN(INTERFACE!C$47,INTERFACE!F830)","v":{"$error":"#VALUE!"}},{"$f":"100-INTERFACE!B830","v":{"$error":"#VALUE!"}},null,{"$f":"INTERFACE!E829+12/1200","v":7.7899999999998784},{"$f":"((INTERFACE!C$11)/((10^-(INTERFACE!E830))+(INTERFACE!C$11)))*100","v":{"$error":"#VALUE!"}},{"$f":"100-INTERFACE!F830","v":{"$error":"#VALUE!"}}]
[{"$f":"(MIN(INTERFACE!AD$15,INTERFACE!E831))","v":0},{"$f":"MIN(INTERFACE!C$47,INTERFACE!F831)","v":{"$error":"#VALUE!"}},{"$f":"100-INTERFACE!B831","v":{"$error":"#VALUE!"}},null,{"$f":"INTERFACE!E830+12/1200","v":7.7999999999998781},{"$f":"((INTERFACE!C$11)/((10^-(INTERFACE!E831))+(INTERFACE!C$11)))*100","v":{"$error":"#VALUE!"}},{"$f":"100-INTERFACE!F831","v":{"$error":"#VALUE!"}}]
[{"$f":"(MIN(INTERFACE!AD$15,INTERFACE!E832))","v":0},{"$f":"MIN(INTERFACE!C$47,INTERFACE!F832)","v":{"$error":"#VALUE!"}},{"$f":"100-INTERFACE!B832","v":{"$error":"#VALUE!"}},null,{"$f":"INTERFACE!E831+12/1200","v":7.8099999999998779},{"$f":"((INTERFACE!C$11)/((10^-(INTERFACE!E832))+(INTERFACE!C$11)))*100","v":{"$error":"#VALUE!"}},{"$f":"100-INTERFACE!F832","v":{"$error":"#VALUE!"}}]
[{"$f":"(MIN(INTERFACE!AD$15,INTERFACE!E833))","v":0},{"$f":"MIN(INTERFACE!C$47,INTERFACE!F833)","v":{"$error":"#VALUE!"}},{"$f":"100-INTERFACE!B833","v":{"$error":"#VALUE!"}},null,{"$f":"INTERFACE!E832+12/1200","v":7.8199999999998777},{"$f":"((INTERFACE!C$11)/((10^-(INTERFACE!E833))+(INTERFACE!C$11)))*100","v":{"$error":"#VALUE!"}},{"$f":"100-INTERFACE!F833","v":{"$error":"#VALUE!"}}]
[{"$f":"(MIN(INTERFACE!AD$15,INTERFACE!E834))","v":0},{"$f":"MIN(INTERFACE!C$47,INTERFACE!F834)","v":{"$error":"#VALUE!"}},{"$f":"100-INTERFACE!B834","v":{"$error":"#VALUE!"}},null,{"$f":"INTERFACE!E833+12/1200","v":7.8299999999998775},{"$f":"((INTERFACE!C$11)/((10^-(INTERFACE!E834))+(INTERFACE!C$11)))*100","v":{"$error":"#VALUE!"}},{"$f":"100-INTERFACE!F834","v":{"$error":"#VALUE!"}}]
[{"$f":"(MIN(INTERFACE!AD$15,INTERFACE!E835))","v":0},{"$f":"MIN(INTERFACE!C$47,INTERFACE!F835)","v":{"$error":"#VALUE!"}},{"$f":"100-INTERFACE!B835","v":{"$error":"#VALUE!"}},null,{"$f":"INTERFACE!E834+12/1200","v":7.8399999999998773},{"$f":"((INTERFACE!C$11)/((10^-(INTERFACE!E835))+(INTERFACE!C$11)))*100","v":{"$error":"#VALUE!"}},{"$f":"100-INTERFACE!F835","v":{"$error":"#VALUE!"}}]
[{"$f":"(MIN(INTERFACE!AD$15,INTERFACE!E836))","v":0},{"$f":"MIN(INTERFACE!C$47,INTERFACE!F836)","v":{"$error":"#VALUE!"}},{"$f":"100-INTERFACE!B836","v":{"$error":"#VALUE!"}},null,{"$f":"INTERFACE!E835+12/1200","v":7.8499999999998771},{"$f":"((INTERFACE!C$11)/((10^-(INTERFACE!E836))+(INTERFACE!C$11)))*100","v":{"$error":"#VALUE!"}},{"$f":"100-INTERFACE!F836","v":{"$error":"#VALUE!"}}]
[{"$f":"(MIN(INTERFACE!AD$15,INTERFACE!E837))","v":0},{"$f":"MIN(INTERFACE!C$47,INTERFACE!F837)","v":{"$error":"#VALUE!"}},{"$f":"100-INTERFACE!B837","v":{"$error":"#VALUE!"}},null,{"$f":"INTERFACE!E836+12/1200","v":7.8599999999998769},{"$f":"((INTERFACE!C$11)/((10^-(INTERFACE!E837))+(INTERFACE!C$11)))*100","v":{"$error":"#VALUE!"}},{"$f":"100-INTERFACE!F837","v":{"$error":"#VALUE!"}}]
[{"$f":"(MIN(INTERFACE!AD$15,INTERFACE!E838))","v":0},{"$f":"MIN(INTERFACE!C$47,INTERFACE!F838)","v":{"$error":"#VALUE!"}},{"$f":"100-INTERFACE!B838","v":{"$error":"#VALUE!"}},null,{"$f":"INTERFACE!E837+12/1200","v":7.8699999999998766},{"$f":"((INTERFACE!C$11)/((10^-(INTERFACE!E838))+(INTERFACE!C$11)))*100","v":{"$error":"#VALUE!"}},{"$f":"100-INTERFACE!F838","v":{"$error":"#VALUE!"}}]
[{"$f":"(MIN(INTERFACE!AD$15,INTERFACE!E839))","v":0},{"$f":"MIN(INTERFACE!C$47,INTERFACE!F839)","v":{"$error":"#VALUE!"}},{"$f":"100-INTERFACE!B839","v":{"$error":"#VALUE!"}},null,{"$f":"INTERFACE!E838+12/1200","v":7.8799999999998764},{"$f":"((INTERFACE!C$11)/((10^-(INTERFACE!E839))+(INTERFACE!C$11)))*100","v":{"$error":"#VALUE!"}},{"$f":"100-INTERFACE!F839","v":{"$error":"#VALUE!"}}]
[{"$f":"(MIN(INTERFACE!AD$15,INTERFACE!E840))","v":0},{"$f":"MIN(INTERFACE!C$47,INTERFACE!F840)","v":{"$error":"#VALUE!"}},{"$f":"100-INTERFACE!B840","v":{"$error":"#VALUE!"}},null,{"$f":"INTERFACE!E839+12/1200","v":7.8899999999998762},{"$f":"((INTERFACE!C$11)/((10^-(INTERFACE!E840))+(INTERFACE!C$11)))*100","v":{"$error":"#VALUE!"}},{"$f":"100-INTERFACE!F840","v":{"$error":"#VALUE!"}}]
[{"$f":"(MIN(INTERFACE!AD$15,INTERFACE!E841))","v":0},{"$f":"MIN(INTERFACE!C$47,INTERFACE!F841)","v":{"$error":"#VALUE!"}},{"$f":"100-INTERFACE!B841","v":{"$error":"#VALUE!"}},null,{"$f":"INTERFACE!E840+12/1200","v":7.899999999999876},{"$f":"((INTERFACE!C$11)/((10^-(INTERFACE!E841))+(INTERFACE!C$11)))*100","v":{"$error":"#VALUE!"}},{"$f":"100-INTERFACE!F841","v":{"$error":"#VALUE!"}}]
[{"$f":"(MIN(INTERFACE!AD$15,INTERFACE!E842))","v":0},{"$f":"MIN(INTERFACE!C$47,INTERFACE!F842)","v":{"$error":"#VALUE!"}},{"$f":"100-INTERFACE!B842","v":{"$error":"#VALUE!"}},null,{"$f":"INTERFACE!E841+12/1200","v":7.9099999999998758},{"$f":"((INTERFACE!C$11)/((10^-(INTERFACE!E842))+(INTERFACE!C$11)))*100","v":{"$error":"#VALUE!"}},{"$f":"100-INTERFACE!F842","v":{"$error":"#VALUE!"}}]
[{"$f":"(MIN(INTERFACE!AD$15,INTERFACE!E843))","v":0},{"$f":"MIN(INTERFACE!C$47,INTERFACE!F843)","v":{"$error":"#VALUE!"}},{"$f":"100-INTERFACE!B843","v":{"$error":"#VALUE!"}},null,{"$f":"INTERFACE!E842+12/1200","v":7.9199999999998756},{"$f":"((INTERFACE!C$11)/((10^-(INTERFACE!E843))+(INTERFACE!C$11)))*100","v":{"$error":"#VALUE!"}},{"$f":"100-INTERFACE!F843","v":{"$error":"#VALUE!"}}]
[{"$f":"(MIN(INTERFACE!AD$15,INTERFACE!E844))","v":0},{"$f":"MIN(INTERFACE!C$47,INTERFACE!F844)","v":{"$error":"#VALUE!"}},{"$f":"100-INTERFACE!B844","v":{"$error":"#VALUE!"}},null,{"$f":"INTERFACE!E843+12/1200","v":7.9299999999998754},{"$f":"((INTERFACE!C$11)/((10^-(INTERFACE!E844))+(INTERFACE!C$11)))*100","v":{"$error":"#VALUE!"}},{"$f":"100-INTERFACE!F844","v":{"$error":"#VALUE!"}}]
[{"$f":"(MIN(INTERFACE!AD$15,INTERFACE!E845))","v":0},{"$f":"MIN(INTERFACE!C$47,INTERFACE!F845)","v":{"$error":"#VALUE!"}},{"$f":"100-INTERFACE!B845","v":{"$error":"#VALUE!"}},null,{"$f":"INTERFACE!E844+12/1200","v":7.9399999999998752},{"$f":"((INTERFACE!C$11)/((10^-(INTERFACE!E845))+(INTERFACE!C$11)))*100","v":{"$error":"#VALUE!"}},{"$f":"100-INTERFACE!F845","v":{"$error":"#VALUE!"}}]
[{"$f":"(MIN(INTERFACE!AD$15,INTERFACE!E846))","v":0},{"$f":"MIN(INTERFACE!C$47,INTERFACE!F846)","v":{"$error":"#VALUE!"}},{"$f":"100-INTERFACE!B846","v":{"$error":"#VALUE!"}},null,{"$f":"INTERFACE!E845+12/1200","v":7.9499999999998749},{"$f":"((INTERFACE!C$11)/((10^-(INTERFACE!E846))+(INTERFACE!C$11)))*100","v":{"$error":"#VALUE!"}},{"$f":"100-INTERFACE!F846","v":{"$error":"#VALUE!"}}]
[{"$f":"(MIN(INTERFACE!AD$15,INTERFACE!E847))","v":0},{"$f":"MIN(INTERFACE!C$47,INTERFACE!F847)","v":{"$error":"#VALUE!"}},{"$f":"100-INTERFACE!B847","v":{"$error":"#VALUE!"}},null,{"$f":"INTERFACE!E846+12/1200","v":7.9599999999998747},{"$f":"((INTERFACE!C$11)/((10^-(INTERFACE!E847))+(INTERFACE!C$11)))*100","v":{"$error":"#VALUE!"}},{"$f":"100-INTERFACE!F847","v":{"$error":"#VALUE!"}}]
[{"$f":"(MIN(INTERFACE!AD$15,INTERFACE!E848))","v":0},{"$f":"MIN(INTERFACE!C$47,INTERFACE!F848)","v":{"$error":"#VALUE!"}},{"$f":"100-INTERFACE!B848","v":{"$error":"#VALUE!"}},null,{"$f":"INTERFACE!E847+12/1200","v":7.9699999999998745},{"$f":"((INTERFACE!C$11)/((10^-(INTERFACE!E848))+(INTERFACE!C$11)))*100","v":{"$error":"#VALUE!"}},{"$f":"100-INTERFACE!F848","v":{"$error":"#VALUE!"}}]
[{"$f":"(MIN(INTERFACE!AD$15,INTERFACE!E849))","v":0},{"$f":"MIN(INTERFACE!C$47,INTERFACE!F849)","v":{"$error":"#VALUE!"}},{"$f":"100-INTERFACE!B849","v":{"$error":"#VALUE!"}},null,{"$f":"INTERFACE!E848+12/1200","v":7.9799999999998743},{"$f":"((INTERFACE!C$11)/((10^-(INTERFACE!E849))+(INTERFACE!C$11)))*100","v":{"$error":"#VALUE!"}},{"$f":"100-INTERFACE!F849","v":{"$error":"#VALUE!"}}]
[{"$f":"(MIN(INTERFACE!AD$15,INTERFACE!E850))","v":0},{"$f":"MIN(INTERFACE!C$47,INTERFACE!F850)","v":{"$error":"#VALUE!"}},{"$f":"100-INTERFACE!B850","v":{"$error":"#VALUE!"}},null,{"$f":"INTERFACE!E849+12/1200","v":7.9899999999998741},{"$f":"((INTERFACE!C$11)/((10^-(INTERFACE!E850))+(INTERFACE!C$11)))*100","v":{"$error":"#VALUE!"}},{"$f":"100-INTERFACE!F850","v":{"$error":"#VALUE!"}}]
[{"$f":"(MIN(INTERFACE!AD$15,INTERFACE!E851))","v":0},{"$f":"MIN(INTERFACE!C$47,INTERFACE!F851)","v":{"$error":"#VALUE!"}},{"$f":"100-INTERFACE!B851","v":{"$error":"#VALUE!"}},null,{"$f":"INTERFACE!E850+12/1200","v":7.9999999999998739},{"$f":"((INTERFACE!C$11)/((10^-(INTERFACE!E851))+(INTERFACE!C$11)))*100","v":{"$error":"#VALUE!"}},{"$f":"100-INTERFACE!F851","v":{"$error":"#VALUE!"}}]
[{"$f":"(MIN(INTERFACE!AD$15,INTERFACE!E852))","v":0},{"$f":"MIN(INTERFACE!C$47,INTERFACE!F852)","v":{"$error":"#VALUE!"}},{"$f":"100-INTERFACE!B852","v":{"$error":"#VALUE!"}},null,{"$f":"INTERFACE!E851+12/1200","v":8.0099999999998737},{"$f":"((INTERFACE!C$11)/((10^-(INTERFACE!E852))+(INTERFACE!C$11)))*100","v":{"$error":"#VALUE!"}},{"$f":"100-INTERFACE!F852","v":{"$error":"#VALUE!"}}]
[{"$f":"(MIN(INTERFACE!AD$15,INTERFACE!E853))","v":0},{"$f":"MIN(INTERFACE!C$47,INTERFACE!F853)","v":{"$error":"#VALUE!"}},{"$f":"100-INTERFACE!B853","v":{"$error":"#VALUE!"}},null,{"$f":"INTERFACE!E852+12/1200","v":8.0199999999998735},{"$f":"((INTERFACE!C$11)/((10^-(INTERFACE!E853))+(INTERFACE!C$11)))*100","v":{"$error":"#VALUE!"}},{"$f":"100-INTERFACE!F853","v":{"$error":"#VALUE!"}}]
[{"$f":"(MIN(INTERFACE!AD$15,INTERFACE!E854))","v":0},{"$f":"MIN(INTERFACE!C$47,INTERFACE!F854)","v":{"$error":"#VALUE!"}},{"$f":"100-INTERFACE!B854","v":{"$error":"#VALUE!"}},null,{"$f":"INTERFACE!E853+12/1200","v":8.0299999999998732},{"$f":"((INTERFACE!C$11)/((10^-(INTERFACE!E854))+(INTERFACE!C$11)))*100","v":{"$error":"#VALUE!"}},{"$f":"100-INTERFACE!F854","v":{"$error":"#VALUE!"}}]
[{"$f":"(MIN(INTERFACE!AD$15,INTERFACE!E855))","v":0},{"$f":"MIN(INTERFACE!C$47,INTERFACE!F855)","v":{"$error":"#VALUE!"}},{"$f":"100-INTERFACE!B855","v":{"$error":"#VALUE!"}},null,{"$f":"INTERFACE!E854+12/1200","v":8.039999999999873},{"$f":"((INTERFACE!C$11)/((10^-(INTERFACE!E855))+(INTERFACE!C$11)))*100","v":{"$error":"#VALUE!"}},{"$f":"100-INTERFACE!F855","v":{"$error":"#VALUE!"}}]
[{"$f":"(MIN(INTERFACE!AD$15,INTERFACE!E856))","v":0},{"$f":"MIN(INTERFACE!C$47,INTERFACE!F856)","v":{"$error":"#VALUE!"}},{"$f":"100-INTERFACE!B856","v":{"$error":"#VALUE!"}},null,{"$f":"INTERFACE!E855+12/1200","v":8.0499999999998728},{"$f":"((INTERFACE!C$11)/((10^-(INTERFACE!E856))+(INTERFACE!C$11)))*100","v":{"$error":"#VALUE!"}},{"$f":"100-INTERFACE!F856","v":{"$error":"#VALUE!"}}]
[{"$f":"(MIN(INTERFACE!AD$15,INTERFACE!E857))","v":0},{"$f":"MIN(INTERFACE!C$47,INTERFACE!F857)","v":{"$error":"#VALUE!"}},{"$f":"100-INTERFACE!B857","v":{"$error":"#VALUE!"}},null,{"$f":"INTERFACE!E856+12/1200","v":8.0599999999998726},{"$f":"((INTERFACE!C$11)/((10^-(INTERFACE!E857))+(INTERFACE!C$11)))*100","v":{"$error":"#VALUE!"}},{"$f":"100-INTERFACE!F857","v":{"$error":"#VALUE!"}}]
[{"$f":"(MIN(INTERFACE!AD$15,INTERFACE!E858))","v":0},{"$f":"MIN(INTERFACE!C$47,INTERFACE!F858)","v":{"$error":"#VALUE!"}},{"$f":"100-INTERFACE!B858","v":{"$error":"#VALUE!"}},null,{"$f":"INTERFACE!E857+12/1200","v":8.0699999999998724},{"$f":"((INTERFACE!C$11)/((10^-(INTERFACE!E858))+(INTERFACE!C$11)))*100","v":{"$error":"#VALUE!"}},{"$f":"100-INTERFACE!F858","v":{"$error":"#VALUE!"}}]
[{"$f":"(MIN(INTERFACE!AD$15,INTERFACE!E859))","v":0},{"$f":"MIN(INTERFACE!C$47,INTERFACE!F859)","v":{"$error":"#VALUE!"}},{"$f":"100-INTERFACE!B859","v":{"$error":"#VALUE!"}},null,{"$f":"INTERFACE!E858+12/1200","v":8.0799999999998722},{"$f":"((INTERFACE!C$11)/((10^-(INTERFACE!E859))+(INTERFACE!C$11)))*100","v":{"$error":"#VALUE!"}},{"$f":"100-INTERFACE!F859","v":{"$error":"#VALUE!"}}]
[{"$f":"(MIN(INTERFACE!AD$15,INTERFACE!E860))","v":0},{"$f":"MIN(INTERFACE!C$47,INTERFACE!F860)","v":{"$error":"#VALUE!"}},{"$f":"100-INTERFACE!B860","v":{"$error":"#VALUE!"}},null,{"$f":"INTERFACE!E859+12/1200","v":8.089999999999872},{"$f":"((INTERFACE!C$11)/((10^-(INTERFACE!E860))+(INTERFACE!C$11)))*100","v":{"$error":"#VALUE!"}},{"$f":"100-INTERFACE!F860","v":{"$error":"#VALUE!"}}]
[{"$f":"(MIN(INTERFACE!AD$15,INTERFACE!E861))","v":0},{"$f":"MIN(INTERFACE!C$47,INTERFACE!F861)","v":{"$error":"#VALUE!"}},{"$f":"100-INTERFACE!B861","v":{"$error":"#VALUE!"}},null,{"$f":"INTERFACE!E860+12/1200","v":8.0999999999998717},{"$f":"((INTERFACE!C$11)/((10^-(INTERFACE!E861))+(INTERFACE!C$11)))*100","v":{"$error":"#VALUE!"}},{"$f":"100-INTERFACE!F861","v":{"$error":"#VALUE!"}}]
[{"$f":"(MIN(INTERFACE!AD$15,INTERFACE!E862))","v":0},{"$f":"MIN(INTERFACE!C$47,INTERFACE!F862)","v":{"$error":"#VALUE!"}},{"$f":"100-INTERFACE!B862","v":{"$error":"#VALUE!"}},null,{"$f":"INTERFACE!E861+12/1200","v":8.1099999999998715},{"$f":"((INTERFACE!C$11)/((10^-(INTERFACE!E862))+(INTERFACE!C$11)))*100","v":{"$error":"#VALUE!"}},{"$f":"100-INTERFACE!F862","v":{"$error":"#VALUE!"}}]
[{"$f":"(MIN(INTERFACE!AD$15,INTERFACE!E863))","v":0},{"$f":"MIN(INTERFACE!C$47,INTERFACE!F863)","v":{"$error":"#VALUE!"}},{"$f":"100-INTERFACE!B863","v":{"$error":"#VALUE!"}},null,{"$f":"INTERFACE!E862+12/1200","v":8.1199999999998713},{"$f":"((INTERFACE!C$11)/((10^-(INTERFACE!E863))+(INTERFACE!C$11)))*100","v":{"$error":"#VALUE!"}},{"$f":"100-INTERFACE!F863","v":{"$error":"#VALUE!"}}]
[{"$f":"(MIN(INTERFACE!AD$15,INTERFACE!E864))","v":0},{"$f":"MIN(INTERFACE!C$47,INTERFACE!F864)","v":{"$error":"#VALUE!"}},{"$f":"100-INTERFACE!B864","v":{"$error":"#VALUE!"}},null,{"$f":"INTERFACE!E863+12/1200","v":8.1299999999998711},{"$f":"((INTERFACE!C$11)/((10^-(INTERFACE!E864))+(INTERFACE!C$11)))*100","v":{"$error":"#VALUE!"}},{"$f":"100-INTERFACE!F864","v":{"$error":"#VALUE!"}}]
[{"$f":"(MIN(INTERFACE!AD$15,INTERFACE!E865))","v":0},{"$f":"MIN(INTERFACE!C$47,INTERFACE!F865)","v":{"$error":"#VALUE!"}},{"$f":"100-INTERFACE!B865","v":{"$error":"#VALUE!"}},null,{"$f":"INTERFACE!E864+12/1200","v":8.1399999999998709},{"$f":"((INTERFACE!C$11)/((10^-(INTERFACE!E865))+(INTERFACE!C$11)))*100","v":{"$error":"#VALUE!"}},{"$f":"100-INTERFACE!F865","v":{"$error":"#VALUE!"}}]
[{"$f":"(MIN(INTERFACE!AD$15,INTERFACE!E866))","v":0},{"$f":"MIN(INTERFACE!C$47,INTERFACE!F866)","v":{"$error":"#VALUE!"}},{"$f":"100-INTERFACE!B866","v":{"$error":"#VALUE!"}},null,{"$f":"INTERFACE!E865+12/1200","v":8.1499999999998707},{"$f":"((INTERFACE!C$11)/((10^-(INTERFACE!E866))+(INTERFACE!C$11)))*100","v":{"$error":"#VALUE!"}},{"$f":"100-INTERFACE!F866","v":{"$error":"#VALUE!"}}]
[{"$f":"(MIN(INTERFACE!AD$15,INTERFACE!E867))","v":0},{"$f":"MIN(INTERFACE!C$47,INTERFACE!F867)","v":{"$error":"#VALUE!"}},{"$f":"100-INTERFACE!B867","v":{"$error":"#VALUE!"}},null,{"$f":"INTERFACE!E866+12/1200","v":8.1599999999998705},{"$f":"((INTERFACE!C$11)/((10^-(INTERFACE!E867))+(INTERFACE!C$11)))*100","v":{"$error":"#VALUE!"}},{"$f":"100-INTERFACE!F867","v":{"$error":"#VALUE!"}}]
[{"$f":"(MIN(INTERFACE!AD$15,INTERFACE!E868))","v":0},{"$f":"MIN(INTERFACE!C$47,INTERFACE!F868)","v":{"$error":"#VALUE!"}},{"$f":"100-INTERFACE!B868","v":{"$error":"#VALUE!"}},null,{"$f":"INTERFACE!E867+12/1200","v":8.1699999999998703},{"$f":"((INTERFACE!C$11)/((10^-(INTERFACE!E868))+(INTERFACE!C$11)))*100","v":{"$error":"#VALUE!"}},{"$f":"100-INTERFACE!F868","v":{"$error":"#VALUE!"}}]
[{"$f":"(MIN(INTERFACE!AD$15,INTERFACE!E869))","v":0},{"$f":"MIN(INTERFACE!C$47,INTERFACE!F869)","v":{"$error":"#VALUE!"}},{"$f":"100-INTERFACE!B869","v":{"$error":"#VALUE!"}},null,{"$f":"INTERFACE!E868+12/1200","v":8.17999999999987},{"$f":"((INTERFACE!C$11)/((10^-(INTERFACE!E869))+(INTERFACE!C$11)))*100","v":{"$error":"#VALUE!"}},{"$f":"100-INTERFACE!F869","v":{"$error":"#VALUE!"}}]
[{"$f":"(MIN(INTERFACE!AD$15,INTERFACE!E870))","v":0},{"$f":"MIN(INTERFACE!C$47,INTERFACE!F870)","v":{"$error":"#VALUE!"}},{"$f":"100-INTERFACE!B870","v":{"$error":"#VALUE!"}},null,{"$f":"INTERFACE!E869+12/1200","v":8.1899999999998698},{"$f":"((INTERFACE!C$11)/((10^-(INTERFACE!E870))+(INTERFACE!C$11)))*100","v":{"$error":"#VALUE!"}},{"$f":"100-INTERFACE!F870","v":{"$error":"#VALUE!"}}]
[{"$f":"(MIN(INTERFACE!AD$15,INTERFACE!E871))","v":0},{"$f":"MIN(INTERFACE!C$47,INTERFACE!F871)","v":{"$error":"#VALUE!"}},{"$f":"100-INTERFACE!B871","v":{"$error":"#VALUE!"}},null,{"$f":"INTERFACE!E870+12/1200","v":8.1999999999998696},{"$f":"((INTERFACE!C$11)/((10^-(INTERFACE!E871))+(INTERFACE!C$11)))*100","v":{"$error":"#VALUE!"}},{"$f":"100-INTERFACE!F871","v":{"$error":"#VALUE!"}}]
[{"$f":"(MIN(INTERFACE!AD$15,INTERFACE!E872))","v":0},{"$f":"MIN(INTERFACE!C$47,INTERFACE!F872)","v":{"$error":"#VALUE!"}},{"$f":"100-INTERFACE!B872","v":{"$error":"#VALUE!"}},null,{"$f":"INTERFACE!E871+12/1200","v":8.2099999999998694},{"$f":"((INTERFACE!C$11)/((10^-(INTERFACE!E872))+(INTERFACE!C$11)))*100","v":{"$error":"#VALUE!"}},{"$f":"100-INTERFACE!F872","v":{"$error":"#VALUE!"}}]
[{"$f":"(MIN(INTERFACE!AD$15,INTERFACE!E873))","v":0},{"$f":"MIN(INTERFACE!C$47,INTERFACE!F873)","v":{"$error":"#VALUE!"}},{"$f":"100-INTERFACE!B873","v":{"$error":"#VALUE!"}},null,{"$f":"INTERFACE!E872+12/1200","v":8.2199999999998692},{"$f":"((INTERFACE!C$11)/((10^-(INTERFACE!E873))+(INTERFACE!C$11)))*100","v":{"$error":"#VALUE!"}},{"$f":"100-INTERFACE!F873","v":{"$error":"#VALUE!"}}]
[{"$f":"(MIN(INTERFACE!AD$15,INTERFACE!E874))","v":0},{"$f":"MIN(INTERFACE!C$47,INTERFACE!F874)","v":{"$error":"#VALUE!"}},{"$f":"100-INTERFACE!B874","v":{"$error":"#VALUE!"}},null,{"$f":"INTERFACE!E873+12/1200","v":8.229999999999869},{"$f":"((INTERFACE!C$11)/((10^-(INTERFACE!E874))+(INTERFACE!C$11)))*100","v":{"$error":"#VALUE!"}},{"$f":"100-INTERFACE!F874","v":{"$error":"#VALUE!"}}]
[{"$f":"(MIN(INTERFACE!AD$15,INTERFACE!E875))","v":0},{"$f":"MIN(INTERFACE!C$47,INTERFACE!F875)","v":{"$error":"#VALUE!"}},{"$f":"100-INTERFACE!B875","v":{"$error":"#VALUE!"}},null,{"$f":"INTERFACE!E874+12/1200","v":8.2399999999998688},{"$f":"((INTERFACE!C$11)/((10^-(INTERFACE!E875))+(INTERFACE!C$11)))*100","v":{"$error":"#VALUE!"}},{"$f":"100-INTERFACE!F875","v":{"$error":"#VALUE!"}}]
[{"$f":"(MIN(INTERFACE!AD$15,INTERFACE!E876))","v":0},{"$f":"MIN(INTERFACE!C$47,INTERFACE!F876)","v":{"$error":"#VALUE!"}},{"$f":"100-INTERFACE!B876","v":{"$error":"#VALUE!"}},null,{"$f":"INTERFACE!E875+12/1200","v":8.2499999999998685},{"$f":"((INTERFACE!C$11)/((10^-(INTERFACE!E876))+(INTERFACE!C$11)))*100","v":{"$error":"#VALUE!"}},{"$f":"100-INTERFACE!F876","v":{"$error":"#VALUE!"}}]
[{"$f":"(MIN(INTERFACE!AD$15,INTERFACE!E877))","v":0},{"$f":"MIN(INTERFACE!C$47,INTERFACE!F877)","v":{"$error":"#VALUE!"}},{"$f":"100-INTERFACE!B877","v":{"$error":"#VALUE!"}},null,{"$f":"INTERFACE!E876+12/1200","v":8.2599999999998683},{"$f":"((INTERFACE!C$11)/((10^-(INTERFACE!E877))+(INTERFACE!C$11)))*100","v":{"$error":"#VALUE!"}},{"$f":"100-INTERFACE!F877","v":{"$error":"#VALUE!"}}]
[{"$f":"(MIN(INTERFACE!AD$15,INTERFACE!E878))","v":0},{"$f":"MIN(INTERFACE!C$47,INTERFACE!F878)","v":{"$error":"#VALUE!"}},{"$f":"100-INTERFACE!B878","v":{"$error":"#VALUE!"}},null,{"$f":"INTERFACE!E877+12/1200","v":8.2699999999998681},{"$f":"((INTERFACE!C$11)/((10^-(INTERFACE!E878))+(INTERFACE!C$11)))*100","v":{"$error":"#VALUE!"}},{"$f":"100-INTERFACE!F878","v":{"$error":"#VALUE!"}}]
[{"$f":"(MIN(INTERFACE!AD$15,INTERFACE!E879))","v":0},{"$f":"MIN(INTERFACE!C$47,INTERFACE!F879)","v":{"$error":"#VALUE!"}},{"$f":"100-INTERFACE!B879","v":{"$error":"#VALUE!"}},null,{"$f":"INTERFACE!E878+12/1200","v":8.2799999999998679},{"$f":"((INTERFACE!C$11)/((10^-(INTERFACE!E879))+(INTERFACE!C$11)))*100","v":{"$error":"#VALUE!"}},{"$f":"100-INTERFACE!F879","v":{"$error":"#VALUE!"}}]
[{"$f":"(MIN(INTERFACE!AD$15,INTERFACE!E880))","v":0},{"$f":"MIN(INTERFACE!C$47,INTERFACE!F880)","v":{"$error":"#VALUE!"}},{"$f":"100-INTERFACE!B880","v":{"$error":"#VALUE!"}},null,{"$f":"INTERFACE!E879+12/1200","v":8.2899999999998677},{"$f":"((INTERFACE!C$11)/((10^-(INTERFACE!E880))+(INTERFACE!C$11)))*100","v":{"$error":"#VALUE!"}},{"$f":"100-INTERFACE!F880","v":{"$error":"#VALUE!"}}]
[{"$f":"(MIN(INTERFACE!AD$15,INTERFACE!E881))","v":0},{"$f":"MIN(INTERFACE!C$47,INTERFACE!F881)","v":{"$error":"#VALUE!"}},{"$f":"100-INTERFACE!B881","v":{"$error":"#VALUE!"}},null,{"$f":"INTERFACE!E880+12/1200","v":8.2999999999998675},{"$f":"((INTERFACE!C$11)/((10^-(INTERFACE!E881))+(INTERFACE!C$11)))*100","v":{"$error":"#VALUE!"}},{"$f":"100-INTERFACE!F881","v":{"$error":"#VALUE!"}}]
[{"$f":"(MIN(INTERFACE!AD$15,INTERFACE!E882))","v":0},{"$f":"MIN(INTERFACE!C$47,INTERFACE!F882)","v":{"$error":"#VALUE!"}},{"$f":"100-INTERFACE!B882","v":{"$error":"#VALUE!"}},null,{"$f":"INTERFACE!E881+12/1200","v":8.3099999999998673},{"$f":"((INTERFACE!C$11)/((10^-(INTERFACE!E882))+(INTERFACE!C$11)))*100","v":{"$error":"#VALUE!"}},{"$f":"100-INTERFACE!F882","v":{"$error":"#VALUE!"}}]
[{"$f":"(MIN(INTERFACE!AD$15,INTERFACE!E883))","v":0},{"$f":"MIN(INTERFACE!C$47,INTERFACE!F883)","v":{"$error":"#VALUE!"}},{"$f":"100-INTERFACE!B883","v":{"$error":"#VALUE!"}},null,{"$f":"INTERFACE!E882+12/1200","v":8.3199999999998671},{"$f":"((INTERFACE!C$11)/((10^-(INTERFACE!E883))+(INTERFACE!C$11)))*100","v":{"$error":"#VALUE!"}},{"$f":"100-INTERFACE!F883","v":{"$error":"#VALUE!"}}]
[{"$f":"(MIN(INTERFACE!AD$15,INTERFACE!E884))","v":0},{"$f":"MIN(INTERFACE!C$47,INTERFACE!F884)","v":{"$error":"#VALUE!"}},{"$f":"100-INTERFACE!B884","v":{"$error":"#VALUE!"}},null,{"$f":"INTERFACE!E883+12/1200","v":8.3299999999998668},{"$f":"((INTERFACE!C$11)/((10^-(INTERFACE!E884))+(INTERFACE!C$11)))*100","v":{"$error":"#VALUE!"}},{"$f":"100-INTERFACE!F884","v":{"$error":"#VALUE!"}}]
[{"$f":"(MIN(INTERFACE!AD$15,INTERFACE!E885))","v":0},{"$f":"MIN(INTERFACE!C$47,INTERFACE!F885)","v":{"$error":"#VALUE!"}},{"$f":"100-INTERFACE!B885","v":{"$error":"#VALUE!"}},null,{"$f":"INTERFACE!E884+12/1200","v":8.3399999999998666},{"$f":"((INTERFACE!C$11)/((10^-(INTERFACE!E885))+(INTERFACE!C$11)))*100","v":{"$error":"#VALUE!"}},{"$f":"100-INTERFACE!F885","v":{"$error":"#VALUE!"}}]
[{"$f":"(MIN(INTERFACE!AD$15,INTERFACE!E886))","v":0},{"$f":"MIN(INTERFACE!C$47,INTERFACE!F886)","v":{"$error":"#VALUE!"}},{"$f":"100-INTERFACE!B886","v":{"$error":"#VALUE!"}},null,{"$f":"INTERFACE!E885+12/1200","v":8.3499999999998664},{"$f":"((INTERFACE!C$11)/((10^-(INTERFACE!E886))+(INTERFACE!C$11)))*100","v":{"$error":"#VALUE!"}},{"$f":"100-INTERFACE!F886","v":{"$error":"#VALUE!"}}]
[{"$f":"(MIN(INTERFACE!AD$15,INTERFACE!E887))","v":0},{"$f":"MIN(INTERFACE!C$47,INTERFACE!F887)","v":{"$error":"#VALUE!"}},{"$f":"100-INTERFACE!B887","v":{"$error":"#VALUE!"}},null,{"$f":"INTERFACE!E886+12/1200","v":8.3599999999998662},{"$f":"((INTERFACE!C$11)/((10^-(INTERFACE!E887))+(INTERFACE!C$11)))*100","v":{"$error":"#VALUE!"}},{"$f":"100-INTERFACE!F887","v":{"$error":"#VALUE!"}}]
[{"$f":"(MIN(INTERFACE!AD$15,INTERFACE!E888))","v":0},{"$f":"MIN(INTERFACE!C$47,INTERFACE!F888)","v":{"$error":"#VALUE!"}},{"$f":"100-INTERFACE!B888","v":{"$error":"#VALUE!"}},null,{"$f":"INTERFACE!E887+12/1200","v":8.369999999999866},{"$f":"((INTERFACE!C$11)/((10^-(INTERFACE!E888))+(INTERFACE!C$11)))*100","v":{"$error":"#VALUE!"}},{"$f":"100-INTERFACE!F888","v":{"$error":"#VALUE!"}}]
[{"$f":"(MIN(INTERFACE!AD$15,INTERFACE!E889))","v":0},{"$f":"MIN(INTERFACE!C$47,INTERFACE!F889)","v":{"$error":"#VALUE!"}},{"$f":"100-INTERFACE!B889","v":{"$error":"#VALUE!"}},null,{"$f":"INTERFACE!E888+12/1200","v":8.3799999999998658},{"$f":"((INTERFACE!C$11)/((10^-(INTERFACE!E889))+(INTERFACE!C$11)))*100","v":{"$error":"#VALUE!"}},{"$f":"100-INTERFACE!F889","v":{"$error":"#VALUE!"}}]
[{"$f":"(MIN(INTERFACE!AD$15,INTERFACE!E890))","v":0},{"$f":"MIN(INTERFACE!C$47,INTERFACE!F890)","v":{"$error":"#VALUE!"}},{"$f":"100-INTERFACE!B890","v":{"$error":"#VALUE!"}},null,{"$f":"INTERFACE!E889+12/1200","v":8.3899999999998656},{"$f":"((INTERFACE!C$11)/((10^-(INTERFACE!E890))+(INTERFACE!C$11)))*100","v":{"$error":"#VALUE!"}},{"$f":"100-INTERFACE!F890","v":{"$error":"#VALUE!"}}]
[{"$f":"(MIN(INTERFACE!AD$15,INTERFACE!E891))","v":0},{"$f":"MIN(INTERFACE!C$47,INTERFACE!F891)","v":{"$error":"#VALUE!"}},{"$f":"100-INTERFACE!B891","v":{"$error":"#VALUE!"}},null,{"$f":"INTERFACE!E890+12/1200","v":8.3999999999998654},{"$f":"((INTERFACE!C$11)/((10^-(INTERFACE!E891))+(INTERFACE!C$11)))*100","v":{"$error":"#VALUE!"}},{"$f":"100-INTERFACE!F891","v":{"$error":"#VALUE!"}}]
[{"$f":"(MIN(INTERFACE!AD$15,INTERFACE!E892))","v":0},{"$f":"MIN(INTERFACE!C$47,INTERFACE!F892)","v":{"$error":"#VALUE!"}},{"$f":"100-INTERFACE!B892","v":{"$error":"#VALUE!"}},null,{"$f":"INTERFACE!E891+12/1200","v":8.4099999999998651},{"$f":"((INTERFACE!C$11)/((10^-(INTERFACE!E892))+(INTERFACE!C$11)))*100","v":{"$error":"#VALUE!"}},{"$f":"100-INTERFACE!F892","v":{"$error":"#VALUE!"}}]
[{"$f":"(MIN(INTERFACE!AD$15,INTERFACE!E893))","v":0},{"$f":"MIN(INTERFACE!C$47,INTERFACE!F893)","v":{"$error":"#VALUE!"}},{"$f":"100-INTERFACE!B893","v":{"$error":"#VALUE!"}},null,{"$f":"INTERFACE!E892+12/1200","v":8.4199999999998649},{"$f":"((INTERFACE!C$11)/((10^-(INTERFACE!E893))+(INTERFACE!C$11)))*100","v":{"$error":"#VALUE!"}},{"$f":"100-INTERFACE!F893","v":{"$error":"#VALUE!"}}]
[{"$f":"(MIN(INTERFACE!AD$15,INTERFACE!E894))","v":0},{"$f":"MIN(INTERFACE!C$47,INTERFACE!F894)","v":{"$error":"#VALUE!"}},{"$f":"100-INTERFACE!B894","v":{"$error":"#VALUE!"}},null,{"$f":"INTERFACE!E893+12/1200","v":8.4299999999998647},{"$f":"((INTERFACE!C$11)/((10^-(INTERFACE!E894))+(INTERFACE!C$11)))*100","v":{"$error":"#VALUE!"}},{"$f":"100-INTERFACE!F894","v":{"$error":"#VALUE!"}}]
[{"$f":"(MIN(INTERFACE!AD$15,INTERFACE!E895))","v":0},{"$f":"MIN(INTERFACE!C$47,INTERFACE!F895)","v":{"$error":"#VALUE!"}},{"$f":"100-INTERFACE!B895","v":{"$error":"#VALUE!"}},null,{"$f":"INTERFACE!E894+12/1200","v":8.4399999999998645},{"$f":"((INTERFACE!C$11)/((10^-(INTERFACE!E895))+(INTERFACE!C$11)))*100","v":{"$error":"#VALUE!"}},{"$f":"100-INTERFACE!F895","v":{"$error":"#VALUE!"}}]
[{"$f":"(MIN(INTERFACE!AD$15,INTERFACE!E896))","v":0},{"$f":"MIN(INTERFACE!C$47,INTERFACE!F896)","v":{"$error":"#VALUE!"}},{"$f":"100-INTERFACE!B896","v":{"$error":"#VALUE!"}},null,{"$f":"INTERFACE!E895+12/1200","v":8.4499999999998643},{"$f":"((INTERFACE!C$11)/((10^-(INTERFACE!E896))+(INTERFACE!C$11)))*100","v":{"$error":"#VALUE!"}},{"$f":"100-INTERFACE!F896","v":{"$error":"#VALUE!"}}]
[{"$f":"(MIN(INTERFACE!AD$15,INTERFACE!E897))","v":0},{"$f":"MIN(INTERFACE!C$47,INTERFACE!F897)","v":{"$error":"#VALUE!"}},{"$f":"100-INTERFACE!B897","v":{"$error":"#VALUE!"}},null,{"$f":"INTERFACE!E896+12/1200","v":8.4599999999998641},{"$f":"((INTERFACE!C$11)/((10^-(INTERFACE!E897))+(INTERFACE!C$11)))*100","v":{"$error":"#VALUE!"}},{"$f":"100-INTERFACE!F897","v":{"$error":"#VALUE!"}}]
[{"$f":"(MIN(INTERFACE!AD$15,INTERFACE!E898))","v":0},{"$f":"MIN(INTERFACE!C$47,INTERFACE!F898)","v":{"$error":"#VALUE!"}},{"$f":"100-INTERFACE!B898","v":{"$error":"#VALUE!"}},null,{"$f":"INTERFACE!E897+12/1200","v":8.4699999999998639},{"$f":"((INTERFACE!C$11)/((10^-(INTERFACE!E898))+(INTERFACE!C$11)))*100","v":{"$error":"#VALUE!"}},{"$f":"100-INTERFACE!F898","v":{"$error":"#VALUE!"}}]
[{"$f":"(MIN(INTERFACE!AD$15,INTERFACE!E899))","v":0},{"$f":"MIN(INTERFACE!C$47,INTERFACE!F899)","v":{"$error":"#VALUE!"}},{"$f":"100-INTERFACE!B899","v":{"$error":"#VALUE!"}},null,{"$f":"INTERFACE!E898+12/1200","v":8.4799999999998636},{"$f":"((INTERFACE!C$11)/((10^-(INTERFACE!E899))+(INTERFACE!C$11)))*100","v":{"$error":"#VALUE!"}},{"$f":"100-INTERFACE!F899","v":{"$error":"#VALUE!"}}]
[{"$f":"(MIN(INTERFACE!AD$15,INTERFACE!E900))","v":0},{"$f":"MIN(INTERFACE!C$47,INTERFACE!F900)","v":{"$error":"#VALUE!"}},{"$f":"100-INTERFACE!B900","v":{"$error":"#VALUE!"}},null,{"$f":"INTERFACE!E899+12/1200","v":8.4899999999998634},{"$f":"((INTERFACE!C$11)/((10^-(INTERFACE!E900))+(INTERFACE!C$11)))*100","v":{"$error":"#VALUE!"}},{"$f":"100-INTERFACE!F900","v":{"$error":"#VALUE!"}}]
[{"$f":"(MIN(INTERFACE!AD$15,INTERFACE!E901))","v":0},{"$f":"MIN(INTERFACE!C$47,INTERFACE!F901)","v":{"$error":"#VALUE!"}},{"$f":"100-INTERFACE!B901","v":{"$error":"#VALUE!"}},null,{"$f":"INTERFACE!E900+12/1200","v":8.4999999999998632},{"$f":"((INTERFACE!C$11)/((10^-(INTERFACE!E901))+(INTERFACE!C$11)))*100","v":{"$error":"#VALUE!"}},{"$f":"100-INTERFACE!F901","v":{"$error":"#VALUE!"}}]
[{"$f":"(MIN(INTERFACE!AD$15,INTERFACE!E902))","v":0},{"$f":"MIN(INTERFACE!C$47,INTERFACE!F902)","v":{"$error":"#VALUE!"}},{"$f":"100-INTERFACE!B902","v":{"$error":"#VALUE!"}},null,{"$f":"INTERFACE!E901+12/1200","v":8.509999999999863},{"$f":"((INTERFACE!C$11)/((10^-(INTERFACE!E902))+(INTERFACE!C$11)))*100","v":{"$error":"#VALUE!"}},{"$f":"100-INTERFACE!F902","v":{"$error":"#VALUE!"}}]
[{"$f":"(MIN(INTERFACE!AD$15,INTERFACE!E903))","v":0},{"$f":"MIN(INTERFACE!C$47,INTERFACE!F903)","v":{"$error":"#VALUE!"}},{"$f":"100-INTERFACE!B903","v":{"$error":"#VALUE!"}},null,{"$f":"INTERFACE!E902+12/1200","v":8.5199999999998628},{"$f":"((INTERFACE!C$11)/((10^-(INTERFACE!E903))+(INTERFACE!C$11)))*100","v":{"$error":"#VALUE!"}},{"$f":"100-INTERFACE!F903","v":{"$error":"#VALUE!"}}]
[{"$f":"(MIN(INTERFACE!AD$15,INTERFACE!E904))","v":0},{"$f":"MIN(INTERFACE!C$47,INTERFACE!F904)","v":{"$error":"#VALUE!"}},{"$f":"100-INTERFACE!B904","v":{"$error":"#VALUE!"}},null,{"$f":"INTERFACE!E903+12/1200","v":8.5299999999998626},{"$f":"((INTERFACE!C$11)/((10^-(INTERFACE!E904))+(INTERFACE!C$11)))*100","v":{"$error":"#VALUE!"}},{"$f":"100-INTERFACE!F904","v":{"$error":"#VALUE!"}}]
[{"$f":"(MIN(INTERFACE!AD$15,INTERFACE!E905))","v":0},{"$f":"MIN(INTERFACE!C$47,INTERFACE!F905)","v":{"$error":"#VALUE!"}},{"$f":"100-INTERFACE!B905","v":{"$error":"#VALUE!"}},null,{"$f":"INTERFACE!E904+12/1200","v":8.5399999999998624},{"$f":"((INTERFACE!C$11)/((10^-(INTERFACE!E905))+(INTERFACE!C$11)))*100","v":{"$error":"#VALUE!"}},{"$f":"100-INTERFACE!F905","v":{"$error":"#VALUE!"}}]
[{"$f":"(MIN(INTERFACE!AD$15,INTERFACE!E906))","v":0},{"$f":"MIN(INTERFACE!C$47,INTERFACE!F906)","v":{"$error":"#VALUE!"}},{"$f":"100-INTERFACE!B906","v":{"$error":"#VALUE!"}},null,{"$f":"INTERFACE!E905+12/1200","v":8.5499999999998622},{"$f":"((INTERFACE!C$11)/((10^-(INTERFACE!E906))+(INTERFACE!C$11)))*100","v":{"$error":"#VALUE!"}},{"$f":"100-INTERFACE!F906","v":{"$error":"#VALUE!"}}]
[{"$f":"(MIN(INTERFACE!AD$15,INTERFACE!E907))","v":0},{"$f":"MIN(INTERFACE!C$47,INTERFACE!F907)","v":{"$error":"#VALUE!"}},{"$f":"100-INTERFACE!B907","v":{"$error":"#VALUE!"}},null,{"$f":"INTERFACE!E906+12/1200","v":8.5599999999998619},{"$f":"((INTERFACE!C$11)/((10^-(INTERFACE!E907))+(INTERFACE!C$11)))*100","v":{"$error":"#VALUE!"}},{"$f":"100-INTERFACE!F907","v":{"$error":"#VALUE!"}}]
[{"$f":"(MIN(INTERFACE!AD$15,INTERFACE!E908))","v":0},{"$f":"MIN(INTERFACE!C$47,INTERFACE!F908)","v":{"$error":"#VALUE!"}},{"$f":"100-INTERFACE!B908","v":{"$error":"#VALUE!"}},null,{"$f":"INTERFACE!E907+12/1200","v":8.5699999999998617},{"$f":"((INTERFACE!C$11)/((10^-(INTERFACE!E908))+(INTERFACE!C$11)))*100","v":{"$error":"#VALUE!"}},{"$f":"100-INTERFACE!F908","v":{"$error":"#VALUE!"}}]
[{"$f":"(MIN(INTERFACE!AD$15,INTERFACE!E909))","v":0},{"$f":"MIN(INTERFACE!C$47,INTERFACE!F909)","v":{"$error":"#VALUE!"}},{"$f":"100-INTERFACE!B909","v":{"$error":"#VALUE!"}},null,{"$f":"INTERFACE!E908+12/1200","v":8.5799999999998615},{"$f":"((INTERFACE!C$11)/((10^-(INTERFACE!E909))+(INTERFACE!C$11)))*100","v":{"$error":"#VALUE!"}},{"$f":"100-INTERFACE!F909","v":{"$error":"#VALUE!"}}]
[{"$f":"(MIN(INTERFACE!AD$15,INTERFACE!E910))","v":0},{"$f":"MIN(INTERFACE!C$47,INTERFACE!F910)","v":{"$error":"#VALUE!"}},{"$f":"100-INTERFACE!B910","v":{"$error":"#VALUE!"}},null,{"$f":"INTERFACE!E909+12/1200","v":8.5899999999998613},{"$f":"((INTERFACE!C$11)/((10^-(INTERFACE!E910))+(INTERFACE!C$11)))*100","v":{"$error":"#VALUE!"}},{"$f":"100-INTERFACE!F910","v":{"$error":"#VALUE!"}}]
[{"$f":"(MIN(INTERFACE!AD$15,INTERFACE!E911))","v":0},{"$f":"MIN(INTERFACE!C$47,INTERFACE!F911)","v":{"$error":"#VALUE!"}},{"$f":"100-INTERFACE!B911","v":{"$error":"#VALUE!"}},null,{"$f":"INTERFACE!E910+12/1200","v":8.5999999999998611},{"$f":"((INTERFACE!C$11)/((10^-(INTERFACE!E911))+(INTERFACE!C$11)))*100","v":{"$error":"#VALUE!"}},{"$f":"100-INTERFACE!F911","v":{"$error":"#VALUE!"}}]
[{"$f":"(MIN(INTERFACE!AD$15,INTERFACE!E912))","v":0},{"$f":"MIN(INTERFACE!C$47,INTERFACE!F912)","v":{"$error":"#VALUE!"}},{"$f":"100-INTERFACE!B912","v":{"$error":"#VALUE!"}},null,{"$f":"INTERFACE!E911+12/1200","v":8.6099999999998609},{"$f":"((INTERFACE!C$11)/((10^-(INTERFACE!E912))+(INTERFACE!C$11)))*100","v":{"$error":"#VALUE!"}},{"$f":"100-INTERFACE!F912","v":{"$error":"#VALUE!"}}]
[{"$f":"(MIN(INTERFACE!AD$15,INTERFACE!E913))","v":0},{"$f":"MIN(INTERFACE!C$47,INTERFACE!F913)","v":{"$error":"#VALUE!"}},{"$f":"100-INTERFACE!B913","v":{"$error":"#VALUE!"}},null,{"$f":"INTERFACE!E912+12/1200","v":8.6199999999998607},{"$f":"((INTERFACE!C$11)/((10^-(INTERFACE!E913))+(INTERFACE!C$11)))*100","v":{"$error":"#VALUE!"}},{"$f":"100-INTERFACE!F913","v":{"$error":"#VALUE!"}}]
[{"$f":"(MIN(INTERFACE!AD$15,INTERFACE!E914))","v":0},{"$f":"MIN(INTERFACE!C$47,INTERFACE!F914)","v":{"$error":"#VALUE!"}},{"$f":"100-INTERFACE!B914","v":{"$error":"#VALUE!"}},null,{"$f":"INTERFACE!E913+12/1200","v":8.6299999999998604},{"$f":"((INTERFACE!C$11)/((10^-(INTERFACE!E914))+(INTERFACE!C$11)))*100","v":{"$error":"#VALUE!"}},{"$f":"100-INTERFACE!F914","v":{"$error":"#VALUE!"}}]
[{"$f":"(MIN(INTERFACE!AD$15,INTERFACE!E915))","v":0},{"$f":"MIN(INTERFACE!C$47,INTERFACE!F915)","v":{"$error":"#VALUE!"}},{"$f":"100-INTERFACE!B915","v":{"$error":"#VALUE!"}},null,{"$f":"INTERFACE!E914+12/1200","v":8.6399999999998602},{"$f":"((INTERFACE!C$11)/((10^-(INTERFACE!E915))+(INTERFACE!C$11)))*100","v":{"$error":"#VALUE!"}},{"$f":"100-INTERFACE!F915","v":{"$error":"#VALUE!"}}]
[{"$f":"(MIN(INTERFACE!AD$15,INTERFACE!E916))","v":0},{"$f":"MIN(INTERFACE!C$47,INTERFACE!F916)","v":{"$error":"#VALUE!"}},{"$f":"100-INTERFACE!B916","v":{"$error":"#VALUE!"}},null,{"$f":"INTERFACE!E915+12/1200","v":8.64999999999986},{"$f":"((INTERFACE!C$11)/((10^-(INTERFACE!E916))+(INTERFACE!C$11)))*100","v":{"$error":"#VALUE!"}},{"$f":"100-INTERFACE!F916","v":{"$error":"#VALUE!"}}]
[{"$f":"(MIN(INTERFACE!AD$15,INTERFACE!E917))","v":0},{"$f":"MIN(INTERFACE!C$47,INTERFACE!F917)","v":{"$error":"#VALUE!"}},{"$f":"100-INTERFACE!B917","v":{"$error":"#VALUE!"}},null,{"$f":"INTERFACE!E916+12/1200","v":8.6599999999998598},{"$f":"((INTERFACE!C$11)/((10^-(INTERFACE!E917))+(INTERFACE!C$11)))*100","v":{"$error":"#VALUE!"}},{"$f":"100-INTERFACE!F917","v":{"$error":"#VALUE!"}}]
[{"$f":"(MIN(INTERFACE!AD$15,INTERFACE!E918))","v":0},{"$f":"MIN(INTERFACE!C$47,INTERFACE!F918)","v":{"$error":"#VALUE!"}},{"$f":"100-INTERFACE!B918","v":{"$error":"#VALUE!"}},null,{"$f":"INTERFACE!E917+12/1200","v":8.6699999999998596},{"$f":"((INTERFACE!C$11)/((10^-(INTERFACE!E918))+(INTERFACE!C$11)))*100","v":{"$error":"#VALUE!"}},{"$f":"100-INTERFACE!F918","v":{"$error":"#VALUE!"}}]
[{"$f":"(MIN(INTERFACE!AD$15,INTERFACE!E919))","v":0},{"$f":"MIN(INTERFACE!C$47,INTERFACE!F919)","v":{"$error":"#VALUE!"}},{"$f":"100-INTERFACE!B919","v":{"$error":"#VALUE!"}},null,{"$f":"INTERFACE!E918+12/1200","v":8.6799999999998594},{"$f":"((INTERFACE!C$11)/((10^-(INTERFACE!E919))+(INTERFACE!C$11)))*100","v":{"$error":"#VALUE!"}},{"$f":"100-INTERFACE!F919","v":{"$error":"#VALUE!"}}]
[{"$f":"(MIN(INTERFACE!AD$15,INTERFACE!E920))","v":0},{"$f":"MIN(INTERFACE!C$47,INTERFACE!F920)","v":{"$error":"#VALUE!"}},{"$f":"100-INTERFACE!B920","v":{"$error":"#VALUE!"}},null,{"$f":"INTERFACE!E919+12/1200","v":8.6899999999998592},{"$f":"((INTERFACE!C$11)/((10^-(INTERFACE!E920))+(INTERFACE!C$11)))*100","v":{"$error":"#VALUE!"}},{"$f":"100-INTERFACE!F920","v":{"$error":"#VALUE!"}}]
[{"$f":"(MIN(INTERFACE!AD$15,INTERFACE!E921))","v":0},{"$f":"MIN(INTERFACE!C$47,INTERFACE!F921)","v":{"$error":"#VALUE!"}},{"$f":"100-INTERFACE!B921","v":{"$error":"#VALUE!"}},null,{"$f":"INTERFACE!E920+12/1200","v":8.699999999999859},{"$f":"((INTERFACE!C$11)/((10^-(INTERFACE!E921))+(INTERFACE!C$11)))*100","v":{"$error":"#VALUE!"}},{"$f":"100-INTERFACE!F921","v":{"$error":"#VALUE!"}}]
[{"$f":"(MIN(INTERFACE!AD$15,INTERFACE!E922))","v":0},{"$f":"MIN(INTERFACE!C$47,INTERFACE!F922)","v":{"$error":"#VALUE!"}},{"$f":"100-INTERFACE!B922","v":{"$error":"#VALUE!"}},null,{"$f":"INTERFACE!E921+12/1200","v":8.7099999999998587},{"$f":"((INTERFACE!C$11)/((10^-(INTERFACE!E922))+(INTERFACE!C$11)))*100","v":{"$error":"#VALUE!"}},{"$f":"100-INTERFACE!F922","v":{"$error":"#VALUE!"}}]
[{"$f":"(MIN(INTERFACE!AD$15,INTERFACE!E923))","v":0},{"$f":"MIN(INTERFACE!C$47,INTERFACE!F923)","v":{"$error":"#VALUE!"}},{"$f":"100-INTERFACE!B923","v":{"$error":"#VALUE!"}},null,{"$f":"INTERFACE!E922+12/1200","v":8.7199999999998585},{"$f":"((INTERFACE!C$11)/((10^-(INTERFACE!E923))+(INTERFACE!C$11)))*100","v":{"$error":"#VALUE!"}},{"$f":"100-INTERFACE!F923","v":{"$error":"#VALUE!"}}]
[{"$f":"(MIN(INTERFACE!AD$15,INTERFACE!E924))","v":0},{"$f":"MIN(INTERFACE!C$47,INTERFACE!F924)","v":{"$error":"#VALUE!"}},{"$f":"100-INTERFACE!B924","v":{"$error":"#VALUE!"}},null,{"$f":"INTERFACE!E923+12/1200","v":8.7299999999998583},{"$f":"((INTERFACE!C$11)/((10^-(INTERFACE!E924))+(INTERFACE!C$11)))*100","v":{"$error":"#VALUE!"}},{"$f":"100-INTERFACE!F924","v":{"$error":"#VALUE!"}}]
[{"$f":"(MIN(INTERFACE!AD$15,INTERFACE!E925))","v":0},{"$f":"MIN(INTERFACE!C$47,INTERFACE!F925)","v":{"$error":"#VALUE!"}},{"$f":"100-INTERFACE!B925","v":{"$error":"#VALUE!"}},null,{"$f":"INTERFACE!E924+12/1200","v":8.7399999999998581},{"$f":"((INTERFACE!C$11)/((10^-(INTERFACE!E925))+(INTERFACE!C$11)))*100","v":{"$error":"#VALUE!"}},{"$f":"100-INTERFACE!F925","v":{"$error":"#VALUE!"}}]
[{"$f":"(MIN(INTERFACE!AD$15,INTERFACE!E926))","v":0},{"$f":"MIN(INTERFACE!C$47,INTERFACE!F926)","v":{"$error":"#VALUE!"}},{"$f":"100-INTERFACE!B926","v":{"$error":"#VALUE!"}},null,{"$f":"INTERFACE!E925+12/1200","v":8.7499999999998579},{"$f":"((INTERFACE!C$11)/((10^-(INTERFACE!E926))+(INTERFACE!C$11)))*100","v":{"$error":"#VALUE!"}},{"$f":"100-INTERFACE!F926","v":{"$error":"#VALUE!"}}]
[{"$f":"(MIN(INTERFACE!AD$15,INTERFACE!E927))","v":0},{"$f":"MIN(INTERFACE!C$47,INTERFACE!F927)","v":{"$error":"#VALUE!"}},{"$f":"100-INTERFACE!B927","v":{"$error":"#VALUE!"}},null,{"$f":"INTERFACE!E926+12/1200","v":8.7599999999998577},{"$f":"((INTERFACE!C$11)/((10^-(INTERFACE!E927))+(INTERFACE!C$11)))*100","v":{"$error":"#VALUE!"}},{"$f":"100-INTERFACE!F927","v":{"$error":"#VALUE!"}}]
[{"$f":"(MIN(INTERFACE!AD$15,INTERFACE!E928))","v":0},{"$f":"MIN(INTERFACE!C$47,INTERFACE!F928)","v":{"$error":"#VALUE!"}},{"$f":"100-INTERFACE!B928","v":{"$error":"#VALUE!"}},null,{"$f":"INTERFACE!E927+12/1200","v":8.7699999999998575},{"$f":"((INTERFACE!C$11)/((10^-(INTERFACE!E928))+(INTERFACE!C$11)))*100","v":{"$error":"#VALUE!"}},{"$f":"100-INTERFACE!F928","v":{"$error":"#VALUE!"}}]
[{"$f":"(MIN(INTERFACE!AD$15,INTERFACE!E929))","v":0},{"$f":"MIN(INTERFACE!C$47,INTERFACE!F929)","v":{"$error":"#VALUE!"}},{"$f":"100-INTERFACE!B929","v":{"$error":"#VALUE!"}},null,{"$f":"INTERFACE!E928+12/1200","v":8.7799999999998573},{"$f":"((INTERFACE!C$11)/((10^-(INTERFACE!E929))+(INTERFACE!C$11)))*100","v":{"$error":"#VALUE!"}},{"$f":"100-INTERFACE!F929","v":{"$error":"#VALUE!"}}]
[{"$f":"(MIN(INTERFACE!AD$15,INTERFACE!E930))","v":0},{"$f":"MIN(INTERFACE!C$47,INTERFACE!F930)","v":{"$error":"#VALUE!"}},{"$f":"100-INTERFACE!B930","v":{"$error":"#VALUE!"}},null,{"$f":"INTERFACE!E929+12/1200","v":8.789999999999857},{"$f":"((INTERFACE!C$11)/((10^-(INTERFACE!E930))+(INTERFACE!C$11)))*100","v":{"$error":"#VALUE!"}},{"$f":"100-INTERFACE!F930","v":{"$error":"#VALUE!"}}]
[{"$f":"(MIN(INTERFACE!AD$15,INTERFACE!E931))","v":0},{"$f":"MIN(INTERFACE!C$47,INTERFACE!F931)","v":{"$error":"#VALUE!"}},{"$f":"100-INTERFACE!B931","v":{"$error":"#VALUE!"}},null,{"$f":"INTERFACE!E930+12/1200","v":8.7999999999998568},{"$f":"((INTERFACE!C$11)/((10^-(INTERFACE!E931))+(INTERFACE!C$11)))*100","v":{"$error":"#VALUE!"}},{"$f":"100-INTERFACE!F931","v":{"$error":"#VALUE!"}}]
[{"$f":"(MIN(INTERFACE!AD$15,INTERFACE!E932))","v":0},{"$f":"MIN(INTERFACE!C$47,INTERFACE!F932)","v":{"$error":"#VALUE!"}},{"$f":"100-INTERFACE!B932","v":{"$error":"#VALUE!"}},null,{"$f":"INTERFACE!E931+12/1200","v":8.8099999999998566},{"$f":"((INTERFACE!C$11)/((10^-(INTERFACE!E932))+(INTERFACE!C$11)))*100","v":{"$error":"#VALUE!"}},{"$f":"100-INTERFACE!F932","v":{"$error":"#VALUE!"}}]
[{"$f":"(MIN(INTERFACE!AD$15,INTERFACE!E933))","v":0},{"$f":"MIN(INTERFACE!C$47,INTERFACE!F933)","v":{"$error":"#VALUE!"}},{"$f":"100-INTERFACE!B933","v":{"$error":"#VALUE!"}},null,{"$f":"INTERFACE!E932+12/1200","v":8.8199999999998564},{"$f":"((INTERFACE!C$11)/((10^-(INTERFACE!E933))+(INTERFACE!C$11)))*100","v":{"$error":"#VALUE!"}},{"$f":"100-INTERFACE!F933","v":{"$error":"#VALUE!"}}]
[{"$f":"(MIN(INTERFACE!AD$15,INTERFACE!E934))","v":0},{"$f":"MIN(INTERFACE!C$47,INTERFACE!F934)","v":{"$error":"#VALUE!"}},{"$f":"100-INTERFACE!B934","v":{"$error":"#VALUE!"}},null,{"$f":"INTERFACE!E933+12/1200","v":8.8299999999998562},{"$f":"((INTERFACE!C$11)/((10^-(INTERFACE!E934))+(INTERFACE!C$11)))*100","v":{"$error":"#VALUE!"}},{"$f":"100-INTERFACE!F934","v":{"$error":"#VALUE!"}}]
[{"$f":"(MIN(INTERFACE!AD$15,INTERFACE!E935))","v":0},{"$f":"MIN(INTERFACE!C$47,INTERFACE!F935)","v":{"$error":"#VALUE!"}},{"$f":"100-INTERFACE!B935","v":{"$error":"#VALUE!"}},null,{"$f":"INTERFACE!E934+12/1200","v":8.839999999999856},{"$f":"((INTERFACE!C$11)/((10^-(INTERFACE!E935))+(INTERFACE!C$11)))*100","v":{"$error":"#VALUE!"}},{"$f":"100-INTERFACE!F935","v":{"$error":"#VALUE!"}}]
[{"$f":"(MIN(INTERFACE!AD$15,INTERFACE!E936))","v":0},{"$f":"MIN(INTERFACE!C$47,INTERFACE!F936)","v":{"$error":"#VALUE!"}},{"$f":"100-INTERFACE!B936","v":{"$error":"#VALUE!"}},null,{"$f":"INTERFACE!E935+12/1200","v":8.8499999999998558},{"$f":"((INTERFACE!C$11)/((10^-(INTERFACE!E936))+(INTERFACE!C$11)))*100","v":{"$error":"#VALUE!"}},{"$f":"100-INTERFACE!F936","v":{"$error":"#VALUE!"}}]
[{"$f":"(MIN(INTERFACE!AD$15,INTERFACE!E937))","v":0},{"$f":"MIN(INTERFACE!C$47,INTERFACE!F937)","v":{"$error":"#VALUE!"}},{"$f":"100-INTERFACE!B937","v":{"$error":"#VALUE!"}},null,{"$f":"INTERFACE!E936+12/1200","v":8.8599999999998555},{"$f":"((INTERFACE!C$11)/((10^-(INTERFACE!E937))+(INTERFACE!C$11)))*100","v":{"$error":"#VALUE!"}},{"$f":"100-INTERFACE!F937","v":{"$error":"#VALUE!"}}]
[{"$f":"(MIN(INTERFACE!AD$15,INTERFACE!E938))","v":0},{"$f":"MIN(INTERFACE!C$47,INTERFACE!F938)","v":{"$error":"#VALUE!"}},{"$f":"100-INTERFACE!B938","v":{"$error":"#VALUE!"}},null,{"$f":"INTERFACE!E937+12/1200","v":8.8699999999998553},{"$f":"((INTERFACE!C$11)/((10^-(INTERFACE!E938))+(INTERFACE!C$11)))*100","v":{"$error":"#VALUE!"}},{"$f":"100-INTERFACE!F938","v":{"$error":"#VALUE!"}}]
[{"$f":"(MIN(INTERFACE!AD$15,INTERFACE!E939))","v":0},{"$f":"MIN(INTERFACE!C$47,INTERFACE!F939)","v":{"$error":"#VALUE!"}},{"$f":"100-INTERFACE!B939","v":{"$error":"#VALUE!"}},null,{"$f":"INTERFACE!E938+12/1200","v":8.8799999999998551},{"$f":"((INTERFACE!C$11)/((10^-(INTERFACE!E939))+(INTERFACE!C$11)))*100","v":{"$error":"#VALUE!"}},{"$f":"100-INTERFACE!F939","v":{"$error":"#VALUE!"}}]
[{"$f":"(MIN(INTERFACE!AD$15,INTERFACE!E940))","v":0},{"$f":"MIN(INTERFACE!C$47,INTERFACE!F940)","v":{"$error":"#VALUE!"}},{"$f":"100-INTERFACE!B940","v":{"$error":"#VALUE!"}},null,{"$f":"INTERFACE!E939+12/1200","v":8.8899999999998549},{"$f":"((INTERFACE!C$11)/((10^-(INTERFACE!E940))+(INTERFACE!C$11)))*100","v":{"$error":"#VALUE!"}},{"$f":"100-INTERFACE!F940","v":{"$error":"#VALUE!"}}]
[{"$f":"(MIN(INTERFACE!AD$15,INTERFACE!E941))","v":0},{"$f":"MIN(INTERFACE!C$47,INTERFACE!F941)","v":{"$error":"#VALUE!"}},{"$f":"100-INTERFACE!B941","v":{"$error":"#VALUE!"}},null,{"$f":"INTERFACE!E940+12/1200","v":8.8999999999998547},{"$f":"((INTERFACE!C$11)/((10^-(INTERFACE!E941))+(INTERFACE!C$11)))*100","v":{"$error":"#VALUE!"}},{"$f":"100-INTERFACE!F941","v":{"$error":"#VALUE!"}}]
[{"$f":"(MIN(INTERFACE!AD$15,INTERFACE!E942))","v":0},{"$f":"MIN(INTERFACE!C$47,INTERFACE!F942)","v":{"$error":"#VALUE!"}},{"$f":"100-INTERFACE!B942","v":{"$error":"#VALUE!"}},null,{"$f":"INTERFACE!E941+12/1200","v":8.9099999999998545},{"$f":"((INTERFACE!C$11)/((10^-(INTERFACE!E942))+(INTERFACE!C$11)))*100","v":{"$error":"#VALUE!"}},{"$f":"100-INTERFACE!F942","v":{"$error":"#VALUE!"}}]
[{"$f":"(MIN(INTERFACE!AD$15,INTERFACE!E943))","v":0},{"$f":"MIN(INTERFACE!C$47,INTERFACE!F943)","v":{"$error":"#VALUE!"}},{"$f":"100-INTERFACE!B943","v":{"$error":"#VALUE!"}},null,{"$f":"INTERFACE!E942+12/1200","v":8.9199999999998543},{"$f":"((INTERFACE!C$11)/((10^-(INTERFACE!E943))+(INTERFACE!C$11)))*100","v":{"$error":"#VALUE!"}},{"$f":"100-INTERFACE!F943","v":{"$error":"#VALUE!"}}]
[{"$f":"(MIN(INTERFACE!AD$15,INTERFACE!E944))","v":0},{"$f":"MIN(INTERFACE!C$47,INTERFACE!F944)","v":{"$error":"#VALUE!"}},{"$f":"100-INTERFACE!B944","v":{"$error":"#VALUE!"}},null,{"$f":"INTERFACE!E943+12/1200","v":8.9299999999998541},{"$f":"((INTERFACE!C$11)/((10^-(INTERFACE!E944))+(INTERFACE!C$11)))*100","v":{"$error":"#VALUE!"}},{"$f":"100-INTERFACE!F944","v":{"$error":"#VALUE!"}}]
[{"$f":"(MIN(INTERFACE!AD$15,INTERFACE!E945))","v":0},{"$f":"MIN(INTERFACE!C$47,INTERFACE!F945)","v":{"$error":"#VALUE!"}},{"$f":"100-INTERFACE!B945","v":{"$error":"#VALUE!"}},null,{"$f":"INTERFACE!E944+12/1200","v":8.9399999999998538},{"$f":"((INTERFACE!C$11)/((10^-(INTERFACE!E945))+(INTERFACE!C$11)))*100","v":{"$error":"#VALUE!"}},{"$f":"100-INTERFACE!F945","v":{"$error":"#VALUE!"}}]
[{"$f":"(MIN(INTERFACE!AD$15,INTERFACE!E946))","v":0},{"$f":"MIN(INTERFACE!C$47,INTERFACE!F946)","v":{"$error":"#VALUE!"}},{"$f":"100-INTERFACE!B946","v":{"$error":"#VALUE!"}},null,{"$f":"INTERFACE!E945+12/1200","v":8.9499999999998536},{"$f":"((INTERFACE!C$11)/((10^-(INTERFACE!E946))+(INTERFACE!C$11)))*100","v":{"$error":"#VALUE!"}},{"$f":"100-INTERFACE!F946","v":{"$error":"#VALUE!"}}]
[{"$f":"(MIN(INTERFACE!AD$15,INTERFACE!E947))","v":0},{"$f":"MIN(INTERFACE!C$47,INTERFACE!F947)","v":{"$error":"#VALUE!"}},{"$f":"100-INTERFACE!B947","v":{"$error":"#VALUE!"}},null,{"$f":"INTERFACE!E946+12/1200","v":8.9599999999998534},{"$f":"((INTERFACE!C$11)/((10^-(INTERFACE!E947))+(INTERFACE!C$11)))*100","v":{"$error":"#VALUE!"}},{"$f":"100-INTERFACE!F947","v":{"$error":"#VALUE!"}}]
[{"$f":"(MIN(INTERFACE!AD$15,INTERFACE!E948))","v":0},{"$f":"MIN(INTERFACE!C$47,INTERFACE!F948)","v":{"$error":"#VALUE!"}},{"$f":"100-INTERFACE!B948","v":{"$error":"#VALUE!"}},null,{"$f":"INTERFACE!E947+12/1200","v":8.9699999999998532},{"$f":"((INTERFACE!C$11)/((10^-(INTERFACE!E948))+(INTERFACE!C$11)))*100","v":{"$error":"#VALUE!"}},{"$f":"100-INTERFACE!F948","v":{"$error":"#VALUE!"}}]
[{"$f":"(MIN(INTERFACE!AD$15,INTERFACE!E949))","v":0},{"$f":"MIN(INTERFACE!C$47,INTERFACE!F949)","v":{"$error":"#VALUE!"}},{"$f":"100-INTERFACE!B949","v":{"$error":"#VALUE!"}},null,{"$f":"INTERFACE!E948+12/1200","v":8.979999999999853},{"$f":"((INTERFACE!C$11)/((10^-(INTERFACE!E949))+(INTERFACE!C$11)))*100","v":{"$error":"#VALUE!"}},{"$f":"100-INTERFACE!F949","v":{"$error":"#VALUE!"}}]
[{"$f":"(MIN(INTERFACE!AD$15,INTERFACE!E950))","v":0},{"$f":"MIN(INTERFACE!C$47,INTERFACE!F950)","v":{"$error":"#VALUE!"}},{"$f":"100-INTERFACE!B950","v":{"$error":"#VALUE!"}},null,{"$f":"INTERFACE!E949+12/1200","v":8.9899999999998528},{"$f":"((INTERFACE!C$11)/((10^-(INTERFACE!E950))+(INTERFACE!C$11)))*100","v":{"$error":"#VALUE!"}},{"$f":"100-INTERFACE!F950","v":{"$error":"#VALUE!"}}]
[{"$f":"(MIN(INTERFACE!AD$15,INTERFACE!E951))","v":0},{"$f":"MIN(INTERFACE!C$47,INTERFACE!F951)","v":{"$error":"#VALUE!"}},{"$f":"100-INTERFACE!B951","v":{"$error":"#VALUE!"}},null,{"$f":"INTERFACE!E950+12/1200","v":8.9999999999998526},{"$f":"((INTERFACE!C$11)/((10^-(INTERFACE!E951))+(INTERFACE!C$11)))*100","v":{"$error":"#VALUE!"}},{"$f":"100-INTERFACE!F951","v":{"$error":"#VALUE!"}}]
[{"$f":"(MIN(INTERFACE!AD$15,INTERFACE!E952))","v":0},{"$f":"MIN(INTERFACE!C$47,INTERFACE!F952)","v":{"$error":"#VALUE!"}},{"$f":"100-INTERFACE!B952","v":{"$error":"#VALUE!"}},null,{"$f":"INTERFACE!E951+12/1200","v":9.0099999999998523},{"$f":"((INTERFACE!C$11)/((10^-(INTERFACE!E952))+(INTERFACE!C$11)))*100","v":{"$error":"#VALUE!"}},{"$f":"100-INTERFACE!F952","v":{"$error":"#VALUE!"}}]
[{"$f":"(MIN(INTERFACE!AD$15,INTERFACE!E953))","v":0},{"$f":"MIN(INTERFACE!C$47,INTERFACE!F953)","v":{"$error":"#VALUE!"}},{"$f":"100-INTERFACE!B953","v":{"$error":"#VALUE!"}},null,{"$f":"INTERFACE!E952+12/1200","v":9.0199999999998521},{"$f":"((INTERFACE!C$11)/((10^-(INTERFACE!E953))+(INTERFACE!C$11)))*100","v":{"$error":"#VALUE!"}},{"$f":"100-INTERFACE!F953","v":{"$error":"#VALUE!"}}]
[{"$f":"(MIN(INTERFACE!AD$15,INTERFACE!E954))","v":0},{"$f":"MIN(INTERFACE!C$47,INTERFACE!F954)","v":{"$error":"#VALUE!"}},{"$f":"100-INTERFACE!B954","v":{"$error":"#VALUE!"}},null,{"$f":"INTERFACE!E953+12/1200","v":9.0299999999998519},{"$f":"((INTERFACE!C$11)/((10^-(INTERFACE!E954))+(INTERFACE!C$11)))*100","v":{"$error":"#VALUE!"}},{"$f":"100-INTERFACE!F954","v":{"$error":"#VALUE!"}}]
[{"$f":"(MIN(INTERFACE!AD$15,INTERFACE!E955))","v":0},{"$f":"MIN(INTERFACE!C$47,INTERFACE!F955)","v":{"$error":"#VALUE!"}},{"$f":"100-INTERFACE!B955","v":{"$error":"#VALUE!"}},null,{"$f":"INTERFACE!E954+12/1200","v":9.0399999999998517},{"$f":"((INTERFACE!C$11)/((10^-(INTERFACE!E955))+(INTERFACE!C$11)))*100","v":{"$error":"#VALUE!"}},{"$f":"100-INTERFACE!F955","v":{"$error":"#VALUE!"}}]
[{"$f":"(MIN(INTERFACE!AD$15,INTERFACE!E956))","v":0},{"$f":"MIN(INTERFACE!C$47,INTERFACE!F956)","v":{"$error":"#VALUE!"}},{"$f":"100-INTERFACE!B956","v":{"$error":"#VALUE!"}},null,{"$f":"INTERFACE!E955+12/1200","v":9.0499999999998515},{"$f":"((INTERFACE!C$11)/((10^-(INTERFACE!E956))+(INTERFACE!C$11)))*100","v":{"$error":"#VALUE!"}},{"$f":"100-INTERFACE!F956","v":{"$error":"#VALUE!"}}]
[{"$f":"(MIN(INTERFACE!AD$15,INTERFACE!E957))","v":0},{"$f":"MIN(INTERFACE!C$47,INTERFACE!F957)","v":{"$error":"#VALUE!"}},{"$f":"100-INTERFACE!B957","v":{"$error":"#VALUE!"}},null,{"$f":"INTERFACE!E956+12/1200","v":9.0599999999998513},{"$f":"((INTERFACE!C$11)/((10^-(INTERFACE!E957))+(INTERFACE!C$11)))*100","v":{"$error":"#VALUE!"}},{"$f":"100-INTERFACE!F957","v":{"$error":"#VALUE!"}}]
[{"$f":"(MIN(INTERFACE!AD$15,INTERFACE!E958))","v":0},{"$f":"MIN(INTERFACE!C$47,INTERFACE!F958)","v":{"$error":"#VALUE!"}},{"$f":"100-INTERFACE!B958","v":{"$error":"#VALUE!"}},null,{"$f":"INTERFACE!E957+12/1200","v":9.0699999999998511},{"$f":"((INTERFACE!C$11)/((10^-(INTERFACE!E958))+(INTERFACE!C$11)))*100","v":{"$error":"#VALUE!"}},{"$f":"100-INTERFACE!F958","v":{"$error":"#VALUE!"}}]
[{"$f":"(MIN(INTERFACE!AD$15,INTERFACE!E959))","v":0},{"$f":"MIN(INTERFACE!C$47,INTERFACE!F959)","v":{"$error":"#VALUE!"}},{"$f":"100-INTERFACE!B959","v":{"$error":"#VALUE!"}},null,{"$f":"INTERFACE!E958+12/1200","v":9.0799999999998509},{"$f":"((INTERFACE!C$11)/((10^-(INTERFACE!E959))+(INTERFACE!C$11)))*100","v":{"$error":"#VALUE!"}},{"$f":"100-INTERFACE!F959","v":{"$error":"#VALUE!"}}]
[{"$f":"(MIN(INTERFACE!AD$15,INTERFACE!E960))","v":0},{"$f":"MIN(INTERFACE!C$47,INTERFACE!F960)","v":{"$error":"#VALUE!"}},{"$f":"100-INTERFACE!B960","v":{"$error":"#VALUE!"}},null,{"$f":"INTERFACE!E959+12/1200","v":9.0899999999998506},{"$f":"((INTERFACE!C$11)/((10^-(INTERFACE!E960))+(INTERFACE!C$11)))*100","v":{"$error":"#VALUE!"}},{"$f":"100-INTERFACE!F960","v":{"$error":"#VALUE!"}}]
[{"$f":"(MIN(INTERFACE!AD$15,INTERFACE!E961))","v":0},{"$f":"MIN(INTERFACE!C$47,INTERFACE!F961)","v":{"$error":"#VALUE!"}},{"$f":"100-INTERFACE!B961","v":{"$error":"#VALUE!"}},null,{"$f":"INTERFACE!E960+12/1200","v":9.0999999999998504},{"$f":"((INTERFACE!C$11)/((10^-(INTERFACE!E961))+(INTERFACE!C$11)))*100","v":{"$error":"#VALUE!"}},{"$f":"100-INTERFACE!F961","v":{"$error":"#VALUE!"}}]
[{"$f":"(MIN(INTERFACE!AD$15,INTERFACE!E962))","v":0},{"$f":"MIN(INTERFACE!C$47,INTERFACE!F962)","v":{"$error":"#VALUE!"}},{"$f":"100-INTERFACE!B962","v":{"$error":"#VALUE!"}},null,{"$f":"INTERFACE!E961+12/1200","v":9.1099999999998502},{"$f":"((INTERFACE!C$11)/((10^-(INTERFACE!E962))+(INTERFACE!C$11)))*100","v":{"$error":"#VALUE!"}},{"$f":"100-INTERFACE!F962","v":{"$error":"#VALUE!"}}]
[{"$f":"(MIN(INTERFACE!AD$15,INTERFACE!E963))","v":0},{"$f":"MIN(INTERFACE!C$47,INTERFACE!F963)","v":{"$error":"#VALUE!"}},{"$f":"100-INTERFACE!B963","v":{"$error":"#VALUE!"}},null,{"$f":"INTERFACE!E962+12/1200","v":9.11999999999985},{"$f":"((INTERFACE!C$11)/((10^-(INTERFACE!E963))+(INTERFACE!C$11)))*100","v":{"$error":"#VALUE!"}},{"$f":"100-INTERFACE!F963","v":{"$error":"#VALUE!"}}]
[{"$f":"(MIN(INTERFACE!AD$15,INTERFACE!E964))","v":0},{"$f":"MIN(INTERFACE!C$47,INTERFACE!F964)","v":{"$error":"#VALUE!"}},{"$f":"100-INTERFACE!B964","v":{"$error":"#VALUE!"}},null,{"$f":"INTERFACE!E963+12/1200","v":9.1299999999998498},{"$f":"((INTERFACE!C$11)/((10^-(INTERFACE!E964))+(INTERFACE!C$11)))*100","v":{"$error":"#VALUE!"}},{"$f":"100-INTERFACE!F964","v":{"$error":"#VALUE!"}}]
[{"$f":"(MIN(INTERFACE!AD$15,INTERFACE!E965))","v":0},{"$f":"MIN(INTERFACE!C$47,INTERFACE!F965)","v":{"$error":"#VALUE!"}},{"$f":"100-INTERFACE!B965","v":{"$error":"#VALUE!"}},null,{"$f":"INTERFACE!E964+12/1200","v":9.1399999999998496},{"$f":"((INTERFACE!C$11)/((10^-(INTERFACE!E965))+(INTERFACE!C$11)))*100","v":{"$error":"#VALUE!"}},{"$f":"100-INTERFACE!F965","v":{"$error":"#VALUE!"}}]
[{"$f":"(MIN(INTERFACE!AD$15,INTERFACE!E966))","v":0},{"$f":"MIN(INTERFACE!C$47,INTERFACE!F966)","v":{"$error":"#VALUE!"}},{"$f":"100-INTERFACE!B966","v":{"$error":"#VALUE!"}},null,{"$f":"INTERFACE!E965+12/1200","v":9.1499999999998494},{"$f":"((INTERFACE!C$11)/((10^-(INTERFACE!E966))+(INTERFACE!C$11)))*100","v":{"$error":"#VALUE!"}},{"$f":"100-INTERFACE!F966","v":{"$error":"#VALUE!"}}]
[{"$f":"(MIN(INTERFACE!AD$15,INTERFACE!E967))","v":0},{"$f":"MIN(INTERFACE!C$47,INTERFACE!F967)","v":{"$error":"#VALUE!"}},{"$f":"100-INTERFACE!B967","v":{"$error":"#VALUE!"}},null,{"$f":"INTERFACE!E966+12/1200","v":9.1599999999998492},{"$f":"((INTERFACE!C$11)/((10^-(INTERFACE!E967))+(INTERFACE!C$11)))*100","v":{"$error":"#VALUE!"}},{"$f":"100-INTERFACE!F967","v":{"$error":"#VALUE!"}}]
[{"$f":"(MIN(INTERFACE!AD$15,INTERFACE!E968))","v":0},{"$f":"MIN(INTERFACE!C$47,INTERFACE!F968)","v":{"$error":"#VALUE!"}},{"$f":"100-INTERFACE!B968","v":{"$error":"#VALUE!"}},null,{"$f":"INTERFACE!E967+12/1200","v":9.1699999999998489},{"$f":"((INTERFACE!C$11)/((10^-(INTERFACE!E968))+(INTERFACE!C$11)))*100","v":{"$error":"#VALUE!"}},{"$f":"100-INTERFACE!F968","v":{"$error":"#VALUE!"}}]
[{"$f":"(MIN(INTERFACE!AD$15,INTERFACE!E969))","v":0},{"$f":"MIN(INTERFACE!C$47,INTERFACE!F969)","v":{"$error":"#VALUE!"}},{"$f":"100-INTERFACE!B969","v":{"$error":"#VALUE!"}},null,{"$f":"INTERFACE!E968+12/1200","v":9.1799999999998487},{"$f":"((INTERFACE!C$11)/((10^-(INTERFACE!E969))+(INTERFACE!C$11)))*100","v":{"$error":"#VALUE!"}},{"$f":"100-INTERFACE!F969","v":{"$error":"#VALUE!"}}]
[{"$f":"(MIN(INTERFACE!AD$15,INTERFACE!E970))","v":0},{"$f":"MIN(INTERFACE!C$47,INTERFACE!F970)","v":{"$error":"#VALUE!"}},{"$f":"100-INTERFACE!B970","v":{"$error":"#VALUE!"}},null,{"$f":"INTERFACE!E969+12/1200","v":9.1899999999998485},{"$f":"((INTERFACE!C$11)/((10^-(INTERFACE!E970))+(INTERFACE!C$11)))*100","v":{"$error":"#VALUE!"}},{"$f":"100-INTERFACE!F970","v":{"$error":"#VALUE!"}}]
[{"$f":"(MIN(INTERFACE!AD$15,INTERFACE!E971))","v":0},{"$f":"MIN(INTERFACE!C$47,INTERFACE!F971)","v":{"$error":"#VALUE!"}},{"$f":"100-INTERFACE!B971","v":{"$error":"#VALUE!"}},null,{"$f":"INTERFACE!E970+12/1200","v":9.1999999999998483},{"$f":"((INTERFACE!C$11)/((10^-(INTERFACE!E971))+(INTERFACE!C$11)))*100","v":{"$error":"#VALUE!"}},{"$f":"100-INTERFACE!F971","v":{"$error":"#VALUE!"}}]
[{"$f":"(MIN(INTERFACE!AD$15,INTERFACE!E972))","v":0},{"$f":"MIN(INTERFACE!C$47,INTERFACE!F972)","v":{"$error":"#VALUE!"}},{"$f":"100-INTERFACE!B972","v":{"$error":"#VALUE!"}},null,{"$f":"INTERFACE!E971+12/1200","v":9.2099999999998481},{"$f":"((INTERFACE!C$11)/((10^-(INTERFACE!E972))+(INTERFACE!C$11)))*100","v":{"$error":"#VALUE!"}},{"$f":"100-INTERFACE!F972","v":{"$error":"#VALUE!"}}]
[{"$f":"(MIN(INTERFACE!AD$15,INTERFACE!E973))","v":0},{"$f":"MIN(INTERFACE!C$47,INTERFACE!F973)","v":{"$error":"#VALUE!"}},{"$f":"100-INTERFACE!B973","v":{"$error":"#VALUE!"}},null,{"$f":"INTERFACE!E972+12/1200","v":9.2199999999998479},{"$f":"((INTERFACE!C$11)/((10^-(INTERFACE!E973))+(INTERFACE!C$11)))*100","v":{"$error":"#VALUE!"}},{"$f":"100-INTERFACE!F973","v":{"$error":"#VALUE!"}}]
[{"$f":"(MIN(INTERFACE!AD$15,INTERFACE!E974))","v":0},{"$f":"MIN(INTERFACE!C$47,INTERFACE!F974)","v":{"$error":"#VALUE!"}},{"$f":"100-INTERFACE!B974","v":{"$error":"#VALUE!"}},null,{"$f":"INTERFACE!E973+12/1200","v":9.2299999999998477},{"$f":"((INTERFACE!C$11)/((10^-(INTERFACE!E974))+(INTERFACE!C$11)))*100","v":{"$error":"#VALUE!"}},{"$f":"100-INTERFACE!F974","v":{"$error":"#VALUE!"}}]
[{"$f":"(MIN(INTERFACE!AD$15,INTERFACE!E975))","v":0},{"$f":"MIN(INTERFACE!C$47,INTERFACE!F975)","v":{"$error":"#VALUE!"}},{"$f":"100-INTERFACE!B975","v":{"$error":"#VALUE!"}},null,{"$f":"INTERFACE!E974+12/1200","v":9.2399999999998474},{"$f":"((INTERFACE!C$11)/((10^-(INTERFACE!E975))+(INTERFACE!C$11)))*100","v":{"$error":"#VALUE!"}},{"$f":"100-INTERFACE!F975","v":{"$error":"#VALUE!"}}]
[{"$f":"(MIN(INTERFACE!AD$15,INTERFACE!E976))","v":0},{"$f":"MIN(INTERFACE!C$47,INTERFACE!F976)","v":{"$error":"#VALUE!"}},{"$f":"100-INTERFACE!B976","v":{"$error":"#VALUE!"}},null,{"$f":"INTERFACE!E975+12/1200","v":9.2499999999998472},{"$f":"((INTERFACE!C$11)/((10^-(INTERFACE!E976))+(INTERFACE!C$11)))*100","v":{"$error":"#VALUE!"}},{"$f":"100-INTERFACE!F976","v":{"$error":"#VALUE!"}}]
[{"$f":"(MIN(INTERFACE!AD$15,INTERFACE!E977))","v":0},{"$f":"MIN(INTERFACE!C$47,INTERFACE!F977)","v":{"$error":"#VALUE!"}},{"$f":"100-INTERFACE!B977","v":{"$error":"#VALUE!"}},null,{"$f":"INTERFACE!E976+12/1200","v":9.259999999999847},{"$f":"((INTERFACE!C$11)/((10^-(INTERFACE!E977))+(INTERFACE!C$11)))*100","v":{"$error":"#VALUE!"}},{"$f":"100-INTERFACE!F977","v":{"$error":"#VALUE!"}}]
[{"$f":"(MIN(INTERFACE!AD$15,INTERFACE!E978))","v":0},{"$f":"MIN(INTERFACE!C$47,INTERFACE!F978)","v":{"$error":"#VALUE!"}},{"$f":"100-INTERFACE!B978","v":{"$error":"#VALUE!"}},null,{"$f":"INTERFACE!E977+12/1200","v":9.2699999999998468},{"$f":"((INTERFACE!C$11)/((10^-(INTERFACE!E978))+(INTERFACE!C$11)))*100","v":{"$error":"#VALUE!"}},{"$f":"100-INTERFACE!F978","v":{"$error":"#VALUE!"}}]
[{"$f":"(MIN(INTERFACE!AD$15,INTERFACE!E979))","v":0},{"$f":"MIN(INTERFACE!C$47,INTERFACE!F979)","v":{"$error":"#VALUE!"}},{"$f":"100-INTERFACE!B979","v":{"$error":"#VALUE!"}},null,{"$f":"INTERFACE!E978+12/1200","v":9.2799999999998466},{"$f":"((INTERFACE!C$11)/((10^-(INTERFACE!E979))+(INTERFACE!C$11)))*100","v":{"$error":"#VALUE!"}},{"$f":"100-INTERFACE!F979","v":{"$error":"#VALUE!"}}]
[{"$f":"(MIN(INTERFACE!AD$15,INTERFACE!E980))","v":0},{"$f":"MIN(INTERFACE!C$47,INTERFACE!F980)","v":{"$error":"#VALUE!"}},{"$f":"100-INTERFACE!B980","v":{"$error":"#VALUE!"}},null,{"$f":"INTERFACE!E979+12/1200","v":9.2899999999998464},{"$f":"((INTERFACE!C$11)/((10^-(INTERFACE!E980))+(INTERFACE!C$11)))*100","v":{"$error":"#VALUE!"}},{"$f":"100-INTERFACE!F980","v":{"$error":"#VALUE!"}}]
[{"$f":"(MIN(INTERFACE!AD$15,INTERFACE!E981))","v":0},{"$f":"MIN(INTERFACE!C$47,INTERFACE!F981)","v":{"$error":"#VALUE!"}},{"$f":"100-INTERFACE!B981","v":{"$error":"#VALUE!"}},null,{"$f":"INTERFACE!E980+12/1200","v":9.2999999999998462},{"$f":"((INTERFACE!C$11)/((10^-(INTERFACE!E981))+(INTERFACE!C$11)))*100","v":{"$error":"#VALUE!"}},{"$f":"100-INTERFACE!F981","v":{"$error":"#VALUE!"}}]
[{"$f":"(MIN(INTERFACE!AD$15,INTERFACE!E982))","v":0},{"$f":"MIN(INTERFACE!C$47,INTERFACE!F982)","v":{"$error":"#VALUE!"}},{"$f":"100-INTERFACE!B982","v":{"$error":"#VALUE!"}},null,{"$f":"INTERFACE!E981+12/1200","v":9.309999999999846},{"$f":"((INTERFACE!C$11)/((10^-(INTERFACE!E982))+(INTERFACE!C$11)))*100","v":{"$error":"#VALUE!"}},{"$f":"100-INTERFACE!F982","v":{"$error":"#VALUE!"}}]
[{"$f":"(MIN(INTERFACE!AD$15,INTERFACE!E983))","v":0},{"$f":"MIN(INTERFACE!C$47,INTERFACE!F983)","v":{"$error":"#VALUE!"}},{"$f":"100-INTERFACE!B983","v":{"$error":"#VALUE!"}},null,{"$f":"INTERFACE!E982+12/1200","v":9.3199999999998457},{"$f":"((INTERFACE!C$11)/((10^-(INTERFACE!E983))+(INTERFACE!C$11)))*100","v":{"$error":"#VALUE!"}},{"$f":"100-INTERFACE!F983","v":{"$error":"#VALUE!"}}]
[{"$f":"(MIN(INTERFACE!AD$15,INTERFACE!E984))","v":0},{"$f":"MIN(INTERFACE!C$47,INTERFACE!F984)","v":{"$error":"#VALUE!"}},{"$f":"100-INTERFACE!B984","v":{"$error":"#VALUE!"}},null,{"$f":"INTERFACE!E983+12/1200","v":9.3299999999998455},{"$f":"((INTERFACE!C$11)/((10^-(INTERFACE!E984))+(INTERFACE!C$11)))*100","v":{"$error":"#VALUE!"}},{"$f":"100-INTERFACE!F984","v":{"$error":"#VALUE!"}}]
[{"$f":"(MIN(INTERFACE!AD$15,INTERFACE!E985))","v":0},{"$f":"MIN(INTERFACE!C$47,INTERFACE!F985)","v":{"$error":"#VALUE!"}},{"$f":"100-INTERFACE!B985","v":{"$error":"#VALUE!"}},null,{"$f":"INTERFACE!E984+12/1200","v":9.3399999999998453},{"$f":"((INTERFACE!C$11)/((10^-(INTERFACE!E985))+(INTERFACE!C$11)))*100","v":{"$error":"#VALUE!"}},{"$f":"100-INTERFACE!F985","v":{"$error":"#VALUE!"}}]
[{"$f":"(MIN(INTERFACE!AD$15,INTERFACE!E986))","v":0},{"$f":"MIN(INTERFACE!C$47,INTERFACE!F986)","v":{"$error":"#VALUE!"}},{"$f":"100-INTERFACE!B986","v":{"$error":"#VALUE!"}},null,{"$f":"INTERFACE!E985+12/1200","v":9.3499999999998451},{"$f":"((INTERFACE!C$11)/((10^-(INTERFACE!E986))+(INTERFACE!C$11)))*100","v":{"$error":"#VALUE!"}},{"$f":"100-INTERFACE!F986","v":{"$error":"#VALUE!"}}]
[{"$f":"(MIN(INTERFACE!AD$15,INTERFACE!E987))","v":0},{"$f":"MIN(INTERFACE!C$47,INTERFACE!F987)","v":{"$error":"#VALUE!"}},{"$f":"100-INTERFACE!B987","v":{"$error":"#VALUE!"}},null,{"$f":"INTERFACE!E986+12/1200","v":9.3599999999998449},{"$f":"((INTERFACE!C$11)/((10^-(INTERFACE!E987))+(INTERFACE!C$11)))*100","v":{"$error":"#VALUE!"}},{"$f":"100-INTERFACE!F987","v":{"$error":"#VALUE!"}}]
[{"$f":"(MIN(INTERFACE!AD$15,INTERFACE!E988))","v":0},{"$f":"MIN(INTERFACE!C$47,INTERFACE!F988)","v":{"$error":"#VALUE!"}},{"$f":"100-INTERFACE!B988","v":{"$error":"#VALUE!"}},null,{"$f":"INTERFACE!E987+12/1200","v":9.3699999999998447},{"$f":"((INTERFACE!C$11)/((10^-(INTERFACE!E988))+(INTERFACE!C$11)))*100","v":{"$error":"#VALUE!"}},{"$f":"100-INTERFACE!F988","v":{"$error":"#VALUE!"}}]
[{"$f":"(MIN(INTERFACE!AD$15,INTERFACE!E989))","v":0},{"$f":"MIN(INTERFACE!C$47,INTERFACE!F989)","v":{"$error":"#VALUE!"}},{"$f":"100-INTERFACE!B989","v":{"$error":"#VALUE!"}},null,{"$f":"INTERFACE!E988+12/1200","v":9.3799999999998445},{"$f":"((INTERFACE!C$11)/((10^-(INTERFACE!E989))+(INTERFACE!C$11)))*100","v":{"$error":"#VALUE!"}},{"$f":"100-INTERFACE!F989","v":{"$error":"#VALUE!"}}]
[{"$f":"(MIN(INTERFACE!AD$15,INTERFACE!E990))","v":0},{"$f":"MIN(INTERFACE!C$47,INTERFACE!F990)","v":{"$error":"#VALUE!"}},{"$f":"100-INTERFACE!B990","v":{"$error":"#VALUE!"}},null,{"$f":"INTERFACE!E989+12/1200","v":9.3899999999998442},{"$f":"((INTERFACE!C$11)/((10^-(INTERFACE!E990))+(INTERFACE!C$11)))*100","v":{"$error":"#VALUE!"}},{"$f":"100-INTERFACE!F990","v":{"$error":"#VALUE!"}}]
[{"$f":"(MIN(INTERFACE!AD$15,INTERFACE!E991))","v":0},{"$f":"MIN(INTERFACE!C$47,INTERFACE!F991)","v":{"$error":"#VALUE!"}},{"$f":"100-INTERFACE!B991","v":{"$error":"#VALUE!"}},null,{"$f":"INTERFACE!E990+12/1200","v":9.399999999999844},{"$f":"((INTERFACE!C$11)/((10^-(INTERFACE!E991))+(INTERFACE!C$11)))*100","v":{"$error":"#VALUE!"}},{"$f":"100-INTERFACE!F991","v":{"$error":"#VALUE!"}}]
[{"$f":"(MIN(INTERFACE!AD$15,INTERFACE!E992))","v":0},{"$f":"MIN(INTERFACE!C$47,INTERFACE!F992)","v":{"$error":"#VALUE!"}},{"$f":"100-INTERFACE!B992","v":{"$error":"#VALUE!"}},null,{"$f":"INTERFACE!E991+12/1200","v":9.4099999999998438},{"$f":"((INTERFACE!C$11)/((10^-(INTERFACE!E992))+(INTERFACE!C$11)))*100","v":{"$error":"#VALUE!"}},{"$f":"100-INTERFACE!F992","v":{"$error":"#VALUE!"}}]
[{"$f":"(MIN(INTERFACE!AD$15,INTERFACE!E993))","v":0},{"$f":"MIN(INTERFACE!C$47,INTERFACE!F993)","v":{"$error":"#VALUE!"}},{"$f":"100-INTERFACE!B993","v":{"$error":"#VALUE!"}},null,{"$f":"INTERFACE!E992+12/1200","v":9.4199999999998436},{"$f":"((INTERFACE!C$11)/((10^-(INTERFACE!E993))+(INTERFACE!C$11)))*100","v":{"$error":"#VALUE!"}},{"$f":"100-INTERFACE!F993","v":{"$error":"#VALUE!"}}]
[{"$f":"(MIN(INTERFACE!AD$15,INTERFACE!E994))","v":0},{"$f":"MIN(INTERFACE!C$47,INTERFACE!F994)","v":{"$error":"#VALUE!"}},{"$f":"100-INTERFACE!B994","v":{"$error":"#VALUE!"}},null,{"$f":"INTERFACE!E993+12/1200","v":9.4299999999998434},{"$f":"((INTERFACE!C$11)/((10^-(INTERFACE!E994))+(INTERFACE!C$11)))*100","v":{"$error":"#VALUE!"}},{"$f":"100-INTERFACE!F994","v":{"$error":"#VALUE!"}}]
[{"$f":"(MIN(INTERFACE!AD$15,INTERFACE!E995))","v":0},{"$f":"MIN(INTERFACE!C$47,INTERFACE!F995)","v":{"$error":"#VALUE!"}},{"$f":"100-INTERFACE!B995","v":{"$error":"#VALUE!"}},null,{"$f":"INTERFACE!E994+12/1200","v":9.4399999999998432},{"$f":"((INTERFACE!C$11)/((10^-(INTERFACE!E995))+(INTERFACE!C$11)))*100","v":{"$error":"#VALUE!"}},{"$f":"100-INTERFACE!F995","v":{"$error":"#VALUE!"}}]
[{"$f":"(MIN(INTERFACE!AD$15,INTERFACE!E996))","v":0},{"$f":"MIN(INTERFACE!C$47,INTERFACE!F996)","v":{"$error":"#VALUE!"}},{"$f":"100-INTERFACE!B996","v":{"$error":"#VALUE!"}},null,{"$f":"INTERFACE!E995+12/1200","v":9.449999999999843},{"$f":"((INTERFACE!C$11)/((10^-(INTERFACE!E996))+(INTERFACE!C$11)))*100","v":{"$error":"#VALUE!"}},{"$f":"100-INTERFACE!F996","v":{"$error":"#VALUE!"}}]
[{"$f":"(MIN(INTERFACE!AD$15,INTERFACE!E997))","v":0},{"$f":"MIN(INTERFACE!C$47,INTERFACE!F997)","v":{"$error":"#VALUE!"}},{"$f":"100-INTERFACE!B997","v":{"$error":"#VALUE!"}},null,{"$f":"INTERFACE!E996+12/1200","v":9.4599999999998428},{"$f":"((INTERFACE!C$11)/((10^-(INTERFACE!E997))+(INTERFACE!C$11)))*100","v":{"$error":"#VALUE!"}},{"$f":"100-INTERFACE!F997","v":{"$error":"#VALUE!"}}]
[{"$f":"(MIN(INTERFACE!AD$15,INTERFACE!E998))","v":0},{"$f":"MIN(INTERFACE!C$47,INTERFACE!F998)","v":{"$error":"#VALUE!"}},{"$f":"100-INTERFACE!B998","v":{"$error":"#VALUE!"}},null,{"$f":"INTERFACE!E997+12/1200","v":9.4699999999998425},{"$f":"((INTERFACE!C$11)/((10^-(INTERFACE!E998))+(INTERFACE!C$11)))*100","v":{"$error":"#VALUE!"}},{"$f":"100-INTERFACE!F998","v":{"$error":"#VALUE!"}}]
[{"$f":"(MIN(INTERFACE!AD$15,INTERFACE!E999))","v":0},{"$f":"MIN(INTERFACE!C$47,INTERFACE!F999)","v":{"$error":"#VALUE!"}},{"$f":"100-INTERFACE!B999","v":{"$error":"#VALUE!"}},null,{"$f":"INTERFACE!E998+12/1200","v":9.4799999999998423},{"$f":"((INTERFACE!C$11)/((10^-(INTERFACE!E999))+(INTERFACE!C$11)))*100","v":{"$error":"#VALUE!"}},{"$f":"100-INTERFACE!F999","v":{"$error":"#VALUE!"}}]
[{"$f":"(MIN(INTERFACE!AD$15,INTERFACE!E1000))","v":0},{"$f":"MIN(INTERFACE!C$47,INTERFACE!F1000)","v":{"$error":"#VALUE!"}},{"$f":"100-INTERFACE!B1000","v":{"$error":"#VALUE!"}},null,{"$f":"INTERFACE!E999+12/1200","v":9.4899999999998421},{"$f":"((INTERFACE!C$11)/((10^-(INTERFACE!E1000))+(INTERFACE!C$11)))*100","v":{"$error":"#VALUE!"}},{"$f":"100-INTERFACE!F1000","v":{"$error":"#VALUE!"}}]
[{"$f":"(MIN(INTERFACE!AD$15,INTERFACE!E1001))","v":0},{"$f":"MIN(INTERFACE!C$47,INTERFACE!F1001)","v":{"$error":"#VALUE!"}},{"$f":"100-INTERFACE!B1001","v":{"$error":"#VALUE!"}},null,{"$f":"INTERFACE!E1000+12/1200","v":9.4999999999998419},{"$f":"((INTERFACE!C$11)/((10^-(INTERFACE!E1001))+(INTERFACE!C$11)))*100","v":{"$error":"#VALUE!"}},{"$f":"100-INTERFACE!F1001","v":{"$error":"#VALUE!"}}]
[{"$f":"(MIN(INTERFACE!AD$15,INTERFACE!E1002))","v":0},{"$f":"MIN(INTERFACE!C$47,INTERFACE!F1002)","v":{"$error":"#VALUE!"}},{"$f":"100-INTERFACE!B1002","v":{"$error":"#VALUE!"}},null,{"$f":"INTERFACE!E1001+12/1200","v":9.5099999999998417},{"$f":"((INTERFACE!C$11)/((10^-(INTERFACE!E1002))+(INTERFACE!C$11)))*100","v":{"$error":"#VALUE!"}},{"$f":"100-INTERFACE!F1002","v":{"$error":"#VALUE!"}}]
[{"$f":"(MIN(INTERFACE!AD$15,INTERFACE!E1003))","v":0},{"$f":"MIN(INTERFACE!C$47,INTERFACE!F1003)","v":{"$error":"#VALUE!"}},{"$f":"100-INTERFACE!B1003","v":{"$error":"#VALUE!"}},null,{"$f":"INTERFACE!E1002+12/1200","v":9.5199999999998415},{"$f":"((INTERFACE!C$11)/((10^-(INTERFACE!E1003))+(INTERFACE!C$11)))*100","v":{"$error":"#VALUE!"}},{"$f":"100-INTERFACE!F1003","v":{"$error":"#VALUE!"}}]
[{"$f":"(MIN(INTERFACE!AD$15,INTERFACE!E1004))","v":0},{"$f":"MIN(INTERFACE!C$47,INTERFACE!F1004)","v":{"$error":"#VALUE!"}},{"$f":"100-INTERFACE!B1004","v":{"$error":"#VALUE!"}},null,{"$f":"INTERFACE!E1003+12/1200","v":9.5299999999998413},{"$f":"((INTERFACE!C$11)/((10^-(INTERFACE!E1004))+(INTERFACE!C$11)))*100","v":{"$error":"#VALUE!"}},{"$f":"100-INTERFACE!F1004","v":{"$error":"#VALUE!"}}]
[{"$f":"(MIN(INTERFACE!AD$15,INTERFACE!E1005))","v":0},{"$f":"MIN(INTERFACE!C$47,INTERFACE!F1005)","v":{"$error":"#VALUE!"}},{"$f":"100-INTERFACE!B1005","v":{"$error":"#VALUE!"}},null,{"$f":"INTERFACE!E1004+12/1200","v":9.5399999999998411},{"$f":"((INTERFACE!C$11)/((10^-(INTERFACE!E1005))+(INTERFACE!C$11)))*100","v":{"$error":"#VALUE!"}},{"$f":"100-INTERFACE!F1005","v":{"$error":"#VALUE!"}}]
[{"$f":"(MIN(INTERFACE!AD$15,INTERFACE!E1006))","v":0},{"$f":"MIN(INTERFACE!C$47,INTERFACE!F1006)","v":{"$error":"#VALUE!"}},{"$f":"100-INTERFACE!B1006","v":{"$error":"#VALUE!"}},null,{"$f":"INTERFACE!E1005+12/1200","v":9.5499999999998408},{"$f":"((INTERFACE!C$11)/((10^-(INTERFACE!E1006))+(INTERFACE!C$11)))*100","v":{"$error":"#VALUE!"}},{"$f":"100-INTERFACE!F1006","v":{"$error":"#VALUE!"}}]
[{"$f":"(MIN(INTERFACE!AD$15,INTERFACE!E1007))","v":0},{"$f":"MIN(INTERFACE!C$47,INTERFACE!F1007)","v":{"$error":"#VALUE!"}},{"$f":"100-INTERFACE!B1007","v":{"$error":"#VALUE!"}},null,{"$f":"INTERFACE!E1006+12/1200","v":9.5599999999998406},{"$f":"((INTERFACE!C$11)/((10^-(INTERFACE!E1007))+(INTERFACE!C$11)))*100","v":{"$error":"#VALUE!"}},{"$f":"100-INTERFACE!F1007","v":{"$error":"#VALUE!"}}]
[{"$f":"(MIN(INTERFACE!AD$15,INTERFACE!E1008))","v":0},{"$f":"MIN(INTERFACE!C$47,INTERFACE!F1008)","v":{"$error":"#VALUE!"}},{"$f":"100-INTERFACE!B1008","v":{"$error":"#VALUE!"}},null,{"$f":"INTERFACE!E1007+12/1200","v":9.5699999999998404},{"$f":"((INTERFACE!C$11)/((10^-(INTERFACE!E1008))+(INTERFACE!C$11)))*100","v":{"$error":"#VALUE!"}},{"$f":"100-INTERFACE!F1008","v":{"$error":"#VALUE!"}}]
[{"$f":"(MIN(INTERFACE!AD$15,INTERFACE!E1009))","v":0},{"$f":"MIN(INTERFACE!C$47,INTERFACE!F1009)","v":{"$error":"#VALUE!"}},{"$f":"100-INTERFACE!B1009","v":{"$error":"#VALUE!"}},null,{"$f":"INTERFACE!E1008+12/1200","v":9.5799999999998402},{"$f":"((INTERFACE!C$11)/((10^-(INTERFACE!E1009))+(INTERFACE!C$11)))*100","v":{"$error":"#VALUE!"}},{"$f":"100-INTERFACE!F1009","v":{"$error":"#VALUE!"}}]
[{"$f":"(MIN(INTERFACE!AD$15,INTERFACE!E1010))","v":0},{"$f":"MIN(INTERFACE!C$47,INTERFACE!F1010)","v":{"$error":"#VALUE!"}},{"$f":"100-INTERFACE!B1010","v":{"$error":"#VALUE!"}},null,{"$f":"INTERFACE!E1009+12/1200","v":9.58999999999984},{"$f":"((INTERFACE!C$11)/((10^-(INTERFACE!E1010))+(INTERFACE!C$11)))*100","v":{"$error":"#VALUE!"}},{"$f":"100-INTERFACE!F1010","v":{"$error":"#VALUE!"}}]
[{"$f":"(MIN(INTERFACE!AD$15,INTERFACE!E1011))","v":0},{"$f":"MIN(INTERFACE!C$47,INTERFACE!F1011)","v":{"$error":"#VALUE!"}},{"$f":"100-INTERFACE!B1011","v":{"$error":"#VALUE!"}},null,{"$f":"INTERFACE!E1010+12/1200","v":9.5999999999998398},{"$f":"((INTERFACE!C$11)/((10^-(INTERFACE!E1011))+(INTERFACE!C$11)))*100","v":{"$error":"#VALUE!"}},{"$f":"100-INTERFACE!F1011","v":{"$error":"#VALUE!"}}]
[{"$f":"(MIN(INTERFACE!AD$15,INTERFACE!E1012))","v":0},{"$f":"MIN(INTERFACE!C$47,INTERFACE!F1012)","v":{"$error":"#VALUE!"}},{"$f":"100-INTERFACE!B1012","v":{"$error":"#VALUE!"}},null,{"$f":"INTERFACE!E1011+12/1200","v":9.6099999999998396},{"$f":"((INTERFACE!C$11)/((10^-(INTERFACE!E1012))+(INTERFACE!C$11)))*100","v":{"$error":"#VALUE!"}},{"$f":"100-INTERFACE!F1012","v":{"$error":"#VALUE!"}}]
[{"$f":"(MIN(INTERFACE!AD$15,INTERFACE!E1013))","v":0},{"$f":"MIN(INTERFACE!C$47,INTERFACE!F1013)","v":{"$error":"#VALUE!"}},{"$f":"100-INTERFACE!B1013","v":{"$error":"#VALUE!"}},null,{"$f":"INTERFACE!E1012+12/1200","v":9.6199999999998393},{"$f":"((INTERFACE!C$11)/((10^-(INTERFACE!E1013))+(INTERFACE!C$11)))*100","v":{"$error":"#VALUE!"}},{"$f":"100-INTERFACE!F1013","v":{"$error":"#VALUE!"}}]
[{"$f":"(MIN(INTERFACE!AD$15,INTERFACE!E1014))","v":0},{"$f":"MIN(INTERFACE!C$47,INTERFACE!F1014)","v":{"$error":"#VALUE!"}},{"$f":"100-INTERFACE!B1014","v":{"$error":"#VALUE!"}},null,{"$f":"INTERFACE!E1013+12/1200","v":9.6299999999998391},{"$f":"((INTERFACE!C$11)/((10^-(INTERFACE!E1014))+(INTERFACE!C$11)))*100","v":{"$error":"#VALUE!"}},{"$f":"100-INTERFACE!F1014","v":{"$error":"#VALUE!"}}]
[{"$f":"(MIN(INTERFACE!AD$15,INTERFACE!E1015))","v":0},{"$f":"MIN(INTERFACE!C$47,INTERFACE!F1015)","v":{"$error":"#VALUE!"}},{"$f":"100-INTERFACE!B1015","v":{"$error":"#VALUE!"}},null,{"$f":"INTERFACE!E1014+12/1200","v":9.6399999999998389},{"$f":"((INTERFACE!C$11)/((10^-(INTERFACE!E1015))+(INTERFACE!C$11)))*100","v":{"$error":"#VALUE!"}},{"$f":"100-INTERFACE!F1015","v":{"$error":"#VALUE!"}}]
[{"$f":"(MIN(INTERFACE!AD$15,INTERFACE!E1016))","v":0},{"$f":"MIN(INTERFACE!C$47,INTERFACE!F1016)","v":{"$error":"#VALUE!"}},{"$f":"100-INTERFACE!B1016","v":{"$error":"#VALUE!"}},null,{"$f":"INTERFACE!E1015+12/1200","v":9.6499999999998387},{"$f":"((INTERFACE!C$11)/((10^-(INTERFACE!E1016))+(INTERFACE!C$11)))*100","v":{"$error":"#VALUE!"}},{"$f":"100-INTERFACE!F1016","v":{"$error":"#VALUE!"}}]
[{"$f":"(MIN(INTERFACE!AD$15,INTERFACE!E1017))","v":0},{"$f":"MIN(INTERFACE!C$47,INTERFACE!F1017)","v":{"$error":"#VALUE!"}},{"$f":"100-INTERFACE!B1017","v":{"$error":"#VALUE!"}},null,{"$f":"INTERFACE!E1016+12/1200","v":9.6599999999998385},{"$f":"((INTERFACE!C$11)/((10^-(INTERFACE!E1017))+(INTERFACE!C$11)))*100","v":{"$error":"#VALUE!"}},{"$f":"100-INTERFACE!F1017","v":{"$error":"#VALUE!"}}]
[{"$f":"(MIN(INTERFACE!AD$15,INTERFACE!E1018))","v":0},{"$f":"MIN(INTERFACE!C$47,INTERFACE!F1018)","v":{"$error":"#VALUE!"}},{"$f":"100-INTERFACE!B1018","v":{"$error":"#VALUE!"}},null,{"$f":"INTERFACE!E1017+12/1200","v":9.6699999999998383},{"$f":"((INTERFACE!C$11)/((10^-(INTERFACE!E1018))+(INTERFACE!C$11)))*100","v":{"$error":"#VALUE!"}},{"$f":"100-INTERFACE!F1018","v":{"$error":"#VALUE!"}}]
[{"$f":"(MIN(INTERFACE!AD$15,INTERFACE!E1019))","v":0},{"$f":"MIN(INTERFACE!C$47,INTERFACE!F1019)","v":{"$error":"#VALUE!"}},{"$f":"100-INTERFACE!B1019","v":{"$error":"#VALUE!"}},null,{"$f":"INTERFACE!E1018+12/1200","v":9.6799999999998381},{"$f":"((INTERFACE!C$11)/((10^-(INTERFACE!E1019))+(INTERFACE!C$11)))*100","v":{"$error":"#VALUE!"}},{"$f":"100-INTERFACE!F1019","v":{"$error":"#VALUE!"}}]
[{"$f":"(MIN(INTERFACE!AD$15,INTERFACE!E1020))","v":0},{"$f":"MIN(INTERFACE!C$47,INTERFACE!F1020)","v":{"$error":"#VALUE!"}},{"$f":"100-INTERFACE!B1020","v":{"$error":"#VALUE!"}},null,{"$f":"INTERFACE!E1019+12/1200","v":9.6899999999998379},{"$f":"((INTERFACE!C$11)/((10^-(INTERFACE!E1020))+(INTERFACE!C$11)))*100","v":{"$error":"#VALUE!"}},{"$f":"100-INTERFACE!F1020","v":{"$error":"#VALUE!"}}]
[{"$f":"(MIN(INTERFACE!AD$15,INTERFACE!E1021))","v":0},{"$f":"MIN(INTERFACE!C$47,INTERFACE!F1021)","v":{"$error":"#VALUE!"}},{"$f":"100-INTERFACE!B1021","v":{"$error":"#VALUE!"}},null,{"$f":"INTERFACE!E1020+12/1200","v":9.6999999999998376},{"$f":"((INTERFACE!C$11)/((10^-(INTERFACE!E1021))+(INTERFACE!C$11)))*100","v":{"$error":"#VALUE!"}},{"$f":"100-INTERFACE!F1021","v":{"$error":"#VALUE!"}}]
[{"$f":"(MIN(INTERFACE!AD$15,INTERFACE!E1022))","v":0},{"$f":"MIN(INTERFACE!C$47,INTERFACE!F1022)","v":{"$error":"#VALUE!"}},{"$f":"100-INTERFACE!B1022","v":{"$error":"#VALUE!"}},null,{"$f":"INTERFACE!E1021+12/1200","v":9.7099999999998374},{"$f":"((INTERFACE!C$11)/((10^-(INTERFACE!E1022))+(INTERFACE!C$11)))*100","v":{"$error":"#VALUE!"}},{"$f":"100-INTERFACE!F1022","v":{"$error":"#VALUE!"}}]
[{"$f":"(MIN(INTERFACE!AD$15,INTERFACE!E1023))","v":0},{"$f":"MIN(INTERFACE!C$47,INTERFACE!F1023)","v":{"$error":"#VALUE!"}},{"$f":"100-INTERFACE!B1023","v":{"$error":"#VALUE!"}},null,{"$f":"INTERFACE!E1022+12/1200","v":9.7199999999998372},{"$f":"((INTERFACE!C$11)/((10^-(INTERFACE!E1023))+(INTERFACE!C$11)))*100","v":{"$error":"#VALUE!"}},{"$f":"100-INTERFACE!F1023","v":{"$error":"#VALUE!"}}]
[{"$f":"(MIN(INTERFACE!AD$15,INTERFACE!E1024))","v":0},{"$f":"MIN(INTERFACE!C$47,INTERFACE!F1024)","v":{"$error":"#VALUE!"}},{"$f":"100-INTERFACE!B1024","v":{"$error":"#VALUE!"}},null,{"$f":"INTERFACE!E1023+12/1200","v":9.729999999999837},{"$f":"((INTERFACE!C$11)/((10^-(INTERFACE!E1024))+(INTERFACE!C$11)))*100","v":{"$error":"#VALUE!"}},{"$f":"100-INTERFACE!F1024","v":{"$error":"#VALUE!"}}]
[{"$f":"(MIN(INTERFACE!AD$15,INTERFACE!E1025))","v":0},{"$f":"MIN(INTERFACE!C$47,INTERFACE!F1025)","v":{"$error":"#VALUE!"}},{"$f":"100-INTERFACE!B1025","v":{"$error":"#VALUE!"}},null,{"$f":"INTERFACE!E1024+12/1200","v":9.7399999999998368},{"$f":"((INTERFACE!C$11)/((10^-(INTERFACE!E1025))+(INTERFACE!C$11)))*100","v":{"$error":"#VALUE!"}},{"$f":"100-INTERFACE!F1025","v":{"$error":"#VALUE!"}}]
[{"$f":"(MIN(INTERFACE!AD$15,INTERFACE!E1026))","v":0},{"$f":"MIN(INTERFACE!C$47,INTERFACE!F1026)","v":{"$error":"#VALUE!"}},{"$f":"100-INTERFACE!B1026","v":{"$error":"#VALUE!"}},null,{"$f":"INTERFACE!E1025+12/1200","v":9.7499999999998366},{"$f":"((INTERFACE!C$11)/((10^-(INTERFACE!E1026))+(INTERFACE!C$11)))*100","v":{"$error":"#VALUE!"}},{"$f":"100-INTERFACE!F1026","v":{"$error":"#VALUE!"}}]
[{"$f":"(MIN(INTERFACE!AD$15,INTERFACE!E1027))","v":0},{"$f":"MIN(INTERFACE!C$47,INTERFACE!F1027)","v":{"$error":"#VALUE!"}},{"$f":"100-INTERFACE!B1027","v":{"$error":"#VALUE!"}},null,{"$f":"INTERFACE!E1026+12/1200","v":9.7599999999998364},{"$f":"((INTERFACE!C$11)/((10^-(INTERFACE!E1027))+(INTERFACE!C$11)))*100","v":{"$error":"#VALUE!"}},{"$f":"100-INTERFACE!F1027","v":{"$error":"#VALUE!"}}]
[{"$f":"(MIN(INTERFACE!AD$15,INTERFACE!E1028))","v":0},{"$f":"MIN(INTERFACE!C$47,INTERFACE!F1028)","v":{"$error":"#VALUE!"}},{"$f":"100-INTERFACE!B1028","v":{"$error":"#VALUE!"}},null,{"$f":"INTERFACE!E1027+12/1200","v":9.7699999999998361},{"$f":"((INTERFACE!C$11)/((10^-(INTERFACE!E1028))+(INTERFACE!C$11)))*100","v":{"$error":"#VALUE!"}},{"$f":"100-INTERFACE!F1028","v":{"$error":"#VALUE!"}}]
[{"$f":"(MIN(INTERFACE!AD$15,INTERFACE!E1029))","v":0},{"$f":"MIN(INTERFACE!C$47,INTERFACE!F1029)","v":{"$error":"#VALUE!"}},{"$f":"100-INTERFACE!B1029","v":{"$error":"#VALUE!"}},null,{"$f":"INTERFACE!E1028+12/1200","v":9.7799999999998359},{"$f":"((INTERFACE!C$11)/((10^-(INTERFACE!E1029))+(INTERFACE!C$11)))*100","v":{"$error":"#VALUE!"}},{"$f":"100-INTERFACE!F1029","v":{"$error":"#VALUE!"}}]
[{"$f":"(MIN(INTERFACE!AD$15,INTERFACE!E1030))","v":0},{"$f":"MIN(INTERFACE!C$47,INTERFACE!F1030)","v":{"$error":"#VALUE!"}},{"$f":"100-INTERFACE!B1030","v":{"$error":"#VALUE!"}},null,{"$f":"INTERFACE!E1029+12/1200","v":9.7899999999998357},{"$f":"((INTERFACE!C$11)/((10^-(INTERFACE!E1030))+(INTERFACE!C$11)))*100","v":{"$error":"#VALUE!"}},{"$f":"100-INTERFACE!F1030","v":{"$error":"#VALUE!"}}]
[{"$f":"(MIN(INTERFACE!AD$15,INTERFACE!E1031))","v":0},{"$f":"MIN(INTERFACE!C$47,INTERFACE!F1031)","v":{"$error":"#VALUE!"}},{"$f":"100-INTERFACE!B1031","v":{"$error":"#VALUE!"}},null,{"$f":"INTERFACE!E1030+12/1200","v":9.7999999999998355},{"$f":"((INTERFACE!C$11)/((10^-(INTERFACE!E1031))+(INTERFACE!C$11)))*100","v":{"$error":"#VALUE!"}},{"$f":"100-INTERFACE!F1031","v":{"$error":"#VALUE!"}}]
[{"$f":"(MIN(INTERFACE!AD$15,INTERFACE!E1032))","v":0},{"$f":"MIN(INTERFACE!C$47,INTERFACE!F1032)","v":{"$error":"#VALUE!"}},{"$f":"100-INTERFACE!B1032","v":{"$error":"#VALUE!"}},null,{"$f":"INTERFACE!E1031+12/1200","v":9.8099999999998353},{"$f":"((INTERFACE!C$11)/((10^-(INTERFACE!E1032))+(INTERFACE!C$11)))*100","v":{"$error":"#VALUE!"}},{"$f":"100-INTERFACE!F1032","v":{"$error":"#VALUE!"}}]
[{"$f":"(MIN(INTERFACE!AD$15,INTERFACE!E1033))","v":0},{"$f":"MIN(INTERFACE!C$47,INTERFACE!F1033)","v":{"$error":"#VALUE!"}},{"$f":"100-INTERFACE!B1033","v":{"$error":"#VALUE!"}},null,{"$f":"INTERFACE!E1032+12/1200","v":9.8199999999998351},{"$f":"((INTERFACE!C$11)/((10^-(INTERFACE!E1033))+(INTERFACE!C$11)))*100","v":{"$error":"#VALUE!"}},{"$f":"100-INTERFACE!F1033","v":{"$error":"#VALUE!"}}]
[{"$f":"(MIN(INTERFACE!AD$15,INTERFACE!E1034))","v":0},{"$f":"MIN(INTERFACE!C$47,INTERFACE!F1034)","v":{"$error":"#VALUE!"}},{"$f":"100-INTERFACE!B1034","v":{"$error":"#VALUE!"}},null,{"$f":"INTERFACE!E1033+12/1200","v":9.8299999999998349},{"$f":"((INTERFACE!C$11)/((10^-(INTERFACE!E1034))+(INTERFACE!C$11)))*100","v":{"$error":"#VALUE!"}},{"$f":"100-INTERFACE!F1034","v":{"$error":"#VALUE!"}}]
[{"$f":"(MIN(INTERFACE!AD$15,INTERFACE!E1035))","v":0},{"$f":"MIN(INTERFACE!C$47,INTERFACE!F1035)","v":{"$error":"#VALUE!"}},{"$f":"100-INTERFACE!B1035","v":{"$error":"#VALUE!"}},null,{"$f":"INTERFACE!E1034+12/1200","v":9.8399999999998347},{"$f":"((INTERFACE!C$11)/((10^-(INTERFACE!E1035))+(INTERFACE!C$11)))*100","v":{"$error":"#VALUE!"}},{"$f":"100-INTERFACE!F1035","v":{"$error":"#VALUE!"}}]
[{"$f":"(MIN(INTERFACE!AD$15,INTERFACE!E1036))","v":0},{"$f":"MIN(INTERFACE!C$47,INTERFACE!F1036)","v":{"$error":"#VALUE!"}},{"$f":"100-INTERFACE!B1036","v":{"$error":"#VALUE!"}},null,{"$f":"INTERFACE!E1035+12/1200","v":9.8499999999998344},{"$f":"((INTERFACE!C$11)/((10^-(INTERFACE!E1036))+(INTERFACE!C$11)))*100","v":{"$error":"#VALUE!"}},{"$f":"100-INTERFACE!F1036","v":{"$error":"#VALUE!"}}]
[{"$f":"(MIN(INTERFACE!AD$15,INTERFACE!E1037))","v":0},{"$f":"MIN(INTERFACE!C$47,INTERFACE!F1037)","v":{"$error":"#VALUE!"}},{"$f":"100-INTERFACE!B1037","v":{"$error":"#VALUE!"}},null,{"$f":"INTERFACE!E1036+12/1200","v":9.8599999999998342},{"$f":"((INTERFACE!C$11)/((10^-(INTERFACE!E1037))+(INTERFACE!C$11)))*100","v":{"$error":"#VALUE!"}},{"$f":"100-INTERFACE!F1037","v":{"$error":"#VALUE!"}}]
[{"$f":"(MIN(INTERFACE!AD$15,INTERFACE!E1038))","v":0},{"$f":"MIN(INTERFACE!C$47,INTERFACE!F1038)","v":{"$error":"#VALUE!"}},{"$f":"100-INTERFACE!B1038","v":{"$error":"#VALUE!"}},null,{"$f":"INTERFACE!E1037+12/1200","v":9.869999999999834},{"$f":"((INTERFACE!C$11)/((10^-(INTERFACE!E1038))+(INTERFACE!C$11)))*100","v":{"$error":"#VALUE!"}},{"$f":"100-INTERFACE!F1038","v":{"$error":"#VALUE!"}}]
[{"$f":"(MIN(INTERFACE!AD$15,INTERFACE!E1039))","v":0},{"$f":"MIN(INTERFACE!C$47,INTERFACE!F1039)","v":{"$error":"#VALUE!"}},{"$f":"100-INTERFACE!B1039","v":{"$error":"#VALUE!"}},null,{"$f":"INTERFACE!E1038+12/1200","v":9.8799999999998338},{"$f":"((INTERFACE!C$11)/((10^-(INTERFACE!E1039))+(INTERFACE!C$11)))*100","v":{"$error":"#VALUE!"}},{"$f":"100-INTERFACE!F1039","v":{"$error":"#VALUE!"}}]
[{"$f":"(MIN(INTERFACE!AD$15,INTERFACE!E1040))","v":0},{"$f":"MIN(INTERFACE!C$47,INTERFACE!F1040)","v":{"$error":"#VALUE!"}},{"$f":"100-INTERFACE!B1040","v":{"$error":"#VALUE!"}},null,{"$f":"INTERFACE!E1039+12/1200","v":9.8899999999998336},{"$f":"((INTERFACE!C$11)/((10^-(INTERFACE!E1040))+(INTERFACE!C$11)))*100","v":{"$error":"#VALUE!"}},{"$f":"100-INTERFACE!F1040","v":{"$error":"#VALUE!"}}]
[{"$f":"(MIN(INTERFACE!AD$15,INTERFACE!E1041))","v":0},{"$f":"MIN(INTERFACE!C$47,INTERFACE!F1041)","v":{"$error":"#VALUE!"}},{"$f":"100-INTERFACE!B1041","v":{"$error":"#VALUE!"}},null,{"$f":"INTERFACE!E1040+12/1200","v":9.8999999999998334},{"$f":"((INTERFACE!C$11)/((10^-(INTERFACE!E1041))+(INTERFACE!C$11)))*100","v":{"$error":"#VALUE!"}},{"$f":"100-INTERFACE!F1041","v":{"$error":"#VALUE!"}}]
[{"$f":"(MIN(INTERFACE!AD$15,INTERFACE!E1042))","v":0},{"$f":"MIN(INTERFACE!C$47,INTERFACE!F1042)","v":{"$error":"#VALUE!"}},{"$f":"100-INTERFACE!B1042","v":{"$error":"#VALUE!"}},null,{"$f":"INTERFACE!E1041+12/1200","v":9.9099999999998332},{"$f":"((INTERFACE!C$11)/((10^-(INTERFACE!E1042))+(INTERFACE!C$11)))*100","v":{"$error":"#VALUE!"}},{"$f":"100-INTERFACE!F1042","v":{"$error":"#VALUE!"}}]
[{"$f":"(MIN(INTERFACE!AD$15,INTERFACE!E1043))","v":0},{"$f":"MIN(INTERFACE!C$47,INTERFACE!F1043)","v":{"$error":"#VALUE!"}},{"$f":"100-INTERFACE!B1043","v":{"$error":"#VALUE!"}},null,{"$f":"INTERFACE!E1042+12/1200","v":9.919999999999833},{"$f":"((INTERFACE!C$11)/((10^-(INTERFACE!E1043))+(INTERFACE!C$11)))*100","v":{"$error":"#VALUE!"}},{"$f":"100-INTERFACE!F1043","v":{"$error":"#VALUE!"}}]
[{"$f":"(MIN(INTERFACE!AD$15,INTERFACE!E1044))","v":0},{"$f":"MIN(INTERFACE!C$47,INTERFACE!F1044)","v":{"$error":"#VALUE!"}},{"$f":"100-INTERFACE!B1044","v":{"$error":"#VALUE!"}},null,{"$f":"INTERFACE!E1043+12/1200","v":9.9299999999998327},{"$f":"((INTERFACE!C$11)/((10^-(INTERFACE!E1044))+(INTERFACE!C$11)))*100","v":{"$error":"#VALUE!"}},{"$f":"100-INTERFACE!F1044","v":{"$error":"#VALUE!"}}]
[{"$f":"(MIN(INTERFACE!AD$15,INTERFACE!E1045))","v":0},{"$f":"MIN(INTERFACE!C$47,INTERFACE!F1045)","v":{"$error":"#VALUE!"}},{"$f":"100-INTERFACE!B1045","v":{"$error":"#VALUE!"}},null,{"$f":"INTERFACE!E1044+12/1200","v":9.9399999999998325},{"$f":"((INTERFACE!C$11)/((10^-(INTERFACE!E1045))+(INTERFACE!C$11)))*100","v":{"$error":"#VALUE!"}},{"$f":"100-INTERFACE!F1045","v":{"$error":"#VALUE!"}}]
[{"$f":"(MIN(INTERFACE!AD$15,INTERFACE!E1046))","v":0},{"$f":"MIN(INTERFACE!C$47,INTERFACE!F1046)","v":{"$error":"#VALUE!"}},{"$f":"100-INTERFACE!B1046","v":{"$error":"#VALUE!"}},null,{"$f":"INTERFACE!E1045+12/1200","v":9.9499999999998323},{"$f":"((INTERFACE!C$11)/((10^-(INTERFACE!E1046))+(INTERFACE!C$11)))*100","v":{"$error":"#VALUE!"}},{"$f":"100-INTERFACE!F1046","v":{"$error":"#VALUE!"}}]
[{"$f":"(MIN(INTERFACE!AD$15,INTERFACE!E1047))","v":0},{"$f":"MIN(INTERFACE!C$47,INTERFACE!F1047)","v":{"$error":"#VALUE!"}},{"$f":"100-INTERFACE!B1047","v":{"$error":"#VALUE!"}},null,{"$f":"INTERFACE!E1046+12/1200","v":9.9599999999998321},{"$f":"((INTERFACE!C$11)/((10^-(INTERFACE!E1047))+(INTERFACE!C$11)))*100","v":{"$error":"#VALUE!"}},{"$f":"100-INTERFACE!F1047","v":{"$error":"#VALUE!"}}]
[{"$f":"(MIN(INTERFACE!AD$15,INTERFACE!E1048))","v":0},{"$f":"MIN(INTERFACE!C$47,INTERFACE!F1048)","v":{"$error":"#VALUE!"}},{"$f":"100-INTERFACE!B1048","v":{"$error":"#VALUE!"}},null,{"$f":"INTERFACE!E1047+12/1200","v":9.9699999999998319},{"$f":"((INTERFACE!C$11)/((10^-(INTERFACE!E1048))+(INTERFACE!C$11)))*100","v":{"$error":"#VALUE!"}},{"$f":"100-INTERFACE!F1048","v":{"$error":"#VALUE!"}}]
[{"$f":"(MIN(INTERFACE!AD$15,INTERFACE!E1049))","v":0},{"$f":"MIN(INTERFACE!C$47,INTERFACE!F1049)","v":{"$error":"#VALUE!"}},{"$f":"100-INTERFACE!B1049","v":{"$error":"#VALUE!"}},null,{"$f":"INTERFACE!E1048+12/1200","v":9.9799999999998317},{"$f":"((INTERFACE!C$11)/((10^-(INTERFACE!E1049))+(INTERFACE!C$11)))*100","v":{"$error":"#VALUE!"}},{"$f":"100-INTERFACE!F1049","v":{"$error":"#VALUE!"}}]
[{"$f":"(MIN(INTERFACE!AD$15,INTERFACE!E1050))","v":0},{"$f":"MIN(INTERFACE!C$47,INTERFACE!F1050)","v":{"$error":"#VALUE!"}},{"$f":"100-INTERFACE!B1050","v":{"$error":"#VALUE!"}},null,{"$f":"INTERFACE!E1049+12/1200","v":9.9899999999998315},{"$f":"((INTERFACE!C$11)/((10^-(INTERFACE!E1050))+(INTERFACE!C$11)))*100","v":{"$error":"#VALUE!"}},{"$f":"100-INTERFACE!F1050","v":{"$error":"#VALUE!"}}]
[{"$f":"(MIN(INTERFACE!AD$15,INTERFACE!E1051))","v":0},{"$f":"MIN(INTERFACE!C$47,INTERFACE!F1051)","v":{"$error":"#VALUE!"}},{"$f":"100-INTERFACE!B1051","v":{"$error":"#VALUE!"}},null,{"$f":"INTERFACE!E1050+12/1200","v":9.9999999999998312},{"$f":"((INTERFACE!C$11)/((10^-(INTERFACE!E1051))+(INTERFACE!C$11)))*100","v":{"$error":"#VALUE!"}},{"$f":"100-INTERFACE!F1051","v":{"$error":"#VALUE!"}}]
[{"$f":"(MIN(INTERFACE!AD$15,INTERFACE!E1052))","v":0},{"$f":"MIN(INTERFACE!C$47,INTERFACE!F1052)","v":{"$error":"#VALUE!"}},{"$f":"100-INTERFACE!B1052","v":{"$error":"#VALUE!"}},null,{"$f":"INTERFACE!E1051+12/1200","v":10.009999999999831},{"$f":"((INTERFACE!C$11)/((10^-(INTERFACE!E1052))+(INTERFACE!C$11)))*100","v":{"$error":"#VALUE!"}},{"$f":"100-INTERFACE!F1052","v":{"$error":"#VALUE!"}}]
[{"$f":"(MIN(INTERFACE!AD$15,INTERFACE!E1053))","v":0},{"$f":"MIN(INTERFACE!C$47,INTERFACE!F1053)","v":{"$error":"#VALUE!"}},{"$f":"100-INTERFACE!B1053","v":{"$error":"#VALUE!"}},null,{"$f":"INTERFACE!E1052+12/1200","v":10.019999999999831},{"$f":"((INTERFACE!C$11)/((10^-(INTERFACE!E1053))+(INTERFACE!C$11)))*100","v":{"$error":"#VALUE!"}},{"$f":"100-INTERFACE!F1053","v":{"$error":"#VALUE!"}}]
[{"$f":"(MIN(INTERFACE!AD$15,INTERFACE!E1054))","v":0},{"$f":"MIN(INTERFACE!C$47,INTERFACE!F1054)","v":{"$error":"#VALUE!"}},{"$f":"100-INTERFACE!B1054","v":{"$error":"#VALUE!"}},null,{"$f":"INTERFACE!E1053+12/1200","v":10.029999999999831},{"$f":"((INTERFACE!C$11)/((10^-(INTERFACE!E1054))+(INTERFACE!C$11)))*100","v":{"$error":"#VALUE!"}},{"$f":"100-INTERFACE!F1054","v":{"$error":"#VALUE!"}}]
[{"$f":"(MIN(INTERFACE!AD$15,INTERFACE!E1055))","v":0},{"$f":"MIN(INTERFACE!C$47,INTERFACE!F1055)","v":{"$error":"#VALUE!"}},{"$f":"100-INTERFACE!B1055","v":{"$error":"#VALUE!"}},null,{"$f":"INTERFACE!E1054+12/1200","v":10.03999999999983},{"$f":"((INTERFACE!C$11)/((10^-(INTERFACE!E1055))+(INTERFACE!C$11)))*100","v":{"$error":"#VALUE!"}},{"$f":"100-INTERFACE!F1055","v":{"$error":"#VALUE!"}}]
[{"$f":"(MIN(INTERFACE!AD$15,INTERFACE!E1056))","v":0},{"$f":"MIN(INTERFACE!C$47,INTERFACE!F1056)","v":{"$error":"#VALUE!"}},{"$f":"100-INTERFACE!B1056","v":{"$error":"#VALUE!"}},null,{"$f":"INTERFACE!E1055+12/1200","v":10.04999999999983},{"$f":"((INTERFACE!C$11)/((10^-(INTERFACE!E1056))+(INTERFACE!C$11)))*100","v":{"$error":"#VALUE!"}},{"$f":"100-INTERFACE!F1056","v":{"$error":"#VALUE!"}}]
[{"$f":"(MIN(INTERFACE!AD$15,INTERFACE!E1057))","v":0},{"$f":"MIN(INTERFACE!C$47,INTERFACE!F1057)","v":{"$error":"#VALUE!"}},{"$f":"100-INTERFACE!B1057","v":{"$error":"#VALUE!"}},null,{"$f":"INTERFACE!E1056+12/1200","v":10.05999999999983},{"$f":"((INTERFACE!C$11)/((10^-(INTERFACE!E1057))+(INTERFACE!C$11)))*100","v":{"$error":"#VALUE!"}},{"$f":"100-INTERFACE!F1057","v":{"$error":"#VALUE!"}}]
[{"$f":"(MIN(INTERFACE!AD$15,INTERFACE!E1058))","v":0},{"$f":"MIN(INTERFACE!C$47,INTERFACE!F1058)","v":{"$error":"#VALUE!"}},{"$f":"100-INTERFACE!B1058","v":{"$error":"#VALUE!"}},null,{"$f":"INTERFACE!E1057+12/1200","v":10.06999999999983},{"$f":"((INTERFACE!C$11)/((10^-(INTERFACE!E1058))+(INTERFACE!C$11)))*100","v":{"$error":"#VALUE!"}},{"$f":"100-INTERFACE!F1058","v":{"$error":"#VALUE!"}}]
[{"$f":"(MIN(INTERFACE!AD$15,INTERFACE!E1059))","v":0},{"$f":"MIN(INTERFACE!C$47,INTERFACE!F1059)","v":{"$error":"#VALUE!"}},{"$f":"100-INTERFACE!B1059","v":{"$error":"#VALUE!"}},null,{"$f":"INTERFACE!E1058+12/1200","v":10.07999999999983},{"$f":"((INTERFACE!C$11)/((10^-(INTERFACE!E1059))+(INTERFACE!C$11)))*100","v":{"$error":"#VALUE!"}},{"$f":"100-INTERFACE!F1059","v":{"$error":"#VALUE!"}}]
[{"$f":"(MIN(INTERFACE!AD$15,INTERFACE!E1060))","v":0},{"$f":"MIN(INTERFACE!C$47,INTERFACE!F1060)","v":{"$error":"#VALUE!"}},{"$f":"100-INTERFACE!B1060","v":{"$error":"#VALUE!"}},null,{"$f":"INTERFACE!E1059+12/1200","v":10.089999999999829},{"$f":"((INTERFACE!C$11)/((10^-(INTERFACE!E1060))+(INTERFACE!C$11)))*100","v":{"$error":"#VALUE!"}},{"$f":"100-INTERFACE!F1060","v":{"$error":"#VALUE!"}}]
[{"$f":"(MIN(INTERFACE!AD$15,INTERFACE!E1061))","v":0},{"$f":"MIN(INTERFACE!C$47,INTERFACE!F1061)","v":{"$error":"#VALUE!"}},{"$f":"100-INTERFACE!B1061","v":{"$error":"#VALUE!"}},null,{"$f":"INTERFACE!E1060+12/1200","v":10.099999999999829},{"$f":"((INTERFACE!C$11)/((10^-(INTERFACE!E1061))+(INTERFACE!C$11)))*100","v":{"$error":"#VALUE!"}},{"$f":"100-INTERFACE!F1061","v":{"$error":"#VALUE!"}}]
[{"$f":"(MIN(INTERFACE!AD$15,INTERFACE!E1062))","v":0},{"$f":"MIN(INTERFACE!C$47,INTERFACE!F1062)","v":{"$error":"#VALUE!"}},{"$f":"100-INTERFACE!B1062","v":{"$error":"#VALUE!"}},null,{"$f":"INTERFACE!E1061+12/1200","v":10.109999999999829},{"$f":"((INTERFACE!C$11)/((10^-(INTERFACE!E1062))+(INTERFACE!C$11)))*100","v":{"$error":"#VALUE!"}},{"$f":"100-INTERFACE!F1062","v":{"$error":"#VALUE!"}}]
[{"$f":"(MIN(INTERFACE!AD$15,INTERFACE!E1063))","v":0},{"$f":"MIN(INTERFACE!C$47,INTERFACE!F1063)","v":{"$error":"#VALUE!"}},{"$f":"100-INTERFACE!B1063","v":{"$error":"#VALUE!"}},null,{"$f":"INTERFACE!E1062+12/1200","v":10.119999999999829},{"$f":"((INTERFACE!C$11)/((10^-(INTERFACE!E1063))+(INTERFACE!C$11)))*100","v":{"$error":"#VALUE!"}},{"$f":"100-INTERFACE!F1063","v":{"$error":"#VALUE!"}}]
[{"$f":"(MIN(INTERFACE!AD$15,INTERFACE!E1064))","v":0},{"$f":"MIN(INTERFACE!C$47,INTERFACE!F1064)","v":{"$error":"#VALUE!"}},{"$f":"100-INTERFACE!B1064","v":{"$error":"#VALUE!"}},null,{"$f":"INTERFACE!E1063+12/1200","v":10.129999999999828},{"$f":"((INTERFACE!C$11)/((10^-(INTERFACE!E1064))+(INTERFACE!C$11)))*100","v":{"$error":"#VALUE!"}},{"$f":"100-INTERFACE!F1064","v":{"$error":"#VALUE!"}}]
[{"$f":"(MIN(INTERFACE!AD$15,INTERFACE!E1065))","v":0},{"$f":"MIN(INTERFACE!C$47,INTERFACE!F1065)","v":{"$error":"#VALUE!"}},{"$f":"100-INTERFACE!B1065","v":{"$error":"#VALUE!"}},null,{"$f":"INTERFACE!E1064+12/1200","v":10.139999999999828},{"$f":"((INTERFACE!C$11)/((10^-(INTERFACE!E1065))+(INTERFACE!C$11)))*100","v":{"$error":"#VALUE!"}},{"$f":"100-INTERFACE!F1065","v":{"$error":"#VALUE!"}}]
[{"$f":"(MIN(INTERFACE!AD$15,INTERFACE!E1066))","v":0},{"$f":"MIN(INTERFACE!C$47,INTERFACE!F1066)","v":{"$error":"#VALUE!"}},{"$f":"100-INTERFACE!B1066","v":{"$error":"#VALUE!"}},null,{"$f":"INTERFACE!E1065+12/1200","v":10.149999999999828},{"$f":"((INTERFACE!C$11)/((10^-(INTERFACE!E1066))+(INTERFACE!C$11)))*100","v":{"$error":"#VALUE!"}},{"$f":"100-INTERFACE!F1066","v":{"$error":"#VALUE!"}}]
[{"$f":"(MIN(INTERFACE!AD$15,INTERFACE!E1067))","v":0},{"$f":"MIN(INTERFACE!C$47,INTERFACE!F1067)","v":{"$error":"#VALUE!"}},{"$f":"100-INTERFACE!B1067","v":{"$error":"#VALUE!"}},null,{"$f":"INTERFACE!E1066+12/1200","v":10.159999999999828},{"$f":"((INTERFACE!C$11)/((10^-(INTERFACE!E1067))+(INTERFACE!C$11)))*100","v":{"$error":"#VALUE!"}},{"$f":"100-INTERFACE!F1067","v":{"$error":"#VALUE!"}}]
[{"$f":"(MIN(INTERFACE!AD$15,INTERFACE!E1068))","v":0},{"$f":"MIN(INTERFACE!C$47,INTERFACE!F1068)","v":{"$error":"#VALUE!"}},{"$f":"100-INTERFACE!B1068","v":{"$error":"#VALUE!"}},null,{"$f":"INTERFACE!E1067+12/1200","v":10.169999999999828},{"$f":"((INTERFACE!C$11)/((10^-(INTERFACE!E1068))+(INTERFACE!C$11)))*100","v":{"$error":"#VALUE!"}},{"$f":"100-INTERFACE!F1068","v":{"$error":"#VALUE!"}}]
[{"$f":"(MIN(INTERFACE!AD$15,INTERFACE!E1069))","v":0},{"$f":"MIN(INTERFACE!C$47,INTERFACE!F1069)","v":{"$error":"#VALUE!"}},{"$f":"100-INTERFACE!B1069","v":{"$error":"#VALUE!"}},null,{"$f":"INTERFACE!E1068+12/1200","v":10.179999999999827},{"$f":"((INTERFACE!C$11)/((10^-(INTERFACE!E1069))+(INTERFACE!C$11)))*100","v":{"$error":"#VALUE!"}},{"$f":"100-INTERFACE!F1069","v":{"$error":"#VALUE!"}}]
[{"$f":"(MIN(INTERFACE!AD$15,INTERFACE!E1070))","v":0},{"$f":"MIN(INTERFACE!C$47,INTERFACE!F1070)","v":{"$error":"#VALUE!"}},{"$f":"100-INTERFACE!B1070","v":{"$error":"#VALUE!"}},null,{"$f":"INTERFACE!E1069+12/1200","v":10.189999999999827},{"$f":"((INTERFACE!C$11)/((10^-(INTERFACE!E1070))+(INTERFACE!C$11)))*100","v":{"$error":"#VALUE!"}},{"$f":"100-INTERFACE!F1070","v":{"$error":"#VALUE!"}}]
[{"$f":"(MIN(INTERFACE!AD$15,INTERFACE!E1071))","v":0},{"$f":"MIN(INTERFACE!C$47,INTERFACE!F1071)","v":{"$error":"#VALUE!"}},{"$f":"100-INTERFACE!B1071","v":{"$error":"#VALUE!"}},null,{"$f":"INTERFACE!E1070+12/1200","v":10.199999999999827},{"$f":"((INTERFACE!C$11)/((10^-(INTERFACE!E1071))+(INTERFACE!C$11)))*100","v":{"$error":"#VALUE!"}},{"$f":"100-INTERFACE!F1071","v":{"$error":"#VALUE!"}}]
[{"$f":"(MIN(INTERFACE!AD$15,INTERFACE!E1072))","v":0},{"$f":"MIN(INTERFACE!C$47,INTERFACE!F1072)","v":{"$error":"#VALUE!"}},{"$f":"100-INTERFACE!B1072","v":{"$error":"#VALUE!"}},null,{"$f":"INTERFACE!E1071+12/1200","v":10.209999999999827},{"$f":"((INTERFACE!C$11)/((10^-(INTERFACE!E1072))+(INTERFACE!C$11)))*100","v":{"$error":"#VALUE!"}},{"$f":"100-INTERFACE!F1072","v":{"$error":"#VALUE!"}}]
[{"$f":"(MIN(INTERFACE!AD$15,INTERFACE!E1073))","v":0},{"$f":"MIN(INTERFACE!C$47,INTERFACE!F1073)","v":{"$error":"#VALUE!"}},{"$f":"100-INTERFACE!B1073","v":{"$error":"#VALUE!"}},null,{"$f":"INTERFACE!E1072+12/1200","v":10.219999999999827},{"$f":"((INTERFACE!C$11)/((10^-(INTERFACE!E1073))+(INTERFACE!C$11)))*100","v":{"$error":"#VALUE!"}},{"$f":"100-INTERFACE!F1073","v":{"$error":"#VALUE!"}}]
[{"$f":"(MIN(INTERFACE!AD$15,INTERFACE!E1074))","v":0},{"$f":"MIN(INTERFACE!C$47,INTERFACE!F1074)","v":{"$error":"#VALUE!"}},{"$f":"100-INTERFACE!B1074","v":{"$error":"#VALUE!"}},null,{"$f":"INTERFACE!E1073+12/1200","v":10.229999999999826},{"$f":"((INTERFACE!C$11)/((10^-(INTERFACE!E1074))+(INTERFACE!C$11)))*100","v":{"$error":"#VALUE!"}},{"$f":"100-INTERFACE!F1074","v":{"$error":"#VALUE!"}}]
[{"$f":"(MIN(INTERFACE!AD$15,INTERFACE!E1075))","v":0},{"$f":"MIN(INTERFACE!C$47,INTERFACE!F1075)","v":{"$error":"#VALUE!"}},{"$f":"100-INTERFACE!B1075","v":{"$error":"#VALUE!"}},null,{"$f":"INTERFACE!E1074+12/1200","v":10.239999999999826},{"$f":"((INTERFACE!C$11)/((10^-(INTERFACE!E1075))+(INTERFACE!C$11)))*100","v":{"$error":"#VALUE!"}},{"$f":"100-INTERFACE!F1075","v":{"$error":"#VALUE!"}}]
[{"$f":"(MIN(INTERFACE!AD$15,INTERFACE!E1076))","v":0},{"$f":"MIN(INTERFACE!C$47,INTERFACE!F1076)","v":{"$error":"#VALUE!"}},{"$f":"100-INTERFACE!B1076","v":{"$error":"#VALUE!"}},null,{"$f":"INTERFACE!E1075+12/1200","v":10.249999999999826},{"$f":"((INTERFACE!C$11)/((10^-(INTERFACE!E1076))+(INTERFACE!C$11)))*100","v":{"$error":"#VALUE!"}},{"$f":"100-INTERFACE!F1076","v":{"$error":"#VALUE!"}}]
[{"$f":"(MIN(INTERFACE!AD$15,INTERFACE!E1077))","v":0},{"$f":"MIN(INTERFACE!C$47,INTERFACE!F1077)","v":{"$error":"#VALUE!"}},{"$f":"100-INTERFACE!B1077","v":{"$error":"#VALUE!"}},null,{"$f":"INTERFACE!E1076+12/1200","v":10.259999999999826},{"$f":"((INTERFACE!C$11)/((10^-(INTERFACE!E1077))+(INTERFACE!C$11)))*100","v":{"$error":"#VALUE!"}},{"$f":"100-INTERFACE!F1077","v":{"$error":"#VALUE!"}}]
[{"$f":"(MIN(INTERFACE!AD$15,INTERFACE!E1078))","v":0},{"$f":"MIN(INTERFACE!C$47,INTERFACE!F1078)","v":{"$error":"#VALUE!"}},{"$f":"100-INTERFACE!B1078","v":{"$error":"#VALUE!"}},null,{"$f":"INTERFACE!E1077+12/1200","v":10.269999999999825},{"$f":"((INTERFACE!C$11)/((10^-(INTERFACE!E1078))+(INTERFACE!C$11)))*100","v":{"$error":"#VALUE!"}},{"$f":"100-INTERFACE!F1078","v":{"$error":"#VALUE!"}}]
[{"$f":"(MIN(INTERFACE!AD$15,INTERFACE!E1079))","v":0},{"$f":"MIN(INTERFACE!C$47,INTERFACE!F1079)","v":{"$error":"#VALUE!"}},{"$f":"100-INTERFACE!B1079","v":{"$error":"#VALUE!"}},null,{"$f":"INTERFACE!E1078+12/1200","v":10.279999999999825},{"$f":"((INTERFACE!C$11)/((10^-(INTERFACE!E1079))+(INTERFACE!C$11)))*100","v":{"$error":"#VALUE!"}},{"$f":"100-INTERFACE!F1079","v":{"$error":"#VALUE!"}}]
[{"$f":"(MIN(INTERFACE!AD$15,INTERFACE!E1080))","v":0},{"$f":"MIN(INTERFACE!C$47,INTERFACE!F1080)","v":{"$error":"#VALUE!"}},{"$f":"100-INTERFACE!B1080","v":{"$error":"#VALUE!"}},null,{"$f":"INTERFACE!E1079+12/1200","v":10.289999999999825},{"$f":"((INTERFACE!C$11)/((10^-(INTERFACE!E1080))+(INTERFACE!C$11)))*100","v":{"$error":"#VALUE!"}},{"$f":"100-INTERFACE!F1080","v":{"$error":"#VALUE!"}}]
[{"$f":"(MIN(INTERFACE!AD$15,INTERFACE!E1081))","v":0},{"$f":"MIN(INTERFACE!C$47,INTERFACE!F1081)","v":{"$error":"#VALUE!"}},{"$f":"100-INTERFACE!B1081","v":{"$error":"#VALUE!"}},null,{"$f":"INTERFACE!E1080+12/1200","v":10.299999999999825},{"$f":"((INTERFACE!C$11)/((10^-(INTERFACE!E1081))+(INTERFACE!C$11)))*100","v":{"$error":"#VALUE!"}},{"$f":"100-INTERFACE!F1081","v":{"$error":"#VALUE!"}}]
[{"$f":"(MIN(INTERFACE!AD$15,INTERFACE!E1082))","v":0},{"$f":"MIN(INTERFACE!C$47,INTERFACE!F1082)","v":{"$error":"#VALUE!"}},{"$f":"100-INTERFACE!B1082","v":{"$error":"#VALUE!"}},null,{"$f":"INTERFACE!E1081+12/1200","v":10.309999999999825},{"$f":"((INTERFACE!C$11)/((10^-(INTERFACE!E1082))+(INTERFACE!C$11)))*100","v":{"$error":"#VALUE!"}},{"$f":"100-INTERFACE!F1082","v":{"$error":"#VALUE!"}}]
[{"$f":"(MIN(INTERFACE!AD$15,INTERFACE!E1083))","v":0},{"$f":"MIN(INTERFACE!C$47,INTERFACE!F1083)","v":{"$error":"#VALUE!"}},{"$f":"100-INTERFACE!B1083","v":{"$error":"#VALUE!"}},null,{"$f":"INTERFACE!E1082+12/1200","v":10.319999999999824},{"$f":"((INTERFACE!C$11)/((10^-(INTERFACE!E1083))+(INTERFACE!C$11)))*100","v":{"$error":"#VALUE!"}},{"$f":"100-INTERFACE!F1083","v":{"$error":"#VALUE!"}}]
[{"$f":"(MIN(INTERFACE!AD$15,INTERFACE!E1084))","v":0},{"$f":"MIN(INTERFACE!C$47,INTERFACE!F1084)","v":{"$error":"#VALUE!"}},{"$f":"100-INTERFACE!B1084","v":{"$error":"#VALUE!"}},null,{"$f":"INTERFACE!E1083+12/1200","v":10.329999999999824},{"$f":"((INTERFACE!C$11)/((10^-(INTERFACE!E1084))+(INTERFACE!C$11)))*100","v":{"$error":"#VALUE!"}},{"$f":"100-INTERFACE!F1084","v":{"$error":"#VALUE!"}}]
[{"$f":"(MIN(INTERFACE!AD$15,INTERFACE!E1085))","v":0},{"$f":"MIN(INTERFACE!C$47,INTERFACE!F1085)","v":{"$error":"#VALUE!"}},{"$f":"100-INTERFACE!B1085","v":{"$error":"#VALUE!"}},null,{"$f":"INTERFACE!E1084+12/1200","v":10.339999999999824},{"$f":"((INTERFACE!C$11)/((10^-(INTERFACE!E1085))+(INTERFACE!C$11)))*100","v":{"$error":"#VALUE!"}},{"$f":"100-INTERFACE!F1085","v":{"$error":"#VALUE!"}}]
[{"$f":"(MIN(INTERFACE!AD$15,INTERFACE!E1086))","v":0},{"$f":"MIN(INTERFACE!C$47,INTERFACE!F1086)","v":{"$error":"#VALUE!"}},{"$f":"100-INTERFACE!B1086","v":{"$error":"#VALUE!"}},null,{"$f":"INTERFACE!E1085+12/1200","v":10.349999999999824},{"$f":"((INTERFACE!C$11)/((10^-(INTERFACE!E1086))+(INTERFACE!C$11)))*100","v":{"$error":"#VALUE!"}},{"$f":"100-INTERFACE!F1086","v":{"$error":"#VALUE!"}}]
[{"$f":"(MIN(INTERFACE!AD$15,INTERFACE!E1087))","v":0},{"$f":"MIN(INTERFACE!C$47,INTERFACE!F1087)","v":{"$error":"#VALUE!"}},{"$f":"100-INTERFACE!B1087","v":{"$error":"#VALUE!"}},null,{"$f":"INTERFACE!E1086+12/1200","v":10.359999999999824},{"$f":"((INTERFACE!C$11)/((10^-(INTERFACE!E1087))+(INTERFACE!C$11)))*100","v":{"$error":"#VALUE!"}},{"$f":"100-INTERFACE!F1087","v":{"$error":"#VALUE!"}}]
[{"$f":"(MIN(INTERFACE!AD$15,INTERFACE!E1088))","v":0},{"$f":"MIN(INTERFACE!C$47,INTERFACE!F1088)","v":{"$error":"#VALUE!"}},{"$f":"100-INTERFACE!B1088","v":{"$error":"#VALUE!"}},null,{"$f":"INTERFACE!E1087+12/1200","v":10.369999999999823},{"$f":"((INTERFACE!C$11)/((10^-(INTERFACE!E1088))+(INTERFACE!C$11)))*100","v":{"$error":"#VALUE!"}},{"$f":"100-INTERFACE!F1088","v":{"$error":"#VALUE!"}}]
[{"$f":"(MIN(INTERFACE!AD$15,INTERFACE!E1089))","v":0},{"$f":"MIN(INTERFACE!C$47,INTERFACE!F1089)","v":{"$error":"#VALUE!"}},{"$f":"100-INTERFACE!B1089","v":{"$error":"#VALUE!"}},null,{"$f":"INTERFACE!E1088+12/1200","v":10.379999999999823},{"$f":"((INTERFACE!C$11)/((10^-(INTERFACE!E1089))+(INTERFACE!C$11)))*100","v":{"$error":"#VALUE!"}},{"$f":"100-INTERFACE!F1089","v":{"$error":"#VALUE!"}}]
[{"$f":"(MIN(INTERFACE!AD$15,INTERFACE!E1090))","v":0},{"$f":"MIN(INTERFACE!C$47,INTERFACE!F1090)","v":{"$error":"#VALUE!"}},{"$f":"100-INTERFACE!B1090","v":{"$error":"#VALUE!"}},null,{"$f":"INTERFACE!E1089+12/1200","v":10.389999999999823},{"$f":"((INTERFACE!C$11)/((10^-(INTERFACE!E1090))+(INTERFACE!C$11)))*100","v":{"$error":"#VALUE!"}},{"$f":"100-INTERFACE!F1090","v":{"$error":"#VALUE!"}}]
[{"$f":"(MIN(INTERFACE!AD$15,INTERFACE!E1091))","v":0},{"$f":"MIN(INTERFACE!C$47,INTERFACE!F1091)","v":{"$error":"#VALUE!"}},{"$f":"100-INTERFACE!B1091","v":{"$error":"#VALUE!"}},null,{"$f":"INTERFACE!E1090+12/1200","v":10.399999999999823},{"$f":"((INTERFACE!C$11)/((10^-(INTERFACE!E1091))+(INTERFACE!C$11)))*100","v":{"$error":"#VALUE!"}},{"$f":"100-INTERFACE!F1091","v":{"$error":"#VALUE!"}}]
[{"$f":"(MIN(INTERFACE!AD$15,INTERFACE!E1092))","v":0},{"$f":"MIN(INTERFACE!C$47,INTERFACE!F1092)","v":{"$error":"#VALUE!"}},{"$f":"100-INTERFACE!B1092","v":{"$error":"#VALUE!"}},null,{"$f":"INTERFACE!E1091+12/1200","v":10.409999999999823},{"$f":"((INTERFACE!C$11)/((10^-(INTERFACE!E1092))+(INTERFACE!C$11)))*100","v":{"$error":"#VALUE!"}},{"$f":"100-INTERFACE!F1092","v":{"$error":"#VALUE!"}}]
[{"$f":"(MIN(INTERFACE!AD$15,INTERFACE!E1093))","v":0},{"$f":"MIN(INTERFACE!C$47,INTERFACE!F1093)","v":{"$error":"#VALUE!"}},{"$f":"100-INTERFACE!B1093","v":{"$error":"#VALUE!"}},null,{"$f":"INTERFACE!E1092+12/1200","v":10.419999999999822},{"$f":"((INTERFACE!C$11)/((10^-(INTERFACE!E1093))+(INTERFACE!C$11)))*100","v":{"$error":"#VALUE!"}},{"$f":"100-INTERFACE!F1093","v":{"$error":"#VALUE!"}}]
[{"$f":"(MIN(INTERFACE!AD$15,INTERFACE!E1094))","v":0},{"$f":"MIN(INTERFACE!C$47,INTERFACE!F1094)","v":{"$error":"#VALUE!"}},{"$f":"100-INTERFACE!B1094","v":{"$error":"#VALUE!"}},null,{"$f":"INTERFACE!E1093+12/1200","v":10.429999999999822},{"$f":"((INTERFACE!C$11)/((10^-(INTERFACE!E1094))+(INTERFACE!C$11)))*100","v":{"$error":"#VALUE!"}},{"$f":"100-INTERFACE!F1094","v":{"$error":"#VALUE!"}}]
[{"$f":"(MIN(INTERFACE!AD$15,INTERFACE!E1095))","v":0},{"$f":"MIN(INTERFACE!C$47,INTERFACE!F1095)","v":{"$error":"#VALUE!"}},{"$f":"100-INTERFACE!B1095","v":{"$error":"#VALUE!"}},null,{"$f":"INTERFACE!E1094+12/1200","v":10.439999999999822},{"$f":"((INTERFACE!C$11)/((10^-(INTERFACE!E1095))+(INTERFACE!C$11)))*100","v":{"$error":"#VALUE!"}},{"$f":"100-INTERFACE!F1095","v":{"$error":"#VALUE!"}}]
[{"$f":"(MIN(INTERFACE!AD$15,INTERFACE!E1096))","v":0},{"$f":"MIN(INTERFACE!C$47,INTERFACE!F1096)","v":{"$error":"#VALUE!"}},{"$f":"100-INTERFACE!B1096","v":{"$error":"#VALUE!"}},null,{"$f":"INTERFACE!E1095+12/1200","v":10.449999999999822},{"$f":"((INTERFACE!C$11)/((10^-(INTERFACE!E1096))+(INTERFACE!C$11)))*100","v":{"$error":"#VALUE!"}},{"$f":"100-INTERFACE!F1096","v":{"$error":"#VALUE!"}}]
[{"$f":"(MIN(INTERFACE!AD$15,INTERFACE!E1097))","v":0},{"$f":"MIN(INTERFACE!C$47,INTERFACE!F1097)","v":{"$error":"#VALUE!"}},{"$f":"100-INTERFACE!B1097","v":{"$error":"#VALUE!"}},null,{"$f":"INTERFACE!E1096+12/1200","v":10.459999999999821},{"$f":"((INTERFACE!C$11)/((10^-(INTERFACE!E1097))+(INTERFACE!C$11)))*100","v":{"$error":"#VALUE!"}},{"$f":"100-INTERFACE!F1097","v":{"$error":"#VALUE!"}}]
[{"$f":"(MIN(INTERFACE!AD$15,INTERFACE!E1098))","v":0},{"$f":"MIN(INTERFACE!C$47,INTERFACE!F1098)","v":{"$error":"#VALUE!"}},{"$f":"100-INTERFACE!B1098","v":{"$error":"#VALUE!"}},null,{"$f":"INTERFACE!E1097+12/1200","v":10.469999999999821},{"$f":"((INTERFACE!C$11)/((10^-(INTERFACE!E1098))+(INTERFACE!C$11)))*100","v":{"$error":"#VALUE!"}},{"$f":"100-INTERFACE!F1098","v":{"$error":"#VALUE!"}}]
[{"$f":"(MIN(INTERFACE!AD$15,INTERFACE!E1099))","v":0},{"$f":"MIN(INTERFACE!C$47,INTERFACE!F1099)","v":{"$error":"#VALUE!"}},{"$f":"100-INTERFACE!B1099","v":{"$error":"#VALUE!"}},null,{"$f":"INTERFACE!E1098+12/1200","v":10.479999999999821},{"$f":"((INTERFACE!C$11)/((10^-(INTERFACE!E1099))+(INTERFACE!C$11)))*100","v":{"$error":"#VALUE!"}},{"$f":"100-INTERFACE!F1099","v":{"$error":"#VALUE!"}}]
[{"$f":"(MIN(INTERFACE!AD$15,INTERFACE!E1100))","v":0},{"$f":"MIN(INTERFACE!C$47,INTERFACE!F1100)","v":{"$error":"#VALUE!"}},{"$f":"100-INTERFACE!B1100","v":{"$error":"#VALUE!"}},null,{"$f":"INTERFACE!E1099+12/1200","v":10.489999999999821},{"$f":"((INTERFACE!C$11)/((10^-(INTERFACE!E1100))+(INTERFACE!C$11)))*100","v":{"$error":"#VALUE!"}},{"$f":"100-INTERFACE!F1100","v":{"$error":"#VALUE!"}}]
[{"$f":"(MIN(INTERFACE!AD$15,INTERFACE!E1101))","v":0},{"$f":"MIN(INTERFACE!C$47,INTERFACE!F1101)","v":{"$error":"#VALUE!"}},{"$f":"100-INTERFACE!B1101","v":{"$error":"#VALUE!"}},null,{"$f":"INTERFACE!E1100+12/1200","v":10.499999999999821},{"$f":"((INTERFACE!C$11)/((10^-(INTERFACE!E1101))+(INTERFACE!C$11)))*100","v":{"$error":"#VALUE!"}},{"$f":"100-INTERFACE!F1101","v":{"$error":"#VALUE!"}}]
[{"$f":"(MIN(INTERFACE!AD$15,INTERFACE!E1102))","v":0},{"$f":"MIN(INTERFACE!C$47,INTERFACE!F1102)","v":{"$error":"#VALUE!"}},{"$f":"100-INTERFACE!B1102","v":{"$error":"#VALUE!"}},null,{"$f":"INTERFACE!E1101+12/1200","v":10.50999999999982},{"$f":"((INTERFACE!C$11)/((10^-(INTERFACE!E1102))+(INTERFACE!C$11)))*100","v":{"$error":"#VALUE!"}},{"$f":"100-INTERFACE!F1102","v":{"$error":"#VALUE!"}}]
[{"$f":"(MIN(INTERFACE!AD$15,INTERFACE!E1103))","v":0},{"$f":"MIN(INTERFACE!C$47,INTERFACE!F1103)","v":{"$error":"#VALUE!"}},{"$f":"100-INTERFACE!B1103","v":{"$error":"#VALUE!"}},null,{"$f":"INTERFACE!E1102+12/1200","v":10.51999999999982},{"$f":"((INTERFACE!C$11)/((10^-(INTERFACE!E1103))+(INTERFACE!C$11)))*100","v":{"$error":"#VALUE!"}},{"$f":"100-INTERFACE!F1103","v":{"$error":"#VALUE!"}}]
[{"$f":"(MIN(INTERFACE!AD$15,INTERFACE!E1104))","v":0},{"$f":"MIN(INTERFACE!C$47,INTERFACE!F1104)","v":{"$error":"#VALUE!"}},{"$f":"100-INTERFACE!B1104","v":{"$error":"#VALUE!"}},null,{"$f":"INTERFACE!E1103+12/1200","v":10.52999999999982},{"$f":"((INTERFACE!C$11)/((10^-(INTERFACE!E1104))+(INTERFACE!C$11)))*100","v":{"$error":"#VALUE!"}},{"$f":"100-INTERFACE!F1104","v":{"$error":"#VALUE!"}}]
[{"$f":"(MIN(INTERFACE!AD$15,INTERFACE!E1105))","v":0},{"$f":"MIN(INTERFACE!C$47,INTERFACE!F1105)","v":{"$error":"#VALUE!"}},{"$f":"100-INTERFACE!B1105","v":{"$error":"#VALUE!"}},null,{"$f":"INTERFACE!E1104+12/1200","v":10.53999999999982},{"$f":"((INTERFACE!C$11)/((10^-(INTERFACE!E1105))+(INTERFACE!C$11)))*100","v":{"$error":"#VALUE!"}},{"$f":"100-INTERFACE!F1105","v":{"$error":"#VALUE!"}}]
[{"$f":"(MIN(INTERFACE!AD$15,INTERFACE!E1106))","v":0},{"$f":"MIN(INTERFACE!C$47,INTERFACE!F1106)","v":{"$error":"#VALUE!"}},{"$f":"100-INTERFACE!B1106","v":{"$error":"#VALUE!"}},null,{"$f":"INTERFACE!E1105+12/1200","v":10.54999999999982},{"$f":"((INTERFACE!C$11)/((10^-(INTERFACE!E1106))+(INTERFACE!C$11)))*100","v":{"$error":"#VALUE!"}},{"$f":"100-INTERFACE!F1106","v":{"$error":"#VALUE!"}}]
[{"$f":"(MIN(INTERFACE!AD$15,INTERFACE!E1107))","v":0},{"$f":"MIN(INTERFACE!C$47,INTERFACE!F1107)","v":{"$error":"#VALUE!"}},{"$f":"100-INTERFACE!B1107","v":{"$error":"#VALUE!"}},null,{"$f":"INTERFACE!E1106+12/1200","v":10.559999999999819},{"$f":"((INTERFACE!C$11)/((10^-(INTERFACE!E1107))+(INTERFACE!C$11)))*100","v":{"$error":"#VALUE!"}},{"$f":"100-INTERFACE!F1107","v":{"$error":"#VALUE!"}}]
[{"$f":"(MIN(INTERFACE!AD$15,INTERFACE!E1108))","v":0},{"$f":"MIN(INTERFACE!C$47,INTERFACE!F1108)","v":{"$error":"#VALUE!"}},{"$f":"100-INTERFACE!B1108","v":{"$error":"#VALUE!"}},null,{"$f":"INTERFACE!E1107+12/1200","v":10.569999999999819},{"$f":"((INTERFACE!C$11)/((10^-(INTERFACE!E1108))+(INTERFACE!C$11)))*100","v":{"$error":"#VALUE!"}},{"$f":"100-INTERFACE!F1108","v":{"$error":"#VALUE!"}}]
[{"$f":"(MIN(INTERFACE!AD$15,INTERFACE!E1109))","v":0},{"$f":"MIN(INTERFACE!C$47,INTERFACE!F1109)","v":{"$error":"#VALUE!"}},{"$f":"100-INTERFACE!B1109","v":{"$error":"#VALUE!"}},null,{"$f":"INTERFACE!E1108+12/1200","v":10.579999999999819},{"$f":"((INTERFACE!C$11)/((10^-(INTERFACE!E1109))+(INTERFACE!C$11)))*100","v":{"$error":"#VALUE!"}},{"$f":"100-INTERFACE!F1109","v":{"$error":"#VALUE!"}}]
[{"$f":"(MIN(INTERFACE!AD$15,INTERFACE!E1110))","v":0},{"$f":"MIN(INTERFACE!C$47,INTERFACE!F1110)","v":{"$error":"#VALUE!"}},{"$f":"100-INTERFACE!B1110","v":{"$error":"#VALUE!"}},null,{"$f":"INTERFACE!E1109+12/1200","v":10.589999999999819},{"$f":"((INTERFACE!C$11)/((10^-(INTERFACE!E1110))+(INTERFACE!C$11)))*100","v":{"$error":"#VALUE!"}},{"$f":"100-INTERFACE!F1110","v":{"$error":"#VALUE!"}}]
[{"$f":"(MIN(INTERFACE!AD$15,INTERFACE!E1111))","v":0},{"$f":"MIN(INTERFACE!C$47,INTERFACE!F1111)","v":{"$error":"#VALUE!"}},{"$f":"100-INTERFACE!B1111","v":{"$error":"#VALUE!"}},null,{"$f":"INTERFACE!E1110+12/1200","v":10.599999999999818},{"$f":"((INTERFACE!C$11)/((10^-(INTERFACE!E1111))+(INTERFACE!C$11)))*100","v":{"$error":"#VALUE!"}},{"$f":"100-INTERFACE!F1111","v":{"$error":"#VALUE!"}}]
[{"$f":"(MIN(INTERFACE!AD$15,INTERFACE!E1112))","v":0},{"$f":"MIN(INTERFACE!C$47,INTERFACE!F1112)","v":{"$error":"#VALUE!"}},{"$f":"100-INTERFACE!B1112","v":{"$error":"#VALUE!"}},null,{"$f":"INTERFACE!E1111+12/1200","v":10.609999999999818},{"$f":"((INTERFACE!C$11)/((10^-(INTERFACE!E1112))+(INTERFACE!C$11)))*100","v":{"$error":"#VALUE!"}},{"$f":"100-INTERFACE!F1112","v":{"$error":"#VALUE!"}}]
[{"$f":"(MIN(INTERFACE!AD$15,INTERFACE!E1113))","v":0},{"$f":"MIN(INTERFACE!C$47,INTERFACE!F1113)","v":{"$error":"#VALUE!"}},{"$f":"100-INTERFACE!B1113","v":{"$error":"#VALUE!"}},null,{"$f":"INTERFACE!E1112+12/1200","v":10.619999999999818},{"$f":"((INTERFACE!C$11)/((10^-(INTERFACE!E1113))+(INTERFACE!C$11)))*100","v":{"$error":"#VALUE!"}},{"$f":"100-INTERFACE!F1113","v":{"$error":"#VALUE!"}}]
[{"$f":"(MIN(INTERFACE!AD$15,INTERFACE!E1114))","v":0},{"$f":"MIN(INTERFACE!C$47,INTERFACE!F1114)","v":{"$error":"#VALUE!"}},{"$f":"100-INTERFACE!B1114","v":{"$error":"#VALUE!"}},null,{"$f":"INTERFACE!E1113+12/1200","v":10.629999999999818},{"$f":"((INTERFACE!C$11)/((10^-(INTERFACE!E1114))+(INTERFACE!C$11)))*100","v":{"$error":"#VALUE!"}},{"$f":"100-INTERFACE!F1114","v":{"$error":"#VALUE!"}}]
[{"$f":"(MIN(INTERFACE!AD$15,INTERFACE!E1115))","v":0},{"$f":"MIN(INTERFACE!C$47,INTERFACE!F1115)","v":{"$error":"#VALUE!"}},{"$f":"100-INTERFACE!B1115","v":{"$error":"#VALUE!"}},null,{"$f":"INTERFACE!E1114+12/1200","v":10.639999999999818},{"$f":"((INTERFACE!C$11)/((10^-(INTERFACE!E1115))+(INTERFACE!C$11)))*100","v":{"$error":"#VALUE!"}},{"$f":"100-INTERFACE!F1115","v":{"$error":"#VALUE!"}}]
[{"$f":"(MIN(INTERFACE!AD$15,INTERFACE!E1116))","v":0},{"$f":"MIN(INTERFACE!C$47,INTERFACE!F1116)","v":{"$error":"#VALUE!"}},{"$f":"100-INTERFACE!B1116","v":{"$error":"#VALUE!"}},null,{"$f":"INTERFACE!E1115+12/1200","v":10.649999999999817},{"$f":"((INTERFACE!C$11)/((10^-(INTERFACE!E1116))+(INTERFACE!C$11)))*100","v":{"$error":"#VALUE!"}},{"$f":"100-INTERFACE!F1116","v":{"$error":"#VALUE!"}}]
[{"$f":"(MIN(INTERFACE!AD$15,INTERFACE!E1117))","v":0},{"$f":"MIN(INTERFACE!C$47,INTERFACE!F1117)","v":{"$error":"#VALUE!"}},{"$f":"100-INTERFACE!B1117","v":{"$error":"#VALUE!"}},null,{"$f":"INTERFACE!E1116+12/1200","v":10.659999999999817},{"$f":"((INTERFACE!C$11)/((10^-(INTERFACE!E1117))+(INTERFACE!C$11)))*100","v":{"$error":"#VALUE!"}},{"$f":"100-INTERFACE!F1117","v":{"$error":"#VALUE!"}}]
[{"$f":"(MIN(INTERFACE!AD$15,INTERFACE!E1118))","v":0},{"$f":"MIN(INTERFACE!C$47,INTERFACE!F1118)","v":{"$error":"#VALUE!"}},{"$f":"100-INTERFACE!B1118","v":{"$error":"#VALUE!"}},null,{"$f":"INTERFACE!E1117+12/1200","v":10.669999999999817},{"$f":"((INTERFACE!C$11)/((10^-(INTERFACE!E1118))+(INTERFACE!C$11)))*100","v":{"$error":"#VALUE!"}},{"$f":"100-INTERFACE!F1118","v":{"$error":"#VALUE!"}}]
[{"$f":"(MIN(INTERFACE!AD$15,INTERFACE!E1119))","v":0},{"$f":"MIN(INTERFACE!C$47,INTERFACE!F1119)","v":{"$error":"#VALUE!"}},{"$f":"100-INTERFACE!B1119","v":{"$error":"#VALUE!"}},null,{"$f":"INTERFACE!E1118+12/1200","v":10.679999999999817},{"$f":"((INTERFACE!C$11)/((10^-(INTERFACE!E1119))+(INTERFACE!C$11)))*100","v":{"$error":"#VALUE!"}},{"$f":"100-INTERFACE!F1119","v":{"$error":"#VALUE!"}}]
[{"$f":"(MIN(INTERFACE!AD$15,INTERFACE!E1120))","v":0},{"$f":"MIN(INTERFACE!C$47,INTERFACE!F1120)","v":{"$error":"#VALUE!"}},{"$f":"100-INTERFACE!B1120","v":{"$error":"#VALUE!"}},null,{"$f":"INTERFACE!E1119+12/1200","v":10.689999999999817},{"$f":"((INTERFACE!C$11)/((10^-(INTERFACE!E1120))+(INTERFACE!C$11)))*100","v":{"$error":"#VALUE!"}},{"$f":"100-INTERFACE!F1120","v":{"$error":"#VALUE!"}}]
[{"$f":"(MIN(INTERFACE!AD$15,INTERFACE!E1121))","v":0},{"$f":"MIN(INTERFACE!C$47,INTERFACE!F1121)","v":{"$error":"#VALUE!"}},{"$f":"100-INTERFACE!B1121","v":{"$error":"#VALUE!"}},null,{"$f":"INTERFACE!E1120+12/1200","v":10.699999999999816},{"$f":"((INTERFACE!C$11)/((10^-(INTERFACE!E1121))+(INTERFACE!C$11)))*100","v":{"$error":"#VALUE!"}},{"$f":"100-INTERFACE!F1121","v":{"$error":"#VALUE!"}}]
[{"$f":"(MIN(INTERFACE!AD$15,INTERFACE!E1122))","v":0},{"$f":"MIN(INTERFACE!C$47,INTERFACE!F1122)","v":{"$error":"#VALUE!"}},{"$f":"100-INTERFACE!B1122","v":{"$error":"#VALUE!"}},null,{"$f":"INTERFACE!E1121+12/1200","v":10.709999999999816},{"$f":"((INTERFACE!C$11)/((10^-(INTERFACE!E1122))+(INTERFACE!C$11)))*100","v":{"$error":"#VALUE!"}},{"$f":"100-INTERFACE!F1122","v":{"$error":"#VALUE!"}}]
[{"$f":"(MIN(INTERFACE!AD$15,INTERFACE!E1123))","v":0},{"$f":"MIN(INTERFACE!C$47,INTERFACE!F1123)","v":{"$error":"#VALUE!"}},{"$f":"100-INTERFACE!B1123","v":{"$error":"#VALUE!"}},null,{"$f":"INTERFACE!E1122+12/1200","v":10.719999999999816},{"$f":"((INTERFACE!C$11)/((10^-(INTERFACE!E1123))+(INTERFACE!C$11)))*100","v":{"$error":"#VALUE!"}},{"$f":"100-INTERFACE!F1123","v":{"$error":"#VALUE!"}}]
[{"$f":"(MIN(INTERFACE!AD$15,INTERFACE!E1124))","v":0},{"$f":"MIN(INTERFACE!C$47,INTERFACE!F1124)","v":{"$error":"#VALUE!"}},{"$f":"100-INTERFACE!B1124","v":{"$error":"#VALUE!"}},null,{"$f":"INTERFACE!E1123+12/1200","v":10.729999999999816},{"$f":"((INTERFACE!C$11)/((10^-(INTERFACE!E1124))+(INTERFACE!C$11)))*100","v":{"$error":"#VALUE!"}},{"$f":"100-INTERFACE!F1124","v":{"$error":"#VALUE!"}}]
[{"$f":"(MIN(INTERFACE!AD$15,INTERFACE!E1125))","v":0},{"$f":"MIN(INTERFACE!C$47,INTERFACE!F1125)","v":{"$error":"#VALUE!"}},{"$f":"100-INTERFACE!B1125","v":{"$error":"#VALUE!"}},null,{"$f":"INTERFACE!E1124+12/1200","v":10.739999999999815},{"$f":"((INTERFACE!C$11)/((10^-(INTERFACE!E1125))+(INTERFACE!C$11)))*100","v":{"$error":"#VALUE!"}},{"$f":"100-INTERFACE!F1125","v":{"$error":"#VALUE!"}}]
[{"$f":"(MIN(INTERFACE!AD$15,INTERFACE!E1126))","v":0},{"$f":"MIN(INTERFACE!C$47,INTERFACE!F1126)","v":{"$error":"#VALUE!"}},{"$f":"100-INTERFACE!B1126","v":{"$error":"#VALUE!"}},null,{"$f":"INTERFACE!E1125+12/1200","v":10.749999999999815},{"$f":"((INTERFACE!C$11)/((10^-(INTERFACE!E1126))+(INTERFACE!C$11)))*100","v":{"$error":"#VALUE!"}},{"$f":"100-INTERFACE!F1126","v":{"$error":"#VALUE!"}}]
[{"$f":"(MIN(INTERFACE!AD$15,INTERFACE!E1127))","v":0},{"$f":"MIN(INTERFACE!C$47,INTERFACE!F1127)","v":{"$error":"#VALUE!"}},{"$f":"100-INTERFACE!B1127","v":{"$error":"#VALUE!"}},null,{"$f":"INTERFACE!E1126+12/1200","v":10.759999999999815},{"$f":"((INTERFACE!C$11)/((10^-(INTERFACE!E1127))+(INTERFACE!C$11)))*100","v":{"$error":"#VALUE!"}},{"$f":"100-INTERFACE!F1127","v":{"$error":"#VALUE!"}}]
[{"$f":"(MIN(INTERFACE!AD$15,INTERFACE!E1128))","v":0},{"$f":"MIN(INTERFACE!C$47,INTERFACE!F1128)","v":{"$error":"#VALUE!"}},{"$f":"100-INTERFACE!B1128","v":{"$error":"#VALUE!"}},null,{"$f":"INTERFACE!E1127+12/1200","v":10.769999999999815},{"$f":"((INTERFACE!C$11)/((10^-(INTERFACE!E1128))+(INTERFACE!C$11)))*100","v":{"$error":"#VALUE!"}},{"$f":"100-INTERFACE!F1128","v":{"$error":"#VALUE!"}}]
[{"$f":"(MIN(INTERFACE!AD$15,INTERFACE!E1129))","v":0},{"$f":"MIN(INTERFACE!C$47,INTERFACE!F1129)","v":{"$error":"#VALUE!"}},{"$f":"100-INTERFACE!B1129","v":{"$error":"#VALUE!"}},null,{"$f":"INTERFACE!E1128+12/1200","v":10.779999999999815},{"$f":"((INTERFACE!C$11)/((10^-(INTERFACE!E1129))+(INTERFACE!C$11)))*100","v":{"$error":"#VALUE!"}},{"$f":"100-INTERFACE!F1129","v":{"$error":"#VALUE!"}}]
[{"$f":"(MIN(INTERFACE!AD$15,INTERFACE!E1130))","v":0},{"$f":"MIN(INTERFACE!C$47,INTERFACE!F1130)","v":{"$error":"#VALUE!"}},{"$f":"100-INTERFACE!B1130","v":{"$error":"#VALUE!"}},null,{"$f":"INTERFACE!E1129+12/1200","v":10.789999999999814},{"$f":"((INTERFACE!C$11)/((10^-(INTERFACE!E1130))+(INTERFACE!C$11)))*100","v":{"$error":"#VALUE!"}},{"$f":"100-INTERFACE!F1130","v":{"$error":"#VALUE!"}}]
[{"$f":"(MIN(INTERFACE!AD$15,INTERFACE!E1131))","v":0},{"$f":"MIN(INTERFACE!C$47,INTERFACE!F1131)","v":{"$error":"#VALUE!"}},{"$f":"100-INTERFACE!B1131","v":{"$error":"#VALUE!"}},null,{"$f":"INTERFACE!E1130+12/1200","v":10.799999999999814},{"$f":"((INTERFACE!C$11)/((10^-(INTERFACE!E1131))+(INTERFACE!C$11)))*100","v":{"$error":"#VALUE!"}},{"$f":"100-INTERFACE!F1131","v":{"$error":"#VALUE!"}}]
[{"$f":"(MIN(INTERFACE!AD$15,INTERFACE!E1132))","v":0},{"$f":"MIN(INTERFACE!C$47,INTERFACE!F1132)","v":{"$error":"#VALUE!"}},{"$f":"100-INTERFACE!B1132","v":{"$error":"#VALUE!"}},null,{"$f":"INTERFACE!E1131+12/1200","v":10.809999999999814},{"$f":"((INTERFACE!C$11)/((10^-(INTERFACE!E1132))+(INTERFACE!C$11)))*100","v":{"$error":"#VALUE!"}},{"$f":"100-INTERFACE!F1132","v":{"$error":"#VALUE!"}}]
[{"$f":"(MIN(INTERFACE!AD$15,INTERFACE!E1133))","v":0},{"$f":"MIN(INTERFACE!C$47,INTERFACE!F1133)","v":{"$error":"#VALUE!"}},{"$f":"100-INTERFACE!B1133","v":{"$error":"#VALUE!"}},null,{"$f":"INTERFACE!E1132+12/1200","v":10.819999999999814},{"$f":"((INTERFACE!C$11)/((10^-(INTERFACE!E1133))+(INTERFACE!C$11)))*100","v":{"$error":"#VALUE!"}},{"$f":"100-INTERFACE!F1133","v":{"$error":"#VALUE!"}}]
[{"$f":"(MIN(INTERFACE!AD$15,INTERFACE!E1134))","v":0},{"$f":"MIN(INTERFACE!C$47,INTERFACE!F1134)","v":{"$error":"#VALUE!"}},{"$f":"100-INTERFACE!B1134","v":{"$error":"#VALUE!"}},null,{"$f":"INTERFACE!E1133+12/1200","v":10.829999999999814},{"$f":"((INTERFACE!C$11)/((10^-(INTERFACE!E1134))+(INTERFACE!C$11)))*100","v":{"$error":"#VALUE!"}},{"$f":"100-INTERFACE!F1134","v":{"$error":"#VALUE!"}}]
[{"$f":"(MIN(INTERFACE!AD$15,INTERFACE!E1135))","v":0},{"$f":"MIN(INTERFACE!C$47,INTERFACE!F1135)","v":{"$error":"#VALUE!"}},{"$f":"100-INTERFACE!B1135","v":{"$error":"#VALUE!"}},null,{"$f":"INTERFACE!E1134+12/1200","v":10.839999999999813},{"$f":"((INTERFACE!C$11)/((10^-(INTERFACE!E1135))+(INTERFACE!C$11)))*100","v":{"$error":"#VALUE!"}},{"$f":"100-INTERFACE!F1135","v":{"$error":"#VALUE!"}}]
[{"$f":"(MIN(INTERFACE!AD$15,INTERFACE!E1136))","v":0},{"$f":"MIN(INTERFACE!C$47,INTERFACE!F1136)","v":{"$error":"#VALUE!"}},{"$f":"100-INTERFACE!B1136","v":{"$error":"#VALUE!"}},null,{"$f":"INTERFACE!E1135+12/1200","v":10.849999999999813},{"$f":"((INTERFACE!C$11)/((10^-(INTERFACE!E1136))+(INTERFACE!C$11)))*100","v":{"$error":"#VALUE!"}},{"$f":"100-INTERFACE!F1136","v":{"$error":"#VALUE!"}}]
[{"$f":"(MIN(INTERFACE!AD$15,INTERFACE!E1137))","v":0},{"$f":"MIN(INTERFACE!C$47,INTERFACE!F1137)","v":{"$error":"#VALUE!"}},{"$f":"100-INTERFACE!B1137","v":{"$error":"#VALUE!"}},null,{"$f":"INTERFACE!E1136+12/1200","v":10.859999999999813},{"$f":"((INTERFACE!C$11)/((10^-(INTERFACE!E1137))+(INTERFACE!C$11)))*100","v":{"$error":"#VALUE!"}},{"$f":"100-INTERFACE!F1137","v":{"$error":"#VALUE!"}}]
[{"$f":"(MIN(INTERFACE!AD$15,INTERFACE!E1138))","v":0},{"$f":"MIN(INTERFACE!C$47,INTERFACE!F1138)","v":{"$error":"#VALUE!"}},{"$f":"100-INTERFACE!B1138","v":{"$error":"#VALUE!"}},null,{"$f":"INTERFACE!E1137+12/1200","v":10.869999999999813},{"$f":"((INTERFACE!C$11)/((10^-(INTERFACE!E1138))+(INTERFACE!C$11)))*100","v":{"$error":"#VALUE!"}},{"$f":"100-INTERFACE!F1138","v":{"$error":"#VALUE!"}}]
[{"$f":"(MIN(INTERFACE!AD$15,INTERFACE!E1139))","v":0},{"$f":"MIN(INTERFACE!C$47,INTERFACE!F1139)","v":{"$error":"#VALUE!"}},{"$f":"100-INTERFACE!B1139","v":{"$error":"#VALUE!"}},null,{"$f":"INTERFACE!E1138+12/1200","v":10.879999999999812},{"$f":"((INTERFACE!C$11)/((10^-(INTERFACE!E1139))+(INTERFACE!C$11)))*100","v":{"$error":"#VALUE!"}},{"$f":"100-INTERFACE!F1139","v":{"$error":"#VALUE!"}}]
[{"$f":"(MIN(INTERFACE!AD$15,INTERFACE!E1140))","v":0},{"$f":"MIN(INTERFACE!C$47,INTERFACE!F1140)","v":{"$error":"#VALUE!"}},{"$f":"100-INTERFACE!B1140","v":{"$error":"#VALUE!"}},null,{"$f":"INTERFACE!E1139+12/1200","v":10.889999999999812},{"$f":"((INTERFACE!C$11)/((10^-(INTERFACE!E1140))+(INTERFACE!C$11)))*100","v":{"$error":"#VALUE!"}},{"$f":"100-INTERFACE!F1140","v":{"$error":"#VALUE!"}}]
[{"$f":"(MIN(INTERFACE!AD$15,INTERFACE!E1141))","v":0},{"$f":"MIN(INTERFACE!C$47,INTERFACE!F1141)","v":{"$error":"#VALUE!"}},{"$f":"100-INTERFACE!B1141","v":{"$error":"#VALUE!"}},null,{"$f":"INTERFACE!E1140+12/1200","v":10.899999999999812},{"$f":"((INTERFACE!C$11)/((10^-(INTERFACE!E1141))+(INTERFACE!C$11)))*100","v":{"$error":"#VALUE!"}},{"$f":"100-INTERFACE!F1141","v":{"$error":"#VALUE!"}}]
[{"$f":"(MIN(INTERFACE!AD$15,INTERFACE!E1142))","v":0},{"$f":"MIN(INTERFACE!C$47,INTERFACE!F1142)","v":{"$error":"#VALUE!"}},{"$f":"100-INTERFACE!B1142","v":{"$error":"#VALUE!"}},null,{"$f":"INTERFACE!E1141+12/1200","v":10.909999999999812},{"$f":"((INTERFACE!C$11)/((10^-(INTERFACE!E1142))+(INTERFACE!C$11)))*100","v":{"$error":"#VALUE!"}},{"$f":"100-INTERFACE!F1142","v":{"$error":"#VALUE!"}}]
[{"$f":"(MIN(INTERFACE!AD$15,INTERFACE!E1143))","v":0},{"$f":"MIN(INTERFACE!C$47,INTERFACE!F1143)","v":{"$error":"#VALUE!"}},{"$f":"100-INTERFACE!B1143","v":{"$error":"#VALUE!"}},null,{"$f":"INTERFACE!E1142+12/1200","v":10.919999999999812},{"$f":"((INTERFACE!C$11)/((10^-(INTERFACE!E1143))+(INTERFACE!C$11)))*100","v":{"$error":"#VALUE!"}},{"$f":"100-INTERFACE!F1143","v":{"$error":"#VALUE!"}}]
[{"$f":"(MIN(INTERFACE!AD$15,INTERFACE!E1144))","v":0},{"$f":"MIN(INTERFACE!C$47,INTERFACE!F1144)","v":{"$error":"#VALUE!"}},{"$f":"100-INTERFACE!B1144","v":{"$error":"#VALUE!"}},null,{"$f":"INTERFACE!E1143+12/1200","v":10.929999999999811},{"$f":"((INTERFACE!C$11)/((10^-(INTERFACE!E1144))+(INTERFACE!C$11)))*100","v":{"$error":"#VALUE!"}},{"$f":"100-INTERFACE!F1144","v":{"$error":"#VALUE!"}}]
[{"$f":"(MIN(INTERFACE!AD$15,INTERFACE!E1145))","v":0},{"$f":"MIN(INTERFACE!C$47,INTERFACE!F1145)","v":{"$error":"#VALUE!"}},{"$f":"100-INTERFACE!B1145","v":{"$error":"#VALUE!"}},null,{"$f":"INTERFACE!E1144+12/1200","v":10.939999999999811},{"$f":"((INTERFACE!C$11)/((10^-(INTERFACE!E1145))+(INTERFACE!C$11)))*100","v":{"$error":"#VALUE!"}},{"$f":"100-INTERFACE!F1145","v":{"$error":"#VALUE!"}}]
[{"$f":"(MIN(INTERFACE!AD$15,INTERFACE!E1146))","v":0},{"$f":"MIN(INTERFACE!C$47,INTERFACE!F1146)","v":{"$error":"#VALUE!"}},{"$f":"100-INTERFACE!B1146","v":{"$error":"#VALUE!"}},null,{"$f":"INTERFACE!E1145+12/1200","v":10.949999999999811},{"$f":"((INTERFACE!C$11)/((10^-(INTERFACE!E1146))+(INTERFACE!C$11)))*100","v":{"$error":"#VALUE!"}},{"$f":"100-INTERFACE!F1146","v":{"$error":"#VALUE!"}}]
[{"$f":"(MIN(INTERFACE!AD$15,INTERFACE!E1147))","v":0},{"$f":"MIN(INTERFACE!C$47,INTERFACE!F1147)","v":{"$error":"#VALUE!"}},{"$f":"100-INTERFACE!B1147","v":{"$error":"#VALUE!"}},null,{"$f":"INTERFACE!E1146+12/1200","v":10.959999999999811},{"$f":"((INTERFACE!C$11)/((10^-(INTERFACE!E1147))+(INTERFACE!C$11)))*100","v":{"$error":"#VALUE!"}},{"$f":"100-INTERFACE!F1147","v":{"$error":"#VALUE!"}}]
[{"$f":"(MIN(INTERFACE!AD$15,INTERFACE!E1148))","v":0},{"$f":"MIN(INTERFACE!C$47,INTERFACE!F1148)","v":{"$error":"#VALUE!"}},{"$f":"100-INTERFACE!B1148","v":{"$error":"#VALUE!"}},null,{"$f":"INTERFACE!E1147+12/1200","v":10.969999999999811},{"$f":"((INTERFACE!C$11)/((10^-(INTERFACE!E1148))+(INTERFACE!C$11)))*100","v":{"$error":"#VALUE!"}},{"$f":"100-INTERFACE!F1148","v":{"$error":"#VALUE!"}}]
[{"$f":"(MIN(INTERFACE!AD$15,INTERFACE!E1149))","v":0},{"$f":"MIN(INTERFACE!C$47,INTERFACE!F1149)","v":{"$error":"#VALUE!"}},{"$f":"100-INTERFACE!B1149","v":{"$error":"#VALUE!"}},null,{"$f":"INTERFACE!E1148+12/1200","v":10.97999999999981},{"$f":"((INTERFACE!C$11)/((10^-(INTERFACE!E1149))+(INTERFACE!C$11)))*100","v":{"$error":"#VALUE!"}},{"$f":"100-INTERFACE!F1149","v":{"$error":"#VALUE!"}}]
[{"$f":"(MIN(INTERFACE!AD$15,INTERFACE!E1150))","v":0},{"$f":"MIN(INTERFACE!C$47,INTERFACE!F1150)","v":{"$error":"#VALUE!"}},{"$f":"100-INTERFACE!B1150","v":{"$error":"#VALUE!"}},null,{"$f":"INTERFACE!E1149+12/1200","v":10.98999999999981},{"$f":"((INTERFACE!C$11)/((10^-(INTERFACE!E1150))+(INTERFACE!C$11)))*100","v":{"$error":"#VALUE!"}},{"$f":"100-INTERFACE!F1150","v":{"$error":"#VALUE!"}}]
[{"$f":"(MIN(INTERFACE!AD$15,INTERFACE!E1151))","v":0},{"$f":"MIN(INTERFACE!C$47,INTERFACE!F1151)","v":{"$error":"#VALUE!"}},{"$f":"100-INTERFACE!B1151","v":{"$error":"#VALUE!"}},null,{"$f":"INTERFACE!E1150+12/1200","v":10.99999999999981},{"$f":"((INTERFACE!C$11)/((10^-(INTERFACE!E1151))+(INTERFACE!C$11)))*100","v":{"$error":"#VALUE!"}},{"$f":"100-INTERFACE!F1151","v":{"$error":"#VALUE!"}}]
[{"$f":"(MIN(INTERFACE!AD$15,INTERFACE!E1152))","v":0},{"$f":"MIN(INTERFACE!C$47,INTERFACE!F1152)","v":{"$error":"#VALUE!"}},{"$f":"100-INTERFACE!B1152","v":{"$error":"#VALUE!"}},null,{"$f":"INTERFACE!E1151+12/1200","v":11.00999999999981},{"$f":"((INTERFACE!C$11)/((10^-(INTERFACE!E1152))+(INTERFACE!C$11)))*100","v":{"$error":"#VALUE!"}},{"$f":"100-INTERFACE!F1152","v":{"$error":"#VALUE!"}}]
[{"$f":"(MIN(INTERFACE!AD$15,INTERFACE!E1153))","v":0},{"$f":"MIN(INTERFACE!C$47,INTERFACE!F1153)","v":{"$error":"#VALUE!"}},{"$f":"100-INTERFACE!B1153","v":{"$error":"#VALUE!"}},null,{"$f":"INTERFACE!E1152+12/1200","v":11.01999999999981},{"$f":"((INTERFACE!C$11)/((10^-(INTERFACE!E1153))+(INTERFACE!C$11)))*100","v":{"$error":"#VALUE!"}},{"$f":"100-INTERFACE!F1153","v":{"$error":"#VALUE!"}}]
[{"$f":"(MIN(INTERFACE!AD$15,INTERFACE!E1154))","v":0},{"$f":"MIN(INTERFACE!C$47,INTERFACE!F1154)","v":{"$error":"#VALUE!"}},{"$f":"100-INTERFACE!B1154","v":{"$error":"#VALUE!"}},null,{"$f":"INTERFACE!E1153+12/1200","v":11.029999999999809},{"$f":"((INTERFACE!C$11)/((10^-(INTERFACE!E1154))+(INTERFACE!C$11)))*100","v":{"$error":"#VALUE!"}},{"$f":"100-INTERFACE!F1154","v":{"$error":"#VALUE!"}}]
[{"$f":"(MIN(INTERFACE!AD$15,INTERFACE!E1155))","v":0},{"$f":"MIN(INTERFACE!C$47,INTERFACE!F1155)","v":{"$error":"#VALUE!"}},{"$f":"100-INTERFACE!B1155","v":{"$error":"#VALUE!"}},null,{"$f":"INTERFACE!E1154+12/1200","v":11.039999999999809},{"$f":"((INTERFACE!C$11)/((10^-(INTERFACE!E1155))+(INTERFACE!C$11)))*100","v":{"$error":"#VALUE!"}},{"$f":"100-INTERFACE!F1155","v":{"$error":"#VALUE!"}}]
[{"$f":"(MIN(INTERFACE!AD$15,INTERFACE!E1156))","v":0},{"$f":"MIN(INTERFACE!C$47,INTERFACE!F1156)","v":{"$error":"#VALUE!"}},{"$f":"100-INTERFACE!B1156","v":{"$error":"#VALUE!"}},null,{"$f":"INTERFACE!E1155+12/1200","v":11.049999999999809},{"$f":"((INTERFACE!C$11)/((10^-(INTERFACE!E1156))+(INTERFACE!C$11)))*100","v":{"$error":"#VALUE!"}},{"$f":"100-INTERFACE!F1156","v":{"$error":"#VALUE!"}}]
[{"$f":"(MIN(INTERFACE!AD$15,INTERFACE!E1157))","v":0},{"$f":"MIN(INTERFACE!C$47,INTERFACE!F1157)","v":{"$error":"#VALUE!"}},{"$f":"100-INTERFACE!B1157","v":{"$error":"#VALUE!"}},null,{"$f":"INTERFACE!E1156+12/1200","v":11.059999999999809},{"$f":"((INTERFACE!C$11)/((10^-(INTERFACE!E1157))+(INTERFACE!C$11)))*100","v":{"$error":"#VALUE!"}},{"$f":"100-INTERFACE!F1157","v":{"$error":"#VALUE!"}}]
[{"$f":"(MIN(INTERFACE!AD$15,INTERFACE!E1158))","v":0},{"$f":"MIN(INTERFACE!C$47,INTERFACE!F1158)","v":{"$error":"#VALUE!"}},{"$f":"100-INTERFACE!B1158","v":{"$error":"#VALUE!"}},null,{"$f":"INTERFACE!E1157+12/1200","v":11.069999999999808},{"$f":"((INTERFACE!C$11)/((10^-(INTERFACE!E1158))+(INTERFACE!C$11)))*100","v":{"$error":"#VALUE!"}},{"$f":"100-INTERFACE!F1158","v":{"$error":"#VALUE!"}}]
[{"$f":"(MIN(INTERFACE!AD$15,INTERFACE!E1159))","v":0},{"$f":"MIN(INTERFACE!C$47,INTERFACE!F1159)","v":{"$error":"#VALUE!"}},{"$f":"100-INTERFACE!B1159","v":{"$error":"#VALUE!"}},null,{"$f":"INTERFACE!E1158+12/1200","v":11.079999999999808},{"$f":"((INTERFACE!C$11)/((10^-(INTERFACE!E1159))+(INTERFACE!C$11)))*100","v":{"$error":"#VALUE!"}},{"$f":"100-INTERFACE!F1159","v":{"$error":"#VALUE!"}}]
[{"$f":"(MIN(INTERFACE!AD$15,INTERFACE!E1160))","v":0},{"$f":"MIN(INTERFACE!C$47,INTERFACE!F1160)","v":{"$error":"#VALUE!"}},{"$f":"100-INTERFACE!B1160","v":{"$error":"#VALUE!"}},null,{"$f":"INTERFACE!E1159+12/1200","v":11.089999999999808},{"$f":"((INTERFACE!C$11)/((10^-(INTERFACE!E1160))+(INTERFACE!C$11)))*100","v":{"$error":"#VALUE!"}},{"$f":"100-INTERFACE!F1160","v":{"$error":"#VALUE!"}}]
[{"$f":"(MIN(INTERFACE!AD$15,INTERFACE!E1161))","v":0},{"$f":"MIN(INTERFACE!C$47,INTERFACE!F1161)","v":{"$error":"#VALUE!"}},{"$f":"100-INTERFACE!B1161","v":{"$error":"#VALUE!"}},null,{"$f":"INTERFACE!E1160+12/1200","v":11.099999999999808},{"$f":"((INTERFACE!C$11)/((10^-(INTERFACE!E1161))+(INTERFACE!C$11)))*100","v":{"$error":"#VALUE!"}},{"$f":"100-INTERFACE!F1161","v":{"$error":"#VALUE!"}}]
[{"$f":"(MIN(INTERFACE!AD$15,INTERFACE!E1162))","v":0},{"$f":"MIN(INTERFACE!C$47,INTERFACE!F1162)","v":{"$error":"#VALUE!"}},{"$f":"100-INTERFACE!B1162","v":{"$error":"#VALUE!"}},null,{"$f":"INTERFACE!E1161+12/1200","v":11.109999999999808},{"$f":"((INTERFACE!C$11)/((10^-(INTERFACE!E1162))+(INTERFACE!C$11)))*100","v":{"$error":"#VALUE!"}},{"$f":"100-INTERFACE!F1162","v":{"$error":"#VALUE!"}}]
[{"$f":"(MIN(INTERFACE!AD$15,INTERFACE!E1163))","v":0},{"$f":"MIN(INTERFACE!C$47,INTERFACE!F1163)","v":{"$error":"#VALUE!"}},{"$f":"100-INTERFACE!B1163","v":{"$error":"#VALUE!"}},null,{"$f":"INTERFACE!E1162+12/1200","v":11.119999999999807},{"$f":"((INTERFACE!C$11)/((10^-(INTERFACE!E1163))+(INTERFACE!C$11)))*100","v":{"$error":"#VALUE!"}},{"$f":"100-INTERFACE!F1163","v":{"$error":"#VALUE!"}}]
[{"$f":"(MIN(INTERFACE!AD$15,INTERFACE!E1164))","v":0},{"$f":"MIN(INTERFACE!C$47,INTERFACE!F1164)","v":{"$error":"#VALUE!"}},{"$f":"100-INTERFACE!B1164","v":{"$error":"#VALUE!"}},null,{"$f":"INTERFACE!E1163+12/1200","v":11.129999999999807},{"$f":"((INTERFACE!C$11)/((10^-(INTERFACE!E1164))+(INTERFACE!C$11)))*100","v":{"$error":"#VALUE!"}},{"$f":"100-INTERFACE!F1164","v":{"$error":"#VALUE!"}}]
[{"$f":"(MIN(INTERFACE!AD$15,INTERFACE!E1165))","v":0},{"$f":"MIN(INTERFACE!C$47,INTERFACE!F1165)","v":{"$error":"#VALUE!"}},{"$f":"100-INTERFACE!B1165","v":{"$error":"#VALUE!"}},null,{"$f":"INTERFACE!E1164+12/1200","v":11.139999999999807},{"$f":"((INTERFACE!C$11)/((10^-(INTERFACE!E1165))+(INTERFACE!C$11)))*100","v":{"$error":"#VALUE!"}},{"$f":"100-INTERFACE!F1165","v":{"$error":"#VALUE!"}}]
[{"$f":"(MIN(INTERFACE!AD$15,INTERFACE!E1166))","v":0},{"$f":"MIN(INTERFACE!C$47,INTERFACE!F1166)","v":{"$error":"#VALUE!"}},{"$f":"100-INTERFACE!B1166","v":{"$error":"#VALUE!"}},null,{"$f":"INTERFACE!E1165+12/1200","v":11.149999999999807},{"$f":"((INTERFACE!C$11)/((10^-(INTERFACE!E1166))+(INTERFACE!C$11)))*100","v":{"$error":"#VALUE!"}},{"$f":"100-INTERFACE!F1166","v":{"$error":"#VALUE!"}}]
[{"$f":"(MIN(INTERFACE!AD$15,INTERFACE!E1167))","v":0},{"$f":"MIN(INTERFACE!C$47,INTERFACE!F1167)","v":{"$error":"#VALUE!"}},{"$f":"100-INTERFACE!B1167","v":{"$error":"#VALUE!"}},null,{"$f":"INTERFACE!E1166+12/1200","v":11.159999999999807},{"$f":"((INTERFACE!C$11)/((10^-(INTERFACE!E1167))+(INTERFACE!C$11)))*100","v":{"$error":"#VALUE!"}},{"$f":"100-INTERFACE!F1167","v":{"$error":"#VALUE!"}}]
[{"$f":"(MIN(INTERFACE!AD$15,INTERFACE!E1168))","v":0},{"$f":"MIN(INTERFACE!C$47,INTERFACE!F1168)","v":{"$error":"#VALUE!"}},{"$f":"100-INTERFACE!B1168","v":{"$error":"#VALUE!"}},null,{"$f":"INTERFACE!E1167+12/1200","v":11.169999999999806},{"$f":"((INTERFACE!C$11)/((10^-(INTERFACE!E1168))+(INTERFACE!C$11)))*100","v":{"$error":"#VALUE!"}},{"$f":"100-INTERFACE!F1168","v":{"$error":"#VALUE!"}}]
[{"$f":"(MIN(INTERFACE!AD$15,INTERFACE!E1169))","v":0},{"$f":"MIN(INTERFACE!C$47,INTERFACE!F1169)","v":{"$error":"#VALUE!"}},{"$f":"100-INTERFACE!B1169","v":{"$error":"#VALUE!"}},null,{"$f":"INTERFACE!E1168+12/1200","v":11.179999999999806},{"$f":"((INTERFACE!C$11)/((10^-(INTERFACE!E1169))+(INTERFACE!C$11)))*100","v":{"$error":"#VALUE!"}},{"$f":"100-INTERFACE!F1169","v":{"$error":"#VALUE!"}}]
[{"$f":"(MIN(INTERFACE!AD$15,INTERFACE!E1170))","v":0},{"$f":"MIN(INTERFACE!C$47,INTERFACE!F1170)","v":{"$error":"#VALUE!"}},{"$f":"100-INTERFACE!B1170","v":{"$error":"#VALUE!"}},null,{"$f":"INTERFACE!E1169+12/1200","v":11.189999999999806},{"$f":"((INTERFACE!C$11)/((10^-(INTERFACE!E1170))+(INTERFACE!C$11)))*100","v":{"$error":"#VALUE!"}},{"$f":"100-INTERFACE!F1170","v":{"$error":"#VALUE!"}}]
[{"$f":"(MIN(INTERFACE!AD$15,INTERFACE!E1171))","v":0},{"$f":"MIN(INTERFACE!C$47,INTERFACE!F1171)","v":{"$error":"#VALUE!"}},{"$f":"100-INTERFACE!B1171","v":{"$error":"#VALUE!"}},null,{"$f":"INTERFACE!E1170+12/1200","v":11.199999999999806},{"$f":"((INTERFACE!C$11)/((10^-(INTERFACE!E1171))+(INTERFACE!C$11)))*100","v":{"$error":"#VALUE!"}},{"$f":"100-INTERFACE!F1171","v":{"$error":"#VALUE!"}}]
[{"$f":"(MIN(INTERFACE!AD$15,INTERFACE!E1172))","v":0},{"$f":"MIN(INTERFACE!C$47,INTERFACE!F1172)","v":{"$error":"#VALUE!"}},{"$f":"100-INTERFACE!B1172","v":{"$error":"#VALUE!"}},null,{"$f":"INTERFACE!E1171+12/1200","v":11.209999999999805},{"$f":"((INTERFACE!C$11)/((10^-(INTERFACE!E1172))+(INTERFACE!C$11)))*100","v":{"$error":"#VALUE!"}},{"$f":"100-INTERFACE!F1172","v":{"$error":"#VALUE!"}}]
[{"$f":"(MIN(INTERFACE!AD$15,INTERFACE!E1173))","v":0},{"$f":"MIN(INTERFACE!C$47,INTERFACE!F1173)","v":{"$error":"#VALUE!"}},{"$f":"100-INTERFACE!B1173","v":{"$error":"#VALUE!"}},null,{"$f":"INTERFACE!E1172+12/1200","v":11.219999999999805},{"$f":"((INTERFACE!C$11)/((10^-(INTERFACE!E1173))+(INTERFACE!C$11)))*100","v":{"$error":"#VALUE!"}},{"$f":"100-INTERFACE!F1173","v":{"$error":"#VALUE!"}}]
[{"$f":"(MIN(INTERFACE!AD$15,INTERFACE!E1174))","v":0},{"$f":"MIN(INTERFACE!C$47,INTERFACE!F1174)","v":{"$error":"#VALUE!"}},{"$f":"100-INTERFACE!B1174","v":{"$error":"#VALUE!"}},null,{"$f":"INTERFACE!E1173+12/1200","v":11.229999999999805},{"$f":"((INTERFACE!C$11)/((10^-(INTERFACE!E1174))+(INTERFACE!C$11)))*100","v":{"$error":"#VALUE!"}},{"$f":"100-INTERFACE!F1174","v":{"$error":"#VALUE!"}}]
[{"$f":"(MIN(INTERFACE!AD$15,INTERFACE!E1175))","v":0},{"$f":"MIN(INTERFACE!C$47,INTERFACE!F1175)","v":{"$error":"#VALUE!"}},{"$f":"100-INTERFACE!B1175","v":{"$error":"#VALUE!"}},null,{"$f":"INTERFACE!E1174+12/1200","v":11.239999999999805},{"$f":"((INTERFACE!C$11)/((10^-(INTERFACE!E1175))+(INTERFACE!C$11)))*100","v":{"$error":"#VALUE!"}},{"$f":"100-INTERFACE!F1175","v":{"$error":"#VALUE!"}}]
[{"$f":"(MIN(INTERFACE!AD$15,INTERFACE!E1176))","v":0},{"$f":"MIN(INTERFACE!C$47,INTERFACE!F1176)","v":{"$error":"#VALUE!"}},{"$f":"100-INTERFACE!B1176","v":{"$error":"#VALUE!"}},null,{"$f":"INTERFACE!E1175+12/1200","v":11.249999999999805},{"$f":"((INTERFACE!C$11)/((10^-(INTERFACE!E1176))+(INTERFACE!C$11)))*100","v":{"$error":"#VALUE!"}},{"$f":"100-INTERFACE!F1176","v":{"$error":"#VALUE!"}}]
[{"$f":"(MIN(INTERFACE!AD$15,INTERFACE!E1177))","v":0},{"$f":"MIN(INTERFACE!C$47,INTERFACE!F1177)","v":{"$error":"#VALUE!"}},{"$f":"100-INTERFACE!B1177","v":{"$error":"#VALUE!"}},null,{"$f":"INTERFACE!E1176+12/1200","v":11.259999999999804},{"$f":"((INTERFACE!C$11)/((10^-(INTERFACE!E1177))+(INTERFACE!C$11)))*100","v":{"$error":"#VALUE!"}},{"$f":"100-INTERFACE!F1177","v":{"$error":"#VALUE!"}}]
[{"$f":"(MIN(INTERFACE!AD$15,INTERFACE!E1178))","v":0},{"$f":"MIN(INTERFACE!C$47,INTERFACE!F1178)","v":{"$error":"#VALUE!"}},{"$f":"100-INTERFACE!B1178","v":{"$error":"#VALUE!"}},null,{"$f":"INTERFACE!E1177+12/1200","v":11.269999999999804},{"$f":"((INTERFACE!C$11)/((10^-(INTERFACE!E1178))+(INTERFACE!C$11)))*100","v":{"$error":"#VALUE!"}},{"$f":"100-INTERFACE!F1178","v":{"$error":"#VALUE!"}}]
[{"$f":"(MIN(INTERFACE!AD$15,INTERFACE!E1179))","v":0},{"$f":"MIN(INTERFACE!C$47,INTERFACE!F1179)","v":{"$error":"#VALUE!"}},{"$f":"100-INTERFACE!B1179","v":{"$error":"#VALUE!"}},null,{"$f":"INTERFACE!E1178+12/1200","v":11.279999999999804},{"$f":"((INTERFACE!C$11)/((10^-(INTERFACE!E1179))+(INTERFACE!C$11)))*100","v":{"$error":"#VALUE!"}},{"$f":"100-INTERFACE!F1179","v":{"$error":"#VALUE!"}}]
[{"$f":"(MIN(INTERFACE!AD$15,INTERFACE!E1180))","v":0},{"$f":"MIN(INTERFACE!C$47,INTERFACE!F1180)","v":{"$error":"#VALUE!"}},{"$f":"100-INTERFACE!B1180","v":{"$error":"#VALUE!"}},null,{"$f":"INTERFACE!E1179+12/1200","v":11.289999999999804},{"$f":"((INTERFACE!C$11)/((10^-(INTERFACE!E1180))+(INTERFACE!C$11)))*100","v":{"$error":"#VALUE!"}},{"$f":"100-INTERFACE!F1180","v":{"$error":"#VALUE!"}}]
[{"$f":"(MIN(INTERFACE!AD$15,INTERFACE!E1181))","v":0},{"$f":"MIN(INTERFACE!C$47,INTERFACE!F1181)","v":{"$error":"#VALUE!"}},{"$f":"100-INTERFACE!B1181","v":{"$error":"#VALUE!"}},null,{"$f":"INTERFACE!E1180+12/1200","v":11.299999999999804},{"$f":"((INTERFACE!C$11)/((10^-(INTERFACE!E1181))+(INTERFACE!C$11)))*100","v":{"$error":"#VALUE!"}},{"$f":"100-INTERFACE!F1181","v":{"$error":"#VALUE!"}}]
[{"$f":"(MIN(INTERFACE!AD$15,INTERFACE!E1182))","v":0},{"$f":"MIN(INTERFACE!C$47,INTERFACE!F1182)","v":{"$error":"#VALUE!"}},{"$f":"100-INTERFACE!B1182","v":{"$error":"#VALUE!"}},null,{"$f":"INTERFACE!E1181+12/1200","v":11.309999999999803},{"$f":"((INTERFACE!C$11)/((10^-(INTERFACE!E1182))+(INTERFACE!C$11)))*100","v":{"$error":"#VALUE!"}},{"$f":"100-INTERFACE!F1182","v":{"$error":"#VALUE!"}}]
[{"$f":"(MIN(INTERFACE!AD$15,INTERFACE!E1183))","v":0},{"$f":"MIN(INTERFACE!C$47,INTERFACE!F1183)","v":{"$error":"#VALUE!"}},{"$f":"100-INTERFACE!B1183","v":{"$error":"#VALUE!"}},null,{"$f":"INTERFACE!E1182+12/1200","v":11.319999999999803},{"$f":"((INTERFACE!C$11)/((10^-(INTERFACE!E1183))+(INTERFACE!C$11)))*100","v":{"$error":"#VALUE!"}},{"$f":"100-INTERFACE!F1183","v":{"$error":"#VALUE!"}}]
[{"$f":"(MIN(INTERFACE!AD$15,INTERFACE!E1184))","v":0},{"$f":"MIN(INTERFACE!C$47,INTERFACE!F1184)","v":{"$error":"#VALUE!"}},{"$f":"100-INTERFACE!B1184","v":{"$error":"#VALUE!"}},null,{"$f":"INTERFACE!E1183+12/1200","v":11.329999999999803},{"$f":"((INTERFACE!C$11)/((10^-(INTERFACE!E1184))+(INTERFACE!C$11)))*100","v":{"$error":"#VALUE!"}},{"$f":"100-INTERFACE!F1184","v":{"$error":"#VALUE!"}}]
[{"$f":"(MIN(INTERFACE!AD$15,INTERFACE!E1185))","v":0},{"$f":"MIN(INTERFACE!C$47,INTERFACE!F1185)","v":{"$error":"#VALUE!"}},{"$f":"100-INTERFACE!B1185","v":{"$error":"#VALUE!"}},null,{"$f":"INTERFACE!E1184+12/1200","v":11.339999999999803},{"$f":"((INTERFACE!C$11)/((10^-(INTERFACE!E1185))+(INTERFACE!C$11)))*100","v":{"$error":"#VALUE!"}},{"$f":"100-INTERFACE!F1185","v":{"$error":"#VALUE!"}}]
[{"$f":"(MIN(INTERFACE!AD$15,INTERFACE!E1186))","v":0},{"$f":"MIN(INTERFACE!C$47,INTERFACE!F1186)","v":{"$error":"#VALUE!"}},{"$f":"100-INTERFACE!B1186","v":{"$error":"#VALUE!"}},null,{"$f":"INTERFACE!E1185+12/1200","v":11.349999999999802},{"$f":"((INTERFACE!C$11)/((10^-(INTERFACE!E1186))+(INTERFACE!C$11)))*100","v":{"$error":"#VALUE!"}},{"$f":"100-INTERFACE!F1186","v":{"$error":"#VALUE!"}}]
[{"$f":"(MIN(INTERFACE!AD$15,INTERFACE!E1187))","v":0},{"$f":"MIN(INTERFACE!C$47,INTERFACE!F1187)","v":{"$error":"#VALUE!"}},{"$f":"100-INTERFACE!B1187","v":{"$error":"#VALUE!"}},null,{"$f":"INTERFACE!E1186+12/1200","v":11.359999999999802},{"$f":"((INTERFACE!C$11)/((10^-(INTERFACE!E1187))+(INTERFACE!C$11)))*100","v":{"$error":"#VALUE!"}},{"$f":"100-INTERFACE!F1187","v":{"$error":"#VALUE!"}}]
[{"$f":"(MIN(INTERFACE!AD$15,INTERFACE!E1188))","v":0},{"$f":"MIN(INTERFACE!C$47,INTERFACE!F1188)","v":{"$error":"#VALUE!"}},{"$f":"100-INTERFACE!B1188","v":{"$error":"#VALUE!"}},null,{"$f":"INTERFACE!E1187+12/1200","v":11.369999999999802},{"$f":"((INTERFACE!C$11)/((10^-(INTERFACE!E1188))+(INTERFACE!C$11)))*100","v":{"$error":"#VALUE!"}},{"$f":"100-INTERFACE!F1188","v":{"$error":"#VALUE!"}}]
[{"$f":"(MIN(INTERFACE!AD$15,INTERFACE!E1189))","v":0},{"$f":"MIN(INTERFACE!C$47,INTERFACE!F1189)","v":{"$error":"#VALUE!"}},{"$f":"100-INTERFACE!B1189","v":{"$error":"#VALUE!"}},null,{"$f":"INTERFACE!E1188+12/1200","v":11.379999999999802},{"$f":"((INTERFACE!C$11)/((10^-(INTERFACE!E1189))+(INTERFACE!C$11)))*100","v":{"$error":"#VALUE!"}},{"$f":"100-INTERFACE!F1189","v":{"$error":"#VALUE!"}}]
[{"$f":"(MIN(INTERFACE!AD$15,INTERFACE!E1190))","v":0},{"$f":"MIN(INTERFACE!C$47,INTERFACE!F1190)","v":{"$error":"#VALUE!"}},{"$f":"100-INTERFACE!B1190","v":{"$error":"#VALUE!"}},null,{"$f":"INTERFACE!E1189+12/1200","v":11.389999999999802},{"$f":"((INTERFACE!C$11)/((10^-(INTERFACE!E1190))+(INTERFACE!C$11)))*100","v":{"$error":"#VALUE!"}},{"$f":"100-INTERFACE!F1190","v":{"$error":"#VALUE!"}}]
[{"$f":"(MIN(INTERFACE!AD$15,INTERFACE!E1191))","v":0},{"$f":"MIN(INTERFACE!C$47,INTERFACE!F1191)","v":{"$error":"#VALUE!"}},{"$f":"100-INTERFACE!B1191","v":{"$error":"#VALUE!"}},null,{"$f":"INTERFACE!E1190+12/1200","v":11.399999999999801},{"$f":"((INTERFACE!C$11)/((10^-(INTERFACE!E1191))+(INTERFACE!C$11)))*100","v":{"$error":"#VALUE!"}},{"$f":"100-INTERFACE!F1191","v":{"$error":"#VALUE!"}}]
[{"$f":"(MIN(INTERFACE!AD$15,INTERFACE!E1192))","v":0},{"$f":"MIN(INTERFACE!C$47,INTERFACE!F1192)","v":{"$error":"#VALUE!"}},{"$f":"100-INTERFACE!B1192","v":{"$error":"#VALUE!"}},null,{"$f":"INTERFACE!E1191+12/1200","v":11.409999999999801},{"$f":"((INTERFACE!C$11)/((10^-(INTERFACE!E1192))+(INTERFACE!C$11)))*100","v":{"$error":"#VALUE!"}},{"$f":"100-INTERFACE!F1192","v":{"$error":"#VALUE!"}}]
[{"$f":"(MIN(INTERFACE!AD$15,INTERFACE!E1193))","v":0},{"$f":"MIN(INTERFACE!C$47,INTERFACE!F1193)","v":{"$error":"#VALUE!"}},{"$f":"100-INTERFACE!B1193","v":{"$error":"#VALUE!"}},null,{"$f":"INTERFACE!E1192+12/1200","v":11.419999999999801},{"$f":"((INTERFACE!C$11)/((10^-(INTERFACE!E1193))+(INTERFACE!C$11)))*100","v":{"$error":"#VALUE!"}},{"$f":"100-INTERFACE!F1193","v":{"$error":"#VALUE!"}}]
[{"$f":"(MIN(INTERFACE!AD$15,INTERFACE!E1194))","v":0},{"$f":"MIN(INTERFACE!C$47,INTERFACE!F1194)","v":{"$error":"#VALUE!"}},{"$f":"100-INTERFACE!B1194","v":{"$error":"#VALUE!"}},null,{"$f":"INTERFACE!E1193+12/1200","v":11.429999999999801},{"$f":"((INTERFACE!C$11)/((10^-(INTERFACE!E1194))+(INTERFACE!C$11)))*100","v":{"$error":"#VALUE!"}},{"$f":"100-INTERFACE!F1194","v":{"$error":"#VALUE!"}}]
[{"$f":"(MIN(INTERFACE!AD$15,INTERFACE!E1195))","v":0},{"$f":"MIN(INTERFACE!C$47,INTERFACE!F1195)","v":{"$error":"#VALUE!"}},{"$f":"100-INTERFACE!B1195","v":{"$error":"#VALUE!"}},null,{"$f":"INTERFACE!E1194+12/1200","v":11.439999999999801},{"$f":"((INTERFACE!C$11)/((10^-(INTERFACE!E1195))+(INTERFACE!C$11)))*100","v":{"$error":"#VALUE!"}},{"$f":"100-INTERFACE!F1195","v":{"$error":"#VALUE!"}}]
[{"$f":"(MIN(INTERFACE!AD$15,INTERFACE!E1196))","v":0},{"$f":"MIN(INTERFACE!C$47,INTERFACE!F1196)","v":{"$error":"#VALUE!"}},{"$f":"100-INTERFACE!B1196","v":{"$error":"#VALUE!"}},null,{"$f":"INTERFACE!E1195+12/1200","v":11.4499999999998},{"$f":"((INTERFACE!C$11)/((10^-(INTERFACE!E1196))+(INTERFACE!C$11)))*100","v":{"$error":"#VALUE!"}},{"$f":"100-INTERFACE!F1196","v":{"$error":"#VALUE!"}}]
[{"$f":"(MIN(INTERFACE!AD$15,INTERFACE!E1197))","v":0},{"$f":"MIN(INTERFACE!C$47,INTERFACE!F1197)","v":{"$error":"#VALUE!"}},{"$f":"100-INTERFACE!B1197","v":{"$error":"#VALUE!"}},null,{"$f":"INTERFACE!E1196+12/1200","v":11.4599999999998},{"$f":"((INTERFACE!C$11)/((10^-(INTERFACE!E1197))+(INTERFACE!C$11)))*100","v":{"$error":"#VALUE!"}},{"$f":"100-INTERFACE!F1197","v":{"$error":"#VALUE!"}}]
[{"$f":"(MIN(INTERFACE!AD$15,INTERFACE!E1198))","v":0},{"$f":"MIN(INTERFACE!C$47,INTERFACE!F1198)","v":{"$error":"#VALUE!"}},{"$f":"100-INTERFACE!B1198","v":{"$error":"#VALUE!"}},null,{"$f":"INTERFACE!E1197+12/1200","v":11.4699999999998},{"$f":"((INTERFACE!C$11)/((10^-(INTERFACE!E1198))+(INTERFACE!C$11)))*100","v":{"$error":"#VALUE!"}},{"$f":"100-INTERFACE!F1198","v":{"$error":"#VALUE!"}}]
[{"$f":"(MIN(INTERFACE!AD$15,INTERFACE!E1199))","v":0},{"$f":"MIN(INTERFACE!C$47,INTERFACE!F1199)","v":{"$error":"#VALUE!"}},{"$f":"100-INTERFACE!B1199","v":{"$error":"#VALUE!"}},null,{"$f":"INTERFACE!E1198+12/1200","v":11.4799999999998},{"$f":"((INTERFACE!C$11)/((10^-(INTERFACE!E1199))+(INTERFACE!C$11)))*100","v":{"$error":"#VALUE!"}},{"$f":"100-INTERFACE!F1199","v":{"$error":"#VALUE!"}}]
[{"$f":"(MIN(INTERFACE!AD$15,INTERFACE!E1200))","v":0},{"$f":"MIN(INTERFACE!C$47,INTERFACE!F1200)","v":{"$error":"#VALUE!"}},{"$f":"100-INTERFACE!B1200","v":{"$error":"#VALUE!"}},null,{"$f":"INTERFACE!E1199+12/1200","v":11.489999999999799},{"$f":"((INTERFACE!C$11)/((10^-(INTERFACE!E1200))+(INTERFACE!C$11)))*100","v":{"$error":"#VALUE!"}},{"$f":"100-INTERFACE!F1200","v":{"$error":"#VALUE!"}}]
[{"$f":"(MIN(INTERFACE!AD$15,INTERFACE!E1201))","v":0},{"$f":"MIN(INTERFACE!C$47,INTERFACE!F1201)","v":{"$error":"#VALUE!"}},{"$f":"100-INTERFACE!B1201","v":{"$error":"#VALUE!"}},null,{"$f":"INTERFACE!E1200+12/1200","v":11.499999999999799},{"$f":"((INTERFACE!C$11)/((10^-(INTERFACE!E1201))+(INTERFACE!C$11)))*100","v":{"$error":"#VALUE!"}},{"$f":"100-INTERFACE!F1201","v":{"$error":"#VALUE!"}}]
[{"$f":"(MIN(INTERFACE!AD$15,INTERFACE!E1202))","v":0},{"$f":"MIN(INTERFACE!C$47,INTERFACE!F1202)","v":{"$error":"#VALUE!"}},{"$f":"100-INTERFACE!B1202","v":{"$error":"#VALUE!"}},null,{"$f":"INTERFACE!E1201+12/1200","v":11.509999999999799},{"$f":"((INTERFACE!C$11)/((10^-(INTERFACE!E1202))+(INTERFACE!C$11)))*100","v":{"$error":"#VALUE!"}},{"$f":"100-INTERFACE!F1202","v":{"$error":"#VALUE!"}}]
[{"$f":"(MIN(INTERFACE!AD$15,INTERFACE!E1203))","v":0},{"$f":"MIN(INTERFACE!C$47,INTERFACE!F1203)","v":{"$error":"#VALUE!"}},{"$f":"100-INTERFACE!B1203","v":{"$error":"#VALUE!"}},null,{"$f":"INTERFACE!E1202+12/1200","v":11.519999999999799},{"$f":"((INTERFACE!C$11)/((10^-(INTERFACE!E1203))+(INTERFACE!C$11)))*100","v":{"$error":"#VALUE!"}},{"$f":"100-INTERFACE!F1203","v":{"$error":"#VALUE!"}}]
[{"$f":"(MIN(INTERFACE!AD$15,INTERFACE!E1204))","v":0},{"$f":"MIN(INTERFACE!C$47,INTERFACE!F1204)","v":{"$error":"#VALUE!"}},{"$f":"100-INTERFACE!B1204","v":{"$error":"#VALUE!"}},null,{"$f":"INTERFACE!E1203+12/1200","v":11.529999999999799},{"$f":"((INTERFACE!C$11)/((10^-(INTERFACE!E1204))+(INTERFACE!C$11)))*100","v":{"$error":"#VALUE!"}},{"$f":"100-INTERFACE!F1204","v":{"$error":"#VALUE!"}}]
[{"$f":"(MIN(INTERFACE!AD$15,INTERFACE!E1205))","v":0},{"$f":"MIN(INTERFACE!C$47,INTERFACE!F1205)","v":{"$error":"#VALUE!"}},{"$f":"100-INTERFACE!B1205","v":{"$error":"#VALUE!"}},null,{"$f":"INTERFACE!E1204+12/1200","v":11.539999999999798},{"$f":"((INTERFACE!C$11)/((10^-(INTERFACE!E1205))+(INTERFACE!C$11)))*100","v":{"$error":"#VALUE!"}},{"$f":"100-INTERFACE!F1205","v":{"$error":"#VALUE!"}}]
[{"$f":"(MIN(INTERFACE!AD$15,INTERFACE!E1206))","v":0},{"$f":"MIN(INTERFACE!C$47,INTERFACE!F1206)","v":{"$error":"#VALUE!"}},{"$f":"100-INTERFACE!B1206","v":{"$error":"#VALUE!"}},null,{"$f":"INTERFACE!E1205+12/1200","v":11.549999999999798},{"$f":"((INTERFACE!C$11)/((10^-(INTERFACE!E1206))+(INTERFACE!C$11)))*100","v":{"$error":"#VALUE!"}},{"$f":"100-INTERFACE!F1206","v":{"$error":"#VALUE!"}}]
[{"$f":"(MIN(INTERFACE!AD$15,INTERFACE!E1207))","v":0},{"$f":"MIN(INTERFACE!C$47,INTERFACE!F1207)","v":{"$error":"#VALUE!"}},{"$f":"100-INTERFACE!B1207","v":{"$error":"#VALUE!"}},null,{"$f":"INTERFACE!E1206+12/1200","v":11.559999999999798},{"$f":"((INTERFACE!C$11)/((10^-(INTERFACE!E1207))+(INTERFACE!C$11)))*100","v":{"$error":"#VALUE!"}},{"$f":"100-INTERFACE!F1207","v":{"$error":"#VALUE!"}}]
[{"$f":"(MIN(INTERFACE!AD$15,INTERFACE!E1208))","v":0},{"$f":"MIN(INTERFACE!C$47,INTERFACE!F1208)","v":{"$error":"#VALUE!"}},{"$f":"100-INTERFACE!B1208","v":{"$error":"#VALUE!"}},null,{"$f":"INTERFACE!E1207+12/1200","v":11.569999999999798},{"$f":"((INTERFACE!C$11)/((10^-(INTERFACE!E1208))+(INTERFACE!C$11)))*100","v":{"$error":"#VALUE!"}},{"$f":"100-INTERFACE!F1208","v":{"$error":"#VALUE!"}}]
[{"$f":"(MIN(INTERFACE!AD$15,INTERFACE!E1209))","v":0},{"$f":"MIN(INTERFACE!C$47,INTERFACE!F1209)","v":{"$error":"#VALUE!"}},{"$f":"100-INTERFACE!B1209","v":{"$error":"#VALUE!"}},null,{"$f":"INTERFACE!E1208+12/1200","v":11.579999999999798},{"$f":"((INTERFACE!C$11)/((10^-(INTERFACE!E1209))+(INTERFACE!C$11)))*100","v":{"$error":"#VALUE!"}},{"$f":"100-INTERFACE!F1209","v":{"$error":"#VALUE!"}}]
[{"$f":"(MIN(INTERFACE!AD$15,INTERFACE!E1210))","v":0},{"$f":"MIN(INTERFACE!C$47,INTERFACE!F1210)","v":{"$error":"#VALUE!"}},{"$f":"100-INTERFACE!B1210","v":{"$error":"#VALUE!"}},null,{"$f":"INTERFACE!E1209+12/1200","v":11.589999999999797},{"$f":"((INTERFACE!C$11)/((10^-(INTERFACE!E1210))+(INTERFACE!C$11)))*100","v":{"$error":"#VALUE!"}},{"$f":"100-INTERFACE!F1210","v":{"$error":"#VALUE!"}}]
[{"$f":"(MIN(INTERFACE!AD$15,INTERFACE!E1211))","v":0},{"$f":"MIN(INTERFACE!C$47,INTERFACE!F1211)","v":{"$error":"#VALUE!"}},{"$f":"100-INTERFACE!B1211","v":{"$error":"#VALUE!"}},null,{"$f":"INTERFACE!E1210+12/1200","v":11.599999999999797},{"$f":"((INTERFACE!C$11)/((10^-(INTERFACE!E1211))+(INTERFACE!C$11)))*100","v":{"$error":"#VALUE!"}},{"$f":"100-INTERFACE!F1211","v":{"$error":"#VALUE!"}}]
[{"$f":"(MIN(INTERFACE!AD$15,INTERFACE!E1212))","v":0},{"$f":"MIN(INTERFACE!C$47,INTERFACE!F1212)","v":{"$error":"#VALUE!"}},{"$f":"100-INTERFACE!B1212","v":{"$error":"#VALUE!"}},null,{"$f":"INTERFACE!E1211+12/1200","v":11.609999999999797},{"$f":"((INTERFACE!C$11)/((10^-(INTERFACE!E1212))+(INTERFACE!C$11)))*100","v":{"$error":"#VALUE!"}},{"$f":"100-INTERFACE!F1212","v":{"$error":"#VALUE!"}}]
[{"$f":"(MIN(INTERFACE!AD$15,INTERFACE!E1213))","v":0},{"$f":"MIN(INTERFACE!C$47,INTERFACE!F1213)","v":{"$error":"#VALUE!"}},{"$f":"100-INTERFACE!B1213","v":{"$error":"#VALUE!"}},null,{"$f":"INTERFACE!E1212+12/1200","v":11.619999999999797},{"$f":"((INTERFACE!C$11)/((10^-(INTERFACE!E1213))+(INTERFACE!C$11)))*100","v":{"$error":"#VALUE!"}},{"$f":"100-INTERFACE!F1213","v":{"$error":"#VALUE!"}}]
[{"$f":"(MIN(INTERFACE!AD$15,INTERFACE!E1214))","v":0},{"$f":"MIN(INTERFACE!C$47,INTERFACE!F1214)","v":{"$error":"#VALUE!"}},{"$f":"100-INTERFACE!B1214","v":{"$error":"#VALUE!"}},null,{"$f":"INTERFACE!E1213+12/1200","v":11.629999999999797},{"$f":"((INTERFACE!C$11)/((10^-(INTERFACE!E1214))+(INTERFACE!C$11)))*100","v":{"$error":"#VALUE!"}},{"$f":"100-INTERFACE!F1214","v":{"$error":"#VALUE!"}}]
[{"$f":"(MIN(INTERFACE!AD$15,INTERFACE!E1215))","v":0},{"$f":"MIN(INTERFACE!C$47,INTERFACE!F1215)","v":{"$error":"#VALUE!"}},{"$f":"100-INTERFACE!B1215","v":{"$error":"#VALUE!"}},null,{"$f":"INTERFACE!E1214+12/1200","v":11.639999999999796},{"$f":"((INTERFACE!C$11)/((10^-(INTERFACE!E1215))+(INTERFACE!C$11)))*100","v":{"$error":"#VALUE!"}},{"$f":"100-INTERFACE!F1215","v":{"$error":"#VALUE!"}}]
[{"$f":"(MIN(INTERFACE!AD$15,INTERFACE!E1216))","v":0},{"$f":"MIN(INTERFACE!C$47,INTERFACE!F1216)","v":{"$error":"#VALUE!"}},{"$f":"100-INTERFACE!B1216","v":{"$error":"#VALUE!"}},null,{"$f":"INTERFACE!E1215+12/1200","v":11.649999999999796},{"$f":"((INTERFACE!C$11)/((10^-(INTERFACE!E1216))+(INTERFACE!C$11)))*100","v":{"$error":"#VALUE!"}},{"$f":"100-INTERFACE!F1216","v":{"$error":"#VALUE!"}}]
[{"$f":"(MIN(INTERFACE!AD$15,INTERFACE!E1217))","v":0},{"$f":"MIN(INTERFACE!C$47,INTERFACE!F1217)","v":{"$error":"#VALUE!"}},{"$f":"100-INTERFACE!B1217","v":{"$error":"#VALUE!"}},null,{"$f":"INTERFACE!E1216+12/1200","v":11.659999999999796},{"$f":"((INTERFACE!C$11)/((10^-(INTERFACE!E1217))+(INTERFACE!C$11)))*100","v":{"$error":"#VALUE!"}},{"$f":"100-INTERFACE!F1217","v":{"$error":"#VALUE!"}}]
[{"$f":"(MIN(INTERFACE!AD$15,INTERFACE!E1218))","v":0},{"$f":"MIN(INTERFACE!C$47,INTERFACE!F1218)","v":{"$error":"#VALUE!"}},{"$f":"100-INTERFACE!B1218","v":{"$error":"#VALUE!"}},null,{"$f":"INTERFACE!E1217+12/1200","v":11.669999999999796},{"$f":"((INTERFACE!C$11)/((10^-(INTERFACE!E1218))+(INTERFACE!C$11)))*100","v":{"$error":"#VALUE!"}},{"$f":"100-INTERFACE!F1218","v":{"$error":"#VALUE!"}}]
[{"$f":"(MIN(INTERFACE!AD$15,INTERFACE!E1219))","v":0},{"$f":"MIN(INTERFACE!C$47,INTERFACE!F1219)","v":{"$error":"#VALUE!"}},{"$f":"100-INTERFACE!B1219","v":{"$error":"#VALUE!"}},null,{"$f":"INTERFACE!E1218+12/1200","v":11.679999999999795},{"$f":"((INTERFACE!C$11)/((10^-(INTERFACE!E1219))+(INTERFACE!C$11)))*100","v":{"$error":"#VALUE!"}},{"$f":"100-INTERFACE!F1219","v":{"$error":"#VALUE!"}}]
[{"$f":"(MIN(INTERFACE!AD$15,INTERFACE!E1220))","v":0},{"$f":"MIN(INTERFACE!C$47,INTERFACE!F1220)","v":{"$error":"#VALUE!"}},{"$f":"100-INTERFACE!B1220","v":{"$error":"#VALUE!"}},null,{"$f":"INTERFACE!E1219+12/1200","v":11.689999999999795},{"$f":"((INTERFACE!C$11)/((10^-(INTERFACE!E1220))+(INTERFACE!C$11)))*100","v":{"$error":"#VALUE!"}},{"$f":"100-INTERFACE!F1220","v":{"$error":"#VALUE!"}}]
[{"$f":"(MIN(INTERFACE!AD$15,INTERFACE!E1221))","v":0},{"$f":"MIN(INTERFACE!C$47,INTERFACE!F1221)","v":{"$error":"#VALUE!"}},{"$f":"100-INTERFACE!B1221","v":{"$error":"#VALUE!"}},null,{"$f":"INTERFACE!E1220+12/1200","v":11.699999999999795},{"$f":"((INTERFACE!C$11)/((10^-(INTERFACE!E1221))+(INTERFACE!C$11)))*100","v":{"$error":"#VALUE!"}},{"$f":"100-INTERFACE!F1221","v":{"$error":"#VALUE!"}}]
[{"$f":"(MIN(INTERFACE!AD$15,INTERFACE!E1222))","v":0},{"$f":"MIN(INTERFACE!C$47,INTERFACE!F1222)","v":{"$error":"#VALUE!"}},{"$f":"100-INTERFACE!B1222","v":{"$error":"#VALUE!"}},null,{"$f":"INTERFACE!E1221+12/1200","v":11.709999999999795},{"$f":"((INTERFACE!C$11)/((10^-(INTERFACE!E1222))+(INTERFACE!C$11)))*100","v":{"$error":"#VALUE!"}},{"$f":"100-INTERFACE!F1222","v":{"$error":"#VALUE!"}}]
[{"$f":"(MIN(INTERFACE!AD$15,INTERFACE!E1223))","v":0},{"$f":"MIN(INTERFACE!C$47,INTERFACE!F1223)","v":{"$error":"#VALUE!"}},{"$f":"100-INTERFACE!B1223","v":{"$error":"#VALUE!"}},null,{"$f":"INTERFACE!E1222+12/1200","v":11.719999999999795},{"$f":"((INTERFACE!C$11)/((10^-(INTERFACE!E1223))+(INTERFACE!C$11)))*100","v":{"$error":"#VALUE!"}},{"$f":"100-INTERFACE!F1223","v":{"$error":"#VALUE!"}}]
[{"$f":"(MIN(INTERFACE!AD$15,INTERFACE!E1224))","v":0},{"$f":"MIN(INTERFACE!C$47,INTERFACE!F1224)","v":{"$error":"#VALUE!"}},{"$f":"100-INTERFACE!B1224","v":{"$error":"#VALUE!"}},null,{"$f":"INTERFACE!E1223+12/1200","v":11.729999999999794},{"$f":"((INTERFACE!C$11)/((10^-(INTERFACE!E1224))+(INTERFACE!C$11)))*100","v":{"$error":"#VALUE!"}},{"$f":"100-INTERFACE!F1224","v":{"$error":"#VALUE!"}}]
[{"$f":"(MIN(INTERFACE!AD$15,INTERFACE!E1225))","v":0},{"$f":"MIN(INTERFACE!C$47,INTERFACE!F1225)","v":{"$error":"#VALUE!"}},{"$f":"100-INTERFACE!B1225","v":{"$error":"#VALUE!"}},null,{"$f":"INTERFACE!E1224+12/1200","v":11.739999999999794},{"$f":"((INTERFACE!C$11)/((10^-(INTERFACE!E1225))+(INTERFACE!C$11)))*100","v":{"$error":"#VALUE!"}},{"$f":"100-INTERFACE!F1225","v":{"$error":"#VALUE!"}}]
[{"$f":"(MIN(INTERFACE!AD$15,INTERFACE!E1226))","v":0},{"$f":"MIN(INTERFACE!C$47,INTERFACE!F1226)","v":{"$error":"#VALUE!"}},{"$f":"100-INTERFACE!B1226","v":{"$error":"#VALUE!"}},null,{"$f":"INTERFACE!E1225+12/1200","v":11.749999999999794},{"$f":"((INTERFACE!C$11)/((10^-(INTERFACE!E1226))+(INTERFACE!C$11)))*100","v":{"$error":"#VALUE!"}},{"$f":"100-INTERFACE!F1226","v":{"$error":"#VALUE!"}}]
[{"$f":"(MIN(INTERFACE!AD$15,INTERFACE!E1227))","v":0},{"$f":"MIN(INTERFACE!C$47,INTERFACE!F1227)","v":{"$error":"#VALUE!"}},{"$f":"100-INTERFACE!B1227","v":{"$error":"#VALUE!"}},null,{"$f":"INTERFACE!E1226+12/1200","v":11.759999999999794},{"$f":"((INTERFACE!C$11)/((10^-(INTERFACE!E1227))+(INTERFACE!C$11)))*100","v":{"$error":"#VALUE!"}},{"$f":"100-INTERFACE!F1227","v":{"$error":"#VALUE!"}}]
[{"$f":"(MIN(INTERFACE!AD$15,INTERFACE!E1228))","v":0},{"$f":"MIN(INTERFACE!C$47,INTERFACE!F1228)","v":{"$error":"#VALUE!"}},{"$f":"100-INTERFACE!B1228","v":{"$error":"#VALUE!"}},null,{"$f":"INTERFACE!E1227+12/1200","v":11.769999999999794},{"$f":"((INTERFACE!C$11)/((10^-(INTERFACE!E1228))+(INTERFACE!C$11)))*100","v":{"$error":"#VALUE!"}},{"$f":"100-INTERFACE!F1228","v":{"$error":"#VALUE!"}}]
[{"$f":"(MIN(INTERFACE!AD$15,INTERFACE!E1229))","v":0},{"$f":"MIN(INTERFACE!C$47,INTERFACE!F1229)","v":{"$error":"#VALUE!"}},{"$f":"100-INTERFACE!B1229","v":{"$error":"#VALUE!"}},null,{"$f":"INTERFACE!E1228+12/1200","v":11.779999999999793},{"$f":"((INTERFACE!C$11)/((10^-(INTERFACE!E1229))+(INTERFACE!C$11)))*100","v":{"$error":"#VALUE!"}},{"$f":"100-INTERFACE!F1229","v":{"$error":"#VALUE!"}}]
[{"$f":"(MIN(INTERFACE!AD$15,INTERFACE!E1230))","v":0},{"$f":"MIN(INTERFACE!C$47,INTERFACE!F1230)","v":{"$error":"#VALUE!"}},{"$f":"100-INTERFACE!B1230","v":{"$error":"#VALUE!"}},null,{"$f":"INTERFACE!E1229+12/1200","v":11.789999999999793},{"$f":"((INTERFACE!C$11)/((10^-(INTERFACE!E1230))+(INTERFACE!C$11)))*100","v":{"$error":"#VALUE!"}},{"$f":"100-INTERFACE!F1230","v":{"$error":"#VALUE!"}}]
[{"$f":"(MIN(INTERFACE!AD$15,INTERFACE!E1231))","v":0},{"$f":"MIN(INTERFACE!C$47,INTERFACE!F1231)","v":{"$error":"#VALUE!"}},{"$f":"100-INTERFACE!B1231","v":{"$error":"#VALUE!"}},null,{"$f":"INTERFACE!E1230+12/1200","v":11.799999999999793},{"$f":"((INTERFACE!C$11)/((10^-(INTERFACE!E1231))+(INTERFACE!C$11)))*100","v":{"$error":"#VALUE!"}},{"$f":"100-INTERFACE!F1231","v":{"$error":"#VALUE!"}}]
[{"$f":"(MIN(INTERFACE!AD$15,INTERFACE!E1232))","v":0},{"$f":"MIN(INTERFACE!C$47,INTERFACE!F1232)","v":{"$error":"#VALUE!"}},{"$f":"100-INTERFACE!B1232","v":{"$error":"#VALUE!"}},null,{"$f":"INTERFACE!E1231+12/1200","v":11.809999999999793},{"$f":"((INTERFACE!C$11)/((10^-(INTERFACE!E1232))+(INTERFACE!C$11)))*100","v":{"$error":"#VALUE!"}},{"$f":"100-INTERFACE!F1232","v":{"$error":"#VALUE!"}}]
[{"$f":"(MIN(INTERFACE!AD$15,INTERFACE!E1233))","v":0},{"$f":"MIN(INTERFACE!C$47,INTERFACE!F1233)","v":{"$error":"#VALUE!"}},{"$f":"100-INTERFACE!B1233","v":{"$error":"#VALUE!"}},null,{"$f":"INTERFACE!E1232+12/1200","v":11.819999999999792},{"$f":"((INTERFACE!C$11)/((10^-(INTERFACE!E1233))+(INTERFACE!C$11)))*100","v":{"$error":"#VALUE!"}},{"$f":"100-INTERFACE!F1233","v":{"$error":"#VALUE!"}}]
[{"$f":"(MIN(INTERFACE!AD$15,INTERFACE!E1234))","v":0},{"$f":"MIN(INTERFACE!C$47,INTERFACE!F1234)","v":{"$error":"#VALUE!"}},{"$f":"100-INTERFACE!B1234","v":{"$error":"#VALUE!"}},null,{"$f":"INTERFACE!E1233+12/1200","v":11.829999999999792},{"$f":"((INTERFACE!C$11)/((10^-(INTERFACE!E1234))+(INTERFACE!C$11)))*100","v":{"$error":"#VALUE!"}},{"$f":"100-INTERFACE!F1234","v":{"$error":"#VALUE!"}}]
[{"$f":"(MIN(INTERFACE!AD$15,INTERFACE!E1235))","v":0},{"$f":"MIN(INTERFACE!C$47,INTERFACE!F1235)","v":{"$error":"#VALUE!"}},{"$f":"100-INTERFACE!B1235","v":{"$error":"#VALUE!"}},null,{"$f":"INTERFACE!E1234+12/1200","v":11.839999999999792},{"$f":"((INTERFACE!C$11)/((10^-(INTERFACE!E1235))+(INTERFACE!C$11)))*100","v":{"$error":"#VALUE!"}},{"$f":"100-INTERFACE!F1235","v":{"$error":"#VALUE!"}}]
[{"$f":"(MIN(INTERFACE!AD$15,INTERFACE!E1236))","v":0},{"$f":"MIN(INTERFACE!C$47,INTERFACE!F1236)","v":{"$error":"#VALUE!"}},{"$f":"100-INTERFACE!B1236","v":{"$error":"#VALUE!"}},null,{"$f":"INTERFACE!E1235+12/1200","v":11.849999999999792},{"$f":"((INTERFACE!C$11)/((10^-(INTERFACE!E1236))+(INTERFACE!C$11)))*100","v":{"$error":"#VALUE!"}},{"$f":"100-INTERFACE!F1236","v":{"$error":"#VALUE!"}}]
[{"$f":"(MIN(INTERFACE!AD$15,INTERFACE!E1237))","v":0},{"$f":"MIN(INTERFACE!C$47,INTERFACE!F1237)","v":{"$error":"#VALUE!"}},{"$f":"100-INTERFACE!B1237","v":{"$error":"#VALUE!"}},null,{"$f":"INTERFACE!E1236+12/1200","v":11.859999999999792},{"$f":"((INTERFACE!C$11)/((10^-(INTERFACE!E1237))+(INTERFACE!C$11)))*100","v":{"$error":"#VALUE!"}},{"$f":"100-INTERFACE!F1237","v":{"$error":"#VALUE!"}}]
[{"$f":"(MIN(INTERFACE!AD$15,INTERFACE!E1238))","v":0},{"$f":"MIN(INTERFACE!C$47,INTERFACE!F1238)","v":{"$error":"#VALUE!"}},{"$f":"100-INTERFACE!B1238","v":{"$error":"#VALUE!"}},null,{"$f":"INTERFACE!E1237+12/1200","v":11.869999999999791},{"$f":"((INTERFACE!C$11)/((10^-(INTERFACE!E1238))+(INTERFACE!C$11)))*100","v":{"$error":"#VALUE!"}},{"$f":"100-INTERFACE!F1238","v":{"$error":"#VALUE!"}}]
[{"$f":"(MIN(INTERFACE!AD$15,INTERFACE!E1239))","v":0},{"$f":"MIN(INTERFACE!C$47,INTERFACE!F1239)","v":{"$error":"#VALUE!"}},{"$f":"100-INTERFACE!B1239","v":{"$error":"#VALUE!"}},null,{"$f":"INTERFACE!E1238+12/1200","v":11.879999999999791},{"$f":"((INTERFACE!C$11)/((10^-(INTERFACE!E1239))+(INTERFACE!C$11)))*100","v":{"$error":"#VALUE!"}},{"$f":"100-INTERFACE!F1239","v":{"$error":"#VALUE!"}}]
[{"$f":"(MIN(INTERFACE!AD$15,INTERFACE!E1240))","v":0},{"$f":"MIN(INTERFACE!C$47,INTERFACE!F1240)","v":{"$error":"#VALUE!"}},{"$f":"100-INTERFACE!B1240","v":{"$error":"#VALUE!"}},null,{"$f":"INTERFACE!E1239+12/1200","v":11.889999999999791},{"$f":"((INTERFACE!C$11)/((10^-(INTERFACE!E1240))+(INTERFACE!C$11)))*100","v":{"$error":"#VALUE!"}},{"$f":"100-INTERFACE!F1240","v":{"$error":"#VALUE!"}}]
[{"$f":"(MIN(INTERFACE!AD$15,INTERFACE!E1241))","v":0},{"$f":"MIN(INTERFACE!C$47,INTERFACE!F1241)","v":{"$error":"#VALUE!"}},{"$f":"100-INTERFACE!B1241","v":{"$error":"#VALUE!"}},null,{"$f":"INTERFACE!E1240+12/1200","v":11.899999999999791},{"$f":"((INTERFACE!C$11)/((10^-(INTERFACE!E1241))+(INTERFACE!C$11)))*100","v":{"$error":"#VALUE!"}},{"$f":"100-INTERFACE!F1241","v":{"$error":"#VALUE!"}}]
[{"$f":"(MIN(INTERFACE!AD$15,INTERFACE!E1242))","v":0},{"$f":"MIN(INTERFACE!C$47,INTERFACE!F1242)","v":{"$error":"#VALUE!"}},{"$f":"100-INTERFACE!B1242","v":{"$error":"#VALUE!"}},null,{"$f":"INTERFACE!E1241+12/1200","v":11.909999999999791},{"$f":"((INTERFACE!C$11)/((10^-(INTERFACE!E1242))+(INTERFACE!C$11)))*100","v":{"$error":"#VALUE!"}},{"$f":"100-INTERFACE!F1242","v":{"$error":"#VALUE!"}}]
[{"$f":"(MIN(INTERFACE!AD$15,INTERFACE!E1243))","v":0},{"$f":"MIN(INTERFACE!C$47,INTERFACE!F1243)","v":{"$error":"#VALUE!"}},{"$f":"100-INTERFACE!B1243","v":{"$error":"#VALUE!"}},null,{"$f":"INTERFACE!E1242+12/1200","v":11.91999999999979},{"$f":"((INTERFACE!C$11)/((10^-(INTERFACE!E1243))+(INTERFACE!C$11)))*100","v":{"$error":"#VALUE!"}},{"$f":"100-INTERFACE!F1243","v":{"$error":"#VALUE!"}}]
[{"$f":"(MIN(INTERFACE!AD$15,INTERFACE!E1244))","v":0},{"$f":"MIN(INTERFACE!C$47,INTERFACE!F1244)","v":{"$error":"#VALUE!"}},{"$f":"100-INTERFACE!B1244","v":{"$error":"#VALUE!"}},null,{"$f":"INTERFACE!E1243+12/1200","v":11.92999999999979},{"$f":"((INTERFACE!C$11)/((10^-(INTERFACE!E1244))+(INTERFACE!C$11)))*100","v":{"$error":"#VALUE!"}},{"$f":"100-INTERFACE!F1244","v":{"$error":"#VALUE!"}}]
[{"$f":"(MIN(INTERFACE!AD$15,INTERFACE!E1245))","v":0},{"$f":"MIN(INTERFACE!C$47,INTERFACE!F1245)","v":{"$error":"#VALUE!"}},{"$f":"100-INTERFACE!B1245","v":{"$error":"#VALUE!"}},null,{"$f":"INTERFACE!E1244+12/1200","v":11.93999999999979},{"$f":"((INTERFACE!C$11)/((10^-(INTERFACE!E1245))+(INTERFACE!C$11)))*100","v":{"$error":"#VALUE!"}},{"$f":"100-INTERFACE!F1245","v":{"$error":"#VALUE!"}}]
[{"$f":"(MIN(INTERFACE!AD$15,INTERFACE!E1246))","v":0},{"$f":"MIN(INTERFACE!C$47,INTERFACE!F1246)","v":{"$error":"#VALUE!"}},{"$f":"100-INTERFACE!B1246","v":{"$error":"#VALUE!"}},null,{"$f":"INTERFACE!E1245+12/1200","v":11.94999999999979},{"$f":"((INTERFACE!C$11)/((10^-(INTERFACE!E1246))+(INTERFACE!C$11)))*100","v":{"$error":"#VALUE!"}},{"$f":"100-INTERFACE!F1246","v":{"$error":"#VALUE!"}}]
[{"$f":"(MIN(INTERFACE!AD$15,INTERFACE!E1247))","v":0},{"$f":"MIN(INTERFACE!C$47,INTERFACE!F1247)","v":{"$error":"#VALUE!"}},{"$f":"100-INTERFACE!B1247","v":{"$error":"#VALUE!"}},null,{"$f":"INTERFACE!E1246+12/1200","v":11.959999999999789},{"$f":"((INTERFACE!C$11)/((10^-(INTERFACE!E1247))+(INTERFACE!C$11)))*100","v":{"$error":"#VALUE!"}},{"$f":"100-INTERFACE!F1247","v":{"$error":"#VALUE!"}}]